{"text_format":"1","workbook":"xlsx","n_sheets":6,"sheets":["Trainee","Host Org. Rep.","Completion Guidance","Risk Rating ","List","Trimings"],"not_rendered":{"charts":0,"images":0,"macros":1,"external_links":1,"defined_names":6,"comments":0,"pivot_tables":0},"unopened":[],"bounds":{"document_bytes":16777216,"sheet_cells":100000,"rows_first":2000,"rows_last":500,"rows_between":2000,"halvings":0,"cell_chars":16384,"cell_head_chars":4096},"cells_cut":0,"cells_raw":0,"read":"whole","date_system":"1900"}

{"sheet":"Trainee","index":0,"n_rows":1687,"n_cols":12,"rows_kept":1687,"cut":false,"hidden":false,"merged":[[36,0,36,3],[42,2,42,3],[46,1,46,3],[48,1,48,3],[38,2,38,3],[37,2,37,3],[39,2,39,3],[40,2,40,3],[41,2,41,3],[15,1,15,4],[14,1,14,4],[16,1,16,4],[17,1,17,4],[10,1,10,4],[12,1,12,4],[13,1,13,4],[0,0,0,4],[2,0,2,4],[55,0,55,3],[51,2,53,3],[22,0,22,3],[43,0,43,1],[1,0,1,4],[4,1,4,4],[5,1,5,4],[6,1,6,4],[8,1,8,4],[21,0,21,4],[20,0,20,3],[18,0,18,3],[9,1,9,4],[11,1,11,4]]}
["COVID-19 Risk Assessment eForm for Trainees"]
["Purpose of this Risk Assessment\n\nThis risk assessment has been designed to allow Host Organisation Representatives and Trainees to work together to ensure that the Trainee can continue to workhaving had any risk to them mitigated using PPE, Control Measures and where necessary adjustments to their working conditions. \n\nEach question and response has an associated score which will allocate the Trainee a risk rating of low,moderate or high. Whilst it highlights several known risk factors, the score associated with those risks in this document are not clinical. \n\nThis form is to identify if a Trainee is someone at potential risk of severe illness if they catch Coronavirus(also known as COVID-19). Such risks are the result of them belonging to a particular group including those withan underlying health condition, gender specific, BAME/European, and/or they are in the age range defined by the government. \n\n\nGuidance on Completion\n\n5. Should you need any help completing the form contact your Host organisation Representative in the first instance.\n6. Ensure you answer all questions to the best of your knowledge/ability.\n7. Ensure all mandatory questions that have a * are completed.\n8. Trainees are to ensure that they insert their work email address (NHS related email) and that of their Host Organisation Representative to ensure that the eForm flows between those completing the form. "]
["Section 1: To be completed by Trainee"]
[]
["Trainee Full Name: *"]
["Trainee Email Address: *"]
["GMC/GDC Number: *"]
["NI Number *"]
["Job Title: *"]
["Host Organisation Representative Name: *"]
["Host Organisation Representative Email *"]
["Assessment Date: *",{"$f":"TODAY()","v":"2023-05-15"}]
["Placement Start Date *"]
["Placement End Date *"]
["Host Organisation: *",null,null,null,null,""]
["Region: *","Select from Drop-down"]
["Speciality: *","Select from Drop-down"]
["Grade: *","Select from Drop-down"]
[]
["*","Asterix Denotes a Mandatory Field"]
[]
["Section 2: To be completed by Trainee – if unsure assistance can be sought from Host Organisation Representative; by completing this section your risk assessment score will be generated."]
[]
["Criteria","Explanation","Option","Risk Score",null,null,null,null,null,null,null,"Select from Drop-down"]
["Select your Age Group *",null,"Select from Drop-down",{"$f":"IF(C25=List!F4,List!G4,IF(C25=List!F5,List!G5,IF(C25=List!F6,List!G6)))","v":false},null,null,null,null,null,null,null,"Pfizer-Bio N Tech"]
["Select your Gender *",null,"Select from Drop-down",{"$f":"IF(C26=List!F12,List!G12,IF(C26=List!F13,List!G13,IF(C26=List!F14,List!G14)))","v":false},null,null,null,null,null,null,null,"Moderna"]
["What is your Ethnicity? *","Evidence of the disproportionate effect of COVID 19 on BAME colleagues and other ethnic communities continues to emerge. Staff from these ethnicity backgrounds should be considered in the group requiring a risk assessment. If you are worried about the impact you should discuss this with your Host organisation representative.","Select from Drop-Down",{"$f":"IF(C27=List!F19,List!G19,IF(C27=List!F20,List!G20,IF(C27=List!F21,List!G21,IF(C27=List!F22,List!G22,IF(C27=List!F23,List!G23,IF(C27=List!F24,List!G24,IF(C27=List!F25,List!G25,IF(C27=List!F26,List!G26,IF(C27=List!F27,List!G27,IF(C27=List!F28,List!G28,IF(C27=List!F29,List!G29,IF(C27=List!F30,List!G30,IF(C27=List!F31,List!G31,IF(C27=List!F32,List!G32,IF(C27=List!F33,List!G33,IF(C27=List!F34,List!G34,IF(C27=List!F35,List!G35,IF(C27=List!F36,List!G36,IF(C27=List!F37,List!G37,IF(C27=List!F38,List!G38,IF(C27=List!F39,List!G39,IF(C27=List!F40,List!G40,IF(C27=List!F41,List!G41,IF(C27=List!F42,List!G42,IF(C27=List!F43,List!G43,IF(C27=List!F44,List!G44,IF(C27=List!F45,List!G45,IF(C27=List!F46,List!G46,IF(C27=List!F47,List!G47)))))))))))))))))))))))))))))","v":false},null,null,null,null,null,null,null,"Astra Zeneca"]
["First Dose","COVID-19 Vaccination received - First Dose","Select from Drop-down"]
["First Dose Date","Date in the format DD/MM/YYYY","   "]
["Second Dose","COVID-19 Vaccination received - Second Dose","Select from Drop-down"]
["Second Dose Date","Date in the format DD/MM/YYYY"]
["Booster Dose","COVID-19 Vaccination received - Booster Dose","Select from Drop-down"]
["Booster Dose Date","Date in the format DD/MM/YYYY"]
["Do you have any underlying health conditions? *","If you have selected ‘Yes’ to having an underlying health condition we must now ascertain whether is it a Clinically Extremely Vulnerable (CEV) condition or whether it is a Clinically Vulnerable (CV) condition. \n\nPeople who are defined as clinically extremely vulnerable (CEV) are at very high risk of severe illness from COVID-19 and will need to ‘Shield’ under new government guidelines with effect from 5 November 2020. \n\nThere are 2 ways you may be identified as clinically extremely vulnerable (CEV): \n\n1. You have one or more of the conditions listed below, or \n2. Your hospital clinician or GP has added you to the hielded patients list (https://digital.nhs.uk/coronavirus/shielded-patient-list/guidance-for-general-practice) because, based on their clinical judgement, they deem you to be at higher risk of serious illness if you catch the virus. \n\nPeople who are defined as clinically vulnerable (CV) will be referred to Lead Employer HR who may consult with Lead Employer HWWB and Host Organisation Representative to review the circumstances before determining the next steps. \n","Select from Drop-down",{"$f":"IF(C34=List!I4,List!J4,IF(C34=List!I5,List!J5,IF(C34=List!I6,List!J6,IF(C34=List!I7,List!J7,IF(C34=List!I8,List!J8,IF(C34=List!I9,List!J9,IF(C34=List!I10,List!J10,IF(C34=List!I11,List!J11,IF(C34=List!I12,List!J12,IF(C34=List!I13,List!J13,IF(C34=List!I14,List!J14,IF(C34=List!I15,List!J15,IF(C34=List!I16,List!J16,IF(C34=List!I17,List!J17,IF(C34=List!I18,List!J18,IF(C34=List!I19,List!J19,IF(C34=List!I20,List!J20,IF(C34=List!I21,List!J21,IF(C34=List!I22,List!J22,IF(C34=List!I23,List!J23,IF(C34=List!I24,List!J24,IF(C34=List!I25,List!J25,IF(C34=List!I26,List!J26,IF(C34=List!I27,List!J27,IF(C34=List!I28,List!J28,IF(C34=List!I29,List!J29,IF(C34=List!I30,List!J30,IF(C34=List!I31,List!J31,IF(C34=List!I32,List!J32,IF(C34=List!I33,List!J33,IF(C34=List!I34,List!J34)))))))))))))))))))))))))))))))","v":false}]
["Is there a Risk of COVID-19 exposure in your usual work environment? *","Under ‘exposure’ in this section several factors will be relevant: \n\n1) How likely is it the Trainee will encounter COVID-19 positive patients?\n2) How likely is it that the Trainee will carry out high risk procedures (AGPs) on any patient? \n\nWhat processes can be put in place to control the above two factors above e.g. PPE \n\nExample Aerosol-Generating Procedures (AGP) include: Respiratory tract suctioning, bronchoscopy, Manual ventilation, Tracheal intubation and extubating, Tracheotomy or tracheostomy procedures (insertion or removal), Upper ENT airway procedures that involve suctioning, Upper gastro-intestinal endoscopy where there is open suctioning of the upper respiratory tract, Cardiopulmonary resuscitation \n\nClick here for a full list of AGPs  ","Select from Drop-down",{"$f":"IF(C35=List!I40,List!J40,IF(C35=List!I41,List!J41,IF(C35=List!I42,List!J42)))","v":false}]
["Do you have another role or perform other duties (paid or unpaid) outside of your LE contract? *",null,"Select from Drop-down",{"$f":"IF(C36=List!I47,List!J47,IF(C36=List!J48,List!J48))","v":false}]
["COVID Data Collection (All Non-Scoring)"]
["Questions","Descriptions","Answers"]
["Shielding? *\nPlease read the Government advice available on Shielding and Protecting Clinically Extremely Vulnerable Persons from COVID-19 GOV.UK - here\n(https://www.gov.uk/government/publications/guidance-on-shielding-and-protecting-extremely-vulnerable-persons-from-covid-19/guidance-on-shielding-and-protecting-extremely-vulnerable-persons-from-covid-19) ","If you have been identified as clinically extremely vulnerable (https://www.gov.uk/government/publications/guidance-on-shielding-and-protecting-extremely-vulnerable-persons-from-covid-19/guidance-on-shielding-and-protecting-extremely-vulnerable-persons-from-covid-19) you will previously have received a letter from the NHS or from your GP telling you this. You may have been advised to shield in the past.\n\nThis guidance applies to clinically extremely vulnerable individuals only. Others living in a household with someone who is clinically extremely vulnerable are not advised to follow this guidance. They should instead continue to attend work and school in accordance with the general advice and regulations set out in the National Restrictions guidance from 5 November.  (https://www.gov.uk/guidance/national-lockdown-stay-at-home#travel)  \n\nPeople who are defined as clinically extremely vulnerable are at very high risk of severe illness from COVID-19. There are 2 ways you may be identified as clinically extremely vulnerable:\n\n1.You have one or more of the conditions listed as an Underlying Health Condition above, or\n2.Your hospital clinician or GP has added you to the  Shielded patients list (https://digital.nhs.uk/coronavirus/shielded-patient-list/guidance-for-general-practice) because, based on their clinical judgement, they deem you to be at higher risk of serious illness if you catch the virus.\n","Select from Drop-down"]
["Clinically Extremely Vulnerable (Shielding) Letter: *","Please select 'Yes' from the drop down list below if you have received a CEV (Shielding) letter from the NHS or from your GP telling you that you are Clinically Extremely Vulnerable and that you have been advised to Shield. Please send a copy of your CEV (Shielding) letter to leademployer.casemanagement@sthk.nhs.uk. ","Select from Drop-down"]
["Are you currently Self-Isolating (i.e. Test and trace or symptomatic cohabitant)? *","Self-isolation is when you stay at home because you have or might have coronavirus (COVID-19.\n\nThis helps stop the virus spreading to other people.\n\nSelf-isolate if: \n•you have any symptoms of coronavirus (a high temperature, a new, continuous cough or a loss or change to your sense of smell or taste)\n•you live with someone who has symptoms or has tested positive\n•someone in your support bubble has symptoms or has tested positive\n•you're told by NHS Test and Trace that you've been in contact with a person with coronavirus\n","Select from Drop-down"]
["Do you consider yourself to have a disability? *",null,"Select from Drop-down"]
["Has your childcare arrangement been affected by Covid-19 (i.e. school/nursery closure or if your child is shielding? This will/has impacted on your working pattern? *","Will childcare concerns continue whilst your child is either in school term time or during periods of school holidays? ","Select from Drop-down"]
[null,null,"Risk Score     ",{"$f":"SUM(D25:D36)","v":0}]
[null,null,"Risk Rating     ",{"$f":"IF(D44='Risk Rating '!A1,'Risk Rating '!B1,IF(D44='Risk Rating '!A2,'Risk Rating '!B2,IF(D44='Risk Rating '!A3,'Risk Rating '!B3,IF(D44='Risk Rating '!A4,'Risk Rating '!B4,IF(D44='Risk Rating '!A5,'Risk Rating '!B5,IF(D44='Risk Rating '!A6,'Risk Rating '!B6,IF(D44='Risk Rating '!A7,'Risk Rating '!B7,IF(D44='Risk Rating '!A8,'Risk Rating '!B8,IF(D44='Risk Rating '!A9,'Risk Rating '!B9,IF(D44='Risk Rating '!A10,'Risk Rating '!B10,IF(D44='Risk Rating '!A11,'Risk Rating '!B11,IF(D44='Risk Rating '!A12,'Risk Rating '!B12,IF(D44='Risk Rating '!A13,'Risk Rating '!B13,IF(D44='Risk Rating '!A14,'Risk Rating '!B14,IF(D44='Risk Rating '!A15,'Risk Rating '!B15,IF(D44='Risk Rating '!A16,'Risk Rating '!B16,IF(D44='Risk Rating '!A17,'Risk Rating '!B17,IF(D44='Risk Rating '!A18,'Risk Rating '!B18,IF(D44='Risk Rating '!A19,'Risk Rating '!B19,IF(D44='Risk Rating '!A20,'Risk Rating '!B20,IF(D44='Risk Rating '!A21,'Risk Rating '!B21,IF(D44='Risk Rating '!A22,'Risk Rating '!B22,IF(D44='Risk Rating '!A23,'Risk Rating '!B23,IF(D44='Risk Rating '!A24,'Risk Rating '!B24,IF(D44='Risk Rating '!A25,'Risk Rating '!B25,IF(D44='Risk Rating '!A26,'Risk Rating '!B26,IF(D44='Risk Rating '!A27,'Risk Rating '!B27,IF(D44='Risk Rating '!A28,'Risk Rating '!B28,IF(D44='Risk Rating '!A29,'Risk Rating '!B29,IF(D44='Risk Rating '!A30,'Risk Rating '!B30,IF(D44='Risk Rating '!A31,'Risk Rating '!B31,IF(D44='Risk Rating '!A32,'Risk Rating '!B32,IF(D44='Risk Rating '!A33,'Risk Rating '!B33,IF(D44='Risk Rating '!A34,'Risk Rating '!B34,IF(D44='Risk Rating '!A35,'Risk Rating '!B35,IF(D44='Risk Rating '!A36,'Risk Rating '!B36,IF(D44='Risk Rating '!A37,'Risk Rating '!B37,IF(D44='Risk Rating '!A38,'Risk Rating '!B38,IF(D44='Risk Rating '!A39,'Risk Rating '!B39,IF(D44='Risk Rating '!A40,'Risk Rating '!B40,IF(D44='Risk Rating '!A41,'Risk Rating '!B41,IF(D44='Risk Rating '!A42,'Risk Rating '!B42,IF(D44='Risk Rating '!A43,'Risk Rating '!B43,IF(D44='Risk Rating '!A44,'Risk Rating '!B44,IF(D44='Risk Rating '!A45,'Risk Rating '!B45,IF(D44='Risk Rating '!A46,'Risk Rating '!B46,IF(D44='Risk Rating '!A47,'Risk Rating '!B47,IF(D44='Risk Rating '!A48,'Risk Rating '!B48,IF(D44='Risk Rating '!A49,'Risk Rating '!B49,IF(D44='Risk Rating '!A50,'Risk Rating '!B50,IF(D44='Risk Rating '!A51,'Risk Rating '!B51,IF(D44='Risk Rating '!A52,'Risk Rating '!B52,IF(D44='Risk Rating '!A53,'Risk Rating '!B53,IF(D44='Risk Rating '!A54,'Risk Rating '!B54,IF(D44='Risk Rating '!A55,'Risk Rating '!B55,IF(D44='Risk Rating '!A56,'Risk Rating '!B56,IF(D44='Risk Rating '!A57,'Risk Rating '!B57,IF(D44='Risk Rating '!A58,'Risk Rating '!B58,IF(D44='Risk Rating '!A59,'Risk Rating '!B59,IF(D44='Risk Rating '!A60,'Risk Rating '!B60,IF(D44='Risk Rating '!A61,'Risk Rating '!B61)))))))))))))))))))))))))))))))))))))))))))))))))))))))))))))","v":"Low"}]
[]
[null,"Please note: the national Risk Reduction framework states that shielded trainee \"can still continue alternative duties from home. Some may be able to work from their shielded environment if practicable\"."]
[]
[null,"Please note: all trainee should be asked “Do you have caring responsibilities for vulnerable family members at home or have home living arrangements that make social distancing difficult?”. If they confirm that they do, then that should lead to a conversation with the member of trainee as to whether, depending on their role (any patient facing role), their work environment and their own health conditions they should themselves self-isolate or discuss how they might otherwise mitigate the risk to family members and others they  live with."]
[null,"What is the Risk Outcome?"]
[]
[null,"If the trainee scored 8 or below they are LOW RISK"]
[null,"If the trainee scored 9 - 15 they are MODERATE RISK"]
[null,"If the trainee scored 16 or over they are HIGH RISK"]
[]
[]
[]
[null,null,null,{"$f":"$D$61:INDEX($D$61:$D$1687,COUNTIF($D$61:$D$1687,\"?*\"))","v":{"$error":"#VALUE!"}}]
[]
["Host_Organisation Name","If Found","Frequency","Searchable List"]
["Select from Drop-Down",{"$f":"--ISNUMBER(SEARCH($F$15,A61))","v":1},{"$f":"IF(B61=1,COUNTIF($B$61:$B61,1),\"\")","v":1},{"$f":"IFERROR(INDEX($A$61:$A$1687,MATCH(ROWS($C$61:$C61),$C$61:$C$1687,0)),\"\")","v":"Select from Drop-Down"}]
["Springs Health Centre EM)",{"$f":"--ISNUMBER(SEARCH($F$15,A62))","v":1},{"$f":"IF(B62=1,COUNTIF($B$61:$B62,1),\"\")","v":2},{"$f":"IFERROR(INDEX($A$61:$A$1687,MATCH(ROWS($C$61:$C62),$C$61:$C$1687,0)),\"\")","v":"Springs Health Centre EM)"}]
["The Royal Wolverhampton NHS Trust",1,{"$f":"IF(B63=1,COUNTIF($B$61:$B63,1),\"\")","v":3},{"$f":"IFERROR(INDEX($A$61:$A$1687,MATCH(ROWS($C$61:$C63),$C$61:$C$1687,0)),\"\")","v":"The Royal Wolverhampton NHS Trust"}]
["Greendale Primary Care Centre EM)",1,{"$f":"IF(B64=1,COUNTIF($B$61:$B64,1),\"\")","v":4},{"$f":"IFERROR(INDEX($A$61:$A$1687,MATCH(ROWS($C$61:$C64),$C$61:$C$1687,0)),\"\")","v":"Greendale Primary Care Centre EM)"}]
["Munro Medical Centre EM)",1,{"$f":"IF(B65=1,COUNTIF($B$61:$B65,1),\"\")","v":5},{"$f":"IFERROR(INDEX($A$61:$A$1687,MATCH(ROWS($C$61:$C65),$C$61:$C$1687,0)),\"\")","v":"Munro Medical Centre EM)"}]
["Market Drayton Medical Practice WM)",1,{"$f":"IF(B66=1,COUNTIF($B$61:$B66,1),\"\")","v":6},{"$f":"IFERROR(INDEX($A$61:$A$1687,MATCH(ROWS($C$61:$C66),$C$61:$C$1687,0)),\"\")","v":"Market Drayton Medical Practice WM)"}]
["East Lancashire Hospitals NHS Trust",1,{"$f":"IF(B67=1,COUNTIF($B$61:$B67,1),\"\")","v":7},{"$f":"IFERROR(INDEX($A$61:$A$1687,MATCH(ROWS($C$61:$C67),$C$61:$C$1687,0)),\"\")","v":"East Lancashire Hospitals NHS Trust"}]
["Bridge Surgery WM)",1,{"$f":"IF(B68=1,COUNTIF($B$61:$B68,1),\"\")","v":8},{"$f":"IFERROR(INDEX($A$61:$A$1687,MATCH(ROWS($C$61:$C68),$C$61:$C$1687,0)),\"\")","v":"Bridge Surgery WM)"}]
["Salford Royal Hosp NHS FT",1,{"$f":"IF(B69=1,COUNTIF($B$61:$B69,1),\"\")","v":9},{"$f":"IFERROR(INDEX($A$61:$A$1687,MATCH(ROWS($C$61:$C69),$C$61:$C$1687,0)),\"\")","v":"Salford Royal Hosp NHS FT"}]
["Lockstown Practice WM)",1,{"$f":"IF(B70=1,COUNTIF($B$61:$B70,1),\"\")","v":10},{"$f":"IFERROR(INDEX($A$61:$A$1687,MATCH(ROWS($C$61:$C70),$C$61:$C$1687,0)),\"\")","v":"Lockstown Practice WM)"}]
["Aldergate Medical Practice WM)",1,{"$f":"IF(B71=1,COUNTIF($B$61:$B71,1),\"\")","v":11},{"$f":"IFERROR(INDEX($A$61:$A$1687,MATCH(ROWS($C$61:$C71),$C$61:$C$1687,0)),\"\")","v":"Aldergate Medical Practice WM)"}]
["Parkside Surgery Alfreton) EM)",1,{"$f":"IF(B72=1,COUNTIF($B$61:$B72,1),\"\")","v":12},{"$f":"IFERROR(INDEX($A$61:$A$1687,MATCH(ROWS($C$61:$C72),$C$61:$C$1687,0)),\"\")","v":"Parkside Surgery Alfreton) EM)"}]
["Nunwell Surgery WM)",1,{"$f":"IF(B73=1,COUNTIF($B$61:$B73,1),\"\")","v":13},{"$f":"IFERROR(INDEX($A$61:$A$1687,MATCH(ROWS($C$61:$C73),$C$61:$C$1687,0)),\"\")","v":"Nunwell Surgery WM)"}]
["Chesterfield Royal Hospital NHS Foundation Trust",1,{"$f":"IF(B74=1,COUNTIF($B$61:$B74,1),\"\")","v":14},{"$f":"IFERROR(INDEX($A$61:$A$1687,MATCH(ROWS($C$61:$C74),$C$61:$C$1687,0)),\"\")","v":"Chesterfield Royal Hospital NHS Foundation Trust"}]
["Norfolk Street Surgery WM)",1,{"$f":"IF(B75=1,COUNTIF($B$61:$B75,1),\"\")","v":15},{"$f":"IFERROR(INDEX($A$61:$A$1687,MATCH(ROWS($C$61:$C75),$C$61:$C$1687,0)),\"\")","v":"Norfolk Street Surgery WM)"}]
["South Warwickshire NHS Foundation Trust",1,{"$f":"IF(B76=1,COUNTIF($B$61:$B76,1),\"\")","v":16},{"$f":"IFERROR(INDEX($A$61:$A$1687,MATCH(ROWS($C$61:$C76),$C$61:$C$1687,0)),\"\")","v":"South Warwickshire NHS Foundation Trust"}]
["The Dudley Group NHS Foundation Trust",1,{"$f":"IF(B77=1,COUNTIF($B$61:$B77,1),\"\")","v":17},{"$f":"IFERROR(INDEX($A$61:$A$1687,MATCH(ROWS($C$61:$C77),$C$61:$C$1687,0)),\"\")","v":"The Dudley Group NHS Foundation Trust"}]
["New Dispensary Surgery WM)",1,{"$f":"IF(B78=1,COUNTIF($B$61:$B78,1),\"\")","v":18},{"$f":"IFERROR(INDEX($A$61:$A$1687,MATCH(ROWS($C$61:$C78),$C$61:$C$1687,0)),\"\")","v":"New Dispensary Surgery WM)"}]
["Drayton Road Surgery WM)",1,{"$f":"IF(B79=1,COUNTIF($B$61:$B79,1),\"\")","v":19},{"$f":"IFERROR(INDEX($A$61:$A$1687,MATCH(ROWS($C$61:$C79),$C$61:$C$1687,0)),\"\")","v":"Drayton Road Surgery WM)"}]
["Barton Family Practice WM)",1,{"$f":"IF(B80=1,COUNTIF($B$61:$B80,1),\"\")","v":20},{"$f":"IFERROR(INDEX($A$61:$A$1687,MATCH(ROWS($C$61:$C80),$C$61:$C$1687,0)),\"\")","v":"Barton Family Practice WM)"}]
["George Clare Surgery EoE)",1,{"$f":"IF(B81=1,COUNTIF($B$61:$B81,1),\"\")","v":21},{"$f":"IFERROR(INDEX($A$61:$A$1687,MATCH(ROWS($C$61:$C81),$C$61:$C$1687,0)),\"\")","v":"George Clare Surgery EoE)"}]
["Morecambe Bay Hospitals NHS Trust",1,{"$f":"IF(B82=1,COUNTIF($B$61:$B82,1),\"\")","v":22},{"$f":"IFERROR(INDEX($A$61:$A$1687,MATCH(ROWS($C$61:$C82),$C$61:$C$1687,0)),\"\")","v":"Morecambe Bay Hospitals NHS Trust"}]
["Wrightington Wigan and Leigh Recharge",1,{"$f":"IF(B83=1,COUNTIF($B$61:$B83,1),\"\")","v":23},{"$f":"IFERROR(INDEX($A$61:$A$1687,MATCH(ROWS($C$61:$C83),$C$61:$C$1687,0)),\"\")","v":"Wrightington Wigan and Leigh Recharge"}]
["United Lincolnshire Hospitals NHS Trust",1,{"$f":"IF(B84=1,COUNTIF($B$61:$B84,1),\"\")","v":24},{"$f":"IFERROR(INDEX($A$61:$A$1687,MATCH(ROWS($C$61:$C84),$C$61:$C$1687,0)),\"\")","v":"United Lincolnshire Hospitals NHS Trust"}]
["Worcestershire Acute Hospitals NHS Trust",1,{"$f":"IF(B85=1,COUNTIF($B$61:$B85,1),\"\")","v":25},{"$f":"IFERROR(INDEX($A$61:$A$1687,MATCH(ROWS($C$61:$C85),$C$61:$C$1687,0)),\"\")","v":"Worcestershire Acute Hospitals NHS Trust"}]
["Countess of Chester Recharge",1,{"$f":"IF(B86=1,COUNTIF($B$61:$B86,1),\"\")","v":26},{"$f":"IFERROR(INDEX($A$61:$A$1687,MATCH(ROWS($C$61:$C86),$C$61:$C$1687,0)),\"\")","v":"Countess of Chester Recharge"}]
["Edlesborough Surgery EoE)",1,{"$f":"IF(B87=1,COUNTIF($B$61:$B87,1),\"\")","v":27},{"$f":"IFERROR(INDEX($A$61:$A$1687,MATCH(ROWS($C$61:$C87),$C$61:$C$1687,0)),\"\")","v":"Edlesborough Surgery EoE)"}]
["Walsall Healthcare NHS Trust",1,{"$f":"IF(B88=1,COUNTIF($B$61:$B88,1),\"\")","v":28},{"$f":"IFERROR(INDEX($A$61:$A$1687,MATCH(ROWS($C$61:$C88),$C$61:$C$1687,0)),\"\")","v":"Walsall Healthcare NHS Trust"}]
["Manchester University NHS Foundation Trust MFT)",1,{"$f":"IF(B89=1,COUNTIF($B$61:$B89,1),\"\")","v":29},{"$f":"IFERROR(INDEX($A$61:$A$1687,MATCH(ROWS($C$61:$C89),$C$61:$C$1687,0)),\"\")","v":"Manchester University NHS Foundation Trust MFT)"}]
["Griffins Brook Medical Centre WM)",1,{"$f":"IF(B90=1,COUNTIF($B$61:$B90,1),\"\")","v":30},{"$f":"IFERROR(INDEX($A$61:$A$1687,MATCH(ROWS($C$61:$C90),$C$61:$C$1687,0)),\"\")","v":"Griffins Brook Medical Centre WM)"}]
["Shefford Health Centre EoE)",1,{"$f":"IF(B91=1,COUNTIF($B$61:$B91,1),\"\")","v":31},{"$f":"IFERROR(INDEX($A$61:$A$1687,MATCH(ROWS($C$61:$C91),$C$61:$C$1687,0)),\"\")","v":"Shefford Health Centre EoE)"}]
["Sandwell And West Birmingham Hospitals NHS Trust",1,{"$f":"IF(B92=1,COUNTIF($B$61:$B92,1),\"\")","v":32},{"$f":"IFERROR(INDEX($A$61:$A$1687,MATCH(ROWS($C$61:$C92),$C$61:$C$1687,0)),\"\")","v":"Sandwell And West Birmingham Hospitals NHS Trust"}]
["Tameside & Glossop Acute NHST",1,{"$f":"IF(B93=1,COUNTIF($B$61:$B93,1),\"\")","v":33},{"$f":"IFERROR(INDEX($A$61:$A$1687,MATCH(ROWS($C$61:$C93),$C$61:$C$1687,0)),\"\")","v":"Tameside & Glossop Acute NHST"}]
["Birmingham Women's NHS Foundation Trust",1,{"$f":"IF(B94=1,COUNTIF($B$61:$B94,1),\"\")","v":34},{"$f":"IFERROR(INDEX($A$61:$A$1687,MATCH(ROWS($C$61:$C94),$C$61:$C$1687,0)),\"\")","v":"Birmingham Women's NHS Foundation Trust"}]
["Ipswich Hospital NHS Trust",1,{"$f":"IF(B95=1,COUNTIF($B$61:$B95,1),\"\")","v":35},{"$f":"IFERROR(INDEX($A$61:$A$1687,MATCH(ROWS($C$61:$C95),$C$61:$C$1687,0)),\"\")","v":"Ipswich Hospital NHS Trust"}]
["Heart Of England NHS Foundation Trust",1,{"$f":"IF(B96=1,COUNTIF($B$61:$B96,1),\"\")","v":36},{"$f":"IFERROR(INDEX($A$61:$A$1687,MATCH(ROWS($C$61:$C96),$C$61:$C$1687,0)),\"\")","v":"Heart Of England NHS Foundation Trust"}]
["Lakeside Healthcare EM)",1,{"$f":"IF(B97=1,COUNTIF($B$61:$B97,1),\"\")","v":37},{"$f":"IFERROR(INDEX($A$61:$A$1687,MATCH(ROWS($C$61:$C97),$C$61:$C$1687,0)),\"\")","v":"Lakeside Healthcare EM)"}]
["Kimbolton Medical Centre EoE)",1,{"$f":"IF(B98=1,COUNTIF($B$61:$B98,1),\"\")","v":38},{"$f":"IFERROR(INDEX($A$61:$A$1687,MATCH(ROWS($C$61:$C98),$C$61:$C$1687,0)),\"\")","v":"Kimbolton Medical Centre EoE)"}]
["Maynard Court Surgery EoE)",1,{"$f":"IF(B99=1,COUNTIF($B$61:$B99,1),\"\")","v":39},{"$f":"IFERROR(INDEX($A$61:$A$1687,MATCH(ROWS($C$61:$C99),$C$61:$C$1687,0)),\"\")","v":"Maynard Court Surgery EoE)"}]
["Nobles Hospital IOM) Recharge",1,{"$f":"IF(B100=1,COUNTIF($B$61:$B100,1),\"\")","v":40},{"$f":"IFERROR(INDEX($A$61:$A$1687,MATCH(ROWS($C$61:$C100),$C$61:$C$1687,0)),\"\")","v":"Nobles Hospital IOM) Recharge"}]
["Buckinghamshire Healthcare NHS Trust TV)",1,{"$f":"IF(B101=1,COUNTIF($B$61:$B101,1),\"\")","v":41},{"$f":"IFERROR(INDEX($A$61:$A$1687,MATCH(ROWS($C$61:$C101),$C$61:$C$1687,0)),\"\")","v":"Buckinghamshire Healthcare NHS Trust TV)"}]
["Elmswood Surgery EM)",1,{"$f":"IF(B102=1,COUNTIF($B$61:$B102,1),\"\")","v":42},{"$f":"IFERROR(INDEX($A$61:$A$1687,MATCH(ROWS($C$61:$C102),$C$61:$C$1687,0)),\"\")","v":"Elmswood Surgery EM)"}]
["Christie Hospital NHST",1,{"$f":"IF(B103=1,COUNTIF($B$61:$B103,1),\"\")","v":43},{"$f":"IFERROR(INDEX($A$61:$A$1687,MATCH(ROWS($C$61:$C103),$C$61:$C$1687,0)),\"\")","v":"Christie Hospital NHST"}]
["Spilsby Surgery EM)",1,{"$f":"IF(B104=1,COUNTIF($B$61:$B104,1),\"\")","v":44},{"$f":"IFERROR(INDEX($A$61:$A$1687,MATCH(ROWS($C$61:$C104),$C$61:$C$1687,0)),\"\")","v":"Spilsby Surgery EM)"}]
["Wirral University Hospitals NHS Trust Arrowe Park) Recharge",1,{"$f":"IF(B105=1,COUNTIF($B$61:$B105,1),\"\")","v":45},{"$f":"IFERROR(INDEX($A$61:$A$1687,MATCH(ROWS($C$61:$C105),$C$61:$C$1687,0)),\"\")","v":"Wirral University Hospitals NHS Trust Arrowe Park) Recharge"}]
["The Kings Norton Surgery WM)",1,{"$f":"IF(B106=1,COUNTIF($B$61:$B106,1),\"\")","v":46},{"$f":"IFERROR(INDEX($A$61:$A$1687,MATCH(ROWS($C$61:$C106),$C$61:$C$1687,0)),\"\")","v":"The Kings Norton Surgery WM)"}]
["Parkside Medical Centre EM)",1,{"$f":"IF(B107=1,COUNTIF($B$61:$B107,1),\"\")","v":47},{"$f":"IFERROR(INDEX($A$61:$A$1687,MATCH(ROWS($C$61:$C107),$C$61:$C$1687,0)),\"\")","v":"Parkside Medical Centre EM)"}]
["University Hospital Birmingham NHS Foundation Trust",1,{"$f":"IF(B108=1,COUNTIF($B$61:$B108,1),\"\")","v":48},{"$f":"IFERROR(INDEX($A$61:$A$1687,MATCH(ROWS($C$61:$C108),$C$61:$C$1687,0)),\"\")","v":"University Hospital Birmingham NHS Foundation Trust"}]
["Dr P Cravens Practice WM)",1,{"$f":"IF(B109=1,COUNTIF($B$61:$B109,1),\"\")","v":49},{"$f":"IFERROR(INDEX($A$61:$A$1687,MATCH(ROWS($C$61:$C109),$C$61:$C$1687,0)),\"\")","v":"Dr P Cravens Practice WM)"}]
["The Walton Centre NHS Foundation Trust",1,{"$f":"IF(B110=1,COUNTIF($B$61:$B110,1),\"\")","v":50},{"$f":"IFERROR(INDEX($A$61:$A$1687,MATCH(ROWS($C$61:$C110),$C$61:$C$1687,0)),\"\")","v":"The Walton Centre NHS Foundation Trust"}]
["Southport and Ormskirk Recharge",1,{"$f":"IF(B111=1,COUNTIF($B$61:$B111,1),\"\")","v":51},{"$f":"IFERROR(INDEX($A$61:$A$1687,MATCH(ROWS($C$61:$C111),$C$61:$C$1687,0)),\"\")","v":"Southport and Ormskirk Recharge"}]
["Pennine Acute Hospitals",1,{"$f":"IF(B112=1,COUNTIF($B$61:$B112,1),\"\")","v":52},{"$f":"IFERROR(INDEX($A$61:$A$1687,MATCH(ROWS($C$61:$C112),$C$61:$C$1687,0)),\"\")","v":"Pennine Acute Hospitals"}]
["Aintree Hospitals Recharge",1,{"$f":"IF(B113=1,COUNTIF($B$61:$B113,1),\"\")","v":53},{"$f":"IFERROR(INDEX($A$61:$A$1687,MATCH(ROWS($C$61:$C113),$C$61:$C$1687,0)),\"\")","v":"Aintree Hospitals Recharge"}]
["Burwell Surgery EoE)",1,{"$f":"IF(B114=1,COUNTIF($B$61:$B114,1),\"\")","v":54},{"$f":"IFERROR(INDEX($A$61:$A$1687,MATCH(ROWS($C$61:$C114),$C$61:$C$1687,0)),\"\")","v":"Burwell Surgery EoE)"}]
["Glovers Lane Surgery NW)",1,{"$f":"IF(B115=1,COUNTIF($B$61:$B115,1),\"\")","v":55},{"$f":"IFERROR(INDEX($A$61:$A$1687,MATCH(ROWS($C$61:$C115),$C$61:$C$1687,0)),\"\")","v":"Glovers Lane Surgery NW)"}]
["Royal Liverpool Hospital Recharge",1,{"$f":"IF(B116=1,COUNTIF($B$61:$B116,1),\"\")","v":56},{"$f":"IFERROR(INDEX($A$61:$A$1687,MATCH(ROWS($C$61:$C116),$C$61:$C$1687,0)),\"\")","v":"Royal Liverpool Hospital Recharge"}]
["Pennine Care Foundation Trust",1,{"$f":"IF(B117=1,COUNTIF($B$61:$B117,1),\"\")","v":57},{"$f":"IFERROR(INDEX($A$61:$A$1687,MATCH(ROWS($C$61:$C117),$C$61:$C$1687,0)),\"\")","v":"Pennine Care Foundation Trust"}]
["Comberton Surgery EoE)",1,{"$f":"IF(B118=1,COUNTIF($B$61:$B118,1),\"\")","v":58},{"$f":"IFERROR(INDEX($A$61:$A$1687,MATCH(ROWS($C$61:$C118),$C$61:$C$1687,0)),\"\")","v":"Comberton Surgery EoE)"}]
["Oldbury Health Centre WM)",1,{"$f":"IF(B119=1,COUNTIF($B$61:$B119,1),\"\")","v":59},{"$f":"IFERROR(INDEX($A$61:$A$1687,MATCH(ROWS($C$61:$C119),$C$61:$C$1687,0)),\"\")","v":"Oldbury Health Centre WM)"}]
["Milton Keynes University Hospital FT TV)",1,{"$f":"IF(B120=1,COUNTIF($B$61:$B120,1),\"\")","v":60},{"$f":"IFERROR(INDEX($A$61:$A$1687,MATCH(ROWS($C$61:$C120),$C$61:$C$1687,0)),\"\")","v":"Milton Keynes University Hospital FT TV)"}]
["Littleborough Group Practice NW)",1,{"$f":"IF(B121=1,COUNTIF($B$61:$B121,1),\"\")","v":61},{"$f":"IFERROR(INDEX($A$61:$A$1687,MATCH(ROWS($C$61:$C121),$C$61:$C$1687,0)),\"\")","v":"Littleborough Group Practice NW)"}]
["Greater Manchester West MH FT Psychiatry)",1,{"$f":"IF(B122=1,COUNTIF($B$61:$B122,1),\"\")","v":62},{"$f":"IFERROR(INDEX($A$61:$A$1687,MATCH(ROWS($C$61:$C122),$C$61:$C$1687,0)),\"\")","v":"Greater Manchester West MH FT Psychiatry)"}]
["Bedford Hospital NHS Trust",1,{"$f":"IF(B123=1,COUNTIF($B$61:$B123,1),\"\")","v":63},{"$f":"IFERROR(INDEX($A$61:$A$1687,MATCH(ROWS($C$61:$C123),$C$61:$C$1687,0)),\"\")","v":"Bedford Hospital NHS Trust"}]
["West Mersea Surgery EoE)",1,{"$f":"IF(B124=1,COUNTIF($B$61:$B124,1),\"\")","v":64},{"$f":"IFERROR(INDEX($A$61:$A$1687,MATCH(ROWS($C$61:$C124),$C$61:$C$1687,0)),\"\")","v":"West Mersea Surgery EoE)"}]
["Mid Essex Hospital Services NHS Trust",1,{"$f":"IF(B125=1,COUNTIF($B$61:$B125,1),\"\")","v":65},{"$f":"IFERROR(INDEX($A$61:$A$1687,MATCH(ROWS($C$61:$C125),$C$61:$C$1687,0)),\"\")","v":"Mid Essex Hospital Services NHS Trust"}]
["Northampton General Hospital NHS Trust",{"$f":"--ISNUMBER(SEARCH($F$15,A126))","v":1},{"$f":"IF(B126=1,COUNTIF($B$61:$B126,1),\"\")","v":66},{"$f":"IFERROR(INDEX($A$61:$A$1687,MATCH(ROWS($C$61:$C126),$C$61:$C$1687,0)),\"\")","v":"Northampton General Hospital NHS Trust"}]
["Warrington and Halton Hospitals Recharge",1,{"$f":"IF(B127=1,COUNTIF($B$61:$B127,1),\"\")","v":67},{"$f":"IFERROR(INDEX($A$61:$A$1687,MATCH(ROWS($C$61:$C127),$C$61:$C$1687,0)),\"\")","v":"Warrington and Halton Hospitals Recharge"}]
["Larkside Practice EoE)",1,{"$f":"IF(B128=1,COUNTIF($B$61:$B128,1),\"\")","v":68},{"$f":"IFERROR(INDEX($A$61:$A$1687,MATCH(ROWS($C$61:$C128),$C$61:$C$1687,0)),\"\")","v":"Larkside Practice EoE)"}]
["Blackpool Teaching Hospitals NHS FT",1,{"$f":"IF(B129=1,COUNTIF($B$61:$B129,1),\"\")","v":69},{"$f":"IFERROR(INDEX($A$61:$A$1687,MATCH(ROWS($C$61:$C129),$C$61:$C$1687,0)),\"\")","v":"Blackpool Teaching Hospitals NHS FT"}]
["Blundellsands Surgery NW)",1,{"$f":"IF(B130=1,COUNTIF($B$61:$B130,1),\"\")","v":70},{"$f":"IFERROR(INDEX($A$61:$A$1687,MATCH(ROWS($C$61:$C130),$C$61:$C$1687,0)),\"\")","v":"Blundellsands Surgery NW)"}]
["Oakham Surgery WM",1,{"$f":"IF(B131=1,COUNTIF($B$61:$B131,1),\"\")","v":71},{"$f":"IFERROR(INDEX($A$61:$A$1687,MATCH(ROWS($C$61:$C131),$C$61:$C$1687,0)),\"\")","v":"Oakham Surgery WM"}]
["Lancashire Teaching Hospitals",1,{"$f":"IF(B132=1,COUNTIF($B$61:$B132,1),\"\")","v":72},{"$f":"IFERROR(INDEX($A$61:$A$1687,MATCH(ROWS($C$61:$C132),$C$61:$C$1687,0)),\"\")","v":"Lancashire Teaching Hospitals"}]
["North West Boroughs Recharge",1,{"$f":"IF(B133=1,COUNTIF($B$61:$B133,1),\"\")","v":73},{"$f":"IFERROR(INDEX($A$61:$A$1687,MATCH(ROWS($C$61:$C133),$C$61:$C$1687,0)),\"\")","v":"North West Boroughs Recharge"}]
["Hockley Farm Medical Practice EM)",1,{"$f":"IF(B134=1,COUNTIF($B$61:$B134,1),\"\")","v":74},{"$f":"IFERROR(INDEX($A$61:$A$1687,MATCH(ROWS($C$61:$C134),$C$61:$C$1687,0)),\"\")","v":"Hockley Farm Medical Practice EM)"}]
["Nottinghamshire Healthcare NHS Foundation Trust",1,{"$f":"IF(B135=1,COUNTIF($B$61:$B135,1),\"\")","v":75},{"$f":"IFERROR(INDEX($A$61:$A$1687,MATCH(ROWS($C$61:$C135),$C$61:$C$1687,0)),\"\")","v":"Nottinghamshire Healthcare NHS Foundation Trust"}]
["The Surgery at Wheatbridge EM)",1,{"$f":"IF(B136=1,COUNTIF($B$61:$B136,1),\"\")","v":76},{"$f":"IFERROR(INDEX($A$61:$A$1687,MATCH(ROWS($C$61:$C136),$C$61:$C$1687,0)),\"\")","v":"The Surgery at Wheatbridge EM)"}]
["The Strand Medical Centre NW)",1,{"$f":"IF(B137=1,COUNTIF($B$61:$B137,1),\"\")","v":77},{"$f":"IFERROR(INDEX($A$61:$A$1687,MATCH(ROWS($C$61:$C137),$C$61:$C$1687,0)),\"\")","v":"The Strand Medical Centre NW)"}]
["Kettering General Hospital NHS Foundation Trust",1,{"$f":"IF(B138=1,COUNTIF($B$61:$B138,1),\"\")","v":78},{"$f":"IFERROR(INDEX($A$61:$A$1687,MATCH(ROWS($C$61:$C138),$C$61:$C$1687,0)),\"\")","v":"Kettering General Hospital NHS Foundation Trust"}]
["Downsfield Medical Practice WM)",1,{"$f":"IF(B139=1,COUNTIF($B$61:$B139,1),\"\")","v":79},{"$f":"IFERROR(INDEX($A$61:$A$1687,MATCH(ROWS($C$61:$C139),$C$61:$C$1687,0)),\"\")","v":"Downsfield Medical Practice WM)"}]
["The Princess Alexandra Hospital NHS Trust",1,{"$f":"IF(B140=1,COUNTIF($B$61:$B140,1),\"\")","v":80},{"$f":"IFERROR(INDEX($A$61:$A$1687,MATCH(ROWS($C$61:$C140),$C$61:$C$1687,0)),\"\")","v":"The Princess Alexandra Hospital NHS Trust"}]
["Dr Kumar Studfall Medical Centre EM)",1,{"$f":"IF(B141=1,COUNTIF($B$61:$B141,1),\"\")","v":81},{"$f":"IFERROR(INDEX($A$61:$A$1687,MATCH(ROWS($C$61:$C141),$C$61:$C$1687,0)),\"\")","v":"Dr Kumar Studfall Medical Centre EM)"}]
["Sandy Lane Health Centre WM)",1,{"$f":"IF(B142=1,COUNTIF($B$61:$B142,1),\"\")","v":82},{"$f":"IFERROR(INDEX($A$61:$A$1687,MATCH(ROWS($C$61:$C142),$C$61:$C$1687,0)),\"\")","v":"Sandy Lane Health Centre WM)"}]
["Derby & Burton Hospitals NHS Foundation Trust WM)",1,{"$f":"IF(B143=1,COUNTIF($B$61:$B143,1),\"\")","v":83},{"$f":"IFERROR(INDEX($A$61:$A$1687,MATCH(ROWS($C$61:$C143),$C$61:$C$1687,0)),\"\")","v":"Derby & Burton Hospitals NHS Foundation Trust WM)"}]
["Nottingham University Hospitals NHS Trust",1,{"$f":"IF(B144=1,COUNTIF($B$61:$B144,1),\"\")","v":84},{"$f":"IFERROR(INDEX($A$61:$A$1687,MATCH(ROWS($C$61:$C144),$C$61:$C$1687,0)),\"\")","v":"Nottingham University Hospitals NHS Trust"}]
["East and North Hertfordshire NHS Trust",1,{"$f":"IF(B145=1,COUNTIF($B$61:$B145,1),\"\")","v":85},{"$f":"IFERROR(INDEX($A$61:$A$1687,MATCH(ROWS($C$61:$C145),$C$61:$C$1687,0)),\"\")","v":"East and North Hertfordshire NHS Trust"}]
["George Eliot Hospital NHS Trust",1,{"$f":"IF(B146=1,COUNTIF($B$61:$B146,1),\"\")","v":86},{"$f":"IFERROR(INDEX($A$61:$A$1687,MATCH(ROWS($C$61:$C146),$C$61:$C$1687,0)),\"\")","v":"George Eliot Hospital NHS Trust"}]
["Greenbank Surgery NW)",1,{"$f":"IF(B147=1,COUNTIF($B$61:$B147,1),\"\")","v":87},{"$f":"IFERROR(INDEX($A$61:$A$1687,MATCH(ROWS($C$61:$C147),$C$61:$C$1687,0)),\"\")","v":"Greenbank Surgery NW)"}]
["Sunlight Group Practice NW)",1,{"$f":"IF(B148=1,COUNTIF($B$61:$B148,1),\"\")","v":88},{"$f":"IFERROR(INDEX($A$61:$A$1687,MATCH(ROWS($C$61:$C148),$C$61:$C$1687,0)),\"\")","v":"Sunlight Group Practice NW)"}]
["Coastal Villages Practice EoE)",1,{"$f":"IF(B149=1,COUNTIF($B$61:$B149,1),\"\")","v":89},{"$f":"IFERROR(INDEX($A$61:$A$1687,MATCH(ROWS($C$61:$C149),$C$61:$C$1687,0)),\"\")","v":"Coastal Villages Practice EoE)"}]
["Colne Medical Centre EoE)",1,{"$f":"IF(B150=1,COUNTIF($B$61:$B150,1),\"\")","v":90},{"$f":"IFERROR(INDEX($A$61:$A$1687,MATCH(ROWS($C$61:$C150),$C$61:$C$1687,0)),\"\")","v":"Colne Medical Centre EoE)"}]
["Headlands Surgery EM)",1,{"$f":"IF(B151=1,COUNTIF($B$61:$B151,1),\"\")","v":91},{"$f":"IFERROR(INDEX($A$61:$A$1687,MATCH(ROWS($C$61:$C151),$C$61:$C$1687,0)),\"\")","v":"Headlands Surgery EM)"}]
["Hoveton & Wroxham Medical Centre EoE)",1,{"$f":"IF(B152=1,COUNTIF($B$61:$B152,1),\"\")","v":92},{"$f":"IFERROR(INDEX($A$61:$A$1687,MATCH(ROWS($C$61:$C152),$C$61:$C$1687,0)),\"\")","v":"Hoveton & Wroxham Medical Centre EoE)"}]
["WM Public Health Recharges",1,{"$f":"IF(B153=1,COUNTIF($B$61:$B153,1),\"\")","v":93},{"$f":"IFERROR(INDEX($A$61:$A$1687,MATCH(ROWS($C$61:$C153),$C$61:$C$1687,0)),\"\")","v":"WM Public Health Recharges"}]
["Liverpool Dental Hospital Recharge",1,{"$f":"IF(B154=1,COUNTIF($B$61:$B154,1),\"\")","v":94},{"$f":"IFERROR(INDEX($A$61:$A$1687,MATCH(ROWS($C$61:$C154),$C$61:$C$1687,0)),\"\")","v":"Liverpool Dental Hospital Recharge"}]
["Ripley Medical Centre EM)",1,{"$f":"IF(B155=1,COUNTIF($B$61:$B155,1),\"\")","v":95},{"$f":"IFERROR(INDEX($A$61:$A$1687,MATCH(ROWS($C$61:$C155),$C$61:$C$1687,0)),\"\")","v":"Ripley Medical Centre EM)"}]
["Angel Hill Surgery EoE)",1,{"$f":"IF(B156=1,COUNTIF($B$61:$B156,1),\"\")","v":96},{"$f":"IFERROR(INDEX($A$61:$A$1687,MATCH(ROWS($C$61:$C156),$C$61:$C$1687,0)),\"\")","v":"Angel Hill Surgery EoE)"}]
["Leicestershire Partnership NHS Trust",1,{"$f":"IF(B157=1,COUNTIF($B$61:$B157,1),\"\")","v":97},{"$f":"IFERROR(INDEX($A$61:$A$1687,MATCH(ROWS($C$61:$C157),$C$61:$C$1687,0)),\"\")","v":"Leicestershire Partnership NHS Trust"}]
["Betsi Cadwaladr - Glan Clwyd NW)",1,{"$f":"IF(B158=1,COUNTIF($B$61:$B158,1),\"\")","v":98},{"$f":"IFERROR(INDEX($A$61:$A$1687,MATCH(ROWS($C$61:$C158),$C$61:$C$1687,0)),\"\")","v":"Betsi Cadwaladr - Glan Clwyd NW)"}]
["University Hospitals of Leicester NHS Trust",1,{"$f":"IF(B159=1,COUNTIF($B$61:$B159,1),\"\")","v":99},{"$f":"IFERROR(INDEX($A$61:$A$1687,MATCH(ROWS($C$61:$C159),$C$61:$C$1687,0)),\"\")","v":"University Hospitals of Leicester NHS Trust"}]
["Claughton Medical Centre NW)",1,{"$f":"IF(B160=1,COUNTIF($B$61:$B160,1),\"\")","v":100},{"$f":"IFERROR(INDEX($A$61:$A$1687,MATCH(ROWS($C$61:$C160),$C$61:$C$1687,0)),\"\")","v":"Claughton Medical Centre NW)"}]
["Boroughbury Medical Centre EoE)",1,{"$f":"IF(B161=1,COUNTIF($B$61:$B161,1),\"\")","v":101},{"$f":"IFERROR(INDEX($A$61:$A$1687,MATCH(ROWS($C$61:$C161),$C$61:$C$1687,0)),\"\")","v":"Boroughbury Medical Centre EoE)"}]
["Abbey Medical Practice Mannock) EM)",1,{"$f":"IF(B162=1,COUNTIF($B$61:$B162,1),\"\")","v":102},{"$f":"IFERROR(INDEX($A$61:$A$1687,MATCH(ROWS($C$61:$C162),$C$61:$C$1687,0)),\"\")","v":"Abbey Medical Practice Mannock) EM)"}]
["University Hospitals Coventry And Warwickshire NHS Trust",1,{"$f":"IF(B163=1,COUNTIF($B$61:$B163,1),\"\")","v":103},{"$f":"IFERROR(INDEX($A$61:$A$1687,MATCH(ROWS($C$61:$C163),$C$61:$C$1687,0)),\"\")","v":"University Hospitals Coventry And Warwickshire NHS Trust"}]
["Avonside Health Centre WM)",1,{"$f":"IF(B164=1,COUNTIF($B$61:$B164,1),\"\")","v":104},{"$f":"IFERROR(INDEX($A$61:$A$1687,MATCH(ROWS($C$61:$C164),$C$61:$C$1687,0)),\"\")","v":"Avonside Health Centre WM)"}]
["Wolston Surgery WM)",1,{"$f":"IF(B165=1,COUNTIF($B$61:$B165,1),\"\")","v":105},{"$f":"IFERROR(INDEX($A$61:$A$1687,MATCH(ROWS($C$61:$C165),$C$61:$C$1687,0)),\"\")","v":"Wolston Surgery WM)"}]
["Ancoats Urban Village Medical Practice NW)",1,{"$f":"IF(B166=1,COUNTIF($B$61:$B166,1),\"\")","v":106},{"$f":"IFERROR(INDEX($A$61:$A$1687,MATCH(ROWS($C$61:$C166),$C$61:$C$1687,0)),\"\")","v":"Ancoats Urban Village Medical Practice NW)"}]
["Shrewsbury And Telford Hospital NHS Trust",1,{"$f":"IF(B167=1,COUNTIF($B$61:$B167,1),\"\")","v":107},{"$f":"IFERROR(INDEX($A$61:$A$1687,MATCH(ROWS($C$61:$C167),$C$61:$C$1687,0)),\"\")","v":"Shrewsbury And Telford Hospital NHS Trust"}]
["Linden Avenue Medical Centre EM)",1,{"$f":"IF(B168=1,COUNTIF($B$61:$B168,1),\"\")","v":108},{"$f":"IFERROR(INDEX($A$61:$A$1687,MATCH(ROWS($C$61:$C168),$C$61:$C$1687,0)),\"\")","v":"Linden Avenue Medical Centre EM)"}]
["North West Anglia NHS FT EoE)",1,{"$f":"IF(B169=1,COUNTIF($B$61:$B169,1),\"\")","v":109},{"$f":"IFERROR(INDEX($A$61:$A$1687,MATCH(ROWS($C$61:$C169),$C$61:$C$1687,0)),\"\")","v":"North West Anglia NHS FT EoE)"}]
["Jubilee Healthcare WM)",1,{"$f":"IF(B170=1,COUNTIF($B$61:$B170,1),\"\")","v":110},{"$f":"IFERROR(INDEX($A$61:$A$1687,MATCH(ROWS($C$61:$C170),$C$61:$C$1687,0)),\"\")","v":"Jubilee Healthcare WM)"}]
["The Valleys Medical Partnership EM)",1,{"$f":"IF(B171=1,COUNTIF($B$61:$B171,1),\"\")","v":111},{"$f":"IFERROR(INDEX($A$61:$A$1687,MATCH(ROWS($C$61:$C171),$C$61:$C$1687,0)),\"\")","v":"The Valleys Medical Partnership EM)"}]
["Gosforth Valley Medical Practice EM)",1,{"$f":"IF(B172=1,COUNTIF($B$61:$B172,1),\"\")","v":112},{"$f":"IFERROR(INDEX($A$61:$A$1687,MATCH(ROWS($C$61:$C172),$C$61:$C$1687,0)),\"\")","v":"Gosforth Valley Medical Practice EM)"}]
["James Paget Univeristy Hospitals NHS FT",1,{"$f":"IF(B173=1,COUNTIF($B$61:$B173,1),\"\")","v":113},{"$f":"IFERROR(INDEX($A$61:$A$1687,MATCH(ROWS($C$61:$C173),$C$61:$C$1687,0)),\"\")","v":"James Paget Univeristy Hospitals NHS FT"}]
["Orchard House Surgery EoE)",1,{"$f":"IF(B174=1,COUNTIF($B$61:$B174,1),\"\")","v":114},{"$f":"IFERROR(INDEX($A$61:$A$1687,MATCH(ROWS($C$61:$C174),$C$61:$C$1687,0)),\"\")","v":"Orchard House Surgery EoE)"}]
["Salters Medical Practice WM)",1,{"$f":"IF(B175=1,COUNTIF($B$61:$B175,1),\"\")","v":115},{"$f":"IFERROR(INDEX($A$61:$A$1687,MATCH(ROWS($C$61:$C175),$C$61:$C$1687,0)),\"\")","v":"Salters Medical Practice WM)"}]
["The Royal Orthopaedic Hospital NHS Foundation Trust",1,{"$f":"IF(B176=1,COUNTIF($B$61:$B176,1),\"\")","v":116},{"$f":"IFERROR(INDEX($A$61:$A$1687,MATCH(ROWS($C$61:$C176),$C$61:$C$1687,0)),\"\")","v":"The Royal Orthopaedic Hospital NHS Foundation Trust"}]
["King George Surgery EoE)",1,{"$f":"IF(B177=1,COUNTIF($B$61:$B177,1),\"\")","v":117},{"$f":"IFERROR(INDEX($A$61:$A$1687,MATCH(ROWS($C$61:$C177),$C$61:$C$1687,0)),\"\")","v":"King George Surgery EoE)"}]
["East Cheshire NHS Trust Recharge",1,{"$f":"IF(B178=1,COUNTIF($B$61:$B178,1),\"\")","v":118},{"$f":"IFERROR(INDEX($A$61:$A$1687,MATCH(ROWS($C$61:$C178),$C$61:$C$1687,0)),\"\")","v":"East Cheshire NHS Trust Recharge"}]
["Eleanor Cross Healthcare EM)",1,{"$f":"IF(B179=1,COUNTIF($B$61:$B179,1),\"\")","v":119},{"$f":"IFERROR(INDEX($A$61:$A$1687,MATCH(ROWS($C$61:$C179),$C$61:$C$1687,0)),\"\")","v":"Eleanor Cross Healthcare EM)"}]
["Plas Ffynnon Medical Centre WM)",1,{"$f":"IF(B180=1,COUNTIF($B$61:$B180,1),\"\")","v":120},{"$f":"IFERROR(INDEX($A$61:$A$1687,MATCH(ROWS($C$61:$C180),$C$61:$C$1687,0)),\"\")","v":"Plas Ffynnon Medical Centre WM)"}]
["The Langton Medical Group WM)",1,{"$f":"IF(B181=1,COUNTIF($B$61:$B181,1),\"\")","v":121},{"$f":"IFERROR(INDEX($A$61:$A$1687,MATCH(ROWS($C$61:$C181),$C$61:$C$1687,0)),\"\")","v":"The Langton Medical Group WM)"}]
["Rope Green Medical Centre NW)",1,{"$f":"IF(B182=1,COUNTIF($B$61:$B182,1),\"\")","v":122},{"$f":"IFERROR(INDEX($A$61:$A$1687,MATCH(ROWS($C$61:$C182),$C$61:$C$1687,0)),\"\")","v":"Rope Green Medical Centre NW)"}]
["Brownlow Group Practice NW)",1,{"$f":"IF(B183=1,COUNTIF($B$61:$B183,1),\"\")","v":123},{"$f":"IFERROR(INDEX($A$61:$A$1687,MATCH(ROWS($C$61:$C183),$C$61:$C$1687,0)),\"\")","v":"Brownlow Group Practice NW)"}]
["Keats Grove Surgery WM)",1,{"$f":"IF(B184=1,COUNTIF($B$61:$B184,1),\"\")","v":124},{"$f":"IFERROR(INDEX($A$61:$A$1687,MATCH(ROWS($C$61:$C184),$C$61:$C$1687,0)),\"\")","v":"Keats Grove Surgery WM)"}]
["Abbey Field Medical Centre EoE)",1,{"$f":"IF(B185=1,COUNTIF($B$61:$B185,1),\"\")","v":125},{"$f":"IFERROR(INDEX($A$61:$A$1687,MATCH(ROWS($C$61:$C185),$C$61:$C$1687,0)),\"\")","v":"Abbey Field Medical Centre EoE)"}]
["Richmond Medical Centre EM)",1,{"$f":"IF(B186=1,COUNTIF($B$61:$B186,1),\"\")","v":126},{"$f":"IFERROR(INDEX($A$61:$A$1687,MATCH(ROWS($C$61:$C186),$C$61:$C$1687,0)),\"\")","v":"Richmond Medical Centre EM)"}]
["Marysville Medical Practice WM)",1,{"$f":"IF(B187=1,COUNTIF($B$61:$B187,1),\"\")","v":127},{"$f":"IFERROR(INDEX($A$61:$A$1687,MATCH(ROWS($C$61:$C187),$C$61:$C$1687,0)),\"\")","v":"Marysville Medical Practice WM)"}]
["Upton Surgery WM)",1,{"$f":"IF(B188=1,COUNTIF($B$61:$B188,1),\"\")","v":128},{"$f":"IFERROR(INDEX($A$61:$A$1687,MATCH(ROWS($C$61:$C188),$C$61:$C$1687,0)),\"\")","v":"Upton Surgery WM)"}]
["Station House Surgery NW)",1,{"$f":"IF(B189=1,COUNTIF($B$61:$B189,1),\"\")","v":129},{"$f":"IFERROR(INDEX($A$61:$A$1687,MATCH(ROWS($C$61:$C189),$C$61:$C$1687,0)),\"\")","v":"Station House Surgery NW)"}]
["St Rocco's Hospice NW)",{"$f":"--ISNUMBER(SEARCH($F$15,A190))","v":1},{"$f":"IF(B190=1,COUNTIF($B$61:$B190,1),\"\")","v":130},{"$f":"IFERROR(INDEX($A$61:$A$1687,MATCH(ROWS($C$61:$C190),$C$61:$C$1687,0)),\"\")","v":"St Rocco's Hospice NW)"}]
["Lawley Medical Practice WM)",1,{"$f":"IF(B191=1,COUNTIF($B$61:$B191,1),\"\")","v":131},{"$f":"IFERROR(INDEX($A$61:$A$1687,MATCH(ROWS($C$61:$C191),$C$61:$C$1687,0)),\"\")","v":"Lawley Medical Practice WM)"}]
["Hellesdon Medical Practice EoE)",1,{"$f":"IF(B192=1,COUNTIF($B$61:$B192,1),\"\")","v":132},{"$f":"IFERROR(INDEX($A$61:$A$1687,MATCH(ROWS($C$61:$C192),$C$61:$C$1687,0)),\"\")","v":"Hellesdon Medical Practice EoE)"}]
["Two Rivers Medical Centre EoE)",1,{"$f":"IF(B193=1,COUNTIF($B$61:$B193,1),\"\")","v":133},{"$f":"IFERROR(INDEX($A$61:$A$1687,MATCH(ROWS($C$61:$C193),$C$61:$C$1687,0)),\"\")","v":"Two Rivers Medical Centre EoE)"}]
["Royal Berkshire Healthcare FT TV)",1,{"$f":"IF(B194=1,COUNTIF($B$61:$B194,1),\"\")","v":134},{"$f":"IFERROR(INDEX($A$61:$A$1687,MATCH(ROWS($C$61:$C194),$C$61:$C$1687,0)),\"\")","v":"Royal Berkshire Healthcare FT TV)"}]
["Eden Court Medical Practice WM)",1,{"$f":"IF(B195=1,COUNTIF($B$61:$B195,1),\"\")","v":135},{"$f":"IFERROR(INDEX($A$61:$A$1687,MATCH(ROWS($C$61:$C195),$C$61:$C$1687,0)),\"\")","v":"Eden Court Medical Practice WM)"}]
["Madeley Practice WM)",1,{"$f":"IF(B196=1,COUNTIF($B$61:$B196,1),\"\")","v":136},{"$f":"IFERROR(INDEX($A$61:$A$1687,MATCH(ROWS($C$61:$C196),$C$61:$C$1687,0)),\"\")","v":"Madeley Practice WM)"}]
["Orchard Medical Practice EM)",1,{"$f":"IF(B197=1,COUNTIF($B$61:$B197,1),\"\")","v":137},{"$f":"IFERROR(INDEX($A$61:$A$1687,MATCH(ROWS($C$61:$C197),$C$61:$C$1687,0)),\"\")","v":"Orchard Medical Practice EM)"}]
["Atkinson Health Centre NW)",1,{"$f":"IF(B198=1,COUNTIF($B$61:$B198,1),\"\")","v":138},{"$f":"IFERROR(INDEX($A$61:$A$1687,MATCH(ROWS($C$61:$C198),$C$61:$C$1687,0)),\"\")","v":"Atkinson Health Centre NW)"}]
["Dr ST Pierre-Libberton WM)",1,{"$f":"IF(B199=1,COUNTIF($B$61:$B199,1),\"\")","v":139},{"$f":"IFERROR(INDEX($A$61:$A$1687,MATCH(ROWS($C$61:$C199),$C$61:$C$1687,0)),\"\")","v":"Dr ST Pierre-Libberton WM)"}]
["University Hospitals of North Midlands NHS Trust",1,{"$f":"IF(B200=1,COUNTIF($B$61:$B200,1),\"\")","v":140},{"$f":"IFERROR(INDEX($A$61:$A$1687,MATCH(ROWS($C$61:$C200),$C$61:$C$1687,0)),\"\")","v":"University Hospitals of North Midlands NHS Trust"}]
["Ivry Street Medical Practice EoE)",1,{"$f":"IF(B201=1,COUNTIF($B$61:$B201,1),\"\")","v":141},{"$f":"IFERROR(INDEX($A$61:$A$1687,MATCH(ROWS($C$61:$C201),$C$61:$C$1687,0)),\"\")","v":"Ivry Street Medical Practice EoE)"}]
["Potterells Medical Centre EoE)",1,{"$f":"IF(B202=1,COUNTIF($B$61:$B202,1),\"\")","v":142},{"$f":"IFERROR(INDEX($A$61:$A$1687,MATCH(ROWS($C$61:$C202),$C$61:$C$1687,0)),\"\")","v":"Potterells Medical Centre EoE)"}]
["Worcestershire Health and Care NHS Trust",1,{"$f":"IF(B203=1,COUNTIF($B$61:$B203,1),\"\")","v":143},{"$f":"IFERROR(INDEX($A$61:$A$1687,MATCH(ROWS($C$61:$C203),$C$61:$C$1687,0)),\"\")","v":"Worcestershire Health and Care NHS Trust"}]
["Handbridge Medical Centre NW)",1,{"$f":"IF(B204=1,COUNTIF($B$61:$B204,1),\"\")","v":144},{"$f":"IFERROR(INDEX($A$61:$A$1687,MATCH(ROWS($C$61:$C204),$C$61:$C$1687,0)),\"\")","v":"Handbridge Medical Centre NW)"}]
["John Tasker House Surgery EoE)",1,{"$f":"IF(B205=1,COUNTIF($B$61:$B205,1),\"\")","v":145},{"$f":"IFERROR(INDEX($A$61:$A$1687,MATCH(ROWS($C$61:$C205),$C$61:$C$1687,0)),\"\")","v":"John Tasker House Surgery EoE)"}]
["Wrafton House Surgery EoE)",1,{"$f":"IF(B206=1,COUNTIF($B$61:$B206,1),\"\")","v":146},{"$f":"IFERROR(INDEX($A$61:$A$1687,MATCH(ROWS($C$61:$C206),$C$61:$C$1687,0)),\"\")","v":"Wrafton House Surgery EoE)"}]
["Beechfield Medical Centre EM)",1,{"$f":"IF(B207=1,COUNTIF($B$61:$B207,1),\"\")","v":147},{"$f":"IFERROR(INDEX($A$61:$A$1687,MATCH(ROWS($C$61:$C207),$C$61:$C$1687,0)),\"\")","v":"Beechfield Medical Centre EM)"}]
["Sutton Coldfield Group Practice WM)",1,{"$f":"IF(B208=1,COUNTIF($B$61:$B208,1),\"\")","v":148},{"$f":"IFERROR(INDEX($A$61:$A$1687,MATCH(ROWS($C$61:$C208),$C$61:$C$1687,0)),\"\")","v":"Sutton Coldfield Group Practice WM)"}]
["Portland Medical Practice EM)",1,{"$f":"IF(B209=1,COUNTIF($B$61:$B209,1),\"\")","v":149},{"$f":"IFERROR(INDEX($A$61:$A$1687,MATCH(ROWS($C$61:$C209),$C$61:$C$1687,0)),\"\")","v":"Portland Medical Practice EM)"}]
["Hockley Medical Practice WM)",1,{"$f":"IF(B210=1,COUNTIF($B$61:$B210,1),\"\")","v":150},{"$f":"IFERROR(INDEX($A$61:$A$1687,MATCH(ROWS($C$61:$C210),$C$61:$C$1687,0)),\"\")","v":"Hockley Medical Practice WM)"}]
["Charnwood Medical Group EM)",1,{"$f":"IF(B211=1,COUNTIF($B$61:$B211,1),\"\")","v":151},{"$f":"IFERROR(INDEX($A$61:$A$1687,MATCH(ROWS($C$61:$C211),$C$61:$C$1687,0)),\"\")","v":"Charnwood Medical Group EM)"}]
["Aintree Park NW)",1,{"$f":"IF(B212=1,COUNTIF($B$61:$B212,1),\"\")","v":152},{"$f":"IFERROR(INDEX($A$61:$A$1687,MATCH(ROWS($C$61:$C212),$C$61:$C$1687,0)),\"\")","v":"Aintree Park NW)"}]
["Liverpool Women's Recharge",1,{"$f":"IF(B213=1,COUNTIF($B$61:$B213,1),\"\")","v":153},{"$f":"IFERROR(INDEX($A$61:$A$1687,MATCH(ROWS($C$61:$C213),$C$61:$C$1687,0)),\"\")","v":"Liverpool Women's Recharge"}]
["Bridgewater Surgeries EoE)",1,{"$f":"IF(B214=1,COUNTIF($B$61:$B214,1),\"\")","v":154},{"$f":"IFERROR(INDEX($A$61:$A$1687,MATCH(ROWS($C$61:$C214),$C$61:$C$1687,0)),\"\")","v":"Bridgewater Surgeries EoE)"}]
["Danetre Medical Practice EM)",1,{"$f":"IF(B215=1,COUNTIF($B$61:$B215,1),\"\")","v":155},{"$f":"IFERROR(INDEX($A$61:$A$1687,MATCH(ROWS($C$61:$C215),$C$61:$C$1687,0)),\"\")","v":"Danetre Medical Practice EM)"}]
["Mersey Care Recharge",1,{"$f":"IF(B216=1,COUNTIF($B$61:$B216,1),\"\")","v":156},{"$f":"IFERROR(INDEX($A$61:$A$1687,MATCH(ROWS($C$61:$C216),$C$61:$C$1687,0)),\"\")","v":"Mersey Care Recharge"}]
["The Peel Medical Centre WM)",1,{"$f":"IF(B217=1,COUNTIF($B$61:$B217,1),\"\")","v":157},{"$f":"IFERROR(INDEX($A$61:$A$1687,MATCH(ROWS($C$61:$C217),$C$61:$C$1687,0)),\"\")","v":"The Peel Medical Centre WM)"}]
["Station Drive Surgery WM)",1,{"$f":"IF(B218=1,COUNTIF($B$61:$B218,1),\"\")","v":158},{"$f":"IFERROR(INDEX($A$61:$A$1687,MATCH(ROWS($C$61:$C218),$C$61:$C$1687,0)),\"\")","v":"Station Drive Surgery WM)"}]
["Osmaston Surgery EM)",1,{"$f":"IF(B219=1,COUNTIF($B$61:$B219,1),\"\")","v":159},{"$f":"IFERROR(INDEX($A$61:$A$1687,MATCH(ROWS($C$61:$C219),$C$61:$C$1687,0)),\"\")","v":"Osmaston Surgery EM)"}]
["Liverpool Heart and Chest Hospitals Recharge",1,{"$f":"IF(B220=1,COUNTIF($B$61:$B220,1),\"\")","v":160},{"$f":"IFERROR(INDEX($A$61:$A$1687,MATCH(ROWS($C$61:$C220),$C$61:$C$1687,0)),\"\")","v":"Liverpool Heart and Chest Hospitals Recharge"}]
["Out of Programme Doctors Recharge",1,{"$f":"IF(B221=1,COUNTIF($B$61:$B221,1),\"\")","v":161},{"$f":"IFERROR(INDEX($A$61:$A$1687,MATCH(ROWS($C$61:$C221),$C$61:$C$1687,0)),\"\")","v":"Out of Programme Doctors Recharge"}]
["Targetted GP",1,{"$f":"IF(B222=1,COUNTIF($B$61:$B222,1),\"\")","v":162},{"$f":"IFERROR(INDEX($A$61:$A$1687,MATCH(ROWS($C$61:$C222),$C$61:$C$1687,0)),\"\")","v":"Targetted GP"}]
["Northamptonshire Healthcare NHS Foundation Trust",1,{"$f":"IF(B223=1,COUNTIF($B$61:$B223,1),\"\")","v":163},{"$f":"IFERROR(INDEX($A$61:$A$1687,MATCH(ROWS($C$61:$C223),$C$61:$C$1687,0)),\"\")","v":"Northamptonshire Healthcare NHS Foundation Trust"}]
["Frimley Health Foundation Trust TV)",1,{"$f":"IF(B224=1,COUNTIF($B$61:$B224,1),\"\")","v":164},{"$f":"IFERROR(INDEX($A$61:$A$1687,MATCH(ROWS($C$61:$C224),$C$61:$C$1687,0)),\"\")","v":"Frimley Health Foundation Trust TV)"}]
["Lancashire Care FT",1,{"$f":"IF(B225=1,COUNTIF($B$61:$B225,1),\"\")","v":165},{"$f":"IFERROR(INDEX($A$61:$A$1687,MATCH(ROWS($C$61:$C225),$C$61:$C$1687,0)),\"\")","v":"Lancashire Care FT"}]
["Birmingham And Solihull Mental Health NHS Foundation Trust",1,{"$f":"IF(B226=1,COUNTIF($B$61:$B226,1),\"\")","v":166},{"$f":"IFERROR(INDEX($A$61:$A$1687,MATCH(ROWS($C$61:$C226),$C$61:$C$1687,0)),\"\")","v":"Birmingham And Solihull Mental Health NHS Foundation Trust"}]
["Hadleigh Boxford Group Practice EoE)",1,{"$f":"IF(B227=1,COUNTIF($B$61:$B227,1),\"\")","v":167},{"$f":"IFERROR(INDEX($A$61:$A$1687,MATCH(ROWS($C$61:$C227),$C$61:$C$1687,0)),\"\")","v":"Hadleigh Boxford Group Practice EoE)"}]
["Birchwood Medical Practice EM)",1,{"$f":"IF(B228=1,COUNTIF($B$61:$B228,1),\"\")","v":168},{"$f":"IFERROR(INDEX($A$61:$A$1687,MATCH(ROWS($C$61:$C228),$C$61:$C$1687,0)),\"\")","v":"Birchwood Medical Practice EM)"}]
["Old Swan Health Centre NW)",1,{"$f":"IF(B229=1,COUNTIF($B$61:$B229,1),\"\")","v":169},{"$f":"IFERROR(INDEX($A$61:$A$1687,MATCH(ROWS($C$61:$C229),$C$61:$C$1687,0)),\"\")","v":"Old Swan Health Centre NW)"}]
["Kingfisher Practice WM)",1,{"$f":"IF(B230=1,COUNTIF($B$61:$B230,1),\"\")","v":170},{"$f":"IFERROR(INDEX($A$61:$A$1687,MATCH(ROWS($C$61:$C230),$C$61:$C$1687,0)),\"\")","v":"Kingfisher Practice WM)"}]
["Central Surgery NW)",1,{"$f":"IF(B231=1,COUNTIF($B$61:$B231,1),\"\")","v":171},{"$f":"IFERROR(INDEX($A$61:$A$1687,MATCH(ROWS($C$61:$C231),$C$61:$C$1687,0)),\"\")","v":"Central Surgery NW)"}]
["Newtown Health Centre WM)",1,{"$f":"IF(B232=1,COUNTIF($B$61:$B232,1),\"\")","v":172},{"$f":"IFERROR(INDEX($A$61:$A$1687,MATCH(ROWS($C$61:$C232),$C$61:$C$1687,0)),\"\")","v":"Newtown Health Centre WM)"}]
["Moss Grove Surgery WM)",1,{"$f":"IF(B233=1,COUNTIF($B$61:$B233,1),\"\")","v":173},{"$f":"IFERROR(INDEX($A$61:$A$1687,MATCH(ROWS($C$61:$C233),$C$61:$C$1687,0)),\"\")","v":"Moss Grove Surgery WM)"}]
["Village Surgery EoE)",1,{"$f":"IF(B234=1,COUNTIF($B$61:$B234,1),\"\")","v":174},{"$f":"IFERROR(INDEX($A$61:$A$1687,MATCH(ROWS($C$61:$C234),$C$61:$C$1687,0)),\"\")","v":"Village Surgery EoE)"}]
["Bridge House Medical Centre WM)",1,{"$f":"IF(B235=1,COUNTIF($B$61:$B235,1),\"\")","v":175},{"$f":"IFERROR(INDEX($A$61:$A$1687,MATCH(ROWS($C$61:$C235),$C$61:$C$1687,0)),\"\")","v":"Bridge House Medical Centre WM)"}]
["The Ash Surgery NW)",1,{"$f":"IF(B236=1,COUNTIF($B$61:$B236,1),\"\")","v":176},{"$f":"IFERROR(INDEX($A$61:$A$1687,MATCH(ROWS($C$61:$C236),$C$61:$C$1687,0)),\"\")","v":"The Ash Surgery NW)"}]
["North Staffordshire Combined Healthcare NHS Trust",1,{"$f":"IF(B237=1,COUNTIF($B$61:$B237,1),\"\")","v":177},{"$f":"IFERROR(INDEX($A$61:$A$1687,MATCH(ROWS($C$61:$C237),$C$61:$C$1687,0)),\"\")","v":"North Staffordshire Combined Healthcare NHS Trust"}]
["Oxford University Hospital FT TV)",1,{"$f":"IF(B238=1,COUNTIF($B$61:$B238,1),\"\")","v":178},{"$f":"IFERROR(INDEX($A$61:$A$1687,MATCH(ROWS($C$61:$C238),$C$61:$C$1687,0)),\"\")","v":"Oxford University Hospital FT TV)"}]
["Black Country Partnership NHS Foundation Trust",1,{"$f":"IF(B239=1,COUNTIF($B$61:$B239,1),\"\")","v":179},{"$f":"IFERROR(INDEX($A$61:$A$1687,MATCH(ROWS($C$61:$C239),$C$61:$C$1687,0)),\"\")","v":"Black Country Partnership NHS Foundation Trust"}]
["Woodlands Medical Practice NW)",1,{"$f":"IF(B240=1,COUNTIF($B$61:$B240,1),\"\")","v":180},{"$f":"IFERROR(INDEX($A$61:$A$1687,MATCH(ROWS($C$61:$C240),$C$61:$C$1687,0)),\"\")","v":"Woodlands Medical Practice NW)"}]
["Wychall Lane Surgery WM)",1,{"$f":"IF(B241=1,COUNTIF($B$61:$B241,1),\"\")","v":181},{"$f":"IFERROR(INDEX($A$61:$A$1687,MATCH(ROWS($C$61:$C241),$C$61:$C$1687,0)),\"\")","v":"Wychall Lane Surgery WM)"}]
["Garswood Surgery NW)",1,{"$f":"IF(B242=1,COUNTIF($B$61:$B242,1),\"\")","v":182},{"$f":"IFERROR(INDEX($A$61:$A$1687,MATCH(ROWS($C$61:$C242),$C$61:$C$1687,0)),\"\")","v":"Garswood Surgery NW)"}]
["Upton Group Practice NW)",1,{"$f":"IF(B243=1,COUNTIF($B$61:$B243,1),\"\")","v":183},{"$f":"IFERROR(INDEX($A$61:$A$1687,MATCH(ROWS($C$61:$C243),$C$61:$C$1687,0)),\"\")","v":"Upton Group Practice NW)"}]
["Birmingham Community Healthcare NHS Trust",1,{"$f":"IF(B244=1,COUNTIF($B$61:$B244,1),\"\")","v":184},{"$f":"IFERROR(INDEX($A$61:$A$1687,MATCH(ROWS($C$61:$C244),$C$61:$C$1687,0)),\"\")","v":"Birmingham Community Healthcare NHS Trust"}]
["Park Medical Practice NW)",1,{"$f":"IF(B245=1,COUNTIF($B$61:$B245,1),\"\")","v":185},{"$f":"IFERROR(INDEX($A$61:$A$1687,MATCH(ROWS($C$61:$C245),$C$61:$C$1687,0)),\"\")","v":"Park Medical Practice NW)"}]
["Three Villages Medical Practice WM)",1,{"$f":"IF(B246=1,COUNTIF($B$61:$B246,1),\"\")","v":186},{"$f":"IFERROR(INDEX($A$61:$A$1687,MATCH(ROWS($C$61:$C246),$C$61:$C$1687,0)),\"\")","v":"Three Villages Medical Practice WM)"}]
["Mid Cheshire Hospitals Crewe / Leighton) Recharge",1,{"$f":"IF(B247=1,COUNTIF($B$61:$B247,1),\"\")","v":187},{"$f":"IFERROR(INDEX($A$61:$A$1687,MATCH(ROWS($C$61:$C247),$C$61:$C$1687,0)),\"\")","v":"Mid Cheshire Hospitals Crewe / Leighton) Recharge"}]
["Berkshire Healthcare FT TV)",1,{"$f":"IF(B248=1,COUNTIF($B$61:$B248,1),\"\")","v":188},{"$f":"IFERROR(INDEX($A$61:$A$1687,MATCH(ROWS($C$61:$C248),$C$61:$C$1687,0)),\"\")","v":"Berkshire Healthcare FT TV)"}]
["Woolpit Health Centre EoE)",1,{"$f":"IF(B249=1,COUNTIF($B$61:$B249,1),\"\")","v":189},{"$f":"IFERROR(INDEX($A$61:$A$1687,MATCH(ROWS($C$61:$C249),$C$61:$C$1687,0)),\"\")","v":"Woolpit Health Centre EoE)"}]
["Alum Rock Medical Centre WM)",1,{"$f":"IF(B250=1,COUNTIF($B$61:$B250,1),\"\")","v":190},{"$f":"IFERROR(INDEX($A$61:$A$1687,MATCH(ROWS($C$61:$C250),$C$61:$C$1687,0)),\"\")","v":"Alum Rock Medical Centre WM)"}]
["Stirchley Medical Practice WM)",1,{"$f":"IF(B251=1,COUNTIF($B$61:$B251,1),\"\")","v":191},{"$f":"IFERROR(INDEX($A$61:$A$1687,MATCH(ROWS($C$61:$C251),$C$61:$C$1687,0)),\"\")","v":"Stirchley Medical Practice WM)"}]
["Werrington Village Surgery WM)",1,{"$f":"IF(B252=1,COUNTIF($B$61:$B252,1),\"\")","v":192},{"$f":"IFERROR(INDEX($A$61:$A$1687,MATCH(ROWS($C$61:$C252),$C$61:$C$1687,0)),\"\")","v":"Werrington Village Surgery WM)"}]
["Cheshire and Wirral Partnership NHS Trust Recharge",1,{"$f":"IF(B253=1,COUNTIF($B$61:$B253,1),\"\")","v":193},{"$f":"IFERROR(INDEX($A$61:$A$1687,MATCH(ROWS($C$61:$C253),$C$61:$C$1687,0)),\"\")","v":"Cheshire and Wirral Partnership NHS Trust Recharge"}]
["Birches Head Medical Centre WM)",{"$f":"--ISNUMBER(SEARCH($F$15,A254))","v":1},{"$f":"IF(B254=1,COUNTIF($B$61:$B254,1),\"\")","v":194},{"$f":"IFERROR(INDEX($A$61:$A$1687,MATCH(ROWS($C$61:$C254),$C$61:$C$1687,0)),\"\")","v":"Birches Head Medical Centre WM)"}]
["Parkfield Medical Centre WM)",1,{"$f":"IF(B255=1,COUNTIF($B$61:$B255,1),\"\")","v":195},{"$f":"IFERROR(INDEX($A$61:$A$1687,MATCH(ROWS($C$61:$C255),$C$61:$C$1687,0)),\"\")","v":"Parkfield Medical Centre WM)"}]
["Southgates Medical Centre EoE)",1,{"$f":"IF(B256=1,COUNTIF($B$61:$B256,1),\"\")","v":196},{"$f":"IFERROR(INDEX($A$61:$A$1687,MATCH(ROWS($C$61:$C256),$C$61:$C$1687,0)),\"\")","v":"Southgates Medical Centre EoE)"}]
["Waterloo Medical Centre NW)",1,{"$f":"IF(B257=1,COUNTIF($B$61:$B257,1),\"\")","v":197},{"$f":"IFERROR(INDEX($A$61:$A$1687,MATCH(ROWS($C$61:$C257),$C$61:$C$1687,0)),\"\")","v":"Waterloo Medical Centre NW)"}]
["Green Lane Medical Centre NW)",1,{"$f":"IF(B258=1,COUNTIF($B$61:$B258,1),\"\")","v":198},{"$f":"IFERROR(INDEX($A$61:$A$1687,MATCH(ROWS($C$61:$C258),$C$61:$C$1687,0)),\"\")","v":"Green Lane Medical Centre NW)"}]
["Hobs Moat Medical Centre WM)",1,{"$f":"IF(B259=1,COUNTIF($B$61:$B259,1),\"\")","v":199},{"$f":"IFERROR(INDEX($A$61:$A$1687,MATCH(ROWS($C$61:$C259),$C$61:$C$1687,0)),\"\")","v":"Hobs Moat Medical Centre WM)"}]
["Magdalen Medical Practice EoE)",1,{"$f":"IF(B260=1,COUNTIF($B$61:$B260,1),\"\")","v":200},{"$f":"IFERROR(INDEX($A$61:$A$1687,MATCH(ROWS($C$61:$C260),$C$61:$C$1687,0)),\"\")","v":"Magdalen Medical Practice EoE)"}]
["Houghton Close Surgery EoE)",1,{"$f":"IF(B261=1,COUNTIF($B$61:$B261,1),\"\")","v":201},{"$f":"IFERROR(INDEX($A$61:$A$1687,MATCH(ROWS($C$61:$C261),$C$61:$C$1687,0)),\"\")","v":"Houghton Close Surgery EoE)"}]
["The Moorcroft Medical Centre WM)",1,{"$f":"IF(B262=1,COUNTIF($B$61:$B262,1),\"\")","v":202},{"$f":"IFERROR(INDEX($A$61:$A$1687,MATCH(ROWS($C$61:$C262),$C$61:$C$1687,0)),\"\")","v":"The Moorcroft Medical Centre WM)"}]
["St Helens & Knowsley Trust Recharge",1,{"$f":"IF(B263=1,COUNTIF($B$61:$B263,1),\"\")","v":203},{"$f":"IFERROR(INDEX($A$61:$A$1687,MATCH(ROWS($C$61:$C263),$C$61:$C$1687,0)),\"\")","v":"St Helens & Knowsley Trust Recharge"}]
["Duncan Street Primary Care Partnership WM)",1,{"$f":"IF(B264=1,COUNTIF($B$61:$B264,1),\"\")","v":204},{"$f":"IFERROR(INDEX($A$61:$A$1687,MATCH(ROWS($C$61:$C264),$C$61:$C$1687,0)),\"\")","v":"Duncan Street Primary Care Partnership WM)"}]
["Moorfield House Surgery WM)",1,{"$f":"IF(B265=1,COUNTIF($B$61:$B265,1),\"\")","v":205},{"$f":"IFERROR(INDEX($A$61:$A$1687,MATCH(ROWS($C$61:$C265),$C$61:$C$1687,0)),\"\")","v":"Moorfield House Surgery WM)"}]
["Ainsdale Village Surgery NW)",1,{"$f":"IF(B266=1,COUNTIF($B$61:$B266,1),\"\")","v":206},{"$f":"IFERROR(INDEX($A$61:$A$1687,MATCH(ROWS($C$61:$C266),$C$61:$C$1687,0)),\"\")","v":"Ainsdale Village Surgery NW)"}]
["Sheringham Medical Practice EoE)",1,{"$f":"IF(B267=1,COUNTIF($B$61:$B267,1),\"\")","v":207},{"$f":"IFERROR(INDEX($A$61:$A$1687,MATCH(ROWS($C$61:$C267),$C$61:$C$1687,0)),\"\")","v":"Sheringham Medical Practice EoE)"}]
["Broomfield Park Medical Centre WM)",1,{"$f":"IF(B268=1,COUNTIF($B$61:$B268,1),\"\")","v":208},{"$f":"IFERROR(INDEX($A$61:$A$1687,MATCH(ROWS($C$61:$C268),$C$61:$C$1687,0)),\"\")","v":"Broomfield Park Medical Centre WM)"}]
["Lincolnshire Community Health Services",1,{"$f":"IF(B269=1,COUNTIF($B$61:$B269,1),\"\")","v":209},{"$f":"IFERROR(INDEX($A$61:$A$1687,MATCH(ROWS($C$61:$C269),$C$61:$C$1687,0)),\"\")","v":"Lincolnshire Community Health Services"}]
["Oaklands NW)",1,{"$f":"IF(B270=1,COUNTIF($B$61:$B270,1),\"\")","v":210},{"$f":"IFERROR(INDEX($A$61:$A$1687,MATCH(ROWS($C$61:$C270),$C$61:$C$1687,0)),\"\")","v":"Oaklands NW)"}]
["Medicentre NW)",1,{"$f":"IF(B271=1,COUNTIF($B$61:$B271,1),\"\")","v":211},{"$f":"IFERROR(INDEX($A$61:$A$1687,MATCH(ROWS($C$61:$C271),$C$61:$C$1687,0)),\"\")","v":"Medicentre NW)"}]
["Norwood Surgery NW)",1,{"$f":"IF(B272=1,COUNTIF($B$61:$B272,1),\"\")","v":212},{"$f":"IFERROR(INDEX($A$61:$A$1687,MATCH(ROWS($C$61:$C272),$C$61:$C$1687,0)),\"\")","v":"Norwood Surgery NW)"}]
["Penn Manor Medical Centre WM)",1,{"$f":"IF(B273=1,COUNTIF($B$61:$B273,1),\"\")","v":213},{"$f":"IFERROR(INDEX($A$61:$A$1687,MATCH(ROWS($C$61:$C273),$C$61:$C$1687,0)),\"\")","v":"Penn Manor Medical Centre WM)"}]
["Lakeside HealthCare Stamford EoE)",1,{"$f":"IF(B274=1,COUNTIF($B$61:$B274,1),\"\")","v":214},{"$f":"IFERROR(INDEX($A$61:$A$1687,MATCH(ROWS($C$61:$C274),$C$61:$C$1687,0)),\"\")","v":"Lakeside HealthCare Stamford EoE)"}]
["Bolton Hospital NHS Trust",1,{"$f":"IF(B275=1,COUNTIF($B$61:$B275,1),\"\")","v":215},{"$f":"IFERROR(INDEX($A$61:$A$1687,MATCH(ROWS($C$61:$C275),$C$61:$C$1687,0)),\"\")","v":"Bolton Hospital NHS Trust"}]
["The Village Medical Centre NW)",1,{"$f":"IF(B276=1,COUNTIF($B$61:$B276,1),\"\")","v":216},{"$f":"IFERROR(INDEX($A$61:$A$1687,MATCH(ROWS($C$61:$C276),$C$61:$C$1687,0)),\"\")","v":"The Village Medical Centre NW)"}]
["Moor Green Lane Medical Centre WM)",1,{"$f":"IF(B277=1,COUNTIF($B$61:$B277,1),\"\")","v":217},{"$f":"IFERROR(INDEX($A$61:$A$1687,MATCH(ROWS($C$61:$C277),$C$61:$C$1687,0)),\"\")","v":"Moor Green Lane Medical Centre WM)"}]
["Derbyshire Healthcare NHS Foundation Trust",1,{"$f":"IF(B278=1,COUNTIF($B$61:$B278,1),\"\")","v":218},{"$f":"IFERROR(INDEX($A$61:$A$1687,MATCH(ROWS($C$61:$C278),$C$61:$C$1687,0)),\"\")","v":"Derbyshire Healthcare NHS Foundation Trust"}]
["Victoria Road Surgery EoE)",1,{"$f":"IF(B279=1,COUNTIF($B$61:$B279,1),\"\")","v":219},{"$f":"IFERROR(INDEX($A$61:$A$1687,MATCH(ROWS($C$61:$C279),$C$61:$C$1687,0)),\"\")","v":"Victoria Road Surgery EoE)"}]
["The Chesterfield Drive Practice EoE)",1,{"$f":"IF(B280=1,COUNTIF($B$61:$B280,1),\"\")","v":220},{"$f":"IFERROR(INDEX($A$61:$A$1687,MATCH(ROWS($C$61:$C280),$C$61:$C$1687,0)),\"\")","v":"The Chesterfield Drive Practice EoE)"}]
["Market Rasen Surgery EM)",1,{"$f":"IF(B281=1,COUNTIF($B$61:$B281,1),\"\")","v":221},{"$f":"IFERROR(INDEX($A$61:$A$1687,MATCH(ROWS($C$61:$C281),$C$61:$C$1687,0)),\"\")","v":"Market Rasen Surgery EM)"}]
["Bilbrook Medical Centre WM)",1,{"$f":"IF(B282=1,COUNTIF($B$61:$B282,1),\"\")","v":222},{"$f":"IFERROR(INDEX($A$61:$A$1687,MATCH(ROWS($C$61:$C282),$C$61:$C$1687,0)),\"\")","v":"Bilbrook Medical Centre WM)"}]
["The Nile Practice WM)",1,{"$f":"IF(B283=1,COUNTIF($B$61:$B283,1),\"\")","v":223},{"$f":"IFERROR(INDEX($A$61:$A$1687,MATCH(ROWS($C$61:$C283),$C$61:$C$1687,0)),\"\")","v":"The Nile Practice WM)"}]
["Lea Road Medical Practice WM)",1,{"$f":"IF(B284=1,COUNTIF($B$61:$B284,1),\"\")","v":224},{"$f":"IFERROR(INDEX($A$61:$A$1687,MATCH(ROWS($C$61:$C284),$C$61:$C$1687,0)),\"\")","v":"Lea Road Medical Practice WM)"}]
["Highlands Surgery EoE)",1,{"$f":"IF(B285=1,COUNTIF($B$61:$B285,1),\"\")","v":225},{"$f":"IFERROR(INDEX($A$61:$A$1687,MATCH(ROWS($C$61:$C285),$C$61:$C$1687,0)),\"\")","v":"Highlands Surgery EoE)"}]
["The Garden City Practice EoE)",1,{"$f":"IF(B286=1,COUNTIF($B$61:$B286,1),\"\")","v":226},{"$f":"IFERROR(INDEX($A$61:$A$1687,MATCH(ROWS($C$61:$C286),$C$61:$C$1687,0)),\"\")","v":"The Garden City Practice EoE)"}]
["Shipston Medical Centre TV)",1,{"$f":"IF(B287=1,COUNTIF($B$61:$B287,1),\"\")","v":227},{"$f":"IFERROR(INDEX($A$61:$A$1687,MATCH(ROWS($C$61:$C287),$C$61:$C$1687,0)),\"\")","v":"Shipston Medical Centre TV)"}]
["Beccles Medical Centre EoE)",1,{"$f":"IF(B288=1,COUNTIF($B$61:$B288,1),\"\")","v":228},{"$f":"IFERROR(INDEX($A$61:$A$1687,MATCH(ROWS($C$61:$C288),$C$61:$C$1687,0)),\"\")","v":"Beccles Medical Centre EoE)"}]
["Leyland Surgery NW)",1,{"$f":"IF(B289=1,COUNTIF($B$61:$B289,1),\"\")","v":229},{"$f":"IFERROR(INDEX($A$61:$A$1687,MATCH(ROWS($C$61:$C289),$C$61:$C$1687,0)),\"\")","v":"Leyland Surgery NW)"}]
["Stalham Staithe Surgery EoE)",1,{"$f":"IF(B290=1,COUNTIF($B$61:$B290,1),\"\")","v":230},{"$f":"IFERROR(INDEX($A$61:$A$1687,MATCH(ROWS($C$61:$C290),$C$61:$C$1687,0)),\"\")","v":"Stalham Staithe Surgery EoE)"}]
["Bradshaw Medical Centre NW)",1,{"$f":"IF(B291=1,COUNTIF($B$61:$B291,1),\"\")","v":231},{"$f":"IFERROR(INDEX($A$61:$A$1687,MATCH(ROWS($C$61:$C291),$C$61:$C$1687,0)),\"\")","v":"Bradshaw Medical Centre NW)"}]
["Warden Lodge Medical Practice EoE)",1,{"$f":"IF(B292=1,COUNTIF($B$61:$B292,1),\"\")","v":232},{"$f":"IFERROR(INDEX($A$61:$A$1687,MATCH(ROWS($C$61:$C292),$C$61:$C$1687,0)),\"\")","v":"Warden Lodge Medical Practice EoE)"}]
["Kingsfield Medical Centre WM)",1,{"$f":"IF(B293=1,COUNTIF($B$61:$B293,1),\"\")","v":233},{"$f":"IFERROR(INDEX($A$61:$A$1687,MATCH(ROWS($C$61:$C293),$C$61:$C$1687,0)),\"\")","v":"Kingsfield Medical Centre WM)"}]
["Stockport NHS Foundation Trust",1,{"$f":"IF(B294=1,COUNTIF($B$61:$B294,1),\"\")","v":234},{"$f":"IFERROR(INDEX($A$61:$A$1687,MATCH(ROWS($C$61:$C294),$C$61:$C$1687,0)),\"\")","v":"Stockport NHS Foundation Trust"}]
["Wye Valley NHS Trust",1,{"$f":"IF(B295=1,COUNTIF($B$61:$B295,1),\"\")","v":235},{"$f":"IFERROR(INDEX($A$61:$A$1687,MATCH(ROWS($C$61:$C295),$C$61:$C$1687,0)),\"\")","v":"Wye Valley NHS Trust"}]
["Broken Cross Surgery NW)",1,{"$f":"IF(B296=1,COUNTIF($B$61:$B296,1),\"\")","v":236},{"$f":"IFERROR(INDEX($A$61:$A$1687,MATCH(ROWS($C$61:$C296),$C$61:$C$1687,0)),\"\")","v":"Broken Cross Surgery NW)"}]
["The Castle Medical Group NW)",1,{"$f":"IF(B297=1,COUNTIF($B$61:$B297,1),\"\")","v":237},{"$f":"IFERROR(INDEX($A$61:$A$1687,MATCH(ROWS($C$61:$C297),$C$61:$C$1687,0)),\"\")","v":"The Castle Medical Group NW)"}]
["The Medici Medical Practice EoE)",1,{"$f":"IF(B298=1,COUNTIF($B$61:$B298,1),\"\")","v":238},{"$f":"IFERROR(INDEX($A$61:$A$1687,MATCH(ROWS($C$61:$C298),$C$61:$C$1687,0)),\"\")","v":"The Medici Medical Practice EoE)"}]
["Stonefield Street Surgery NW)",1,{"$f":"IF(B299=1,COUNTIF($B$61:$B299,1),\"\")","v":239},{"$f":"IFERROR(INDEX($A$61:$A$1687,MATCH(ROWS($C$61:$C299),$C$61:$C$1687,0)),\"\")","v":"Stonefield Street Surgery NW)"}]
["Ribbleton Medical Centre NW)",1,{"$f":"IF(B300=1,COUNTIF($B$61:$B300,1),\"\")","v":240},{"$f":"IFERROR(INDEX($A$61:$A$1687,MATCH(ROWS($C$61:$C300),$C$61:$C$1687,0)),\"\")","v":"Ribbleton Medical Centre NW)"}]
["Church Stretton Medical Centre WM)",1,{"$f":"IF(B301=1,COUNTIF($B$61:$B301,1),\"\")","v":241},{"$f":"IFERROR(INDEX($A$61:$A$1687,MATCH(ROWS($C$61:$C301),$C$61:$C$1687,0)),\"\")","v":"Church Stretton Medical Centre WM)"}]
["Whitley House Surgery EoE)",1,{"$f":"IF(B302=1,COUNTIF($B$61:$B302,1),\"\")","v":242},{"$f":"IFERROR(INDEX($A$61:$A$1687,MATCH(ROWS($C$61:$C302),$C$61:$C$1687,0)),\"\")","v":"Whitley House Surgery EoE)"}]
["The Spinney Medical Centre NW)",1,{"$f":"IF(B303=1,COUNTIF($B$61:$B303,1),\"\")","v":243},{"$f":"IFERROR(INDEX($A$61:$A$1687,MATCH(ROWS($C$61:$C303),$C$61:$C$1687,0)),\"\")","v":"The Spinney Medical Centre NW)"}]
["Harley Street Medical Centre WM)",1,{"$f":"IF(B304=1,COUNTIF($B$61:$B304,1),\"\")","v":244},{"$f":"IFERROR(INDEX($A$61:$A$1687,MATCH(ROWS($C$61:$C304),$C$61:$C$1687,0)),\"\")","v":"Harley Street Medical Centre WM)"}]
["Bodey Medical Centre NW)",1,{"$f":"IF(B305=1,COUNTIF($B$61:$B305,1),\"\")","v":245},{"$f":"IFERROR(INDEX($A$61:$A$1687,MATCH(ROWS($C$61:$C305),$C$61:$C$1687,0)),\"\")","v":"Bodey Medical Centre NW)"}]
["Heatherbrook Surgery EM)",1,{"$f":"IF(B306=1,COUNTIF($B$61:$B306,1),\"\")","v":246},{"$f":"IFERROR(INDEX($A$61:$A$1687,MATCH(ROWS($C$61:$C306),$C$61:$C$1687,0)),\"\")","v":"Heatherbrook Surgery EM)"}]
["Maltings Surgery EoE)",1,{"$f":"IF(B307=1,COUNTIF($B$61:$B307,1),\"\")","v":247},{"$f":"IFERROR(INDEX($A$61:$A$1687,MATCH(ROWS($C$61:$C307),$C$61:$C$1687,0)),\"\")","v":"Maltings Surgery EoE)"}]
["The Deepings Health Centre EM)",1,{"$f":"IF(B308=1,COUNTIF($B$61:$B308,1),\"\")","v":248},{"$f":"IFERROR(INDEX($A$61:$A$1687,MATCH(ROWS($C$61:$C308),$C$61:$C$1687,0)),\"\")","v":"The Deepings Health Centre EM)"}]
["Colchester Hospital University NHS Foundation Trust",1,{"$f":"IF(B309=1,COUNTIF($B$61:$B309,1),\"\")","v":249},{"$f":"IFERROR(INDEX($A$61:$A$1687,MATCH(ROWS($C$61:$C309),$C$61:$C$1687,0)),\"\")","v":"Colchester Hospital University NHS Foundation Trust"}]
["The Khattak Memorial Surgery WM)",1,{"$f":"IF(B310=1,COUNTIF($B$61:$B310,1),\"\")","v":250},{"$f":"IFERROR(INDEX($A$61:$A$1687,MATCH(ROWS($C$61:$C310),$C$61:$C$1687,0)),\"\")","v":"The Khattak Memorial Surgery WM)"}]
["Haven Health EoE)",1,{"$f":"IF(B311=1,COUNTIF($B$61:$B311,1),\"\")","v":251},{"$f":"IFERROR(INDEX($A$61:$A$1687,MATCH(ROWS($C$61:$C311),$C$61:$C$1687,0)),\"\")","v":"Haven Health EoE)"}]
["Newbridge Surgery WM)",1,{"$f":"IF(B312=1,COUNTIF($B$61:$B312,1),\"\")","v":252},{"$f":"IFERROR(INDEX($A$61:$A$1687,MATCH(ROWS($C$61:$C312),$C$61:$C$1687,0)),\"\")","v":"Newbridge Surgery WM)"}]
["Hinchingbrooke Health Care NHS Trust",1,{"$f":"IF(B313=1,COUNTIF($B$61:$B313,1),\"\")","v":253},{"$f":"IFERROR(INDEX($A$61:$A$1687,MATCH(ROWS($C$61:$C313),$C$61:$C$1687,0)),\"\")","v":"Hinchingbrooke Health Care NHS Trust"}]
["Healey Surgery NW)",1,{"$f":"IF(B314=1,COUNTIF($B$61:$B314,1),\"\")","v":254},{"$f":"IFERROR(INDEX($A$61:$A$1687,MATCH(ROWS($C$61:$C314),$C$61:$C$1687,0)),\"\")","v":"Healey Surgery NW)"}]
["Castle Street Medical Centre EM)",1,{"$f":"IF(B315=1,COUNTIF($B$61:$B315,1),\"\")","v":255},{"$f":"IFERROR(INDEX($A$61:$A$1687,MATCH(ROWS($C$61:$C315),$C$61:$C$1687,0)),\"\")","v":"Castle Street Medical Centre EM)"}]
["Pershore Medical Practice WM)",1,{"$f":"IF(B316=1,COUNTIF($B$61:$B316,1),\"\")","v":256},{"$f":"IFERROR(INDEX($A$61:$A$1687,MATCH(ROWS($C$61:$C316),$C$61:$C$1687,0)),\"\")","v":"Pershore Medical Practice WM)"}]
["Heath Lane Surgery EM)",1,{"$f":"IF(B317=1,COUNTIF($B$61:$B317,1),\"\")","v":257},{"$f":"IFERROR(INDEX($A$61:$A$1687,MATCH(ROWS($C$61:$C317),$C$61:$C$1687,0)),\"\")","v":"Heath Lane Surgery EM)"}]
["Hawthorn Medical Centre NW)",{"$f":"--ISNUMBER(SEARCH($F$15,A318))","v":1},{"$f":"IF(B318=1,COUNTIF($B$61:$B318,1),\"\")","v":258},{"$f":"IFERROR(INDEX($A$61:$A$1687,MATCH(ROWS($C$61:$C318),$C$61:$C$1687,0)),\"\")","v":"Hawthorn Medical Centre NW)"}]
["Alder Hey Children's NHS Trust Recharges",1,{"$f":"IF(B319=1,COUNTIF($B$61:$B319,1),\"\")","v":259},{"$f":"IFERROR(INDEX($A$61:$A$1687,MATCH(ROWS($C$61:$C319),$C$61:$C$1687,0)),\"\")","v":"Alder Hey Children's NHS Trust Recharges"}]
["West Suffolk NHS Foundation Trust",1,{"$f":"IF(B320=1,COUNTIF($B$61:$B320,1),\"\")","v":260},{"$f":"IFERROR(INDEX($A$61:$A$1687,MATCH(ROWS($C$61:$C320),$C$61:$C$1687,0)),\"\")","v":"West Suffolk NHS Foundation Trust"}]
["Brooklands Medical Practice NW)",1,{"$f":"IF(B321=1,COUNTIF($B$61:$B321,1),\"\")","v":261},{"$f":"IFERROR(INDEX($A$61:$A$1687,MATCH(ROWS($C$61:$C321),$C$61:$C$1687,0)),\"\")","v":"Brooklands Medical Practice NW)"}]
["Dukinfield Medical Practice NW)",1,{"$f":"IF(B322=1,COUNTIF($B$61:$B322,1),\"\")","v":262},{"$f":"IFERROR(INDEX($A$61:$A$1687,MATCH(ROWS($C$61:$C322),$C$61:$C$1687,0)),\"\")","v":"Dukinfield Medical Practice NW)"}]
["Beacon Primary Care NW)",1,{"$f":"IF(B323=1,COUNTIF($B$61:$B323,1),\"\")","v":263},{"$f":"IFERROR(INDEX($A$61:$A$1687,MATCH(ROWS($C$61:$C323),$C$61:$C$1687,0)),\"\")","v":"Beacon Primary Care NW)"}]
["The Hill GP Practice WM)",1,{"$f":"IF(B324=1,COUNTIF($B$61:$B324,1),\"\")","v":264},{"$f":"IFERROR(INDEX($A$61:$A$1687,MATCH(ROWS($C$61:$C324),$C$61:$C$1687,0)),\"\")","v":"The Hill GP Practice WM)"}]
["Shenley Green Surgery WM)",1,{"$f":"IF(B325=1,COUNTIF($B$61:$B325,1),\"\")","v":265},{"$f":"IFERROR(INDEX($A$61:$A$1687,MATCH(ROWS($C$61:$C325),$C$61:$C$1687,0)),\"\")","v":"Shenley Green Surgery WM)"}]
["Baddeley Green Surgery WM)",1,{"$f":"IF(B326=1,COUNTIF($B$61:$B326,1),\"\")","v":266},{"$f":"IFERROR(INDEX($A$61:$A$1687,MATCH(ROWS($C$61:$C326),$C$61:$C$1687,0)),\"\")","v":"Baddeley Green Surgery WM)"}]
["Moseley Avenue Surgery WM)",1,{"$f":"IF(B327=1,COUNTIF($B$61:$B327,1),\"\")","v":267},{"$f":"IFERROR(INDEX($A$61:$A$1687,MATCH(ROWS($C$61:$C327),$C$61:$C$1687,0)),\"\")","v":"Moseley Avenue Surgery WM)"}]
["St Martins Gate Surgery WM)",1,{"$f":"IF(B328=1,COUNTIF($B$61:$B328,1),\"\")","v":268},{"$f":"IFERROR(INDEX($A$61:$A$1687,MATCH(ROWS($C$61:$C328),$C$61:$C$1687,0)),\"\")","v":"St Martins Gate Surgery WM)"}]
["The Elms Medical Centre NW)",1,{"$f":"IF(B329=1,COUNTIF($B$61:$B329,1),\"\")","v":269},{"$f":"IFERROR(INDEX($A$61:$A$1687,MATCH(ROWS($C$61:$C329),$C$61:$C$1687,0)),\"\")","v":"The Elms Medical Centre NW)"}]
["Penkridge Medical Practice WM)",1,{"$f":"IF(B330=1,COUNTIF($B$61:$B330,1),\"\")","v":270},{"$f":"IFERROR(INDEX($A$61:$A$1687,MATCH(ROWS($C$61:$C330),$C$61:$C$1687,0)),\"\")","v":"Penkridge Medical Practice WM)"}]
["Bute House Medical Centre EoE)",1,{"$f":"IF(B331=1,COUNTIF($B$61:$B331,1),\"\")","v":271},{"$f":"IFERROR(INDEX($A$61:$A$1687,MATCH(ROWS($C$61:$C331),$C$61:$C$1687,0)),\"\")","v":"Bute House Medical Centre EoE)"}]
["The Puzey Family Practice EoE)",1,{"$f":"IF(B332=1,COUNTIF($B$61:$B332,1),\"\")","v":272},{"$f":"IFERROR(INDEX($A$61:$A$1687,MATCH(ROWS($C$61:$C332),$C$61:$C$1687,0)),\"\")","v":"The Puzey Family Practice EoE)"}]
["Ibstock House Surgery EM)",1,{"$f":"IF(B333=1,COUNTIF($B$61:$B333,1),\"\")","v":273},{"$f":"IFERROR(INDEX($A$61:$A$1687,MATCH(ROWS($C$61:$C333),$C$61:$C$1687,0)),\"\")","v":"Ibstock House Surgery EM)"}]
["Basildon and Thurrock University Hospitals NHS Foundation Trust",1,{"$f":"IF(B334=1,COUNTIF($B$61:$B334,1),\"\")","v":274},{"$f":"IFERROR(INDEX($A$61:$A$1687,MATCH(ROWS($C$61:$C334),$C$61:$C$1687,0)),\"\")","v":"Basildon and Thurrock University Hospitals NHS Foundation Trust"}]
["The Swan Medical Centre WM)",1,{"$f":"IF(B335=1,COUNTIF($B$61:$B335,1),\"\")","v":275},{"$f":"IFERROR(INDEX($A$61:$A$1687,MATCH(ROWS($C$61:$C335),$C$61:$C$1687,0)),\"\")","v":"The Swan Medical Centre WM)"}]
["Albany House Medical Centre EM)",1,{"$f":"IF(B336=1,COUNTIF($B$61:$B336,1),\"\")","v":276},{"$f":"IFERROR(INDEX($A$61:$A$1687,MATCH(ROWS($C$61:$C336),$C$61:$C$1687,0)),\"\")","v":"Albany House Medical Centre EM)"}]
["Runnymede Medical Practice TV)",1,{"$f":"IF(B337=1,COUNTIF($B$61:$B337,1),\"\")","v":277},{"$f":"IFERROR(INDEX($A$61:$A$1687,MATCH(ROWS($C$61:$C337),$C$61:$C$1687,0)),\"\")","v":"Runnymede Medical Practice TV)"}]
["North Essex Partnership NHS Foundation Trust",1,{"$f":"IF(B338=1,COUNTIF($B$61:$B338,1),\"\")","v":278},{"$f":"IFERROR(INDEX($A$61:$A$1687,MATCH(ROWS($C$61:$C338),$C$61:$C$1687,0)),\"\")","v":"North Essex Partnership NHS Foundation Trust"}]
["Park View Surgery EM)",1,{"$f":"IF(B339=1,COUNTIF($B$61:$B339,1),\"\")","v":279},{"$f":"IFERROR(INDEX($A$61:$A$1687,MATCH(ROWS($C$61:$C339),$C$61:$C$1687,0)),\"\")","v":"Park View Surgery EM)"}]
["Sherwood Forest Hospitals NHS Foundation Trust",1,{"$f":"IF(B340=1,COUNTIF($B$61:$B340,1),\"\")","v":280},{"$f":"IFERROR(INDEX($A$61:$A$1687,MATCH(ROWS($C$61:$C340),$C$61:$C$1687,0)),\"\")","v":"Sherwood Forest Hospitals NHS Foundation Trust"}]
["Abbey Medical Group EM)",1,{"$f":"IF(B341=1,COUNTIF($B$61:$B341,1),\"\")","v":281},{"$f":"IFERROR(INDEX($A$61:$A$1687,MATCH(ROWS($C$61:$C341),$C$61:$C$1687,0)),\"\")","v":"Abbey Medical Group EM)"}]
["The Colliery Practice WM)",1,{"$f":"IF(B342=1,COUNTIF($B$61:$B342,1),\"\")","v":282},{"$f":"IFERROR(INDEX($A$61:$A$1687,MATCH(ROWS($C$61:$C342),$C$61:$C$1687,0)),\"\")","v":"The Colliery Practice WM)"}]
["Penketh Health Centre NW)",1,{"$f":"IF(B343=1,COUNTIF($B$61:$B343,1),\"\")","v":283},{"$f":"IFERROR(INDEX($A$61:$A$1687,MATCH(ROWS($C$61:$C343),$C$61:$C$1687,0)),\"\")","v":"Penketh Health Centre NW)"}]
["The Croft Medical Centre EM)",1,{"$f":"IF(B344=1,COUNTIF($B$61:$B344,1),\"\")","v":284},{"$f":"IFERROR(INDEX($A$61:$A$1687,MATCH(ROWS($C$61:$C344),$C$61:$C$1687,0)),\"\")","v":"The Croft Medical Centre EM)"}]
["The Maples EoE)",1,{"$f":"IF(B345=1,COUNTIF($B$61:$B345,1),\"\")","v":285},{"$f":"IFERROR(INDEX($A$61:$A$1687,MATCH(ROWS($C$61:$C345),$C$61:$C$1687,0)),\"\")","v":"The Maples EoE)"}]
["Oakwood Surgery EM)",1,{"$f":"IF(B346=1,COUNTIF($B$61:$B346,1),\"\")","v":286},{"$f":"IFERROR(INDEX($A$61:$A$1687,MATCH(ROWS($C$61:$C346),$C$61:$C$1687,0)),\"\")","v":"Oakwood Surgery EM)"}]
["Cambridge University Hospitals NHS Foundation Trust",1,{"$f":"IF(B347=1,COUNTIF($B$61:$B347,1),\"\")","v":287},{"$f":"IFERROR(INDEX($A$61:$A$1687,MATCH(ROWS($C$61:$C347),$C$61:$C$1687,0)),\"\")","v":"Cambridge University Hospitals NHS Foundation Trust"}]
["Cape Hill Medical Centre WM)",1,{"$f":"IF(B348=1,COUNTIF($B$61:$B348,1),\"\")","v":288},{"$f":"IFERROR(INDEX($A$61:$A$1687,MATCH(ROWS($C$61:$C348),$C$61:$C$1687,0)),\"\")","v":"Cape Hill Medical Centre WM)"}]
["Wickhambrook Surgery EoE)",1,{"$f":"IF(B349=1,COUNTIF($B$61:$B349,1),\"\")","v":289},{"$f":"IFERROR(INDEX($A$61:$A$1687,MATCH(ROWS($C$61:$C349),$C$61:$C$1687,0)),\"\")","v":"Wickhambrook Surgery EoE)"}]
["Abercromby Family Practice NW)",1,{"$f":"IF(B350=1,COUNTIF($B$61:$B350,1),\"\")","v":290},{"$f":"IFERROR(INDEX($A$61:$A$1687,MATCH(ROWS($C$61:$C350),$C$61:$C$1687,0)),\"\")","v":"Abercromby Family Practice NW)"}]
["Great Sutton Medical Centre - Green NW)",1,{"$f":"IF(B351=1,COUNTIF($B$61:$B351,1),\"\")","v":291},{"$f":"IFERROR(INDEX($A$61:$A$1687,MATCH(ROWS($C$61:$C351),$C$61:$C$1687,0)),\"\")","v":"Great Sutton Medical Centre - Green NW)"}]
["Pinfold Medical Practice EM)",1,{"$f":"IF(B352=1,COUNTIF($B$61:$B352,1),\"\")","v":292},{"$f":"IFERROR(INDEX($A$61:$A$1687,MATCH(ROWS($C$61:$C352),$C$61:$C$1687,0)),\"\")","v":"Pinfold Medical Practice EM)"}]
["Hertfordshire Partnership NHS Foundation Trust",1,{"$f":"IF(B353=1,COUNTIF($B$61:$B353,1),\"\")","v":293},{"$f":"IFERROR(INDEX($A$61:$A$1687,MATCH(ROWS($C$61:$C353),$C$61:$C$1687,0)),\"\")","v":"Hertfordshire Partnership NHS Foundation Trust"}]
["Luton & Dunstable University Hospital NHS FT",1,{"$f":"IF(B354=1,COUNTIF($B$61:$B354,1),\"\")","v":294},{"$f":"IFERROR(INDEX($A$61:$A$1687,MATCH(ROWS($C$61:$C354),$C$61:$C$1687,0)),\"\")","v":"Luton & Dunstable University Hospital NHS FT"}]
["Haughton Thornly Vale) Medical Centre NW)",1,{"$f":"IF(B355=1,COUNTIF($B$61:$B355,1),\"\")","v":295},{"$f":"IFERROR(INDEX($A$61:$A$1687,MATCH(ROWS($C$61:$C355),$C$61:$C$1687,0)),\"\")","v":"Haughton Thornly Vale) Medical Centre NW)"}]
["Southend University Hospital NHS Foundation Trust",1,{"$f":"IF(B356=1,COUNTIF($B$61:$B356,1),\"\")","v":296},{"$f":"IFERROR(INDEX($A$61:$A$1687,MATCH(ROWS($C$61:$C356),$C$61:$C$1687,0)),\"\")","v":"Southend University Hospital NHS Foundation Trust"}]
["Dr V Chawla's Practice Wingerworth Medical Cen EM)",1,{"$f":"IF(B357=1,COUNTIF($B$61:$B357,1),\"\")","v":297},{"$f":"IFERROR(INDEX($A$61:$A$1687,MATCH(ROWS($C$61:$C357),$C$61:$C$1687,0)),\"\")","v":"Dr V Chawla's Practice Wingerworth Medical Cen EM)"}]
["Mount Farm Surgery EoE)",1,{"$f":"IF(B358=1,COUNTIF($B$61:$B358,1),\"\")","v":298},{"$f":"IFERROR(INDEX($A$61:$A$1687,MATCH(ROWS($C$61:$C358),$C$61:$C$1687,0)),\"\")","v":"Mount Farm Surgery EoE)"}]
["Dale Medical Practice WM)",1,{"$f":"IF(B359=1,COUNTIF($B$61:$B359,1),\"\")","v":299},{"$f":"IFERROR(INDEX($A$61:$A$1687,MATCH(ROWS($C$61:$C359),$C$61:$C$1687,0)),\"\")","v":"Dale Medical Practice WM)"}]
["Weobley & Staunton-on-Wye Surgeries WM)",1,{"$f":"IF(B360=1,COUNTIF($B$61:$B360,1),\"\")","v":300},{"$f":"IFERROR(INDEX($A$61:$A$1687,MATCH(ROWS($C$61:$C360),$C$61:$C$1687,0)),\"\")","v":"Weobley & Staunton-on-Wye Surgeries WM)"}]
["Churchside Medical Practice EM)",1,{"$f":"IF(B361=1,COUNTIF($B$61:$B361,1),\"\")","v":301},{"$f":"IFERROR(INDEX($A$61:$A$1687,MATCH(ROWS($C$61:$C361),$C$61:$C$1687,0)),\"\")","v":"Churchside Medical Practice EM)"}]
["Gnosall Surgery WM)",1,{"$f":"IF(B362=1,COUNTIF($B$61:$B362,1),\"\")","v":302},{"$f":"IFERROR(INDEX($A$61:$A$1687,MATCH(ROWS($C$61:$C362),$C$61:$C$1687,0)),\"\")","v":"Gnosall Surgery WM)"}]
["Victoria Road Medical Centre WM)",1,{"$f":"IF(B363=1,COUNTIF($B$61:$B363,1),\"\")","v":303},{"$f":"IFERROR(INDEX($A$61:$A$1687,MATCH(ROWS($C$61:$C363),$C$61:$C$1687,0)),\"\")","v":"Victoria Road Medical Centre WM)"}]
["Ludlow Portcullis WM)",1,{"$f":"IF(B364=1,COUNTIF($B$61:$B364,1),\"\")","v":304},{"$f":"IFERROR(INDEX($A$61:$A$1687,MATCH(ROWS($C$61:$C364),$C$61:$C$1687,0)),\"\")","v":"Ludlow Portcullis WM)"}]
["St John's Medical Centre WM)",1,{"$f":"IF(B365=1,COUNTIF($B$61:$B365,1),\"\")","v":305},{"$f":"IFERROR(INDEX($A$61:$A$1687,MATCH(ROWS($C$61:$C365),$C$61:$C$1687,0)),\"\")","v":"St John's Medical Centre WM)"}]
["Roundwood Surgery EM)",1,{"$f":"IF(B366=1,COUNTIF($B$61:$B366,1),\"\")","v":306},{"$f":"IFERROR(INDEX($A$61:$A$1687,MATCH(ROWS($C$61:$C366),$C$61:$C$1687,0)),\"\")","v":"Roundwood Surgery EM)"}]
["Audlem Medical Practice NW)",1,{"$f":"IF(B367=1,COUNTIF($B$61:$B367,1),\"\")","v":307},{"$f":"IFERROR(INDEX($A$61:$A$1687,MATCH(ROWS($C$61:$C367),$C$61:$C$1687,0)),\"\")","v":"Audlem Medical Practice NW)"}]
["Thursby Surgery NW)",1,{"$f":"IF(B368=1,COUNTIF($B$61:$B368,1),\"\")","v":308},{"$f":"IFERROR(INDEX($A$61:$A$1687,MATCH(ROWS($C$61:$C368),$C$61:$C$1687,0)),\"\")","v":"Thursby Surgery NW)"}]
["Priory Medical Centre WM)",1,{"$f":"IF(B369=1,COUNTIF($B$61:$B369,1),\"\")","v":309},{"$f":"IFERROR(INDEX($A$61:$A$1687,MATCH(ROWS($C$61:$C369),$C$61:$C$1687,0)),\"\")","v":"Priory Medical Centre WM)"}]
["East Bridgford Medical Centre EM)",1,{"$f":"IF(B370=1,COUNTIF($B$61:$B370,1),\"\")","v":310},{"$f":"IFERROR(INDEX($A$61:$A$1687,MATCH(ROWS($C$61:$C370),$C$61:$C$1687,0)),\"\")","v":"East Bridgford Medical Centre EM)"}]
["Staffa Health Centre EM)",1,{"$f":"IF(B371=1,COUNTIF($B$61:$B371,1),\"\")","v":311},{"$f":"IFERROR(INDEX($A$61:$A$1687,MATCH(ROWS($C$61:$C371),$C$61:$C$1687,0)),\"\")","v":"Staffa Health Centre EM)"}]
["The Glenfield Surgery EM)",1,{"$f":"IF(B372=1,COUNTIF($B$61:$B372,1),\"\")","v":312},{"$f":"IFERROR(INDEX($A$61:$A$1687,MATCH(ROWS($C$61:$C372),$C$61:$C$1687,0)),\"\")","v":"The Glenfield Surgery EM)"}]
["Vernon Street Medical Centre EM)",1,{"$f":"IF(B373=1,COUNTIF($B$61:$B373,1),\"\")","v":313},{"$f":"IFERROR(INDEX($A$61:$A$1687,MATCH(ROWS($C$61:$C373),$C$61:$C$1687,0)),\"\")","v":"Vernon Street Medical Centre EM)"}]
["Farnham Road Practice TV)",1,{"$f":"IF(B374=1,COUNTIF($B$61:$B374,1),\"\")","v":314},{"$f":"IFERROR(INDEX($A$61:$A$1687,MATCH(ROWS($C$61:$C374),$C$61:$C$1687,0)),\"\")","v":"Farnham Road Practice TV)"}]
["Higherland Surgery WM)",1,{"$f":"IF(B375=1,COUNTIF($B$61:$B375,1),\"\")","v":315},{"$f":"IFERROR(INDEX($A$61:$A$1687,MATCH(ROWS($C$61:$C375),$C$61:$C$1687,0)),\"\")","v":"Higherland Surgery WM)"}]
["The De Parys Group EoE)",1,{"$f":"IF(B376=1,COUNTIF($B$61:$B376,1),\"\")","v":316},{"$f":"IFERROR(INDEX($A$61:$A$1687,MATCH(ROWS($C$61:$C376),$C$61:$C$1687,0)),\"\")","v":"The De Parys Group EoE)"}]
["Amwell Surgery EoE)",1,{"$f":"IF(B377=1,COUNTIF($B$61:$B377,1),\"\")","v":317},{"$f":"IFERROR(INDEX($A$61:$A$1687,MATCH(ROWS($C$61:$C377),$C$61:$C$1687,0)),\"\")","v":"Amwell Surgery EoE)"}]
["Newport Pagnell Medical Centre TV)",1,{"$f":"IF(B378=1,COUNTIF($B$61:$B378,1),\"\")","v":318},{"$f":"IFERROR(INDEX($A$61:$A$1687,MATCH(ROWS($C$61:$C378),$C$61:$C$1687,0)),\"\")","v":"Newport Pagnell Medical Centre TV)"}]
["Parkbury House Surgery EoE)",1,{"$f":"IF(B379=1,COUNTIF($B$61:$B379,1),\"\")","v":319},{"$f":"IFERROR(INDEX($A$61:$A$1687,MATCH(ROWS($C$61:$C379),$C$61:$C$1687,0)),\"\")","v":"Parkbury House Surgery EoE)"}]
["Oakenhurst Medical Practice NW)",1,{"$f":"IF(B380=1,COUNTIF($B$61:$B380,1),\"\")","v":320},{"$f":"IFERROR(INDEX($A$61:$A$1687,MATCH(ROWS($C$61:$C380),$C$61:$C$1687,0)),\"\")","v":"Oakenhurst Medical Practice NW)"}]
["Holes Lane Medical Centre NW)",1,{"$f":"IF(B381=1,COUNTIF($B$61:$B381,1),\"\")","v":321},{"$f":"IFERROR(INDEX($A$61:$A$1687,MATCH(ROWS($C$61:$C381),$C$61:$C$1687,0)),\"\")","v":"Holes Lane Medical Centre NW)"}]
["Burnham Surgery EoE)",{"$f":"--ISNUMBER(SEARCH($F$15,A382))","v":1},{"$f":"IF(B382=1,COUNTIF($B$61:$B382,1),\"\")","v":322},{"$f":"IFERROR(INDEX($A$61:$A$1687,MATCH(ROWS($C$61:$C382),$C$61:$C$1687,0)),\"\")","v":"Burnham Surgery EoE)"}]
["Belvoir Health Group EM)",1,{"$f":"IF(B383=1,COUNTIF($B$61:$B383,1),\"\")","v":323},{"$f":"IFERROR(INDEX($A$61:$A$1687,MATCH(ROWS($C$61:$C383),$C$61:$C$1687,0)),\"\")","v":"Belvoir Health Group EM)"}]
["WM GP's Public Health",1,{"$f":"IF(B384=1,COUNTIF($B$61:$B384,1),\"\")","v":324},{"$f":"IFERROR(INDEX($A$61:$A$1687,MATCH(ROWS($C$61:$C384),$C$61:$C$1687,0)),\"\")","v":"WM GP's Public Health"}]
["DNRC - Stanford Hall EM)",1,{"$f":"IF(B385=1,COUNTIF($B$61:$B385,1),\"\")","v":325},{"$f":"IFERROR(INDEX($A$61:$A$1687,MATCH(ROWS($C$61:$C385),$C$61:$C$1687,0)),\"\")","v":"DNRC - Stanford Hall EM)"}]
["High Street Surgery NW)",1,{"$f":"IF(B386=1,COUNTIF($B$61:$B386,1),\"\")","v":326},{"$f":"IFERROR(INDEX($A$61:$A$1687,MATCH(ROWS($C$61:$C386),$C$61:$C$1687,0)),\"\")","v":"High Street Surgery NW)"}]
["King Street Surgery WM)",1,{"$f":"IF(B387=1,COUNTIF($B$61:$B387,1),\"\")","v":327},{"$f":"IFERROR(INDEX($A$61:$A$1687,MATCH(ROWS($C$61:$C387),$C$61:$C$1687,0)),\"\")","v":"King Street Surgery WM)"}]
["Moorland Medical Centre WM)",1,{"$f":"IF(B388=1,COUNTIF($B$61:$B388,1),\"\")","v":328},{"$f":"IFERROR(INDEX($A$61:$A$1687,MATCH(ROWS($C$61:$C388),$C$61:$C$1687,0)),\"\")","v":"Moorland Medical Centre WM)"}]
["Millview Surgery EM)",1,{"$f":"IF(B389=1,COUNTIF($B$61:$B389,1),\"\")","v":329},{"$f":"IFERROR(INDEX($A$61:$A$1687,MATCH(ROWS($C$61:$C389),$C$61:$C$1687,0)),\"\")","v":"Millview Surgery EM)"}]
["The Jubilee Medical Practice EM)",1,{"$f":"IF(B390=1,COUNTIF($B$61:$B390,1),\"\")","v":330},{"$f":"IFERROR(INDEX($A$61:$A$1687,MATCH(ROWS($C$61:$C390),$C$61:$C$1687,0)),\"\")","v":"The Jubilee Medical Practice EM)"}]
["Queensway Surgery EoE)",1,{"$f":"IF(B391=1,COUNTIF($B$61:$B391,1),\"\")","v":331},{"$f":"IFERROR(INDEX($A$61:$A$1687,MATCH(ROWS($C$61:$C391),$C$61:$C$1687,0)),\"\")","v":"Queensway Surgery EoE)"}]
["Doddington Medical Centre EoE)",1,{"$f":"IF(B392=1,COUNTIF($B$61:$B392,1),\"\")","v":332},{"$f":"IFERROR(INDEX($A$61:$A$1687,MATCH(ROWS($C$61:$C392),$C$61:$C$1687,0)),\"\")","v":"Doddington Medical Centre EoE)"}]
["Silverdale Medical Centre WM)",1,{"$f":"IF(B393=1,COUNTIF($B$61:$B393,1),\"\")","v":333},{"$f":"IFERROR(INDEX($A$61:$A$1687,MATCH(ROWS($C$61:$C393),$C$61:$C$1687,0)),\"\")","v":"Silverdale Medical Centre WM)"}]
["Heathcote Street Surgery WM)",1,{"$f":"IF(B394=1,COUNTIF($B$61:$B394,1),\"\")","v":334},{"$f":"IFERROR(INDEX($A$61:$A$1687,MATCH(ROWS($C$61:$C394),$C$61:$C$1687,0)),\"\")","v":"Heathcote Street Surgery WM)"}]
["Shephall Way Surgery EoE)",1,{"$f":"IF(B395=1,COUNTIF($B$61:$B395,1),\"\")","v":335},{"$f":"IFERROR(INDEX($A$61:$A$1687,MATCH(ROWS($C$61:$C395),$C$61:$C$1687,0)),\"\")","v":"Shephall Way Surgery EoE)"}]
["Roundwell Medical Centre EoE)",1,{"$f":"IF(B396=1,COUNTIF($B$61:$B396,1),\"\")","v":336},{"$f":"IFERROR(INDEX($A$61:$A$1687,MATCH(ROWS($C$61:$C396),$C$61:$C$1687,0)),\"\")","v":"Roundwell Medical Centre EoE)"}]
["Wheatfield Surgery EoE)",1,{"$f":"IF(B397=1,COUNTIF($B$61:$B397,1),\"\")","v":337},{"$f":"IFERROR(INDEX($A$61:$A$1687,MATCH(ROWS($C$61:$C397),$C$61:$C$1687,0)),\"\")","v":"Wheatfield Surgery EoE)"}]
["Parsonage Surgery EoE)",1,{"$f":"IF(B398=1,COUNTIF($B$61:$B398,1),\"\")","v":338},{"$f":"IFERROR(INDEX($A$61:$A$1687,MATCH(ROWS($C$61:$C398),$C$61:$C$1687,0)),\"\")","v":"Parsonage Surgery EoE)"}]
["Riverside Medical Practice WM)",1,{"$f":"IF(B399=1,COUNTIF($B$61:$B399,1),\"\")","v":339},{"$f":"IFERROR(INDEX($A$61:$A$1687,MATCH(ROWS($C$61:$C399),$C$61:$C$1687,0)),\"\")","v":"Riverside Medical Practice WM)"}]
["Central & NW London TV)",1,{"$f":"IF(B400=1,COUNTIF($B$61:$B400,1),\"\")","v":340},{"$f":"IFERROR(INDEX($A$61:$A$1687,MATCH(ROWS($C$61:$C400),$C$61:$C$1687,0)),\"\")","v":"Central & NW London TV)"}]
["Shires Healthcare EM)",1,{"$f":"IF(B401=1,COUNTIF($B$61:$B401,1),\"\")","v":341},{"$f":"IFERROR(INDEX($A$61:$A$1687,MATCH(ROWS($C$61:$C401),$C$61:$C$1687,0)),\"\")","v":"Shires Healthcare EM)"}]
["Whaddon Medical Centre TV)",1,{"$f":"IF(B402=1,COUNTIF($B$61:$B402,1),\"\")","v":342},{"$f":"IFERROR(INDEX($A$61:$A$1687,MATCH(ROWS($C$61:$C402),$C$61:$C$1687,0)),\"\")","v":"Whaddon Medical Centre TV)"}]
["Birmingham Children's Hospital NHS Foundation Trust",1,{"$f":"IF(B403=1,COUNTIF($B$61:$B403,1),\"\")","v":343},{"$f":"IFERROR(INDEX($A$61:$A$1687,MATCH(ROWS($C$61:$C403),$C$61:$C$1687,0)),\"\")","v":"Birmingham Children's Hospital NHS Foundation Trust"}]
["Ongar Health Centre EoE)",1,{"$f":"IF(B404=1,COUNTIF($B$61:$B404,1),\"\")","v":344},{"$f":"IFERROR(INDEX($A$61:$A$1687,MATCH(ROWS($C$61:$C404),$C$61:$C$1687,0)),\"\")","v":"Ongar Health Centre EoE)"}]
["Hall Green Health WM)",1,{"$f":"IF(B405=1,COUNTIF($B$61:$B405,1),\"\")","v":345},{"$f":"IFERROR(INDEX($A$61:$A$1687,MATCH(ROWS($C$61:$C405),$C$61:$C$1687,0)),\"\")","v":"Hall Green Health WM)"}]
["Allesley Park Medical Centre WM)",1,{"$f":"IF(B406=1,COUNTIF($B$61:$B406,1),\"\")","v":346},{"$f":"IFERROR(INDEX($A$61:$A$1687,MATCH(ROWS($C$61:$C406),$C$61:$C$1687,0)),\"\")","v":"Allesley Park Medical Centre WM)"}]
["Swineshead Surgery EM)",1,{"$f":"IF(B407=1,COUNTIF($B$61:$B407,1),\"\")","v":347},{"$f":"IFERROR(INDEX($A$61:$A$1687,MATCH(ROWS($C$61:$C407),$C$61:$C$1687,0)),\"\")","v":"Swineshead Surgery EM)"}]
["The Avenue Medical Centre NW)",1,{"$f":"IF(B408=1,COUNTIF($B$61:$B408,1),\"\")","v":348},{"$f":"IFERROR(INDEX($A$61:$A$1687,MATCH(ROWS($C$61:$C408),$C$61:$C$1687,0)),\"\")","v":"The Avenue Medical Centre NW)"}]
["The Hart Surgery TV)",1,{"$f":"IF(B409=1,COUNTIF($B$61:$B409,1),\"\")","v":349},{"$f":"IFERROR(INDEX($A$61:$A$1687,MATCH(ROWS($C$61:$C409),$C$61:$C$1687,0)),\"\")","v":"The Hart Surgery TV)"}]
["Northfield Medical Centre EM)",1,{"$f":"IF(B410=1,COUNTIF($B$61:$B410,1),\"\")","v":350},{"$f":"IFERROR(INDEX($A$61:$A$1687,MATCH(ROWS($C$61:$C410),$C$61:$C$1687,0)),\"\")","v":"Northfield Medical Centre EM)"}]
["The Glebeland Surgery WM)",1,{"$f":"IF(B411=1,COUNTIF($B$61:$B411,1),\"\")","v":351},{"$f":"IFERROR(INDEX($A$61:$A$1687,MATCH(ROWS($C$61:$C411),$C$61:$C$1687,0)),\"\")","v":"The Glebeland Surgery WM)"}]
["Prescot Medical Centre NW)",1,{"$f":"IF(B412=1,COUNTIF($B$61:$B412,1),\"\")","v":352},{"$f":"IFERROR(INDEX($A$61:$A$1687,MATCH(ROWS($C$61:$C412),$C$61:$C$1687,0)),\"\")","v":"Prescot Medical Centre NW)"}]
["The Westgate Practice WM)",1,{"$f":"IF(B413=1,COUNTIF($B$61:$B413,1),\"\")","v":353},{"$f":"IFERROR(INDEX($A$61:$A$1687,MATCH(ROWS($C$61:$C413),$C$61:$C$1687,0)),\"\")","v":"The Westgate Practice WM)"}]
["Abington Medical Centre EM)",1,{"$f":"IF(B414=1,COUNTIF($B$61:$B414,1),\"\")","v":354},{"$f":"IFERROR(INDEX($A$61:$A$1687,MATCH(ROWS($C$61:$C414),$C$61:$C$1687,0)),\"\")","v":"Abington Medical Centre EM)"}]
["Derby & Burton Hospitals NHS Foundation Trust EM)",1,{"$f":"IF(B415=1,COUNTIF($B$61:$B415,1),\"\")","v":355},{"$f":"IFERROR(INDEX($A$61:$A$1687,MATCH(ROWS($C$61:$C415),$C$61:$C$1687,0)),\"\")","v":"Derby & Burton Hospitals NHS Foundation Trust EM)"}]
["Henley-in-Arden Medical Centre WM)",1,{"$f":"IF(B416=1,COUNTIF($B$61:$B416,1),\"\")","v":356},{"$f":"IFERROR(INDEX($A$61:$A$1687,MATCH(ROWS($C$61:$C416),$C$61:$C$1687,0)),\"\")","v":"Henley-in-Arden Medical Centre WM)"}]
["Swan Surgery EoE)",1,{"$f":"IF(B417=1,COUNTIF($B$61:$B417,1),\"\")","v":357},{"$f":"IFERROR(INDEX($A$61:$A$1687,MATCH(ROWS($C$61:$C417),$C$61:$C$1687,0)),\"\")","v":"Swan Surgery EoE)"}]
["Leek Health Centre WM)",1,{"$f":"IF(B418=1,COUNTIF($B$61:$B418,1),\"\")","v":358},{"$f":"IFERROR(INDEX($A$61:$A$1687,MATCH(ROWS($C$61:$C418),$C$61:$C$1687,0)),\"\")","v":"Leek Health Centre WM)"}]
["Lincolnshire Partnership NHS Foundation Trust",1,{"$f":"IF(B419=1,COUNTIF($B$61:$B419,1),\"\")","v":359},{"$f":"IFERROR(INDEX($A$61:$A$1687,MATCH(ROWS($C$61:$C419),$C$61:$C$1687,0)),\"\")","v":"Lincolnshire Partnership NHS Foundation Trust"}]
["Parkwood Surgery EoE)",1,{"$f":"IF(B420=1,COUNTIF($B$61:$B420,1),\"\")","v":360},{"$f":"IFERROR(INDEX($A$61:$A$1687,MATCH(ROWS($C$61:$C420),$C$61:$C$1687,0)),\"\")","v":"Parkwood Surgery EoE)"}]
["Stenhouse Medical Centre EM)",1,{"$f":"IF(B421=1,COUNTIF($B$61:$B421,1),\"\")","v":361},{"$f":"IFERROR(INDEX($A$61:$A$1687,MATCH(ROWS($C$61:$C421),$C$61:$C$1687,0)),\"\")","v":"Stenhouse Medical Centre EM)"}]
["Norfolk and Suffolk NHS Foundation Trust",1,{"$f":"IF(B422=1,COUNTIF($B$61:$B422,1),\"\")","v":362},{"$f":"IFERROR(INDEX($A$61:$A$1687,MATCH(ROWS($C$61:$C422),$C$61:$C$1687,0)),\"\")","v":"Norfolk and Suffolk NHS Foundation Trust"}]
["Sandy Lane Surgery NW)",1,{"$f":"IF(B423=1,COUNTIF($B$61:$B423,1),\"\")","v":363},{"$f":"IFERROR(INDEX($A$61:$A$1687,MATCH(ROWS($C$61:$C423),$C$61:$C$1687,0)),\"\")","v":"Sandy Lane Surgery NW)"}]
["James Street Family Practice EM)",1,{"$f":"IF(B424=1,COUNTIF($B$61:$B424,1),\"\")","v":364},{"$f":"IFERROR(INDEX($A$61:$A$1687,MATCH(ROWS($C$61:$C424),$C$61:$C$1687,0)),\"\")","v":"James Street Family Practice EM)"}]
["Spa Medical Practice WM)",1,{"$f":"IF(B425=1,COUNTIF($B$61:$B425,1),\"\")","v":365},{"$f":"IFERROR(INDEX($A$61:$A$1687,MATCH(ROWS($C$61:$C425),$C$61:$C$1687,0)),\"\")","v":"Spa Medical Practice WM)"}]
["Whittington Moor Surgery EM)",1,{"$f":"IF(B426=1,COUNTIF($B$61:$B426,1),\"\")","v":366},{"$f":"IFERROR(INDEX($A$61:$A$1687,MATCH(ROWS($C$61:$C426),$C$61:$C$1687,0)),\"\")","v":"Whittington Moor Surgery EM)"}]
["Derry Court Medical Practice EoE)",1,{"$f":"IF(B427=1,COUNTIF($B$61:$B427,1),\"\")","v":367},{"$f":"IFERROR(INDEX($A$61:$A$1687,MATCH(ROWS($C$61:$C427),$C$61:$C$1687,0)),\"\")","v":"Derry Court Medical Practice EoE)"}]
["The County Practice EM)",1,{"$f":"IF(B428=1,COUNTIF($B$61:$B428,1),\"\")","v":368},{"$f":"IFERROR(INDEX($A$61:$A$1687,MATCH(ROWS($C$61:$C428),$C$61:$C$1687,0)),\"\")","v":"The County Practice EM)"}]
["Regis Medical Centre WM)",1,{"$f":"IF(B429=1,COUNTIF($B$61:$B429,1),\"\")","v":369},{"$f":"IFERROR(INDEX($A$61:$A$1687,MATCH(ROWS($C$61:$C429),$C$61:$C$1687,0)),\"\")","v":"Regis Medical Centre WM)"}]
["Handsworth Wood Medical Centre WM)",1,{"$f":"IF(B430=1,COUNTIF($B$61:$B430,1),\"\")","v":370},{"$f":"IFERROR(INDEX($A$61:$A$1687,MATCH(ROWS($C$61:$C430),$C$61:$C$1687,0)),\"\")","v":"Handsworth Wood Medical Centre WM)"}]
["Orchard Surgery Dereham) EoE)",1,{"$f":"IF(B431=1,COUNTIF($B$61:$B431,1),\"\")","v":371},{"$f":"IFERROR(INDEX($A$61:$A$1687,MATCH(ROWS($C$61:$C431),$C$61:$C$1687,0)),\"\")","v":"Orchard Surgery Dereham) EoE)"}]
["St Lukes Surgery WM)",1,{"$f":"IF(B432=1,COUNTIF($B$61:$B432,1),\"\")","v":372},{"$f":"IFERROR(INDEX($A$61:$A$1687,MATCH(ROWS($C$61:$C432),$C$61:$C$1687,0)),\"\")","v":"St Lukes Surgery WM)"}]
["Saddleworth Medical Practice NW)",1,{"$f":"IF(B433=1,COUNTIF($B$61:$B433,1),\"\")","v":373},{"$f":"IFERROR(INDEX($A$61:$A$1687,MATCH(ROWS($C$61:$C433),$C$61:$C$1687,0)),\"\")","v":"Saddleworth Medical Practice NW)"}]
["Burlington Road Surgery EoE)",1,{"$f":"IF(B434=1,COUNTIF($B$61:$B434,1),\"\")","v":374},{"$f":"IFERROR(INDEX($A$61:$A$1687,MATCH(ROWS($C$61:$C434),$C$61:$C$1687,0)),\"\")","v":"Burlington Road Surgery EoE)"}]
["The Billesdon Surgery EM)",1,{"$f":"IF(B435=1,COUNTIF($B$61:$B435,1),\"\")","v":375},{"$f":"IFERROR(INDEX($A$61:$A$1687,MATCH(ROWS($C$61:$C435),$C$61:$C$1687,0)),\"\")","v":"The Billesdon Surgery EM)"}]
["Prestbury Medical Practice WM)",1,{"$f":"IF(B436=1,COUNTIF($B$61:$B436,1),\"\")","v":376},{"$f":"IFERROR(INDEX($A$61:$A$1687,MATCH(ROWS($C$61:$C436),$C$61:$C$1687,0)),\"\")","v":"Prestbury Medical Practice WM)"}]
["Biddulph Doctors WM)",1,{"$f":"IF(B437=1,COUNTIF($B$61:$B437,1),\"\")","v":377},{"$f":"IFERROR(INDEX($A$61:$A$1687,MATCH(ROWS($C$61:$C437),$C$61:$C$1687,0)),\"\")","v":"Biddulph Doctors WM)"}]
["Darwen Health Centre NW)",1,{"$f":"IF(B438=1,COUNTIF($B$61:$B438,1),\"\")","v":378},{"$f":"IFERROR(INDEX($A$61:$A$1687,MATCH(ROWS($C$61:$C438),$C$61:$C$1687,0)),\"\")","v":"Darwen Health Centre NW)"}]
["Goodrest Croft Surgery WM)",1,{"$f":"IF(B439=1,COUNTIF($B$61:$B439,1),\"\")","v":379},{"$f":"IFERROR(INDEX($A$61:$A$1687,MATCH(ROWS($C$61:$C439),$C$61:$C$1687,0)),\"\")","v":"Goodrest Croft Surgery WM)"}]
["Victoria and Mapperley Practice EM)",1,{"$f":"IF(B440=1,COUNTIF($B$61:$B440,1),\"\")","v":380},{"$f":"IFERROR(INDEX($A$61:$A$1687,MATCH(ROWS($C$61:$C440),$C$61:$C$1687,0)),\"\")","v":"Victoria and Mapperley Practice EM)"}]
["Public Health Recharges",1,{"$f":"IF(B441=1,COUNTIF($B$61:$B441,1),\"\")","v":381},{"$f":"IFERROR(INDEX($A$61:$A$1687,MATCH(ROWS($C$61:$C441),$C$61:$C$1687,0)),\"\")","v":"Public Health Recharges"}]
["Rother House Medical Centre WM)",1,{"$f":"IF(B442=1,COUNTIF($B$61:$B442,1),\"\")","v":382},{"$f":"IFERROR(INDEX($A$61:$A$1687,MATCH(ROWS($C$61:$C442),$C$61:$C$1687,0)),\"\")","v":"Rother House Medical Centre WM)"}]
["Dronfield Medical Practice EM)",1,{"$f":"IF(B443=1,COUNTIF($B$61:$B443,1),\"\")","v":383},{"$f":"IFERROR(INDEX($A$61:$A$1687,MATCH(ROWS($C$61:$C443),$C$61:$C$1687,0)),\"\")","v":"Dronfield Medical Practice EM)"}]
["Woodsend Medical Centre EM)",1,{"$f":"IF(B444=1,COUNTIF($B$61:$B444,1),\"\")","v":384},{"$f":"IFERROR(INDEX($A$61:$A$1687,MATCH(ROWS($C$61:$C444),$C$61:$C$1687,0)),\"\")","v":"Woodsend Medical Centre EM)"}]
["Alwaqas Medical Practice EM)",1,{"$f":"IF(B445=1,COUNTIF($B$61:$B445,1),\"\")","v":385},{"$f":"IFERROR(INDEX($A$61:$A$1687,MATCH(ROWS($C$61:$C445),$C$61:$C$1687,0)),\"\")","v":"Alwaqas Medical Practice EM)"}]
["Sarum House Surgery WM)",{"$f":"--ISNUMBER(SEARCH($F$15,A446))","v":1},{"$f":"IF(B446=1,COUNTIF($B$61:$B446,1),\"\")","v":386},{"$f":"IFERROR(INDEX($A$61:$A$1687,MATCH(ROWS($C$61:$C446),$C$61:$C$1687,0)),\"\")","v":"Sarum House Surgery WM)"}]
["Caritas General Practice Partnership NW)",1,{"$f":"IF(B447=1,COUNTIF($B$61:$B447,1),\"\")","v":387},{"$f":"IFERROR(INDEX($A$61:$A$1687,MATCH(ROWS($C$61:$C447),$C$61:$C$1687,0)),\"\")","v":"Caritas General Practice Partnership NW)"}]
["Vida Healthcare EoE)",1,{"$f":"IF(B448=1,COUNTIF($B$61:$B448,1),\"\")","v":388},{"$f":"IFERROR(INDEX($A$61:$A$1687,MATCH(ROWS($C$61:$C448),$C$61:$C$1687,0)),\"\")","v":"Vida Healthcare EoE)"}]
["Leicestershire County Council Public Health",1,{"$f":"IF(B449=1,COUNTIF($B$61:$B449,1),\"\")","v":389},{"$f":"IFERROR(INDEX($A$61:$A$1687,MATCH(ROWS($C$61:$C449),$C$61:$C$1687,0)),\"\")","v":"Leicestershire County Council Public Health"}]
["Sleaford Medical Group EM)",1,{"$f":"IF(B450=1,COUNTIF($B$61:$B450,1),\"\")","v":390},{"$f":"IFERROR(INDEX($A$61:$A$1687,MATCH(ROWS($C$61:$C450),$C$61:$C$1687,0)),\"\")","v":"Sleaford Medical Group EM)"}]
["The Caxton Surgery WM)",1,{"$f":"IF(B451=1,COUNTIF($B$61:$B451,1),\"\")","v":391},{"$f":"IFERROR(INDEX($A$61:$A$1687,MATCH(ROWS($C$61:$C451),$C$61:$C$1687,0)),\"\")","v":"The Caxton Surgery WM)"}]
["Dr A Naeem & Partners EoE)",1,{"$f":"IF(B452=1,COUNTIF($B$61:$B452,1),\"\")","v":392},{"$f":"IFERROR(INDEX($A$61:$A$1687,MATCH(ROWS($C$61:$C452),$C$61:$C$1687,0)),\"\")","v":"Dr A Naeem & Partners EoE)"}]
["Wallingford Medical Practice TV)",1,{"$f":"IF(B453=1,COUNTIF($B$61:$B453,1),\"\")","v":393},{"$f":"IFERROR(INDEX($A$61:$A$1687,MATCH(ROWS($C$61:$C453),$C$61:$C$1687,0)),\"\")","v":"Wallingford Medical Practice TV)"}]
["Shirley Medical Centre WM)",1,{"$f":"IF(B454=1,COUNTIF($B$61:$B454,1),\"\")","v":394},{"$f":"IFERROR(INDEX($A$61:$A$1687,MATCH(ROWS($C$61:$C454),$C$61:$C$1687,0)),\"\")","v":"Shirley Medical Centre WM)"}]
["York Road Group Practice NW)",1,{"$f":"IF(B455=1,COUNTIF($B$61:$B455,1),\"\")","v":395},{"$f":"IFERROR(INDEX($A$61:$A$1687,MATCH(ROWS($C$61:$C455),$C$61:$C$1687,0)),\"\")","v":"York Road Group Practice NW)"}]
["Hungerford Medical Centre NW)",1,{"$f":"IF(B456=1,COUNTIF($B$61:$B456,1),\"\")","v":396},{"$f":"IFERROR(INDEX($A$61:$A$1687,MATCH(ROWS($C$61:$C456),$C$61:$C$1687,0)),\"\")","v":"Hungerford Medical Centre NW)"}]
["All Saints Medical Centre Sugery )",1,{"$f":"IF(B457=1,COUNTIF($B$61:$B457,1),\"\")","v":397},{"$f":"IFERROR(INDEX($A$61:$A$1687,MATCH(ROWS($C$61:$C457),$C$61:$C$1687,0)),\"\")","v":"All Saints Medical Centre Sugery )"}]
["Limes Medical Centre Alfreton) EM)",1,{"$f":"IF(B458=1,COUNTIF($B$61:$B458,1),\"\")","v":398},{"$f":"IFERROR(INDEX($A$61:$A$1687,MATCH(ROWS($C$61:$C458),$C$61:$C$1687,0)),\"\")","v":"Limes Medical Centre Alfreton) EM)"}]
["South Street Surgery EoE)",1,{"$f":"IF(B459=1,COUNTIF($B$61:$B459,1),\"\")","v":399},{"$f":"IFERROR(INDEX($A$61:$A$1687,MATCH(ROWS($C$61:$C459),$C$61:$C$1687,0)),\"\")","v":"South Street Surgery EoE)"}]
["Elsenham Surgery EoE)",1,{"$f":"IF(B460=1,COUNTIF($B$61:$B460,1),\"\")","v":400},{"$f":"IFERROR(INDEX($A$61:$A$1687,MATCH(ROWS($C$61:$C460),$C$61:$C$1687,0)),\"\")","v":"Elsenham Surgery EoE)"}]
["West Hertfordshire Hospitals NHS Trust",1,{"$f":"IF(B461=1,COUNTIF($B$61:$B461,1),\"\")","v":401},{"$f":"IFERROR(INDEX($A$61:$A$1687,MATCH(ROWS($C$61:$C461),$C$61:$C$1687,0)),\"\")","v":"West Hertfordshire Hospitals NHS Trust"}]
["Flixton Road Medical Centre NW)",1,{"$f":"IF(B462=1,COUNTIF($B$61:$B462,1),\"\")","v":402},{"$f":"IFERROR(INDEX($A$61:$A$1687,MATCH(ROWS($C$61:$C462),$C$61:$C$1687,0)),\"\")","v":"Flixton Road Medical Centre NW)"}]
["Granville House Medical Centre NW)",1,{"$f":"IF(B463=1,COUNTIF($B$61:$B463,1),\"\")","v":403},{"$f":"IFERROR(INDEX($A$61:$A$1687,MATCH(ROWS($C$61:$C463),$C$61:$C$1687,0)),\"\")","v":"Granville House Medical Centre NW)"}]
["Limefield Surgery NW)",1,{"$f":"IF(B464=1,COUNTIF($B$61:$B464,1),\"\")","v":404},{"$f":"IFERROR(INDEX($A$61:$A$1687,MATCH(ROWS($C$61:$C464),$C$61:$C$1687,0)),\"\")","v":"Limefield Surgery NW)"}]
["Goldenhill Medical Centre WM)",1,{"$f":"IF(B465=1,COUNTIF($B$61:$B465,1),\"\")","v":405},{"$f":"IFERROR(INDEX($A$61:$A$1687,MATCH(ROWS($C$61:$C465),$C$61:$C$1687,0)),\"\")","v":"Goldenhill Medical Centre WM)"}]
["The Brimington Surgery EM)",1,{"$f":"IF(B466=1,COUNTIF($B$61:$B466,1),\"\")","v":406},{"$f":"IFERROR(INDEX($A$61:$A$1687,MATCH(ROWS($C$61:$C466),$C$61:$C$1687,0)),\"\")","v":"The Brimington Surgery EM)"}]
["Pendleton Medical Centre NW)",1,{"$f":"IF(B467=1,COUNTIF($B$61:$B467,1),\"\")","v":407},{"$f":"IFERROR(INDEX($A$61:$A$1687,MATCH(ROWS($C$61:$C467),$C$61:$C$1687,0)),\"\")","v":"Pendleton Medical Centre NW)"}]
["Spinney Surgery EoE)",1,{"$f":"IF(B468=1,COUNTIF($B$61:$B468,1),\"\")","v":408},{"$f":"IFERROR(INDEX($A$61:$A$1687,MATCH(ROWS($C$61:$C468),$C$61:$C$1687,0)),\"\")","v":"Spinney Surgery EoE)"}]
["Spring Gardens Group Medical Practice WM)",1,{"$f":"IF(B469=1,COUNTIF($B$61:$B469,1),\"\")","v":409},{"$f":"IFERROR(INDEX($A$61:$A$1687,MATCH(ROWS($C$61:$C469),$C$61:$C$1687,0)),\"\")","v":"Spring Gardens Group Medical Practice WM)"}]
["East Midlands Public Health Trainees",1,{"$f":"IF(B470=1,COUNTIF($B$61:$B470,1),\"\")","v":410},{"$f":"IFERROR(INDEX($A$61:$A$1687,MATCH(ROWS($C$61:$C470),$C$61:$C$1687,0)),\"\")","v":"East Midlands Public Health Trainees"}]
["Civic Medical Centre NW)",1,{"$f":"IF(B471=1,COUNTIF($B$61:$B471,1),\"\")","v":411},{"$f":"IFERROR(INDEX($A$61:$A$1687,MATCH(ROWS($C$61:$C471),$C$61:$C$1687,0)),\"\")","v":"Civic Medical Centre NW)"}]
["EoE Public Health Recharge",1,{"$f":"IF(B472=1,COUNTIF($B$61:$B472,1),\"\")","v":412},{"$f":"IFERROR(INDEX($A$61:$A$1687,MATCH(ROWS($C$61:$C472),$C$61:$C$1687,0)),\"\")","v":"EoE Public Health Recharge"}]
["Ridgacre House Surgery WM)",1,{"$f":"IF(B473=1,COUNTIF($B$61:$B473,1),\"\")","v":413},{"$f":"IFERROR(INDEX($A$61:$A$1687,MATCH(ROWS($C$61:$C473),$C$61:$C$1687,0)),\"\")","v":"Ridgacre House Surgery WM)"}]
["Jockey Road Medical Centre WM",1,{"$f":"IF(B474=1,COUNTIF($B$61:$B474,1),\"\")","v":414},{"$f":"IFERROR(INDEX($A$61:$A$1687,MATCH(ROWS($C$61:$C474),$C$61:$C$1687,0)),\"\")","v":"Jockey Road Medical Centre WM"}]
["Winyates Health Centre WM)",1,{"$f":"IF(B475=1,COUNTIF($B$61:$B475,1),\"\")","v":415},{"$f":"IFERROR(INDEX($A$61:$A$1687,MATCH(ROWS($C$61:$C475),$C$61:$C$1687,0)),\"\")","v":"Winyates Health Centre WM)"}]
["Coventry And Warwickshire Partnership NHS Trust",1,{"$f":"IF(B476=1,COUNTIF($B$61:$B476,1),\"\")","v":416},{"$f":"IFERROR(INDEX($A$61:$A$1687,MATCH(ROWS($C$61:$C476),$C$61:$C$1687,0)),\"\")","v":"Coventry And Warwickshire Partnership NHS Trust"}]
["Hastings House Surgery WM)",1,{"$f":"IF(B477=1,COUNTIF($B$61:$B477,1),\"\")","v":417},{"$f":"IFERROR(INDEX($A$61:$A$1687,MATCH(ROWS($C$61:$C477),$C$61:$C$1687,0)),\"\")","v":"Hastings House Surgery WM)"}]
["The Grange Surgery NW)",1,{"$f":"IF(B478=1,COUNTIF($B$61:$B478,1),\"\")","v":418},{"$f":"IFERROR(INDEX($A$61:$A$1687,MATCH(ROWS($C$61:$C478),$C$61:$C$1687,0)),\"\")","v":"The Grange Surgery NW)"}]
["Omnia Medical Practice WM)",1,{"$f":"IF(B479=1,COUNTIF($B$61:$B479,1),\"\")","v":419},{"$f":"IFERROR(INDEX($A$61:$A$1687,MATCH(ROWS($C$61:$C479),$C$61:$C$1687,0)),\"\")","v":"Omnia Medical Practice WM)"}]
["Bloxwich Medical Practice WM)",1,{"$f":"IF(B480=1,COUNTIF($B$61:$B480,1),\"\")","v":420},{"$f":"IFERROR(INDEX($A$61:$A$1687,MATCH(ROWS($C$61:$C480),$C$61:$C$1687,0)),\"\")","v":"Bloxwich Medical Practice WM)"}]
["OakVale Medical Centre NW)",1,{"$f":"IF(B481=1,COUNTIF($B$61:$B481,1),\"\")","v":421},{"$f":"IFERROR(INDEX($A$61:$A$1687,MATCH(ROWS($C$61:$C481),$C$61:$C$1687,0)),\"\")","v":"OakVale Medical Centre NW)"}]
["Sherwood House Medical Practice WM)",1,{"$f":"IF(B482=1,COUNTIF($B$61:$B482,1),\"\")","v":422},{"$f":"IFERROR(INDEX($A$61:$A$1687,MATCH(ROWS($C$61:$C482),$C$61:$C$1687,0)),\"\")","v":"Sherwood House Medical Practice WM)"}]
["Drayton Medical Practice EoE)",1,{"$f":"IF(B483=1,COUNTIF($B$61:$B483,1),\"\")","v":423},{"$f":"IFERROR(INDEX($A$61:$A$1687,MATCH(ROWS($C$61:$C483),$C$61:$C$1687,0)),\"\")","v":"Drayton Medical Practice EoE)"}]
["The Elizabeth Courtauld Surgery EoE)",1,{"$f":"IF(B484=1,COUNTIF($B$61:$B484,1),\"\")","v":424},{"$f":"IFERROR(INDEX($A$61:$A$1687,MATCH(ROWS($C$61:$C484),$C$61:$C$1687,0)),\"\")","v":"The Elizabeth Courtauld Surgery EoE)"}]
["Chelford Surgery NW)",1,{"$f":"IF(B485=1,COUNTIF($B$61:$B485,1),\"\")","v":425},{"$f":"IFERROR(INDEX($A$61:$A$1687,MATCH(ROWS($C$61:$C485),$C$61:$C$1687,0)),\"\")","v":"Chelford Surgery NW)"}]
["Knockin Medical Centre WM)",1,{"$f":"IF(B486=1,COUNTIF($B$61:$B486,1),\"\")","v":426},{"$f":"IFERROR(INDEX($A$61:$A$1687,MATCH(ROWS($C$61:$C486),$C$61:$C$1687,0)),\"\")","v":"Knockin Medical Centre WM)"}]
["Dr R Khanchandani's Practice EoE)",1,{"$f":"IF(B487=1,COUNTIF($B$61:$B487,1),\"\")","v":427},{"$f":"IFERROR(INDEX($A$61:$A$1687,MATCH(ROWS($C$61:$C487),$C$61:$C$1687,0)),\"\")","v":"Dr R Khanchandani's Practice EoE)"}]
["Berry Lane Medical Centre NW)",1,{"$f":"IF(B488=1,COUNTIF($B$61:$B488,1),\"\")","v":428},{"$f":"IFERROR(INDEX($A$61:$A$1687,MATCH(ROWS($C$61:$C488),$C$61:$C$1687,0)),\"\")","v":"Berry Lane Medical Centre NW)"}]
["Stevenage VTS",1,{"$f":"IF(B489=1,COUNTIF($B$61:$B489,1),\"\")","v":429},{"$f":"IFERROR(INDEX($A$61:$A$1687,MATCH(ROWS($C$61:$C489),$C$61:$C$1687,0)),\"\")","v":"Stevenage VTS"}]
["Larksfield Surgery Medical Partnership EoE)",1,{"$f":"IF(B490=1,COUNTIF($B$61:$B490,1),\"\")","v":430},{"$f":"IFERROR(INDEX($A$61:$A$1687,MATCH(ROWS($C$61:$C490),$C$61:$C$1687,0)),\"\")","v":"Larksfield Surgery Medical Partnership EoE)"}]
["Family Medical Centre EM)",1,{"$f":"IF(B491=1,COUNTIF($B$61:$B491,1),\"\")","v":431},{"$f":"IFERROR(INDEX($A$61:$A$1687,MATCH(ROWS($C$61:$C491),$C$61:$C$1687,0)),\"\")","v":"Family Medical Centre EM)"}]
["AW Surgeries WM)",1,{"$f":"IF(B492=1,COUNTIF($B$61:$B492,1),\"\")","v":432},{"$f":"IFERROR(INDEX($A$61:$A$1687,MATCH(ROWS($C$61:$C492),$C$61:$C$1687,0)),\"\")","v":"AW Surgeries WM)"}]
["The Sollershot Surgery EoE)",1,{"$f":"IF(B493=1,COUNTIF($B$61:$B493,1),\"\")","v":433},{"$f":"IFERROR(INDEX($A$61:$A$1687,MATCH(ROWS($C$61:$C493),$C$61:$C$1687,0)),\"\")","v":"The Sollershot Surgery EoE)"}]
["Ley Hill Surgery WM)",1,{"$f":"IF(B494=1,COUNTIF($B$61:$B494,1),\"\")","v":434},{"$f":"IFERROR(INDEX($A$61:$A$1687,MATCH(ROWS($C$61:$C494),$C$61:$C$1687,0)),\"\")","v":"Ley Hill Surgery WM)"}]
["The Uppingham Surgery EM)",1,{"$f":"IF(B495=1,COUNTIF($B$61:$B495,1),\"\")","v":435},{"$f":"IFERROR(INDEX($A$61:$A$1687,MATCH(ROWS($C$61:$C495),$C$61:$C$1687,0)),\"\")","v":"The Uppingham Surgery EM)"}]
["Midlands Partnership NHS Foundation Trust WM)",1,{"$f":"IF(B496=1,COUNTIF($B$61:$B496,1),\"\")","v":436},{"$f":"IFERROR(INDEX($A$61:$A$1687,MATCH(ROWS($C$61:$C496),$C$61:$C$1687,0)),\"\")","v":"Midlands Partnership NHS Foundation Trust WM)"}]
["Queensway Medical Centre EM)",1,{"$f":"IF(B497=1,COUNTIF($B$61:$B497,1),\"\")","v":437},{"$f":"IFERROR(INDEX($A$61:$A$1687,MATCH(ROWS($C$61:$C497),$C$61:$C$1687,0)),\"\")","v":"Queensway Medical Centre EM)"}]
["King Street Surgery EoE)",1,{"$f":"IF(B498=1,COUNTIF($B$61:$B498,1),\"\")","v":438},{"$f":"IFERROR(INDEX($A$61:$A$1687,MATCH(ROWS($C$61:$C498),$C$61:$C$1687,0)),\"\")","v":"King Street Surgery EoE)"}]
["Stoney Stanton Medical Centre WM)",1,{"$f":"IF(B499=1,COUNTIF($B$61:$B499,1),\"\")","v":439},{"$f":"IFERROR(INDEX($A$61:$A$1687,MATCH(ROWS($C$61:$C499),$C$61:$C$1687,0)),\"\")","v":"Stoney Stanton Medical Centre WM)"}]
["Hawkesley Medical Practice WM)",1,{"$f":"IF(B500=1,COUNTIF($B$61:$B500,1),\"\")","v":440},{"$f":"IFERROR(INDEX($A$61:$A$1687,MATCH(ROWS($C$61:$C500),$C$61:$C$1687,0)),\"\")","v":"Hawkesley Medical Practice WM)"}]
["Guardian Street Medical Centre NW)",1,{"$f":"IF(B501=1,COUNTIF($B$61:$B501,1),\"\")","v":441},{"$f":"IFERROR(INDEX($A$61:$A$1687,MATCH(ROWS($C$61:$C501),$C$61:$C$1687,0)),\"\")","v":"Guardian Street Medical Centre NW)"}]
["Haresfield House Surgery WM)",1,{"$f":"IF(B502=1,COUNTIF($B$61:$B502,1),\"\")","v":442},{"$f":"IFERROR(INDEX($A$61:$A$1687,MATCH(ROWS($C$61:$C502),$C$61:$C$1687,0)),\"\")","v":"Haresfield House Surgery WM)"}]
["Radiology Academy Aintree",1,{"$f":"IF(B503=1,COUNTIF($B$61:$B503,1),\"\")","v":443},{"$f":"IFERROR(INDEX($A$61:$A$1687,MATCH(ROWS($C$61:$C503),$C$61:$C$1687,0)),\"\")","v":"Radiology Academy Aintree"}]
["York Street Medical Practice EoE)",1,{"$f":"IF(B504=1,COUNTIF($B$61:$B504,1),\"\")","v":444},{"$f":"IFERROR(INDEX($A$61:$A$1687,MATCH(ROWS($C$61:$C504),$C$61:$C$1687,0)),\"\")","v":"York Street Medical Practice EoE)"}]
["Bushloe Surgery EM)",1,{"$f":"IF(B505=1,COUNTIF($B$61:$B505,1),\"\")","v":445},{"$f":"IFERROR(INDEX($A$61:$A$1687,MATCH(ROWS($C$61:$C505),$C$61:$C$1687,0)),\"\")","v":"Bushloe Surgery EM)"}]
["Forum Health Centre WM)",1,{"$f":"IF(B506=1,COUNTIF($B$61:$B506,1),\"\")","v":446},{"$f":"IFERROR(INDEX($A$61:$A$1687,MATCH(ROWS($C$61:$C506),$C$61:$C$1687,0)),\"\")","v":"Forum Health Centre WM)"}]
["East Barnwell Health Centre EoE)",1,{"$f":"IF(B507=1,COUNTIF($B$61:$B507,1),\"\")","v":447},{"$f":"IFERROR(INDEX($A$61:$A$1687,MATCH(ROWS($C$61:$C507),$C$61:$C$1687,0)),\"\")","v":"East Barnwell Health Centre EoE)"}]
["Marple Medical Practice NW)",1,{"$f":"IF(B508=1,COUNTIF($B$61:$B508,1),\"\")","v":448},{"$f":"IFERROR(INDEX($A$61:$A$1687,MATCH(ROWS($C$61:$C508),$C$61:$C$1687,0)),\"\")","v":"Marple Medical Practice NW)"}]
["Langdon Hills Medical Practice EoE)",1,{"$f":"IF(B509=1,COUNTIF($B$61:$B509,1),\"\")","v":449},{"$f":"IFERROR(INDEX($A$61:$A$1687,MATCH(ROWS($C$61:$C509),$C$61:$C$1687,0)),\"\")","v":"Langdon Hills Medical Practice EoE)"}]
["Parkside Practice TV)",{"$f":"--ISNUMBER(SEARCH($F$15,A510))","v":1},{"$f":"IF(B510=1,COUNTIF($B$61:$B510,1),\"\")","v":450},{"$f":"IFERROR(INDEX($A$61:$A$1687,MATCH(ROWS($C$61:$C510),$C$61:$C$1687,0)),\"\")","v":"Parkside Practice TV)"}]
["Northgate Medical Centre NW)",1,{"$f":"IF(B511=1,COUNTIF($B$61:$B511,1),\"\")","v":451},{"$f":"IFERROR(INDEX($A$61:$A$1687,MATCH(ROWS($C$61:$C511),$C$61:$C$1687,0)),\"\")","v":"Northgate Medical Centre NW)"}]
["Warwick Myton Hospice WM)",1,{"$f":"IF(B512=1,COUNTIF($B$61:$B512,1),\"\")","v":452},{"$f":"IFERROR(INDEX($A$61:$A$1687,MATCH(ROWS($C$61:$C512),$C$61:$C$1687,0)),\"\")","v":"Warwick Myton Hospice WM)"}]
["Lakeside WM)",1,{"$f":"IF(B513=1,COUNTIF($B$61:$B513,1),\"\")","v":453},{"$f":"IFERROR(INDEX($A$61:$A$1687,MATCH(ROWS($C$61:$C513),$C$61:$C$1687,0)),\"\")","v":"Lakeside WM)"}]
["The Laurels Surgery EoE)",1,{"$f":"IF(B514=1,COUNTIF($B$61:$B514,1),\"\")","v":454},{"$f":"IFERROR(INDEX($A$61:$A$1687,MATCH(ROWS($C$61:$C514),$C$61:$C$1687,0)),\"\")","v":"The Laurels Surgery EoE)"}]
["Castle Healthcare Practice EM)",1,{"$f":"IF(B515=1,COUNTIF($B$61:$B515,1),\"\")","v":455},{"$f":"IFERROR(INDEX($A$61:$A$1687,MATCH(ROWS($C$61:$C515),$C$61:$C$1687,0)),\"\")","v":"Castle Healthcare Practice EM)"}]
["Jessop Medical Practice EM)",1,{"$f":"IF(B516=1,COUNTIF($B$61:$B516,1),\"\")","v":456},{"$f":"IFERROR(INDEX($A$61:$A$1687,MATCH(ROWS($C$61:$C516),$C$61:$C$1687,0)),\"\")","v":"Jessop Medical Practice EM)"}]
["Inspire Health - Avenue House EM)",1,{"$f":"IF(B517=1,COUNTIF($B$61:$B517,1),\"\")","v":457},{"$f":"IFERROR(INDEX($A$61:$A$1687,MATCH(ROWS($C$61:$C517),$C$61:$C$1687,0)),\"\")","v":"Inspire Health - Avenue House EM)"}]
["Halliwell Surgery 2 NW)",1,{"$f":"IF(B518=1,COUNTIF($B$61:$B518,1),\"\")","v":458},{"$f":"IFERROR(INDEX($A$61:$A$1687,MATCH(ROWS($C$61:$C518),$C$61:$C$1687,0)),\"\")","v":"Halliwell Surgery 2 NW)"}]
["Rutherford Medical Centre NW)",1,{"$f":"IF(B519=1,COUNTIF($B$61:$B519,1),\"\")","v":459},{"$f":"IFERROR(INDEX($A$61:$A$1687,MATCH(ROWS($C$61:$C519),$C$61:$C$1687,0)),\"\")","v":"Rutherford Medical Centre NW)"}]
["Haddenham Medical Centre TV)",1,{"$f":"IF(B520=1,COUNTIF($B$61:$B520,1),\"\")","v":460},{"$f":"IFERROR(INDEX($A$61:$A$1687,MATCH(ROWS($C$61:$C520),$C$61:$C$1687,0)),\"\")","v":"Haddenham Medical Centre TV)"}]
["Kenmore Medical Centre NW)",1,{"$f":"IF(B521=1,COUNTIF($B$61:$B521,1),\"\")","v":461},{"$f":"IFERROR(INDEX($A$61:$A$1687,MATCH(ROWS($C$61:$C521),$C$61:$C$1687,0)),\"\")","v":"Kenmore Medical Centre NW)"}]
["Edge Hill Health Centre NW)",1,{"$f":"IF(B522=1,COUNTIF($B$61:$B522,1),\"\")","v":462},{"$f":"IFERROR(INDEX($A$61:$A$1687,MATCH(ROWS($C$61:$C522),$C$61:$C$1687,0)),\"\")","v":"Edge Hill Health Centre NW)"}]
["Inclusion Healthcare EM)",1,{"$f":"IF(B523=1,COUNTIF($B$61:$B523,1),\"\")","v":463},{"$f":"IFERROR(INDEX($A$61:$A$1687,MATCH(ROWS($C$61:$C523),$C$61:$C$1687,0)),\"\")","v":"Inclusion Healthcare EM)"}]
["Lensfield Medical Practice EoE)",1,{"$f":"IF(B524=1,COUNTIF($B$61:$B524,1),\"\")","v":464},{"$f":"IFERROR(INDEX($A$61:$A$1687,MATCH(ROWS($C$61:$C524),$C$61:$C$1687,0)),\"\")","v":"Lensfield Medical Practice EoE)"}]
["Derby Road Health Centre EM)",1,{"$f":"IF(B525=1,COUNTIF($B$61:$B525,1),\"\")","v":465},{"$f":"IFERROR(INDEX($A$61:$A$1687,MATCH(ROWS($C$61:$C525),$C$61:$C$1687,0)),\"\")","v":"Derby Road Health Centre EM)"}]
["Castle Medical Centre WM)",1,{"$f":"IF(B526=1,COUNTIF($B$61:$B526,1),\"\")","v":466},{"$f":"IFERROR(INDEX($A$61:$A$1687,MATCH(ROWS($C$61:$C526),$C$61:$C$1687,0)),\"\")","v":"Castle Medical Centre WM)"}]
["Dr Sinha & Partners The Medical Centre EM)",1,{"$f":"IF(B527=1,COUNTIF($B$61:$B527,1),\"\")","v":467},{"$f":"IFERROR(INDEX($A$61:$A$1687,MATCH(ROWS($C$61:$C527),$C$61:$C$1687,0)),\"\")","v":"Dr Sinha & Partners The Medical Centre EM)"}]
["Huntingdon Road Surgery EoE)",1,{"$f":"IF(B528=1,COUNTIF($B$61:$B528,1),\"\")","v":468},{"$f":"IFERROR(INDEX($A$61:$A$1687,MATCH(ROWS($C$61:$C528),$C$61:$C$1687,0)),\"\")","v":"Huntingdon Road Surgery EoE)"}]
["Bennfield Surgery WM)",1,{"$f":"IF(B529=1,COUNTIF($B$61:$B529,1),\"\")","v":469},{"$f":"IFERROR(INDEX($A$61:$A$1687,MATCH(ROWS($C$61:$C529),$C$61:$C$1687,0)),\"\")","v":"Bennfield Surgery WM)"}]
["Castle Mead Medical Centre EM)",1,{"$f":"IF(B530=1,COUNTIF($B$61:$B530,1),\"\")","v":470},{"$f":"IFERROR(INDEX($A$61:$A$1687,MATCH(ROWS($C$61:$C530),$C$61:$C$1687,0)),\"\")","v":"Castle Mead Medical Centre EM)"}]
["Biddulph Valley Surgery WM)",1,{"$f":"IF(B531=1,COUNTIF($B$61:$B531,1),\"\")","v":471},{"$f":"IFERROR(INDEX($A$61:$A$1687,MATCH(ROWS($C$61:$C531),$C$61:$C$1687,0)),\"\")","v":"Biddulph Valley Surgery WM)"}]
["Andaman Surgery EoE)",1,{"$f":"IF(B532=1,COUNTIF($B$61:$B532,1),\"\")","v":472},{"$f":"IFERROR(INDEX($A$61:$A$1687,MATCH(ROWS($C$61:$C532),$C$61:$C$1687,0)),\"\")","v":"Andaman Surgery EoE)"}]
["Harvey Group Practice EoE)",1,{"$f":"IF(B533=1,COUNTIF($B$61:$B533,1),\"\")","v":473},{"$f":"IFERROR(INDEX($A$61:$A$1687,MATCH(ROWS($C$61:$C533),$C$61:$C$1687,0)),\"\")","v":"Harvey Group Practice EoE)"}]
["Druids Heath Surgery WM)",1,{"$f":"IF(B534=1,COUNTIF($B$61:$B534,1),\"\")","v":474},{"$f":"IFERROR(INDEX($A$61:$A$1687,MATCH(ROWS($C$61:$C534),$C$61:$C$1687,0)),\"\")","v":"Druids Heath Surgery WM)"}]
["Kelvingrove Medical Centre EM)",1,{"$f":"IF(B535=1,COUNTIF($B$61:$B535,1),\"\")","v":475},{"$f":"IFERROR(INDEX($A$61:$A$1687,MATCH(ROWS($C$61:$C535),$C$61:$C$1687,0)),\"\")","v":"Kelvingrove Medical Centre EM)"}]
["Dell Medical Centre EoE)",1,{"$f":"IF(B536=1,COUNTIF($B$61:$B536,1),\"\")","v":476},{"$f":"IFERROR(INDEX($A$61:$A$1687,MATCH(ROWS($C$61:$C536),$C$61:$C$1687,0)),\"\")","v":"Dell Medical Centre EoE)"}]
["Aughton Surgery NW)",1,{"$f":"IF(B537=1,COUNTIF($B$61:$B537,1),\"\")","v":477},{"$f":"IFERROR(INDEX($A$61:$A$1687,MATCH(ROWS($C$61:$C537),$C$61:$C$1687,0)),\"\")","v":"Aughton Surgery NW)"}]
["Wansford Surgery EoE)",1,{"$f":"IF(B538=1,COUNTIF($B$61:$B538,1),\"\")","v":478},{"$f":"IFERROR(INDEX($A$61:$A$1687,MATCH(ROWS($C$61:$C538),$C$61:$C$1687,0)),\"\")","v":"Wansford Surgery EoE)"}]
["Horsefair Practice WM)",1,{"$f":"IF(B539=1,COUNTIF($B$61:$B539,1),\"\")","v":479},{"$f":"IFERROR(INDEX($A$61:$A$1687,MATCH(ROWS($C$61:$C539),$C$61:$C$1687,0)),\"\")","v":"Horsefair Practice WM)"}]
["The Gold Street Surgery EoE)",1,{"$f":"IF(B540=1,COUNTIF($B$61:$B540,1),\"\")","v":480},{"$f":"IFERROR(INDEX($A$61:$A$1687,MATCH(ROWS($C$61:$C540),$C$61:$C$1687,0)),\"\")","v":"The Gold Street Surgery EoE)"}]
["Selly Park Surgery WM)",1,{"$f":"IF(B541=1,COUNTIF($B$61:$B541,1),\"\")","v":481},{"$f":"IFERROR(INDEX($A$61:$A$1687,MATCH(ROWS($C$61:$C541),$C$61:$C$1687,0)),\"\")","v":"Selly Park Surgery WM)"}]
["Two Shires Surgery EM)",1,{"$f":"IF(B542=1,COUNTIF($B$61:$B542,1),\"\")","v":482},{"$f":"IFERROR(INDEX($A$61:$A$1687,MATCH(ROWS($C$61:$C542),$C$61:$C$1687,0)),\"\")","v":"Two Shires Surgery EM)"}]
["Burnham Health Centre TV)",1,{"$f":"IF(B543=1,COUNTIF($B$61:$B543,1),\"\")","v":483},{"$f":"IFERROR(INDEX($A$61:$A$1687,MATCH(ROWS($C$61:$C543),$C$61:$C$1687,0)),\"\")","v":"Burnham Health Centre TV)"}]
["Sherwood Medical Partnership EM)",1,{"$f":"IF(B544=1,COUNTIF($B$61:$B544,1),\"\")","v":484},{"$f":"IFERROR(INDEX($A$61:$A$1687,MATCH(ROWS($C$61:$C544),$C$61:$C$1687,0)),\"\")","v":"Sherwood Medical Partnership EM)"}]
["Norfolk and Norwich University Hospitals NHS Foundation Trust",1,{"$f":"IF(B545=1,COUNTIF($B$61:$B545,1),\"\")","v":485},{"$f":"IFERROR(INDEX($A$61:$A$1687,MATCH(ROWS($C$61:$C545),$C$61:$C$1687,0)),\"\")","v":"Norfolk and Norwich University Hospitals NHS Foundation Trust"}]
["Mill Street Medical Centre NW)",1,{"$f":"IF(B546=1,COUNTIF($B$61:$B546,1),\"\")","v":486},{"$f":"IFERROR(INDEX($A$61:$A$1687,MATCH(ROWS($C$61:$C546),$C$61:$C$1687,0)),\"\")","v":"Mill Street Medical Centre NW)"}]
["Lichfield Street Surgery WM)",1,{"$f":"IF(B547=1,COUNTIF($B$61:$B547,1),\"\")","v":487},{"$f":"IFERROR(INDEX($A$61:$A$1687,MATCH(ROWS($C$61:$C547),$C$61:$C$1687,0)),\"\")","v":"Lichfield Street Surgery WM)"}]
["Deal Tree Health Centre EoE)",1,{"$f":"IF(B548=1,COUNTIF($B$61:$B548,1),\"\")","v":488},{"$f":"IFERROR(INDEX($A$61:$A$1687,MATCH(ROWS($C$61:$C548),$C$61:$C$1687,0)),\"\")","v":"Deal Tree Health Centre EoE)"}]
["The Valley Medical Centre NW)",1,{"$f":"IF(B549=1,COUNTIF($B$61:$B549,1),\"\")","v":489},{"$f":"IFERROR(INDEX($A$61:$A$1687,MATCH(ROWS($C$61:$C549),$C$61:$C$1687,0)),\"\")","v":"The Valley Medical Centre NW)"}]
["Lache Health Centre NW)",1,{"$f":"IF(B550=1,COUNTIF($B$61:$B550,1),\"\")","v":490},{"$f":"IFERROR(INDEX($A$61:$A$1687,MATCH(ROWS($C$61:$C550),$C$61:$C$1687,0)),\"\")","v":"Lache Health Centre NW)"}]
["The Maples Medical Centre NW)",1,{"$f":"IF(B551=1,COUNTIF($B$61:$B551,1),\"\")","v":491},{"$f":"IFERROR(INDEX($A$61:$A$1687,MATCH(ROWS($C$61:$C551),$C$61:$C$1687,0)),\"\")","v":"The Maples Medical Centre NW)"}]
["The Norwich Road Surgery EoE)",1,{"$f":"IF(B552=1,COUNTIF($B$61:$B552,1),\"\")","v":492},{"$f":"IFERROR(INDEX($A$61:$A$1687,MATCH(ROWS($C$61:$C552),$C$61:$C$1687,0)),\"\")","v":"The Norwich Road Surgery EoE)"}]
["Strawberry Hill Medical Centre TV)",1,{"$f":"IF(B553=1,COUNTIF($B$61:$B553,1),\"\")","v":493},{"$f":"IFERROR(INDEX($A$61:$A$1687,MATCH(ROWS($C$61:$C553),$C$61:$C$1687,0)),\"\")","v":"Strawberry Hill Medical Centre TV)"}]
["Nuffield Road Medical Centre EoE)",1,{"$f":"IF(B554=1,COUNTIF($B$61:$B554,1),\"\")","v":494},{"$f":"IFERROR(INDEX($A$61:$A$1687,MATCH(ROWS($C$61:$C554),$C$61:$C$1687,0)),\"\")","v":"Nuffield Road Medical Centre EoE)"}]
["Station View Health Centre EM)",1,{"$f":"IF(B555=1,COUNTIF($B$61:$B555,1),\"\")","v":495},{"$f":"IFERROR(INDEX($A$61:$A$1687,MATCH(ROWS($C$61:$C555),$C$61:$C$1687,0)),\"\")","v":"Station View Health Centre EM)"}]
["The Cross Keys Practice TV)",1,{"$f":"IF(B556=1,COUNTIF($B$61:$B556,1),\"\")","v":496},{"$f":"IFERROR(INDEX($A$61:$A$1687,MATCH(ROWS($C$61:$C556),$C$61:$C$1687,0)),\"\")","v":"The Cross Keys Practice TV)"}]
["Cookham Medical Centre TV)",1,{"$f":"IF(B557=1,COUNTIF($B$61:$B557,1),\"\")","v":497},{"$f":"IFERROR(INDEX($A$61:$A$1687,MATCH(ROWS($C$61:$C557),$C$61:$C$1687,0)),\"\")","v":"Cookham Medical Centre TV)"}]
["Credas) Darley Dale Medical Centre EM)",1,{"$f":"IF(B558=1,COUNTIF($B$61:$B558,1),\"\")","v":498},{"$f":"IFERROR(INDEX($A$61:$A$1687,MATCH(ROWS($C$61:$C558),$C$61:$C$1687,0)),\"\")","v":"Credas) Darley Dale Medical Centre EM)"}]
["Putnoe Medical Centre Partnership EoE)",1,{"$f":"IF(B559=1,COUNTIF($B$61:$B559,1),\"\")","v":499},{"$f":"IFERROR(INDEX($A$61:$A$1687,MATCH(ROWS($C$61:$C559),$C$61:$C$1687,0)),\"\")","v":"Putnoe Medical Centre Partnership EoE)"}]
["Meadowcroft Surgery TV)",1,{"$f":"IF(B560=1,COUNTIF($B$61:$B560,1),\"\")","v":500},{"$f":"IFERROR(INDEX($A$61:$A$1687,MATCH(ROWS($C$61:$C560),$C$61:$C$1687,0)),\"\")","v":"Meadowcroft Surgery TV)"}]
["Park Surgery WM)",1,{"$f":"IF(B561=1,COUNTIF($B$61:$B561,1),\"\")","v":501},{"$f":"IFERROR(INDEX($A$61:$A$1687,MATCH(ROWS($C$61:$C561),$C$61:$C$1687,0)),\"\")","v":"Park Surgery WM)"}]
["The Linkway Medical Practice WM)",1,{"$f":"IF(B562=1,COUNTIF($B$61:$B562,1),\"\")","v":502},{"$f":"IFERROR(INDEX($A$61:$A$1687,MATCH(ROWS($C$61:$C562),$C$61:$C$1687,0)),\"\")","v":"The Linkway Medical Practice WM)"}]
["Wilson Street Surgery EM)",1,{"$f":"IF(B563=1,COUNTIF($B$61:$B563,1),\"\")","v":503},{"$f":"IFERROR(INDEX($A$61:$A$1687,MATCH(ROWS($C$61:$C563),$C$61:$C$1687,0)),\"\")","v":"Wilson Street Surgery EM)"}]
["Spring Hill Medical Centre WM)",1,{"$f":"IF(B564=1,COUNTIF($B$61:$B564,1),\"\")","v":504},{"$f":"IFERROR(INDEX($A$61:$A$1687,MATCH(ROWS($C$61:$C564),$C$61:$C$1687,0)),\"\")","v":"Spring Hill Medical Centre WM)"}]
["Orchard Surgery EM)",1,{"$f":"IF(B565=1,COUNTIF($B$61:$B565,1),\"\")","v":505},{"$f":"IFERROR(INDEX($A$61:$A$1687,MATCH(ROWS($C$61:$C565),$C$61:$C$1687,0)),\"\")","v":"Orchard Surgery EM)"}]
["Humberstone Medical Centre EM)",1,{"$f":"IF(B566=1,COUNTIF($B$61:$B566,1),\"\")","v":506},{"$f":"IFERROR(INDEX($A$61:$A$1687,MATCH(ROWS($C$61:$C566),$C$61:$C$1687,0)),\"\")","v":"Humberstone Medical Centre EM)"}]
["The Queen Elizabeth Hospital King's Lynn NHS Foundation",1,{"$f":"IF(B567=1,COUNTIF($B$61:$B567,1),\"\")","v":507},{"$f":"IFERROR(INDEX($A$61:$A$1687,MATCH(ROWS($C$61:$C567),$C$61:$C$1687,0)),\"\")","v":"The Queen Elizabeth Hospital King's Lynn NHS Foundation"}]
["Willowbrook Medical Practice EM)",1,{"$f":"IF(B568=1,COUNTIF($B$61:$B568,1),\"\")","v":508},{"$f":"IFERROR(INDEX($A$61:$A$1687,MATCH(ROWS($C$61:$C568),$C$61:$C$1687,0)),\"\")","v":"Willowbrook Medical Practice EM)"}]
["Highgreen Practice EM)",1,{"$f":"IF(B569=1,COUNTIF($B$61:$B569,1),\"\")","v":509},{"$f":"IFERROR(INDEX($A$61:$A$1687,MATCH(ROWS($C$61:$C569),$C$61:$C$1687,0)),\"\")","v":"Highgreen Practice EM)"}]
["Oxford Health NHS FT TV)",1,{"$f":"IF(B570=1,COUNTIF($B$61:$B570,1),\"\")","v":510},{"$f":"IFERROR(INDEX($A$61:$A$1687,MATCH(ROWS($C$61:$C570),$C$61:$C$1687,0)),\"\")","v":"Oxford Health NHS FT TV)"}]
["Leach Heath Medical Centre WM)",1,{"$f":"IF(B571=1,COUNTIF($B$61:$B571,1),\"\")","v":511},{"$f":"IFERROR(INDEX($A$61:$A$1687,MATCH(ROWS($C$61:$C571),$C$61:$C$1687,0)),\"\")","v":"Leach Heath Medical Centre WM)"}]
["Ashcroft Surgery NW)",1,{"$f":"IF(B572=1,COUNTIF($B$61:$B572,1),\"\")","v":512},{"$f":"IFERROR(INDEX($A$61:$A$1687,MATCH(ROWS($C$61:$C572),$C$61:$C$1687,0)),\"\")","v":"Ashcroft Surgery NW)"}]
["Hereward Medical Centre EoE)",1,{"$f":"IF(B573=1,COUNTIF($B$61:$B573,1),\"\")","v":513},{"$f":"IFERROR(INDEX($A$61:$A$1687,MATCH(ROWS($C$61:$C573),$C$61:$C$1687,0)),\"\")","v":"Hereward Medical Centre EoE)"}]
["Penn Surgery WM)",{"$f":"--ISNUMBER(SEARCH($F$15,A574))","v":1},{"$f":"IF(B574=1,COUNTIF($B$61:$B574,1),\"\")","v":514},{"$f":"IFERROR(INDEX($A$61:$A$1687,MATCH(ROWS($C$61:$C574),$C$61:$C$1687,0)),\"\")","v":"Penn Surgery WM)"}]
["Causeway Medical Centre NW)",1,{"$f":"IF(B575=1,COUNTIF($B$61:$B575,1),\"\")","v":515},{"$f":"IFERROR(INDEX($A$61:$A$1687,MATCH(ROWS($C$61:$C575),$C$61:$C$1687,0)),\"\")","v":"Causeway Medical Centre NW)"}]
["The Long Melford Practice EoE)",1,{"$f":"IF(B576=1,COUNTIF($B$61:$B576,1),\"\")","v":516},{"$f":"IFERROR(INDEX($A$61:$A$1687,MATCH(ROWS($C$61:$C576),$C$61:$C$1687,0)),\"\")","v":"The Long Melford Practice EoE)"}]
["Wollaton Park Medical Centre EM)",1,{"$f":"IF(B577=1,COUNTIF($B$61:$B577,1),\"\")","v":517},{"$f":"IFERROR(INDEX($A$61:$A$1687,MATCH(ROWS($C$61:$C577),$C$61:$C$1687,0)),\"\")","v":"Wollaton Park Medical Centre EM)"}]
["Hollywood Medical Centre WM)",1,{"$f":"IF(B578=1,COUNTIF($B$61:$B578,1),\"\")","v":518},{"$f":"IFERROR(INDEX($A$61:$A$1687,MATCH(ROWS($C$61:$C578),$C$61:$C$1687,0)),\"\")","v":"Hollywood Medical Centre WM)"}]
["Woden Road Surgery WM)",1,{"$f":"IF(B579=1,COUNTIF($B$61:$B579,1),\"\")","v":519},{"$f":"IFERROR(INDEX($A$61:$A$1687,MATCH(ROWS($C$61:$C579),$C$61:$C$1687,0)),\"\")","v":"Woden Road Surgery WM)"}]
["Royal Free London NHS Foundation Trust LaSE)",1,{"$f":"IF(B580=1,COUNTIF($B$61:$B580,1),\"\")","v":520},{"$f":"IFERROR(INDEX($A$61:$A$1687,MATCH(ROWS($C$61:$C580),$C$61:$C$1687,0)),\"\")","v":"Royal Free London NHS Foundation Trust LaSE)"}]
["St Mary's Medical Centre NW)",1,{"$f":"IF(B581=1,COUNTIF($B$61:$B581,1),\"\")","v":521},{"$f":"IFERROR(INDEX($A$61:$A$1687,MATCH(ROWS($C$61:$C581),$C$61:$C$1687,0)),\"\")","v":"St Mary's Medical Centre NW)"}]
["The Guildhall and Barrow Surgery EoE)",1,{"$f":"IF(B582=1,COUNTIF($B$61:$B582,1),\"\")","v":522},{"$f":"IFERROR(INDEX($A$61:$A$1687,MATCH(ROWS($C$61:$C582),$C$61:$C$1687,0)),\"\")","v":"The Guildhall and Barrow Surgery EoE)"}]
["Northgate Village Surgery NW)",1,{"$f":"IF(B583=1,COUNTIF($B$61:$B583,1),\"\")","v":523},{"$f":"IFERROR(INDEX($A$61:$A$1687,MATCH(ROWS($C$61:$C583),$C$61:$C$1687,0)),\"\")","v":"Northgate Village Surgery NW)"}]
["Gatley Health Centre NW)",1,{"$f":"IF(B584=1,COUNTIF($B$61:$B584,1),\"\")","v":524},{"$f":"IFERROR(INDEX($A$61:$A$1687,MATCH(ROWS($C$61:$C584),$C$61:$C$1687,0)),\"\")","v":"Gatley Health Centre NW)"}]
["Lostock Medical Centre NW)",1,{"$f":"IF(B585=1,COUNTIF($B$61:$B585,1),\"\")","v":525},{"$f":"IFERROR(INDEX($A$61:$A$1687,MATCH(ROWS($C$61:$C585),$C$61:$C$1687,0)),\"\")","v":"Lostock Medical Centre NW)"}]
["Dr M Goyal's Practice EoE)",1,{"$f":"IF(B586=1,COUNTIF($B$61:$B586,1),\"\")","v":526},{"$f":"IFERROR(INDEX($A$61:$A$1687,MATCH(ROWS($C$61:$C586),$C$61:$C$1687,0)),\"\")","v":"Dr M Goyal's Practice EoE)"}]
["Appleton Village Surgery NW)",1,{"$f":"IF(B587=1,COUNTIF($B$61:$B587,1),\"\")","v":527},{"$f":"IFERROR(INDEX($A$61:$A$1687,MATCH(ROWS($C$61:$C587),$C$61:$C$1687,0)),\"\")","v":"Appleton Village Surgery NW)"}]
["Dr Hughes & Partners EoE)",1,{"$f":"IF(B588=1,COUNTIF($B$61:$B588,1),\"\")","v":528},{"$f":"IFERROR(INDEX($A$61:$A$1687,MATCH(ROWS($C$61:$C588),$C$61:$C$1687,0)),\"\")","v":"Dr Hughes & Partners EoE)"}]
["Aylmer Lodge Surgery WM)",1,{"$f":"IF(B589=1,COUNTIF($B$61:$B589,1),\"\")","v":529},{"$f":"IFERROR(INDEX($A$61:$A$1687,MATCH(ROWS($C$61:$C589),$C$61:$C$1687,0)),\"\")","v":"Aylmer Lodge Surgery WM)"}]
["The Moir Medical Centre EM)",1,{"$f":"IF(B590=1,COUNTIF($B$61:$B590,1),\"\")","v":530},{"$f":"IFERROR(INDEX($A$61:$A$1687,MATCH(ROWS($C$61:$C590),$C$61:$C$1687,0)),\"\")","v":"The Moir Medical Centre EM)"}]
["Cornford House Surgery EoE)",1,{"$f":"IF(B591=1,COUNTIF($B$61:$B591,1),\"\")","v":531},{"$f":"IFERROR(INDEX($A$61:$A$1687,MATCH(ROWS($C$61:$C591),$C$61:$C$1687,0)),\"\")","v":"Cornford House Surgery EoE)"}]
["Oak Street Medical Practice EoE)",1,{"$f":"IF(B592=1,COUNTIF($B$61:$B592,1),\"\")","v":532},{"$f":"IFERROR(INDEX($A$61:$A$1687,MATCH(ROWS($C$61:$C592),$C$61:$C$1687,0)),\"\")","v":"Oak Street Medical Practice EoE)"}]
["Cleobury Mortimer Surgery WM)",1,{"$f":"IF(B593=1,COUNTIF($B$61:$B593,1),\"\")","v":533},{"$f":"IFERROR(INDEX($A$61:$A$1687,MATCH(ROWS($C$61:$C593),$C$61:$C$1687,0)),\"\")","v":"Cleobury Mortimer Surgery WM)"}]
["Barrack Lane Medical Centre EoE)",1,{"$f":"IF(B594=1,COUNTIF($B$61:$B594,1),\"\")","v":534},{"$f":"IFERROR(INDEX($A$61:$A$1687,MATCH(ROWS($C$61:$C594),$C$61:$C$1687,0)),\"\")","v":"Barrack Lane Medical Centre EoE)"}]
["Woodlands Medical Centre TV)",1,{"$f":"IF(B595=1,COUNTIF($B$61:$B595,1),\"\")","v":535},{"$f":"IFERROR(INDEX($A$61:$A$1687,MATCH(ROWS($C$61:$C595),$C$61:$C$1687,0)),\"\")","v":"Woodlands Medical Centre TV)"}]
["Donnington Medical Practice WM)",1,{"$f":"IF(B596=1,COUNTIF($B$61:$B596,1),\"\")","v":536},{"$f":"IFERROR(INDEX($A$61:$A$1687,MATCH(ROWS($C$61:$C596),$C$61:$C$1687,0)),\"\")","v":"Donnington Medical Practice WM)"}]
["Humbleyard Practice EoE)",1,{"$f":"IF(B597=1,COUNTIF($B$61:$B597,1),\"\")","v":537},{"$f":"IFERROR(INDEX($A$61:$A$1687,MATCH(ROWS($C$61:$C597),$C$61:$C$1687,0)),\"\")","v":"Humbleyard Practice EoE)"}]
["Long Lane Medical Centre NW)",1,{"$f":"IF(B598=1,COUNTIF($B$61:$B598,1),\"\")","v":538},{"$f":"IFERROR(INDEX($A$61:$A$1687,MATCH(ROWS($C$61:$C598),$C$61:$C$1687,0)),\"\")","v":"Long Lane Medical Centre NW)"}]
["Cantilupe Surgery WM)",1,{"$f":"IF(B599=1,COUNTIF($B$61:$B599,1),\"\")","v":539},{"$f":"IFERROR(INDEX($A$61:$A$1687,MATCH(ROWS($C$61:$C599),$C$61:$C$1687,0)),\"\")","v":"Cantilupe Surgery WM)"}]
["Angel Lane Surgery EoE)",1,{"$f":"IF(B600=1,COUNTIF($B$61:$B600,1),\"\")","v":540},{"$f":"IFERROR(INDEX($A$61:$A$1687,MATCH(ROWS($C$61:$C600),$C$61:$C$1687,0)),\"\")","v":"Angel Lane Surgery EoE)"}]
["The Limes Medical Centre Narborough) EM)",1,{"$f":"IF(B601=1,COUNTIF($B$61:$B601,1),\"\")","v":541},{"$f":"IFERROR(INDEX($A$61:$A$1687,MATCH(ROWS($C$61:$C601),$C$61:$C$1687,0)),\"\")","v":"The Limes Medical Centre Narborough) EM)"}]
["Tollgate Health Centre EoE)",1,{"$f":"IF(B602=1,COUNTIF($B$61:$B602,1),\"\")","v":542},{"$f":"IFERROR(INDEX($A$61:$A$1687,MATCH(ROWS($C$61:$C602),$C$61:$C$1687,0)),\"\")","v":"Tollgate Health Centre EoE)"}]
["Castle Partnership EoE)",1,{"$f":"IF(B603=1,COUNTIF($B$61:$B603,1),\"\")","v":543},{"$f":"IFERROR(INDEX($A$61:$A$1687,MATCH(ROWS($C$61:$C603),$C$61:$C$1687,0)),\"\")","v":"Castle Partnership EoE)"}]
["Trumpington Street Medical Practice EoE)",1,{"$f":"IF(B604=1,COUNTIF($B$61:$B604,1),\"\")","v":544},{"$f":"IFERROR(INDEX($A$61:$A$1687,MATCH(ROWS($C$61:$C604),$C$61:$C$1687,0)),\"\")","v":"Trumpington Street Medical Practice EoE)"}]
["Dunchurch Surgery WM)",1,{"$f":"IF(B605=1,COUNTIF($B$61:$B605,1),\"\")","v":545},{"$f":"IFERROR(INDEX($A$61:$A$1687,MATCH(ROWS($C$61:$C605),$C$61:$C$1687,0)),\"\")","v":"Dunchurch Surgery WM)"}]
["Lea Vale Medical Practice EoE)",1,{"$f":"IF(B606=1,COUNTIF($B$61:$B606,1),\"\")","v":546},{"$f":"IFERROR(INDEX($A$61:$A$1687,MATCH(ROWS($C$61:$C606),$C$61:$C$1687,0)),\"\")","v":"Lea Vale Medical Practice EoE)"}]
["Orrell Park Medical Centre NW)",1,{"$f":"IF(B607=1,COUNTIF($B$61:$B607,1),\"\")","v":547},{"$f":"IFERROR(INDEX($A$61:$A$1687,MATCH(ROWS($C$61:$C607),$C$61:$C$1687,0)),\"\")","v":"Orrell Park Medical Centre NW)"}]
["Abbey Medical Centre WM)",1,{"$f":"IF(B608=1,COUNTIF($B$61:$B608,1),\"\")","v":548},{"$f":"IFERROR(INDEX($A$61:$A$1687,MATCH(ROWS($C$61:$C608),$C$61:$C$1687,0)),\"\")","v":"Abbey Medical Centre WM)"}]
["Ombersley Medical Centre WM)",1,{"$f":"IF(B609=1,COUNTIF($B$61:$B609,1),\"\")","v":549},{"$f":"IFERROR(INDEX($A$61:$A$1687,MATCH(ROWS($C$61:$C609),$C$61:$C$1687,0)),\"\")","v":"Ombersley Medical Centre WM)"}]
["Clatterbridge Centre for Oncology Recharge",1,{"$f":"IF(B610=1,COUNTIF($B$61:$B610,1),\"\")","v":550},{"$f":"IFERROR(INDEX($A$61:$A$1687,MATCH(ROWS($C$61:$C610),$C$61:$C$1687,0)),\"\")","v":"Clatterbridge Centre for Oncology Recharge"}]
["Abbey House Medical Practice EM)",1,{"$f":"IF(B611=1,COUNTIF($B$61:$B611,1),\"\")","v":551},{"$f":"IFERROR(INDEX($A$61:$A$1687,MATCH(ROWS($C$61:$C611),$C$61:$C$1687,0)),\"\")","v":"Abbey House Medical Practice EM)"}]
["Southwell Medical Centre EM)",1,{"$f":"IF(B612=1,COUNTIF($B$61:$B612,1),\"\")","v":552},{"$f":"IFERROR(INDEX($A$61:$A$1687,MATCH(ROWS($C$61:$C612),$C$61:$C$1687,0)),\"\")","v":"Southwell Medical Centre EM)"}]
["The Greet Medical Practice WM)",1,{"$f":"IF(B613=1,COUNTIF($B$61:$B613,1),\"\")","v":553},{"$f":"IFERROR(INDEX($A$61:$A$1687,MATCH(ROWS($C$61:$C613),$C$61:$C$1687,0)),\"\")","v":"The Greet Medical Practice WM)"}]
["Karis Medical Centre WM)",1,{"$f":"IF(B614=1,COUNTIF($B$61:$B614,1),\"\")","v":554},{"$f":"IFERROR(INDEX($A$61:$A$1687,MATCH(ROWS($C$61:$C614),$C$61:$C$1687,0)),\"\")","v":"Karis Medical Centre WM)"}]
["Forest Medical EM)",1,{"$f":"IF(B615=1,COUNTIF($B$61:$B615,1),\"\")","v":555},{"$f":"IFERROR(INDEX($A$61:$A$1687,MATCH(ROWS($C$61:$C615),$C$61:$C$1687,0)),\"\")","v":"Forest Medical EM)"}]
["Stanmore Medical Group EoE)",1,{"$f":"IF(B616=1,COUNTIF($B$61:$B616,1),\"\")","v":556},{"$f":"IFERROR(INDEX($A$61:$A$1687,MATCH(ROWS($C$61:$C616),$C$61:$C$1687,0)),\"\")","v":"Stanmore Medical Group EoE)"}]
["Highview Medical Centre EoE)",1,{"$f":"IF(B617=1,COUNTIF($B$61:$B617,1),\"\")","v":557},{"$f":"IFERROR(INDEX($A$61:$A$1687,MATCH(ROWS($C$61:$C617),$C$61:$C$1687,0)),\"\")","v":"Highview Medical Centre EoE)"}]
["Bacon Road Medical Centre EoE)",1,{"$f":"IF(B618=1,COUNTIF($B$61:$B618,1),\"\")","v":558},{"$f":"IFERROR(INDEX($A$61:$A$1687,MATCH(ROWS($C$61:$C618),$C$61:$C$1687,0)),\"\")","v":"Bacon Road Medical Centre EoE)"}]
["Jacey Health Centre WM)",1,{"$f":"IF(B619=1,COUNTIF($B$61:$B619,1),\"\")","v":559},{"$f":"IFERROR(INDEX($A$61:$A$1687,MATCH(ROWS($C$61:$C619),$C$61:$C$1687,0)),\"\")","v":"Jacey Health Centre WM)"}]
["Alconbury Surgery EoE)",1,{"$f":"IF(B620=1,COUNTIF($B$61:$B620,1),\"\")","v":560},{"$f":"IFERROR(INDEX($A$61:$A$1687,MATCH(ROWS($C$61:$C620),$C$61:$C$1687,0)),\"\")","v":"Alconbury Surgery EoE)"}]
["Millgate Healthcare Partnership NW)",1,{"$f":"IF(B621=1,COUNTIF($B$61:$B621,1),\"\")","v":561},{"$f":"IFERROR(INDEX($A$61:$A$1687,MATCH(ROWS($C$61:$C621),$C$61:$C$1687,0)),\"\")","v":"Millgate Healthcare Partnership NW)"}]
["Beaumont Street Surgery TV)",1,{"$f":"IF(B622=1,COUNTIF($B$61:$B622,1),\"\")","v":562},{"$f":"IFERROR(INDEX($A$61:$A$1687,MATCH(ROWS($C$61:$C622),$C$61:$C$1687,0)),\"\")","v":"Beaumont Street Surgery TV)"}]
["Welbeck Road Health Centre EM)",1,{"$f":"IF(B623=1,COUNTIF($B$61:$B623,1),\"\")","v":563},{"$f":"IFERROR(INDEX($A$61:$A$1687,MATCH(ROWS($C$61:$C623),$C$61:$C$1687,0)),\"\")","v":"Welbeck Road Health Centre EM)"}]
["Gosberton Medical Centre EM)",1,{"$f":"IF(B624=1,COUNTIF($B$61:$B624,1),\"\")","v":564},{"$f":"IFERROR(INDEX($A$61:$A$1687,MATCH(ROWS($C$61:$C624),$C$61:$C$1687,0)),\"\")","v":"Gosberton Medical Centre EM)"}]
["Nene Vally Medical Practice EoE)",1,{"$f":"IF(B625=1,COUNTIF($B$61:$B625,1),\"\")","v":565},{"$f":"IFERROR(INDEX($A$61:$A$1687,MATCH(ROWS($C$61:$C625),$C$61:$C$1687,0)),\"\")","v":"Nene Vally Medical Practice EoE)"}]
["Jubilee Medical Centre NW)",1,{"$f":"IF(B626=1,COUNTIF($B$61:$B626,1),\"\")","v":566},{"$f":"IFERROR(INDEX($A$61:$A$1687,MATCH(ROWS($C$61:$C626),$C$61:$C$1687,0)),\"\")","v":"Jubilee Medical Centre NW)"}]
["Lockside Medical Centre NW)",1,{"$f":"IF(B627=1,COUNTIF($B$61:$B627,1),\"\")","v":567},{"$f":"IFERROR(INDEX($A$61:$A$1687,MATCH(ROWS($C$61:$C627),$C$61:$C$1687,0)),\"\")","v":"Lockside Medical Centre NW)"}]
["Buckland End Lane Surgery WM)",1,{"$f":"IF(B628=1,COUNTIF($B$61:$B628,1),\"\")","v":568},{"$f":"IFERROR(INDEX($A$61:$A$1687,MATCH(ROWS($C$61:$C628),$C$61:$C$1687,0)),\"\")","v":"Buckland End Lane Surgery WM)"}]
["Hall Grove Group Practice EoE)",1,{"$f":"IF(B629=1,COUNTIF($B$61:$B629,1),\"\")","v":569},{"$f":"IFERROR(INDEX($A$61:$A$1687,MATCH(ROWS($C$61:$C629),$C$61:$C$1687,0)),\"\")","v":"Hall Grove Group Practice EoE)"}]
["Derwent Valley Medical Practice EM)",1,{"$f":"IF(B630=1,COUNTIF($B$61:$B630,1),\"\")","v":570},{"$f":"IFERROR(INDEX($A$61:$A$1687,MATCH(ROWS($C$61:$C630),$C$61:$C$1687,0)),\"\")","v":"Derwent Valley Medical Practice EM)"}]
["Priory Fields Surgery EoE)",1,{"$f":"IF(B631=1,COUNTIF($B$61:$B631,1),\"\")","v":571},{"$f":"IFERROR(INDEX($A$61:$A$1687,MATCH(ROWS($C$61:$C631),$C$61:$C$1687,0)),\"\")","v":"Priory Fields Surgery EoE)"}]
["Cromwell Place Surgery EoE)",1,{"$f":"IF(B632=1,COUNTIF($B$61:$B632,1),\"\")","v":572},{"$f":"IFERROR(INDEX($A$61:$A$1687,MATCH(ROWS($C$61:$C632),$C$61:$C$1687,0)),\"\")","v":"Cromwell Place Surgery EoE)"}]
["Hartshill Medical Centre WM)",1,{"$f":"IF(B633=1,COUNTIF($B$61:$B633,1),\"\")","v":573},{"$f":"IFERROR(INDEX($A$61:$A$1687,MATCH(ROWS($C$61:$C633),$C$61:$C$1687,0)),\"\")","v":"Hartshill Medical Centre WM)"}]
["Bridgnorth Medical Practice WM)",1,{"$f":"IF(B634=1,COUNTIF($B$61:$B634,1),\"\")","v":574},{"$f":"IFERROR(INDEX($A$61:$A$1687,MATCH(ROWS($C$61:$C634),$C$61:$C$1687,0)),\"\")","v":"Bridgnorth Medical Practice WM)"}]
["Cheadle Medical Practice NW)",1,{"$f":"IF(B635=1,COUNTIF($B$61:$B635,1),\"\")","v":575},{"$f":"IFERROR(INDEX($A$61:$A$1687,MATCH(ROWS($C$61:$C635),$C$61:$C$1687,0)),\"\")","v":"Cheadle Medical Practice NW)"}]
["Coalway Road Medical Practice WM)",1,{"$f":"IF(B636=1,COUNTIF($B$61:$B636,1),\"\")","v":576},{"$f":"IFERROR(INDEX($A$61:$A$1687,MATCH(ROWS($C$61:$C636),$C$61:$C$1687,0)),\"\")","v":"Coalway Road Medical Practice WM)"}]
["Chet Valley Medical Practice EoE)",1,{"$f":"IF(B637=1,COUNTIF($B$61:$B637,1),\"\")","v":577},{"$f":"IFERROR(INDEX($A$61:$A$1687,MATCH(ROWS($C$61:$C637),$C$61:$C$1687,0)),\"\")","v":"Chet Valley Medical Practice EoE)"}]
["Wake Green Surgery WM)",{"$f":"--ISNUMBER(SEARCH($F$15,A638))","v":1},{"$f":"IF(B638=1,COUNTIF($B$61:$B638,1),\"\")","v":578},{"$f":"IFERROR(INDEX($A$61:$A$1687,MATCH(ROWS($C$61:$C638),$C$61:$C$1687,0)),\"\")","v":"Wake Green Surgery WM)"}]
["Blandford Medical Centre EoE)",1,{"$f":"IF(B639=1,COUNTIF($B$61:$B639,1),\"\")","v":579},{"$f":"IFERROR(INDEX($A$61:$A$1687,MATCH(ROWS($C$61:$C639),$C$61:$C$1687,0)),\"\")","v":"Blandford Medical Centre EoE)"}]
["The Limes Medical Centre Epping) EoE)",1,{"$f":"IF(B640=1,COUNTIF($B$61:$B640,1),\"\")","v":580},{"$f":"IFERROR(INDEX($A$61:$A$1687,MATCH(ROWS($C$61:$C640),$C$61:$C$1687,0)),\"\")","v":"The Limes Medical Centre Epping) EoE)"}]
["The Hedges Medical Centre EM)",1,{"$f":"IF(B641=1,COUNTIF($B$61:$B641,1),\"\")","v":581},{"$f":"IFERROR(INDEX($A$61:$A$1687,MATCH(ROWS($C$61:$C641),$C$61:$C$1687,0)),\"\")","v":"The Hedges Medical Centre EM)"}]
["The Vallance Centre NW)",1,{"$f":"IF(B642=1,COUNTIF($B$61:$B642,1),\"\")","v":582},{"$f":"IFERROR(INDEX($A$61:$A$1687,MATCH(ROWS($C$61:$C642),$C$61:$C$1687,0)),\"\")","v":"The Vallance Centre NW)"}]
["Countesthorpe Health Centre EM)",1,{"$f":"IF(B643=1,COUNTIF($B$61:$B643,1),\"\")","v":583},{"$f":"IFERROR(INDEX($A$61:$A$1687,MATCH(ROWS($C$61:$C643),$C$61:$C$1687,0)),\"\")","v":"Countesthorpe Health Centre EM)"}]
["Belgrave Medical Centre WM)",1,{"$f":"IF(B644=1,COUNTIF($B$61:$B644,1),\"\")","v":584},{"$f":"IFERROR(INDEX($A$61:$A$1687,MATCH(ROWS($C$61:$C644),$C$61:$C$1687,0)),\"\")","v":"Belgrave Medical Centre WM)"}]
["Charles Road Surgery WM)",1,{"$f":"IF(B645=1,COUNTIF($B$61:$B645,1),\"\")","v":585},{"$f":"IFERROR(INDEX($A$61:$A$1687,MATCH(ROWS($C$61:$C645),$C$61:$C$1687,0)),\"\")","v":"Charles Road Surgery WM)"}]
["Patterdale Lodge Medical Centre NW)",1,{"$f":"IF(B646=1,COUNTIF($B$61:$B646,1),\"\")","v":586},{"$f":"IFERROR(INDEX($A$61:$A$1687,MATCH(ROWS($C$61:$C646),$C$61:$C$1687,0)),\"\")","v":"Patterdale Lodge Medical Centre NW)"}]
["Lion Health WM)",1,{"$f":"IF(B647=1,COUNTIF($B$61:$B647,1),\"\")","v":587},{"$f":"IFERROR(INDEX($A$61:$A$1687,MATCH(ROWS($C$61:$C647),$C$61:$C$1687,0)),\"\")","v":"Lion Health WM)"}]
["Withnell Health Centre NW)",1,{"$f":"IF(B648=1,COUNTIF($B$61:$B648,1),\"\")","v":588},{"$f":"IFERROR(INDEX($A$61:$A$1687,MATCH(ROWS($C$61:$C648),$C$61:$C$1687,0)),\"\")","v":"Withnell Health Centre NW)"}]
["Appletree Medical Practice EM)",1,{"$f":"IF(B649=1,COUNTIF($B$61:$B649,1),\"\")","v":589},{"$f":"IFERROR(INDEX($A$61:$A$1687,MATCH(ROWS($C$61:$C649),$C$61:$C$1687,0)),\"\")","v":"Appletree Medical Practice EM)"}]
["Ascot Medical Centre TV)",1,{"$f":"IF(B650=1,COUNTIF($B$61:$B650,1),\"\")","v":590},{"$f":"IFERROR(INDEX($A$61:$A$1687,MATCH(ROWS($C$61:$C650),$C$61:$C$1687,0)),\"\")","v":"Ascot Medical Centre TV)"}]
["Priory Gate Practice WM)",1,{"$f":"IF(B651=1,COUNTIF($B$61:$B651,1),\"\")","v":591},{"$f":"IFERROR(INDEX($A$61:$A$1687,MATCH(ROWS($C$61:$C651),$C$61:$C$1687,0)),\"\")","v":"Priory Gate Practice WM)"}]
["Newnham Walk Surgery EoE)",1,{"$f":"IF(B652=1,COUNTIF($B$61:$B652,1),\"\")","v":592},{"$f":"IFERROR(INDEX($A$61:$A$1687,MATCH(ROWS($C$61:$C652),$C$61:$C$1687,0)),\"\")","v":"Newnham Walk Surgery EoE)"}]
["Crich Medical Practice EM)",1,{"$f":"IF(B653=1,COUNTIF($B$61:$B653,1),\"\")","v":593},{"$f":"IFERROR(INDEX($A$61:$A$1687,MATCH(ROWS($C$61:$C653),$C$61:$C$1687,0)),\"\")","v":"Crich Medical Practice EM)"}]
["Grove Medical Centre EoE)",1,{"$f":"IF(B654=1,COUNTIF($B$61:$B654,1),\"\")","v":594},{"$f":"IFERROR(INDEX($A$61:$A$1687,MATCH(ROWS($C$61:$C654),$C$61:$C$1687,0)),\"\")","v":"Grove Medical Centre EoE)"}]
["Hazelmere Medical Centre EM)",1,{"$f":"IF(B655=1,COUNTIF($B$61:$B655,1),\"\")","v":595},{"$f":"IFERROR(INDEX($A$61:$A$1687,MATCH(ROWS($C$61:$C655),$C$61:$C$1687,0)),\"\")","v":"Hazelmere Medical Centre EM)"}]
["Helsby Health Centre NW)",1,{"$f":"IF(B656=1,COUNTIF($B$61:$B656,1),\"\")","v":596},{"$f":"IFERROR(INDEX($A$61:$A$1687,MATCH(ROWS($C$61:$C656),$C$61:$C$1687,0)),\"\")","v":"Helsby Health Centre NW)"}]
["Hollinwood Medical Practice NW)",1,{"$f":"IF(B657=1,COUNTIF($B$61:$B657,1),\"\")","v":597},{"$f":"IFERROR(INDEX($A$61:$A$1687,MATCH(ROWS($C$61:$C657),$C$61:$C$1687,0)),\"\")","v":"Hollinwood Medical Practice NW)"}]
["Eynsham Medical Centre TV)",1,{"$f":"IF(B658=1,COUNTIF($B$61:$B658,1),\"\")","v":598},{"$f":"IFERROR(INDEX($A$61:$A$1687,MATCH(ROWS($C$61:$C658),$C$61:$C$1687,0)),\"\")","v":"Eynsham Medical Centre TV)"}]
["The Deepings Practice EoE)",1,{"$f":"IF(B659=1,COUNTIF($B$61:$B659,1),\"\")","v":599},{"$f":"IFERROR(INDEX($A$61:$A$1687,MATCH(ROWS($C$61:$C659),$C$61:$C$1687,0)),\"\")","v":"The Deepings Practice EoE)"}]
["Laindon Health Centre EoE)",1,{"$f":"IF(B660=1,COUNTIF($B$61:$B660,1),\"\")","v":600},{"$f":"IFERROR(INDEX($A$61:$A$1687,MATCH(ROWS($C$61:$C660),$C$61:$C$1687,0)),\"\")","v":"Laindon Health Centre EoE)"}]
["EOE Public Health GP Recharges",1,{"$f":"IF(B661=1,COUNTIF($B$61:$B661,1),\"\")","v":601},{"$f":"IFERROR(INDEX($A$61:$A$1687,MATCH(ROWS($C$61:$C661),$C$61:$C$1687,0)),\"\")","v":"EOE Public Health GP Recharges"}]
["Cumberland House Surgery NW)",1,{"$f":"IF(B662=1,COUNTIF($B$61:$B662,1),\"\")","v":602},{"$f":"IFERROR(INDEX($A$61:$A$1687,MATCH(ROWS($C$61:$C662),$C$61:$C$1687,0)),\"\")","v":"Cumberland House Surgery NW)"}]
["Marie Curie Centre Liverpool Recharge",1,{"$f":"IF(B663=1,COUNTIF($B$61:$B663,1),\"\")","v":603},{"$f":"IFERROR(INDEX($A$61:$A$1687,MATCH(ROWS($C$61:$C663),$C$61:$C$1687,0)),\"\")","v":"Marie Curie Centre Liverpool Recharge"}]
["The Greensward Surgery EoE)",1,{"$f":"IF(B664=1,COUNTIF($B$61:$B664,1),\"\")","v":604},{"$f":"IFERROR(INDEX($A$61:$A$1687,MATCH(ROWS($C$61:$C664),$C$61:$C$1687,0)),\"\")","v":"The Greensward Surgery EoE)"}]
["Lancaster Medical Practice NW)",1,{"$f":"IF(B665=1,COUNTIF($B$61:$B665,1),\"\")","v":605},{"$f":"IFERROR(INDEX($A$61:$A$1687,MATCH(ROWS($C$61:$C665),$C$61:$C$1687,0)),\"\")","v":"Lancaster Medical Practice NW)"}]
["Bournbrook Varsity Medical Centre WM)",1,{"$f":"IF(B666=1,COUNTIF($B$61:$B666,1),\"\")","v":606},{"$f":"IFERROR(INDEX($A$61:$A$1687,MATCH(ROWS($C$61:$C666),$C$61:$C$1687,0)),\"\")","v":"Bournbrook Varsity Medical Centre WM)"}]
["Dove River Practice EM)",1,{"$f":"IF(B667=1,COUNTIF($B$61:$B667,1),\"\")","v":607},{"$f":"IFERROR(INDEX($A$61:$A$1687,MATCH(ROWS($C$61:$C667),$C$61:$C$1687,0)),\"\")","v":"Dove River Practice EM)"}]
["Vauxhall Health Centre NW)",1,{"$f":"IF(B668=1,COUNTIF($B$61:$B668,1),\"\")","v":608},{"$f":"IFERROR(INDEX($A$61:$A$1687,MATCH(ROWS($C$61:$C668),$C$61:$C$1687,0)),\"\")","v":"Vauxhall Health Centre NW)"}]
["Davenport House Surgery EoE)",1,{"$f":"IF(B669=1,COUNTIF($B$61:$B669,1),\"\")","v":609},{"$f":"IFERROR(INDEX($A$61:$A$1687,MATCH(ROWS($C$61:$C669),$C$61:$C$1687,0)),\"\")","v":"Davenport House Surgery EoE)"}]
["Rough Hay Surgery WM)",1,{"$f":"IF(B670=1,COUNTIF($B$61:$B670,1),\"\")","v":610},{"$f":"IFERROR(INDEX($A$61:$A$1687,MATCH(ROWS($C$61:$C670),$C$61:$C$1687,0)),\"\")","v":"Rough Hay Surgery WM)"}]
["Corbett Medical Practice WM)",1,{"$f":"IF(B671=1,COUNTIF($B$61:$B671,1),\"\")","v":611},{"$f":"IFERROR(INDEX($A$61:$A$1687,MATCH(ROWS($C$61:$C671),$C$61:$C$1687,0)),\"\")","v":"Corbett Medical Practice WM)"}]
["Bakewell Medical Centre EM)",1,{"$f":"IF(B672=1,COUNTIF($B$61:$B672,1),\"\")","v":612},{"$f":"IFERROR(INDEX($A$61:$A$1687,MATCH(ROWS($C$61:$C672),$C$61:$C$1687,0)),\"\")","v":"Bakewell Medical Centre EM)"}]
["Flitwick Surgery EoE)",1,{"$f":"IF(B673=1,COUNTIF($B$61:$B673,1),\"\")","v":613},{"$f":"IFERROR(INDEX($A$61:$A$1687,MATCH(ROWS($C$61:$C673),$C$61:$C$1687,0)),\"\")","v":"Flitwick Surgery EoE)"}]
["The Surgery NW)",1,{"$f":"IF(B674=1,COUNTIF($B$61:$B674,1),\"\")","v":614},{"$f":"IFERROR(INDEX($A$61:$A$1687,MATCH(ROWS($C$61:$C674),$C$61:$C$1687,0)),\"\")","v":"The Surgery NW)"}]
["Parbold Surgery NW)",1,{"$f":"IF(B675=1,COUNTIF($B$61:$B675,1),\"\")","v":615},{"$f":"IFERROR(INDEX($A$61:$A$1687,MATCH(ROWS($C$61:$C675),$C$61:$C$1687,0)),\"\")","v":"Parbold Surgery NW)"}]
["Neston Surgery NW)",1,{"$f":"IF(B676=1,COUNTIF($B$61:$B676,1),\"\")","v":616},{"$f":"IFERROR(INDEX($A$61:$A$1687,MATCH(ROWS($C$61:$C676),$C$61:$C$1687,0)),\"\")","v":"Neston Surgery NW)"}]
["The Surgery - Dr Khatri & Partners NW)",1,{"$f":"IF(B677=1,COUNTIF($B$61:$B677,1),\"\")","v":617},{"$f":"IFERROR(INDEX($A$61:$A$1687,MATCH(ROWS($C$61:$C677),$C$61:$C$1687,0)),\"\")","v":"The Surgery - Dr Khatri & Partners NW)"}]
["Alton Street Surgery WM)",1,{"$f":"IF(B678=1,COUNTIF($B$61:$B678,1),\"\")","v":618},{"$f":"IFERROR(INDEX($A$61:$A$1687,MATCH(ROWS($C$61:$C678),$C$61:$C$1687,0)),\"\")","v":"Alton Street Surgery WM)"}]
["Hollow Way Medical Centre TV)",1,{"$f":"IF(B679=1,COUNTIF($B$61:$B679,1),\"\")","v":619},{"$f":"IFERROR(INDEX($A$61:$A$1687,MATCH(ROWS($C$61:$C679),$C$61:$C$1687,0)),\"\")","v":"Hollow Way Medical Centre TV)"}]
["Granta Medical Practices EoE)",1,{"$f":"IF(B680=1,COUNTIF($B$61:$B680,1),\"\")","v":620},{"$f":"IFERROR(INDEX($A$61:$A$1687,MATCH(ROWS($C$61:$C680),$C$61:$C$1687,0)),\"\")","v":"Granta Medical Practices EoE)"}]
["Horncastle Medical Group EM)",1,{"$f":"IF(B681=1,COUNTIF($B$61:$B681,1),\"\")","v":621},{"$f":"IFERROR(INDEX($A$61:$A$1687,MATCH(ROWS($C$61:$C681),$C$61:$C$1687,0)),\"\")","v":"Horncastle Medical Group EM)"}]
["Robert Jones & Agnes Hunt Orthopaedic Hospital NHS",1,{"$f":"IF(B682=1,COUNTIF($B$61:$B682,1),\"\")","v":622},{"$f":"IFERROR(INDEX($A$61:$A$1687,MATCH(ROWS($C$61:$C682),$C$61:$C$1687,0)),\"\")","v":"Robert Jones & Agnes Hunt Orthopaedic Hospital NHS"}]
["Bridge Cottage Surgery EoE)",1,{"$f":"IF(B683=1,COUNTIF($B$61:$B683,1),\"\")","v":623},{"$f":"IFERROR(INDEX($A$61:$A$1687,MATCH(ROWS($C$61:$C683),$C$61:$C$1687,0)),\"\")","v":"Bridge Cottage Surgery EoE)"}]
["Southam Surgery WM)",1,{"$f":"IF(B684=1,COUNTIF($B$61:$B684,1),\"\")","v":624},{"$f":"IFERROR(INDEX($A$61:$A$1687,MATCH(ROWS($C$61:$C684),$C$61:$C$1687,0)),\"\")","v":"Southam Surgery WM)"}]
["Milton Keynes Urgent Care Centre TV)",1,{"$f":"IF(B685=1,COUNTIF($B$61:$B685,1),\"\")","v":625},{"$f":"IFERROR(INDEX($A$61:$A$1687,MATCH(ROWS($C$61:$C685),$C$61:$C$1687,0)),\"\")","v":"Milton Keynes Urgent Care Centre TV)"}]
["Regent House Surgery NW)",1,{"$f":"IF(B686=1,COUNTIF($B$61:$B686,1),\"\")","v":626},{"$f":"IFERROR(INDEX($A$61:$A$1687,MATCH(ROWS($C$61:$C686),$C$61:$C$1687,0)),\"\")","v":"Regent House Surgery NW)"}]
["Glebedale Medical Practice WM)",1,{"$f":"IF(B687=1,COUNTIF($B$61:$B687,1),\"\")","v":627},{"$f":"IFERROR(INDEX($A$61:$A$1687,MATCH(ROWS($C$61:$C687),$C$61:$C$1687,0)),\"\")","v":"Glebedale Medical Practice WM)"}]
["South Essex Partnership University NHS Foundation Trust",1,{"$f":"IF(B688=1,COUNTIF($B$61:$B688,1),\"\")","v":628},{"$f":"IFERROR(INDEX($A$61:$A$1687,MATCH(ROWS($C$61:$C688),$C$61:$C$1687,0)),\"\")","v":"South Essex Partnership University NHS Foundation Trust"}]
["Eskdaill Medical Centre EM)",1,{"$f":"IF(B689=1,COUNTIF($B$61:$B689,1),\"\")","v":629},{"$f":"IFERROR(INDEX($A$61:$A$1687,MATCH(ROWS($C$61:$C689),$C$61:$C$1687,0)),\"\")","v":"Eskdaill Medical Centre EM)"}]
["The High Street Surgery WM)",1,{"$f":"IF(B690=1,COUNTIF($B$61:$B690,1),\"\")","v":630},{"$f":"IFERROR(INDEX($A$61:$A$1687,MATCH(ROWS($C$61:$C690),$C$61:$C$1687,0)),\"\")","v":"The High Street Surgery WM)"}]
["Halesowen Medical Practice St Marys WM)",1,{"$f":"IF(B691=1,COUNTIF($B$61:$B691,1),\"\")","v":631},{"$f":"IFERROR(INDEX($A$61:$A$1687,MATCH(ROWS($C$61:$C691),$C$61:$C$1687,0)),\"\")","v":"Halesowen Medical Practice St Marys WM)"}]
["Castlefields Health Centre NW)",1,{"$f":"IF(B692=1,COUNTIF($B$61:$B692,1),\"\")","v":632},{"$f":"IFERROR(INDEX($A$61:$A$1687,MATCH(ROWS($C$61:$C692),$C$61:$C$1687,0)),\"\")","v":"Castlefields Health Centre NW)"}]
["Bramhall & Shaw Heath Medical Group NW)",1,{"$f":"IF(B693=1,COUNTIF($B$61:$B693,1),\"\")","v":633},{"$f":"IFERROR(INDEX($A$61:$A$1687,MATCH(ROWS($C$61:$C693),$C$61:$C$1687,0)),\"\")","v":"Bramhall & Shaw Heath Medical Group NW)"}]
["Hazelwood Group Practice WM)",1,{"$f":"IF(B694=1,COUNTIF($B$61:$B694,1),\"\")","v":634},{"$f":"IFERROR(INDEX($A$61:$A$1687,MATCH(ROWS($C$61:$C694),$C$61:$C$1687,0)),\"\")","v":"Hazelwood Group Practice WM)"}]
["East Leake Medical Group EM)",1,{"$f":"IF(B695=1,COUNTIF($B$61:$B695,1),\"\")","v":635},{"$f":"IFERROR(INDEX($A$61:$A$1687,MATCH(ROWS($C$61:$C695),$C$61:$C$1687,0)),\"\")","v":"East Leake Medical Group EM)"}]
["Hampton Surgery WM)",1,{"$f":"IF(B696=1,COUNTIF($B$61:$B696,1),\"\")","v":636},{"$f":"IFERROR(INDEX($A$61:$A$1687,MATCH(ROWS($C$61:$C696),$C$61:$C$1687,0)),\"\")","v":"Hampton Surgery WM)"}]
["Westdale Lane Surgery EM)",1,{"$f":"IF(B697=1,COUNTIF($B$61:$B697,1),\"\")","v":637},{"$f":"IFERROR(INDEX($A$61:$A$1687,MATCH(ROWS($C$61:$C697),$C$61:$C$1687,0)),\"\")","v":"Westdale Lane Surgery EM)"}]
["Trinity & Bowthorpe Medical Practice EoE)",1,{"$f":"IF(B698=1,COUNTIF($B$61:$B698,1),\"\")","v":638},{"$f":"IFERROR(INDEX($A$61:$A$1687,MATCH(ROWS($C$61:$C698),$C$61:$C$1687,0)),\"\")","v":"Trinity & Bowthorpe Medical Practice EoE)"}]
["Birchwood Medical Centre NW)",1,{"$f":"IF(B699=1,COUNTIF($B$61:$B699,1),\"\")","v":639},{"$f":"IFERROR(INDEX($A$61:$A$1687,MATCH(ROWS($C$61:$C699),$C$61:$C$1687,0)),\"\")","v":"Birchwood Medical Centre NW)"}]
["Hailey View Surgery EoE)",1,{"$f":"IF(B700=1,COUNTIF($B$61:$B700,1),\"\")","v":640},{"$f":"IFERROR(INDEX($A$61:$A$1687,MATCH(ROWS($C$61:$C700),$C$61:$C$1687,0)),\"\")","v":"Hailey View Surgery EoE)"}]
["Collingham Medical Centre EM)",1,{"$f":"IF(B701=1,COUNTIF($B$61:$B701,1),\"\")","v":641},{"$f":"IFERROR(INDEX($A$61:$A$1687,MATCH(ROWS($C$61:$C701),$C$61:$C$1687,0)),\"\")","v":"Collingham Medical Centre EM)"}]
["Bedworth Health Centre WM)",{"$f":"--ISNUMBER(SEARCH($F$15,A702))","v":1},{"$f":"IF(B702=1,COUNTIF($B$61:$B702,1),\"\")","v":642},{"$f":"IFERROR(INDEX($A$61:$A$1687,MATCH(ROWS($C$61:$C702),$C$61:$C$1687,0)),\"\")","v":"Bedworth Health Centre WM)"}]
["The Hicks Group Practice EoE)",1,{"$f":"IF(B703=1,COUNTIF($B$61:$B703,1),\"\")","v":643},{"$f":"IFERROR(INDEX($A$61:$A$1687,MATCH(ROWS($C$61:$C703),$C$61:$C$1687,0)),\"\")","v":"The Hicks Group Practice EoE)"}]
["The Ridgeway Surgery WM)",1,{"$f":"IF(B704=1,COUNTIF($B$61:$B704,1),\"\")","v":644},{"$f":"IFERROR(INDEX($A$61:$A$1687,MATCH(ROWS($C$61:$C704),$C$61:$C$1687,0)),\"\")","v":"The Ridgeway Surgery WM)"}]
["Holland Park Surgery NW)",1,{"$f":"IF(B705=1,COUNTIF($B$61:$B705,1),\"\")","v":645},{"$f":"IFERROR(INDEX($A$61:$A$1687,MATCH(ROWS($C$61:$C705),$C$61:$C$1687,0)),\"\")","v":"Holland Park Surgery NW)"}]
["Bridge Street Medical Practice EM)",1,{"$f":"IF(B706=1,COUNTIF($B$61:$B706,1),\"\")","v":646},{"$f":"IFERROR(INDEX($A$61:$A$1687,MATCH(ROWS($C$61:$C706),$C$61:$C$1687,0)),\"\")","v":"Bridge Street Medical Practice EM)"}]
["Bevan Group Practice NW)",1,{"$f":"IF(B707=1,COUNTIF($B$61:$B707,1),\"\")","v":647},{"$f":"IFERROR(INDEX($A$61:$A$1687,MATCH(ROWS($C$61:$C707),$C$61:$C$1687,0)),\"\")","v":"Bevan Group Practice NW)"}]
["Salters Meadow Health Centre",1,{"$f":"IF(B708=1,COUNTIF($B$61:$B708,1),\"\")","v":648},{"$f":"IFERROR(INDEX($A$61:$A$1687,MATCH(ROWS($C$61:$C708),$C$61:$C$1687,0)),\"\")","v":"Salters Meadow Health Centre"}]
["Kingsbridge Medical Centre WM)",1,{"$f":"IF(B709=1,COUNTIF($B$61:$B709,1),\"\")","v":649},{"$f":"IFERROR(INDEX($A$61:$A$1687,MATCH(ROWS($C$61:$C709),$C$61:$C$1687,0)),\"\")","v":"Kingsbridge Medical Centre WM)"}]
["Ashley Surgery WM)",1,{"$f":"IF(B710=1,COUNTIF($B$61:$B710,1),\"\")","v":650},{"$f":"IFERROR(INDEX($A$61:$A$1687,MATCH(ROWS($C$61:$C710),$C$61:$C$1687,0)),\"\")","v":"Ashley Surgery WM)"}]
["The Margaret Thompson Medical Centre NW)",1,{"$f":"IF(B711=1,COUNTIF($B$61:$B711,1),\"\")","v":651},{"$f":"IFERROR(INDEX($A$61:$A$1687,MATCH(ROWS($C$61:$C711),$C$61:$C$1687,0)),\"\")","v":"The Margaret Thompson Medical Centre NW)"}]
["Unsworth Group Practice NW)",1,{"$f":"IF(B712=1,COUNTIF($B$61:$B712,1),\"\")","v":652},{"$f":"IFERROR(INDEX($A$61:$A$1687,MATCH(ROWS($C$61:$C712),$C$61:$C$1687,0)),\"\")","v":"Unsworth Group Practice NW)"}]
["The Manor Surgery EM)",1,{"$f":"IF(B713=1,COUNTIF($B$61:$B713,1),\"\")","v":653},{"$f":"IFERROR(INDEX($A$61:$A$1687,MATCH(ROWS($C$61:$C713),$C$61:$C$1687,0)),\"\")","v":"The Manor Surgery EM)"}]
["Orient Road Medical Practice NW)",1,{"$f":"IF(B714=1,COUNTIF($B$61:$B714,1),\"\")","v":654},{"$f":"IFERROR(INDEX($A$61:$A$1687,MATCH(ROWS($C$61:$C714),$C$61:$C$1687,0)),\"\")","v":"Orient Road Medical Practice NW)"}]
["Great Homer Street Medical Centre NW)",1,{"$f":"IF(B715=1,COUNTIF($B$61:$B715,1),\"\")","v":655},{"$f":"IFERROR(INDEX($A$61:$A$1687,MATCH(ROWS($C$61:$C715),$C$61:$C$1687,0)),\"\")","v":"Great Homer Street Medical Centre NW)"}]
["Rosemead Surgery TV)",1,{"$f":"IF(B716=1,COUNTIF($B$61:$B716,1),\"\")","v":656},{"$f":"IFERROR(INDEX($A$61:$A$1687,MATCH(ROWS($C$61:$C716),$C$61:$C$1687,0)),\"\")","v":"Rosemead Surgery TV)"}]
["Latham House Medical Practice EM)",1,{"$f":"IF(B717=1,COUNTIF($B$61:$B717,1),\"\")","v":657},{"$f":"IFERROR(INDEX($A$61:$A$1687,MATCH(ROWS($C$61:$C717),$C$61:$C$1687,0)),\"\")","v":"Latham House Medical Practice EM)"}]
["Colchester VTS",1,{"$f":"IF(B718=1,COUNTIF($B$61:$B718,1),\"\")","v":658},{"$f":"IFERROR(INDEX($A$61:$A$1687,MATCH(ROWS($C$61:$C718),$C$61:$C$1687,0)),\"\")","v":"Colchester VTS"}]
["Hollybrook Medical Centre EM)",1,{"$f":"IF(B719=1,COUNTIF($B$61:$B719,1),\"\")","v":659},{"$f":"IFERROR(INDEX($A$61:$A$1687,MATCH(ROWS($C$61:$C719),$C$61:$C$1687,0)),\"\")","v":"Hollybrook Medical Centre EM)"}]
["Greyfriars Surgery EM)",1,{"$f":"IF(B720=1,COUNTIF($B$61:$B720,1),\"\")","v":660},{"$f":"IFERROR(INDEX($A$61:$A$1687,MATCH(ROWS($C$61:$C720),$C$61:$C$1687,0)),\"\")","v":"Greyfriars Surgery EM)"}]
["East Norfolk Medical Practice EoE)",1,{"$f":"IF(B721=1,COUNTIF($B$61:$B721,1),\"\")","v":661},{"$f":"IFERROR(INDEX($A$61:$A$1687,MATCH(ROWS($C$61:$C721),$C$61:$C$1687,0)),\"\")","v":"East Norfolk Medical Practice EoE)"}]
["Bridge Road Medical Centre NW)",1,{"$f":"IF(B722=1,COUNTIF($B$61:$B722,1),\"\")","v":662},{"$f":"IFERROR(INDEX($A$61:$A$1687,MATCH(ROWS($C$61:$C722),$C$61:$C$1687,0)),\"\")","v":"Bridge Road Medical Centre NW)"}]
["Wolverhampton Road Surgery WM)",1,{"$f":"IF(B723=1,COUNTIF($B$61:$B723,1),\"\")","v":663},{"$f":"IFERROR(INDEX($A$61:$A$1687,MATCH(ROWS($C$61:$C723),$C$61:$C$1687,0)),\"\")","v":"Wolverhampton Road Surgery WM)"}]
["Musters Medical Practice EM)",1,{"$f":"IF(B724=1,COUNTIF($B$61:$B724,1),\"\")","v":664},{"$f":"IFERROR(INDEX($A$61:$A$1687,MATCH(ROWS($C$61:$C724),$C$61:$C$1687,0)),\"\")","v":"Musters Medical Practice EM)"}]
["Market Harborough Medical Centre EM)",1,{"$f":"IF(B725=1,COUNTIF($B$61:$B725,1),\"\")","v":665},{"$f":"IFERROR(INDEX($A$61:$A$1687,MATCH(ROWS($C$61:$C725),$C$61:$C$1687,0)),\"\")","v":"Market Harborough Medical Centre EM)"}]
["Kenyon Medical Practice WM)",1,{"$f":"IF(B726=1,COUNTIF($B$61:$B726,1),\"\")","v":666},{"$f":"IFERROR(INDEX($A$61:$A$1687,MATCH(ROWS($C$61:$C726),$C$61:$C$1687,0)),\"\")","v":"Kenyon Medical Practice WM)"}]
["Cambridgeshire Community Services NHS Trust",1,{"$f":"IF(B727=1,COUNTIF($B$61:$B727,1),\"\")","v":667},{"$f":"IFERROR(INDEX($A$61:$A$1687,MATCH(ROWS($C$61:$C727),$C$61:$C$1687,0)),\"\")","v":"Cambridgeshire Community Services NHS Trust"}]
["West Wirral Group Practice NW)",1,{"$f":"IF(B728=1,COUNTIF($B$61:$B728,1),\"\")","v":668},{"$f":"IFERROR(INDEX($A$61:$A$1687,MATCH(ROWS($C$61:$C728),$C$61:$C$1687,0)),\"\")","v":"West Wirral Group Practice NW)"}]
["Govind Medical Centre WM)",1,{"$f":"IF(B729=1,COUNTIF($B$61:$B729,1),\"\")","v":669},{"$f":"IFERROR(INDEX($A$61:$A$1687,MATCH(ROWS($C$61:$C729),$C$61:$C$1687,0)),\"\")","v":"Govind Medical Centre WM)"}]
["Forest House Medical Centre EM)",1,{"$f":"IF(B730=1,COUNTIF($B$61:$B730,1),\"\")","v":670},{"$f":"IFERROR(INDEX($A$61:$A$1687,MATCH(ROWS($C$61:$C730),$C$61:$C$1687,0)),\"\")","v":"Forest House Medical Centre EM)"}]
["Snowhill Medical Centre WM)",1,{"$f":"IF(B731=1,COUNTIF($B$61:$B731,1),\"\")","v":671},{"$f":"IFERROR(INDEX($A$61:$A$1687,MATCH(ROWS($C$61:$C731),$C$61:$C$1687,0)),\"\")","v":"Snowhill Medical Centre WM)"}]
["Carlton Street Surgery WM)",1,{"$f":"IF(B732=1,COUNTIF($B$61:$B732,1),\"\")","v":672},{"$f":"IFERROR(INDEX($A$61:$A$1687,MATCH(ROWS($C$61:$C732),$C$61:$C$1687,0)),\"\")","v":"Carlton Street Surgery WM)"}]
["New Collegiate Medical Centre NW)",1,{"$f":"IF(B733=1,COUNTIF($B$61:$B733,1),\"\")","v":673},{"$f":"IFERROR(INDEX($A$61:$A$1687,MATCH(ROWS($C$61:$C733),$C$61:$C$1687,0)),\"\")","v":"New Collegiate Medical Centre NW)"}]
["Tutbury Health Centre WM)",1,{"$f":"IF(B734=1,COUNTIF($B$61:$B734,1),\"\")","v":674},{"$f":"IFERROR(INDEX($A$61:$A$1687,MATCH(ROWS($C$61:$C734),$C$61:$C$1687,0)),\"\")","v":"Tutbury Health Centre WM)"}]
["Tudor Medical Centre WM)",1,{"$f":"IF(B735=1,COUNTIF($B$61:$B735,1),\"\")","v":675},{"$f":"IFERROR(INDEX($A$61:$A$1687,MATCH(ROWS($C$61:$C735),$C$61:$C$1687,0)),\"\")","v":"Tudor Medical Centre WM)"}]
["St Hilary Group Practice NW)",1,{"$f":"IF(B736=1,COUNTIF($B$61:$B736,1),\"\")","v":676},{"$f":"IFERROR(INDEX($A$61:$A$1687,MATCH(ROWS($C$61:$C736),$C$61:$C$1687,0)),\"\")","v":"St Hilary Group Practice NW)"}]
["Castle Medical Group EM)",1,{"$f":"IF(B737=1,COUNTIF($B$61:$B737,1),\"\")","v":677},{"$f":"IFERROR(INDEX($A$61:$A$1687,MATCH(ROWS($C$61:$C737),$C$61:$C$1687,0)),\"\")","v":"Castle Medical Group EM)"}]
["Bourn Surgery EoE)",1,{"$f":"IF(B738=1,COUNTIF($B$61:$B738,1),\"\")","v":678},{"$f":"IFERROR(INDEX($A$61:$A$1687,MATCH(ROWS($C$61:$C738),$C$61:$C$1687,0)),\"\")","v":"Bourn Surgery EoE)"}]
["The Glenside Country Practice EM)",1,{"$f":"IF(B739=1,COUNTIF($B$61:$B739,1),\"\")","v":679},{"$f":"IFERROR(INDEX($A$61:$A$1687,MATCH(ROWS($C$61:$C739),$C$61:$C$1687,0)),\"\")","v":"The Glenside Country Practice EM)"}]
["Wychbury Medical Centre WM)",1,{"$f":"IF(B740=1,COUNTIF($B$61:$B740,1),\"\")","v":680},{"$f":"IFERROR(INDEX($A$61:$A$1687,MATCH(ROWS($C$61:$C740),$C$61:$C$1687,0)),\"\")","v":"Wychbury Medical Centre WM)"}]
["Acorn Surgery EoE)",1,{"$f":"IF(B741=1,COUNTIF($B$61:$B741,1),\"\")","v":681},{"$f":"IFERROR(INDEX($A$61:$A$1687,MATCH(ROWS($C$61:$C741),$C$61:$C$1687,0)),\"\")","v":"Acorn Surgery EoE)"}]
["Brooklyn Medical Practice EM)",1,{"$f":"IF(B742=1,COUNTIF($B$61:$B742,1),\"\")","v":682},{"$f":"IFERROR(INDEX($A$61:$A$1687,MATCH(ROWS($C$61:$C742),$C$61:$C$1687,0)),\"\")","v":"Brooklyn Medical Practice EM)"}]
["Woodland Road Surgery WM)",1,{"$f":"IF(B743=1,COUNTIF($B$61:$B743,1),\"\")","v":683},{"$f":"IFERROR(INDEX($A$61:$A$1687,MATCH(ROWS($C$61:$C743),$C$61:$C$1687,0)),\"\")","v":"Woodland Road Surgery WM)"}]
["42 Kingsway NW)",1,{"$f":"IF(B744=1,COUNTIF($B$61:$B744,1),\"\")","v":684},{"$f":"IFERROR(INDEX($A$61:$A$1687,MATCH(ROWS($C$61:$C744),$C$61:$C$1687,0)),\"\")","v":"42 Kingsway NW)"}]
["Ashbourne Medical Practice EM)",1,{"$f":"IF(B745=1,COUNTIF($B$61:$B745,1),\"\")","v":685},{"$f":"IFERROR(INDEX($A$61:$A$1687,MATCH(ROWS($C$61:$C745),$C$61:$C$1687,0)),\"\")","v":"Ashbourne Medical Practice EM)"}]
["Somercotes Medical Centre EM)",1,{"$f":"IF(B746=1,COUNTIF($B$61:$B746,1),\"\")","v":686},{"$f":"IFERROR(INDEX($A$61:$A$1687,MATCH(ROWS($C$61:$C746),$C$61:$C$1687,0)),\"\")","v":"Somercotes Medical Centre EM)"}]
["Four Acre Health Centre NW)",1,{"$f":"IF(B747=1,COUNTIF($B$61:$B747,1),\"\")","v":687},{"$f":"IFERROR(INDEX($A$61:$A$1687,MATCH(ROWS($C$61:$C747),$C$61:$C$1687,0)),\"\")","v":"Four Acre Health Centre NW)"}]
["Blackheath Medical Centre NW)",1,{"$f":"IF(B748=1,COUNTIF($B$61:$B748,1),\"\")","v":688},{"$f":"IFERROR(INDEX($A$61:$A$1687,MATCH(ROWS($C$61:$C748),$C$61:$C$1687,0)),\"\")","v":"Blackheath Medical Centre NW)"}]
["The Pall Mall Surgery EoE)",1,{"$f":"IF(B749=1,COUNTIF($B$61:$B749,1),\"\")","v":689},{"$f":"IFERROR(INDEX($A$61:$A$1687,MATCH(ROWS($C$61:$C749),$C$61:$C$1687,0)),\"\")","v":"The Pall Mall Surgery EoE)"}]
["Rivermead Gate Medical Centre EoE)",1,{"$f":"IF(B750=1,COUNTIF($B$61:$B750,1),\"\")","v":690},{"$f":"IFERROR(INDEX($A$61:$A$1687,MATCH(ROWS($C$61:$C750),$C$61:$C$1687,0)),\"\")","v":"Rivermead Gate Medical Centre EoE)"}]
["Newthorpe Medical Practice EM)",1,{"$f":"IF(B751=1,COUNTIF($B$61:$B751,1),\"\")","v":691},{"$f":"IFERROR(INDEX($A$61:$A$1687,MATCH(ROWS($C$61:$C751),$C$61:$C$1687,0)),\"\")","v":"Newthorpe Medical Practice EM)"}]
["Riversdale Surgery EM)",1,{"$f":"IF(B752=1,COUNTIF($B$61:$B752,1),\"\")","v":692},{"$f":"IFERROR(INDEX($A$61:$A$1687,MATCH(ROWS($C$61:$C752),$C$61:$C$1687,0)),\"\")","v":"Riversdale Surgery EM)"}]
["Ramsey Health Centre EoE)",1,{"$f":"IF(B753=1,COUNTIF($B$61:$B753,1),\"\")","v":693},{"$f":"IFERROR(INDEX($A$61:$A$1687,MATCH(ROWS($C$61:$C753),$C$61:$C$1687,0)),\"\")","v":"Ramsey Health Centre EoE)"}]
["Pilgrims Hospice in East Kent LaSE)",1,{"$f":"IF(B754=1,COUNTIF($B$61:$B754,1),\"\")","v":694},{"$f":"IFERROR(INDEX($A$61:$A$1687,MATCH(ROWS($C$61:$C754),$C$61:$C$1687,0)),\"\")","v":"Pilgrims Hospice in East Kent LaSE)"}]
["London Road Health Centre EoE)",1,{"$f":"IF(B755=1,COUNTIF($B$61:$B755,1),\"\")","v":695},{"$f":"IFERROR(INDEX($A$61:$A$1687,MATCH(ROWS($C$61:$C755),$C$61:$C$1687,0)),\"\")","v":"London Road Health Centre EoE)"}]
["The Rycote Practice TV)",1,{"$f":"IF(B756=1,COUNTIF($B$61:$B756,1),\"\")","v":696},{"$f":"IFERROR(INDEX($A$61:$A$1687,MATCH(ROWS($C$61:$C756),$C$61:$C$1687,0)),\"\")","v":"The Rycote Practice TV)"}]
["Carters Green Medical Centre WM)",1,{"$f":"IF(B757=1,COUNTIF($B$61:$B757,1),\"\")","v":697},{"$f":"IFERROR(INDEX($A$61:$A$1687,MATCH(ROWS($C$61:$C757),$C$61:$C$1687,0)),\"\")","v":"Carters Green Medical Centre WM)"}]
["Folly Lane Medical Centre NW)",1,{"$f":"IF(B758=1,COUNTIF($B$61:$B758,1),\"\")","v":698},{"$f":"IFERROR(INDEX($A$61:$A$1687,MATCH(ROWS($C$61:$C758),$C$61:$C$1687,0)),\"\")","v":"Folly Lane Medical Centre NW)"}]
["Stockbridge Village Health Centre NW)",1,{"$f":"IF(B759=1,COUNTIF($B$61:$B759,1),\"\")","v":699},{"$f":"IFERROR(INDEX($A$61:$A$1687,MATCH(ROWS($C$61:$C759),$C$61:$C$1687,0)),\"\")","v":"Stockbridge Village Health Centre NW)"}]
["Tennyson House Surgery EoE)",1,{"$f":"IF(B760=1,COUNTIF($B$61:$B760,1),\"\")","v":700},{"$f":"IFERROR(INDEX($A$61:$A$1687,MATCH(ROWS($C$61:$C760),$C$61:$C$1687,0)),\"\")","v":"Tennyson House Surgery EoE)"}]
["Caythorpe & Ancaster Medical Practice EM)",1,{"$f":"IF(B761=1,COUNTIF($B$61:$B761,1),\"\")","v":701},{"$f":"IFERROR(INDEX($A$61:$A$1687,MATCH(ROWS($C$61:$C761),$C$61:$C$1687,0)),\"\")","v":"Caythorpe & Ancaster Medical Practice EM)"}]
["Beauchamp House EoE)",1,{"$f":"IF(B762=1,COUNTIF($B$61:$B762,1),\"\")","v":702},{"$f":"IFERROR(INDEX($A$61:$A$1687,MATCH(ROWS($C$61:$C762),$C$61:$C$1687,0)),\"\")","v":"Beauchamp House EoE)"}]
["North London Hospice LaSE)",1,{"$f":"IF(B763=1,COUNTIF($B$61:$B763,1),\"\")","v":703},{"$f":"IFERROR(INDEX($A$61:$A$1687,MATCH(ROWS($C$61:$C763),$C$61:$C$1687,0)),\"\")","v":"North London Hospice LaSE)"}]
["Rushey Mead Health Centre EM)",1,{"$f":"IF(B764=1,COUNTIF($B$61:$B764,1),\"\")","v":704},{"$f":"IFERROR(INDEX($A$61:$A$1687,MATCH(ROWS($C$61:$C764),$C$61:$C$1687,0)),\"\")","v":"Rushey Mead Health Centre EM)"}]
["Firdale Medical Centre NW)",1,{"$f":"IF(B765=1,COUNTIF($B$61:$B765,1),\"\")","v":705},{"$f":"IFERROR(INDEX($A$61:$A$1687,MATCH(ROWS($C$61:$C765),$C$61:$C$1687,0)),\"\")","v":"Firdale Medical Centre NW)"}]
["Five Towns GP Surgery WM)",{"$f":"--ISNUMBER(SEARCH($F$15,A766))","v":1},{"$f":"IF(B766=1,COUNTIF($B$61:$B766,1),\"\")","v":706},{"$f":"IFERROR(INDEX($A$61:$A$1687,MATCH(ROWS($C$61:$C766),$C$61:$C$1687,0)),\"\")","v":"Five Towns GP Surgery WM)"}]
["Cavendish Medical Centre NW)",1,{"$f":"IF(B767=1,COUNTIF($B$61:$B767,1),\"\")","v":707},{"$f":"IFERROR(INDEX($A$61:$A$1687,MATCH(ROWS($C$61:$C767),$C$61:$C$1687,0)),\"\")","v":"Cavendish Medical Centre NW)"}]
["Padgate Medical Centre NW)",1,{"$f":"IF(B768=1,COUNTIF($B$61:$B768,1),\"\")","v":708},{"$f":"IFERROR(INDEX($A$61:$A$1687,MATCH(ROWS($C$61:$C768),$C$61:$C$1687,0)),\"\")","v":"Padgate Medical Centre NW)"}]
["Hugglescote Surgery EM)",1,{"$f":"IF(B769=1,COUNTIF($B$61:$B769,1),\"\")","v":709},{"$f":"IFERROR(INDEX($A$61:$A$1687,MATCH(ROWS($C$61:$C769),$C$61:$C$1687,0)),\"\")","v":"Hugglescote Surgery EM)"}]
["Heathgate Medical Practice EoE)",1,{"$f":"IF(B770=1,COUNTIF($B$61:$B770,1),\"\")","v":710},{"$f":"IFERROR(INDEX($A$61:$A$1687,MATCH(ROWS($C$61:$C770),$C$61:$C$1687,0)),\"\")","v":"Heathgate Medical Practice EoE)"}]
["Western Road Medical Centre EoE)",1,{"$f":"IF(B771=1,COUNTIF($B$61:$B771,1),\"\")","v":711},{"$f":"IFERROR(INDEX($A$61:$A$1687,MATCH(ROWS($C$61:$C771),$C$61:$C$1687,0)),\"\")","v":"Western Road Medical Centre EoE)"}]
["South Wigton Health Centre EM)",1,{"$f":"IF(B772=1,COUNTIF($B$61:$B772,1),\"\")","v":712},{"$f":"IFERROR(INDEX($A$61:$A$1687,MATCH(ROWS($C$61:$C772),$C$61:$C$1687,0)),\"\")","v":"South Wigton Health Centre EM)"}]
["St.Mary's Health Centre NW)",1,{"$f":"IF(B773=1,COUNTIF($B$61:$B773,1),\"\")","v":713},{"$f":"IFERROR(INDEX($A$61:$A$1687,MATCH(ROWS($C$61:$C773),$C$61:$C$1687,0)),\"\")","v":"St.Mary's Health Centre NW)"}]
["Featherstone Family Health Centre WM)",1,{"$f":"IF(B774=1,COUNTIF($B$61:$B774,1),\"\")","v":714},{"$f":"IFERROR(INDEX($A$61:$A$1687,MATCH(ROWS($C$61:$C774),$C$61:$C$1687,0)),\"\")","v":"Featherstone Family Health Centre WM)"}]
["West Derby Medical Centre NW)",1,{"$f":"IF(B775=1,COUNTIF($B$61:$B775,1),\"\")","v":715},{"$f":"IFERROR(INDEX($A$61:$A$1687,MATCH(ROWS($C$61:$C775),$C$61:$C$1687,0)),\"\")","v":"West Derby Medical Centre NW)"}]
["Mill Road Surgery EoE)",1,{"$f":"IF(B776=1,COUNTIF($B$61:$B776,1),\"\")","v":716},{"$f":"IFERROR(INDEX($A$61:$A$1687,MATCH(ROWS($C$61:$C776),$C$61:$C$1687,0)),\"\")","v":"Mill Road Surgery EoE)"}]
["Minden Family Practices NW)",1,{"$f":"IF(B777=1,COUNTIF($B$61:$B777,1),\"\")","v":717},{"$f":"IFERROR(INDEX($A$61:$A$1687,MATCH(ROWS($C$61:$C777),$C$61:$C$1687,0)),\"\")","v":"Minden Family Practices NW)"}]
["Melbourne Park Medical Centre EM)",1,{"$f":"IF(B778=1,COUNTIF($B$61:$B778,1),\"\")","v":718},{"$f":"IFERROR(INDEX($A$61:$A$1687,MATCH(ROWS($C$61:$C778),$C$61:$C$1687,0)),\"\")","v":"Melbourne Park Medical Centre EM)"}]
["Castlecroft Medical Practice WM)",1,{"$f":"IF(B779=1,COUNTIF($B$61:$B779,1),\"\")","v":719},{"$f":"IFERROR(INDEX($A$61:$A$1687,MATCH(ROWS($C$61:$C779),$C$61:$C$1687,0)),\"\")","v":"Castlecroft Medical Practice WM)"}]
["Rainbow Medical Centre NW)",1,{"$f":"IF(B780=1,COUNTIF($B$61:$B780,1),\"\")","v":720},{"$f":"IFERROR(INDEX($A$61:$A$1687,MATCH(ROWS($C$61:$C780),$C$61:$C$1687,0)),\"\")","v":"Rainbow Medical Centre NW)"}]
["Harborne Medical Practice WM)",1,{"$f":"IF(B781=1,COUNTIF($B$61:$B781,1),\"\")","v":721},{"$f":"IFERROR(INDEX($A$61:$A$1687,MATCH(ROWS($C$61:$C781),$C$61:$C$1687,0)),\"\")","v":"Harborne Medical Practice WM)"}]
["Fulwood Green Medical Centre NW)",1,{"$f":"IF(B782=1,COUNTIF($B$61:$B782,1),\"\")","v":722},{"$f":"IFERROR(INDEX($A$61:$A$1687,MATCH(ROWS($C$61:$C782),$C$61:$C$1687,0)),\"\")","v":"Fulwood Green Medical Centre NW)"}]
["Imperial Road Surgery EM)",1,{"$f":"IF(B783=1,COUNTIF($B$61:$B783,1),\"\")","v":723},{"$f":"IFERROR(INDEX($A$61:$A$1687,MATCH(ROWS($C$61:$C783),$C$61:$C$1687,0)),\"\")","v":"Imperial Road Surgery EM)"}]
["Wem and Prees Medical Centre WM)",1,{"$f":"IF(B784=1,COUNTIF($B$61:$B784,1),\"\")","v":724},{"$f":"IFERROR(INDEX($A$61:$A$1687,MATCH(ROWS($C$61:$C784),$C$61:$C$1687,0)),\"\")","v":"Wem and Prees Medical Centre WM)"}]
["Pemberley Surgery EoE)",1,{"$f":"IF(B785=1,COUNTIF($B$61:$B785,1),\"\")","v":725},{"$f":"IFERROR(INDEX($A$61:$A$1687,MATCH(ROWS($C$61:$C785),$C$61:$C$1687,0)),\"\")","v":"Pemberley Surgery EoE)"}]
["Downing Drive Surgery EM)",1,{"$f":"IF(B786=1,COUNTIF($B$61:$B786,1),\"\")","v":726},{"$f":"IFERROR(INDEX($A$61:$A$1687,MATCH(ROWS($C$61:$C786),$C$61:$C$1687,0)),\"\")","v":"Downing Drive Surgery EM)"}]
["Saffron Group Practice EM)",1,{"$f":"IF(B787=1,COUNTIF($B$61:$B787,1),\"\")","v":727},{"$f":"IFERROR(INDEX($A$61:$A$1687,MATCH(ROWS($C$61:$C787),$C$61:$C$1687,0)),\"\")","v":"Saffron Group Practice EM)"}]
["Tile House Surgery EoE)",1,{"$f":"IF(B788=1,COUNTIF($B$61:$B788,1),\"\")","v":728},{"$f":"IFERROR(INDEX($A$61:$A$1687,MATCH(ROWS($C$61:$C788),$C$61:$C$1687,0)),\"\")","v":"Tile House Surgery EoE)"}]
["Conner & Partners EoE)",1,{"$f":"IF(B789=1,COUNTIF($B$61:$B789,1),\"\")","v":729},{"$f":"IFERROR(INDEX($A$61:$A$1687,MATCH(ROWS($C$61:$C789),$C$61:$C$1687,0)),\"\")","v":"Conner & Partners EoE)"}]
["Hannage Brook Medical Centre EM)",1,{"$f":"IF(B790=1,COUNTIF($B$61:$B790,1),\"\")","v":730},{"$f":"IFERROR(INDEX($A$61:$A$1687,MATCH(ROWS($C$61:$C790),$C$61:$C$1687,0)),\"\")","v":"Hannage Brook Medical Centre EM)"}]
["Horseley Heath Surgery WM)",1,{"$f":"IF(B791=1,COUNTIF($B$61:$B791,1),\"\")","v":731},{"$f":"IFERROR(INDEX($A$61:$A$1687,MATCH(ROWS($C$61:$C791),$C$61:$C$1687,0)),\"\")","v":"Horseley Heath Surgery WM)"}]
["Goldington Avenue Surgery EoE)",1,{"$f":"IF(B792=1,COUNTIF($B$61:$B792,1),\"\")","v":732},{"$f":"IFERROR(INDEX($A$61:$A$1687,MATCH(ROWS($C$61:$C792),$C$61:$C$1687,0)),\"\")","v":"Goldington Avenue Surgery EoE)"}]
["The Hamilton Practice EoE)",1,{"$f":"IF(B793=1,COUNTIF($B$61:$B793,1),\"\")","v":733},{"$f":"IFERROR(INDEX($A$61:$A$1687,MATCH(ROWS($C$61:$C793),$C$61:$C$1687,0)),\"\")","v":"The Hamilton Practice EoE)"}]
["Eastwood Primary Care Centre EM)",1,{"$f":"IF(B794=1,COUNTIF($B$61:$B794,1),\"\")","v":734},{"$f":"IFERROR(INDEX($A$61:$A$1687,MATCH(ROWS($C$61:$C794),$C$61:$C$1687,0)),\"\")","v":"Eastwood Primary Care Centre EM)"}]
["Willenhall Oak Medical Centre WM)",1,{"$f":"IF(B795=1,COUNTIF($B$61:$B795,1),\"\")","v":735},{"$f":"IFERROR(INDEX($A$61:$A$1687,MATCH(ROWS($C$61:$C795),$C$61:$C$1687,0)),\"\")","v":"Willenhall Oak Medical Centre WM)"}]
["Bidford Health Centre WM)",1,{"$f":"IF(B796=1,COUNTIF($B$61:$B796,1),\"\")","v":736},{"$f":"IFERROR(INDEX($A$61:$A$1687,MATCH(ROWS($C$61:$C796),$C$61:$C$1687,0)),\"\")","v":"Bidford Health Centre WM)"}]
["Lower Broughton Health Centre NW)",1,{"$f":"IF(B797=1,COUNTIF($B$61:$B797,1),\"\")","v":737},{"$f":"IFERROR(INDEX($A$61:$A$1687,MATCH(ROWS($C$61:$C797),$C$61:$C$1687,0)),\"\")","v":"Lower Broughton Health Centre NW)"}]
["Southfield Way Surgery WM)",1,{"$f":"IF(B798=1,COUNTIF($B$61:$B798,1),\"\")","v":738},{"$f":"IFERROR(INDEX($A$61:$A$1687,MATCH(ROWS($C$61:$C798),$C$61:$C$1687,0)),\"\")","v":"Southfield Way Surgery WM)"}]
["Saxon Cross Surgery EM)",1,{"$f":"IF(B799=1,COUNTIF($B$61:$B799,1),\"\")","v":739},{"$f":"IFERROR(INDEX($A$61:$A$1687,MATCH(ROWS($C$61:$C799),$C$61:$C$1687,0)),\"\")","v":"Saxon Cross Surgery EM)"}]
["Kings Medical Centre EoE)",1,{"$f":"IF(B800=1,COUNTIF($B$61:$B800,1),\"\")","v":740},{"$f":"IFERROR(INDEX($A$61:$A$1687,MATCH(ROWS($C$61:$C800),$C$61:$C$1687,0)),\"\")","v":"Kings Medical Centre EoE)"}]
["Brierley Park Medical Centre EM)",1,{"$f":"IF(B801=1,COUNTIF($B$61:$B801,1),\"\")","v":741},{"$f":"IFERROR(INDEX($A$61:$A$1687,MATCH(ROWS($C$61:$C801),$C$61:$C$1687,0)),\"\")","v":"Brierley Park Medical Centre EM)"}]
["Mather Avenue Surgery NW)",1,{"$f":"IF(B802=1,COUNTIF($B$61:$B802,1),\"\")","v":742},{"$f":"IFERROR(INDEX($A$61:$A$1687,MATCH(ROWS($C$61:$C802),$C$61:$C$1687,0)),\"\")","v":"Mather Avenue Surgery NW)"}]
["Keelinge House Surgery WM)",1,{"$f":"IF(B803=1,COUNTIF($B$61:$B803,1),\"\")","v":743},{"$f":"IFERROR(INDEX($A$61:$A$1687,MATCH(ROWS($C$61:$C803),$C$61:$C$1687,0)),\"\")","v":"Keelinge House Surgery WM)"}]
["Jubilee Health Centre WM)",1,{"$f":"IF(B804=1,COUNTIF($B$61:$B804,1),\"\")","v":744},{"$f":"IFERROR(INDEX($A$61:$A$1687,MATCH(ROWS($C$61:$C804),$C$61:$C$1687,0)),\"\")","v":"Jubilee Health Centre WM)"}]
["Bunbury Medical Practice NW)",1,{"$f":"IF(B805=1,COUNTIF($B$61:$B805,1),\"\")","v":745},{"$f":"IFERROR(INDEX($A$61:$A$1687,MATCH(ROWS($C$61:$C805),$C$61:$C$1687,0)),\"\")","v":"Bunbury Medical Practice NW)"}]
["St Georges Med Practice EM)",1,{"$f":"IF(B806=1,COUNTIF($B$61:$B806,1),\"\")","v":746},{"$f":"IFERROR(INDEX($A$61:$A$1687,MATCH(ROWS($C$61:$C806),$C$61:$C$1687,0)),\"\")","v":"St Georges Med Practice EM)"}]
["St Catherines Surgery NW)",1,{"$f":"IF(B807=1,COUNTIF($B$61:$B807,1),\"\")","v":747},{"$f":"IFERROR(INDEX($A$61:$A$1687,MATCH(ROWS($C$61:$C807),$C$61:$C$1687,0)),\"\")","v":"St Catherines Surgery NW)"}]
["New Road Surgery WM)",1,{"$f":"IF(B808=1,COUNTIF($B$61:$B808,1),\"\")","v":748},{"$f":"IFERROR(INDEX($A$61:$A$1687,MATCH(ROWS($C$61:$C808),$C$61:$C$1687,0)),\"\")","v":"New Road Surgery WM)"}]
["Kingswinford Health Centre WM)",1,{"$f":"IF(B809=1,COUNTIF($B$61:$B809,1),\"\")","v":749},{"$f":"IFERROR(INDEX($A$61:$A$1687,MATCH(ROWS($C$61:$C809),$C$61:$C$1687,0)),\"\")","v":"Kingswinford Health Centre WM)"}]
["Ansdell Medical Centre NW)",1,{"$f":"IF(B810=1,COUNTIF($B$61:$B810,1),\"\")","v":750},{"$f":"IFERROR(INDEX($A$61:$A$1687,MATCH(ROWS($C$61:$C810),$C$61:$C$1687,0)),\"\")","v":"Ansdell Medical Centre NW)"}]
["Earnswood Medical Centre NW)",1,{"$f":"IF(B811=1,COUNTIF($B$61:$B811,1),\"\")","v":751},{"$f":"IFERROR(INDEX($A$61:$A$1687,MATCH(ROWS($C$61:$C811),$C$61:$C$1687,0)),\"\")","v":"Earnswood Medical Centre NW)"}]
["Forest Health Group TV)",1,{"$f":"IF(B812=1,COUNTIF($B$61:$B812,1),\"\")","v":752},{"$f":"IFERROR(INDEX($A$61:$A$1687,MATCH(ROWS($C$61:$C812),$C$61:$C$1687,0)),\"\")","v":"Forest Health Group TV)"}]
["The Calverton Practice EM)",1,{"$f":"IF(B813=1,COUNTIF($B$61:$B813,1),\"\")","v":753},{"$f":"IFERROR(INDEX($A$61:$A$1687,MATCH(ROWS($C$61:$C813),$C$61:$C$1687,0)),\"\")","v":"The Calverton Practice EM)"}]
["Albrighton Medical Practice WM)",1,{"$f":"IF(B814=1,COUNTIF($B$61:$B814,1),\"\")","v":754},{"$f":"IFERROR(INDEX($A$61:$A$1687,MATCH(ROWS($C$61:$C814),$C$61:$C$1687,0)),\"\")","v":"Albrighton Medical Practice WM)"}]
["The Ruddington Med Centre EM)",1,{"$f":"IF(B815=1,COUNTIF($B$61:$B815,1),\"\")","v":755},{"$f":"IFERROR(INDEX($A$61:$A$1687,MATCH(ROWS($C$61:$C815),$C$61:$C$1687,0)),\"\")","v":"The Ruddington Med Centre EM)"}]
["East Norwich Medical Partnership EoE)",1,{"$f":"IF(B816=1,COUNTIF($B$61:$B816,1),\"\")","v":756},{"$f":"IFERROR(INDEX($A$61:$A$1687,MATCH(ROWS($C$61:$C816),$C$61:$C$1687,0)),\"\")","v":"East Norwich Medical Partnership EoE)"}]
["The Richmond Hill Practice NW)",1,{"$f":"IF(B817=1,COUNTIF($B$61:$B817,1),\"\")","v":757},{"$f":"IFERROR(INDEX($A$61:$A$1687,MATCH(ROWS($C$61:$C817),$C$61:$C$1687,0)),\"\")","v":"The Richmond Hill Practice NW)"}]
["Spinney Hill Medical Centre EM)",1,{"$f":"IF(B818=1,COUNTIF($B$61:$B818,1),\"\")","v":758},{"$f":"IFERROR(INDEX($A$61:$A$1687,MATCH(ROWS($C$61:$C818),$C$61:$C$1687,0)),\"\")","v":"Spinney Hill Medical Centre EM)"}]
["Tunstall Primary Care Centre WM)",1,{"$f":"IF(B819=1,COUNTIF($B$61:$B819,1),\"\")","v":759},{"$f":"IFERROR(INDEX($A$61:$A$1687,MATCH(ROWS($C$61:$C819),$C$61:$C$1687,0)),\"\")","v":"Tunstall Primary Care Centre WM)"}]
["Botesdale Health Centre EoE)",1,{"$f":"IF(B820=1,COUNTIF($B$61:$B820,1),\"\")","v":760},{"$f":"IFERROR(INDEX($A$61:$A$1687,MATCH(ROWS($C$61:$C820),$C$61:$C$1687,0)),\"\")","v":"Botesdale Health Centre EoE)"}]
["Croft Medical Centre WM)",1,{"$f":"IF(B821=1,COUNTIF($B$61:$B821,1),\"\")","v":761},{"$f":"IFERROR(INDEX($A$61:$A$1687,MATCH(ROWS($C$61:$C821),$C$61:$C$1687,0)),\"\")","v":"Croft Medical Centre WM)"}]
["Lombard Medical Centre EM)",1,{"$f":"IF(B822=1,COUNTIF($B$61:$B822,1),\"\")","v":762},{"$f":"IFERROR(INDEX($A$61:$A$1687,MATCH(ROWS($C$61:$C822),$C$61:$C$1687,0)),\"\")","v":"Lombard Medical Centre EM)"}]
["The Eden Surgeries EoE)",1,{"$f":"IF(B823=1,COUNTIF($B$61:$B823,1),\"\")","v":763},{"$f":"IFERROR(INDEX($A$61:$A$1687,MATCH(ROWS($C$61:$C823),$C$61:$C$1687,0)),\"\")","v":"The Eden Surgeries EoE)"}]
["Fenney Compton Surgery WM)",1,{"$f":"IF(B824=1,COUNTIF($B$61:$B824,1),\"\")","v":764},{"$f":"IFERROR(INDEX($A$61:$A$1687,MATCH(ROWS($C$61:$C824),$C$61:$C$1687,0)),\"\")","v":"Fenney Compton Surgery WM)"}]
["Bridge Street Medical Centre EM)",1,{"$f":"IF(B825=1,COUNTIF($B$61:$B825,1),\"\")","v":765},{"$f":"IFERROR(INDEX($A$61:$A$1687,MATCH(ROWS($C$61:$C825),$C$61:$C$1687,0)),\"\")","v":"Bridge Street Medical Centre EM)"}]
["Brookfield Surgery NW)",1,{"$f":"IF(B826=1,COUNTIF($B$61:$B826,1),\"\")","v":766},{"$f":"IFERROR(INDEX($A$61:$A$1687,MATCH(ROWS($C$61:$C826),$C$61:$C$1687,0)),\"\")","v":"Brookfield Surgery NW)"}]
["Lordswood House Medical Practice WM)",1,{"$f":"IF(B827=1,COUNTIF($B$61:$B827,1),\"\")","v":767},{"$f":"IFERROR(INDEX($A$61:$A$1687,MATCH(ROWS($C$61:$C827),$C$61:$C$1687,0)),\"\")","v":"Lordswood House Medical Practice WM)"}]
["The Grange Medical Centre WM)",1,{"$f":"IF(B828=1,COUNTIF($B$61:$B828,1),\"\")","v":768},{"$f":"IFERROR(INDEX($A$61:$A$1687,MATCH(ROWS($C$61:$C828),$C$61:$C$1687,0)),\"\")","v":"The Grange Medical Centre WM)"}]
["Friar Gate Surgery EM)",1,{"$f":"IF(B829=1,COUNTIF($B$61:$B829,1),\"\")","v":769},{"$f":"IFERROR(INDEX($A$61:$A$1687,MATCH(ROWS($C$61:$C829),$C$61:$C$1687,0)),\"\")","v":"Friar Gate Surgery EM)"}]
["Imperial College Healthcare NHS Trust LaSE)",{"$f":"--ISNUMBER(SEARCH($F$15,A830))","v":1},{"$f":"IF(B830=1,COUNTIF($B$61:$B830,1),\"\")","v":770},{"$f":"IFERROR(INDEX($A$61:$A$1687,MATCH(ROWS($C$61:$C830),$C$61:$C$1687,0)),\"\")","v":"Imperial College Healthcare NHS Trust LaSE)"}]
["Washingborough Surgery EM)",1,{"$f":"IF(B831=1,COUNTIF($B$61:$B831,1),\"\")","v":771},{"$f":"IFERROR(INDEX($A$61:$A$1687,MATCH(ROWS($C$61:$C831),$C$61:$C$1687,0)),\"\")","v":"Washingborough Surgery EM)"}]
["Sherwood Family Medical Centre Kirkby EM)",1,{"$f":"IF(B832=1,COUNTIF($B$61:$B832,1),\"\")","v":772},{"$f":"IFERROR(INDEX($A$61:$A$1687,MATCH(ROWS($C$61:$C832),$C$61:$C$1687,0)),\"\")","v":"Sherwood Family Medical Centre Kirkby EM)"}]
["Sett Valley Medical Centre NW)",1,{"$f":"IF(B833=1,COUNTIF($B$61:$B833,1),\"\")","v":773},{"$f":"IFERROR(INDEX($A$61:$A$1687,MATCH(ROWS($C$61:$C833),$C$61:$C$1687,0)),\"\")","v":"Sett Valley Medical Centre NW)"}]
["Newbold Surgery EM)",1,{"$f":"IF(B834=1,COUNTIF($B$61:$B834,1),\"\")","v":774},{"$f":"IFERROR(INDEX($A$61:$A$1687,MATCH(ROWS($C$61:$C834),$C$61:$C$1687,0)),\"\")","v":"Newbold Surgery EM)"}]
["Saltley Centre for Health Care WM)",1,{"$f":"IF(B835=1,COUNTIF($B$61:$B835,1),\"\")","v":775},{"$f":"IFERROR(INDEX($A$61:$A$1687,MATCH(ROWS($C$61:$C835),$C$61:$C$1687,0)),\"\")","v":"Saltley Centre for Health Care WM)"}]
["Bilston Urban Village Medical Practice WM)",1,{"$f":"IF(B836=1,COUNTIF($B$61:$B836,1),\"\")","v":776},{"$f":"IFERROR(INDEX($A$61:$A$1687,MATCH(ROWS($C$61:$C836),$C$61:$C$1687,0)),\"\")","v":"Bilston Urban Village Medical Practice WM)"}]
["Attenborough Surgery EoE)",1,{"$f":"IF(B837=1,COUNTIF($B$61:$B837,1),\"\")","v":777},{"$f":"IFERROR(INDEX($A$61:$A$1687,MATCH(ROWS($C$61:$C837),$C$61:$C$1687,0)),\"\")","v":"Attenborough Surgery EoE)"}]
["Bramhall Health Centre NW)",1,{"$f":"IF(B838=1,COUNTIF($B$61:$B838,1),\"\")","v":778},{"$f":"IFERROR(INDEX($A$61:$A$1687,MATCH(ROWS($C$61:$C838),$C$61:$C$1687,0)),\"\")","v":"Bramhall Health Centre NW)"}]
["Church Street Practice TV)",1,{"$f":"IF(B839=1,COUNTIF($B$61:$B839,1),\"\")","v":779},{"$f":"IFERROR(INDEX($A$61:$A$1687,MATCH(ROWS($C$61:$C839),$C$61:$C$1687,0)),\"\")","v":"Church Street Practice TV)"}]
["Prescott Surgery WM)",1,{"$f":"IF(B840=1,COUNTIF($B$61:$B840,1),\"\")","v":780},{"$f":"IFERROR(INDEX($A$61:$A$1687,MATCH(ROWS($C$61:$C840),$C$61:$C$1687,0)),\"\")","v":"Prescott Surgery WM)"}]
["Fernley Medical Centre WM)",1,{"$f":"IF(B841=1,COUNTIF($B$61:$B841,1),\"\")","v":781},{"$f":"IFERROR(INDEX($A$61:$A$1687,MATCH(ROWS($C$61:$C841),$C$61:$C$1687,0)),\"\")","v":"Fernley Medical Centre WM)"}]
["Spinney Brook Medical Centre EM)",1,{"$f":"IF(B842=1,COUNTIF($B$61:$B842,1),\"\")","v":782},{"$f":"IFERROR(INDEX($A$61:$A$1687,MATCH(ROWS($C$61:$C842),$C$61:$C$1687,0)),\"\")","v":"Spinney Brook Medical Centre EM)"}]
["Church Street Partnership EoE)",1,{"$f":"IF(B843=1,COUNTIF($B$61:$B843,1),\"\")","v":783},{"$f":"IFERROR(INDEX($A$61:$A$1687,MATCH(ROWS($C$61:$C843),$C$61:$C$1687,0)),\"\")","v":"Church Street Partnership EoE)"}]
["Bretton Medical Practice EoE)",1,{"$f":"IF(B844=1,COUNTIF($B$61:$B844,1),\"\")","v":784},{"$f":"IFERROR(INDEX($A$61:$A$1687,MATCH(ROWS($C$61:$C844),$C$61:$C$1687,0)),\"\")","v":"Bretton Medical Practice EoE)"}]
["Tean Surgery WM)",1,{"$f":"IF(B845=1,COUNTIF($B$61:$B845,1),\"\")","v":785},{"$f":"IFERROR(INDEX($A$61:$A$1687,MATCH(ROWS($C$61:$C845),$C$61:$C$1687,0)),\"\")","v":"Tean Surgery WM)"}]
["Buckden Surgery EoE)",1,{"$f":"IF(B846=1,COUNTIF($B$61:$B846,1),\"\")","v":786},{"$f":"IFERROR(INDEX($A$61:$A$1687,MATCH(ROWS($C$61:$C846),$C$61:$C$1687,0)),\"\")","v":"Buckden Surgery EoE)"}]
["Coventry Road Medical Centre WM)",1,{"$f":"IF(B847=1,COUNTIF($B$61:$B847,1),\"\")","v":787},{"$f":"IFERROR(INDEX($A$61:$A$1687,MATCH(ROWS($C$61:$C847),$C$61:$C$1687,0)),\"\")","v":"Coventry Road Medical Centre WM)"}]
["Heaton Medical Centre NW)",1,{"$f":"IF(B848=1,COUNTIF($B$61:$B848,1),\"\")","v":788},{"$f":"IFERROR(INDEX($A$61:$A$1687,MATCH(ROWS($C$61:$C848),$C$61:$C$1687,0)),\"\")","v":"Heaton Medical Centre NW)"}]
["Market Cross Surgery EoE)",1,{"$f":"IF(B849=1,COUNTIF($B$61:$B849,1),\"\")","v":789},{"$f":"IFERROR(INDEX($A$61:$A$1687,MATCH(ROWS($C$61:$C849),$C$61:$C$1687,0)),\"\")","v":"Market Cross Surgery EoE)"}]
["Arden Medical Centre WM)",1,{"$f":"IF(B850=1,COUNTIF($B$61:$B850,1),\"\")","v":790},{"$f":"IFERROR(INDEX($A$61:$A$1687,MATCH(ROWS($C$61:$C850),$C$61:$C$1687,0)),\"\")","v":"Arden Medical Centre WM)"}]
["The Parks Medical Practice EM)",1,{"$f":"IF(B851=1,COUNTIF($B$61:$B851,1),\"\")","v":791},{"$f":"IFERROR(INDEX($A$61:$A$1687,MATCH(ROWS($C$61:$C851),$C$61:$C$1687,0)),\"\")","v":"The Parks Medical Practice EM)"}]
["Erdington Medical Centre WM)",1,{"$f":"IF(B852=1,COUNTIF($B$61:$B852,1),\"\")","v":792},{"$f":"IFERROR(INDEX($A$61:$A$1687,MATCH(ROWS($C$61:$C852),$C$61:$C$1687,0)),\"\")","v":"Erdington Medical Centre WM)"}]
["Dr AS Coutts & Partners WM)",1,{"$f":"IF(B853=1,COUNTIF($B$61:$B853,1),\"\")","v":793},{"$f":"IFERROR(INDEX($A$61:$A$1687,MATCH(ROWS($C$61:$C853),$C$61:$C$1687,0)),\"\")","v":"Dr AS Coutts & Partners WM)"}]
["Bugbrooke Medical Practice EM)",1,{"$f":"IF(B854=1,COUNTIF($B$61:$B854,1),\"\")","v":794},{"$f":"IFERROR(INDEX($A$61:$A$1687,MATCH(ROWS($C$61:$C854),$C$61:$C$1687,0)),\"\")","v":"Bugbrooke Medical Practice EM)"}]
["Yardley Wood Health Centre WM)",1,{"$f":"IF(B855=1,COUNTIF($B$61:$B855,1),\"\")","v":795},{"$f":"IFERROR(INDEX($A$61:$A$1687,MATCH(ROWS($C$61:$C855),$C$61:$C$1687,0)),\"\")","v":"Yardley Wood Health Centre WM)"}]
["Goldington Medical Practice EoE)",1,{"$f":"IF(B856=1,COUNTIF($B$61:$B856,1),\"\")","v":796},{"$f":"IFERROR(INDEX($A$61:$A$1687,MATCH(ROWS($C$61:$C856),$C$61:$C$1687,0)),\"\")","v":"Goldington Medical Practice EoE)"}]
["Watling Street Medical Centre NW)",1,{"$f":"IF(B857=1,COUNTIF($B$61:$B857,1),\"\")","v":797},{"$f":"IFERROR(INDEX($A$61:$A$1687,MATCH(ROWS($C$61:$C857),$C$61:$C$1687,0)),\"\")","v":"Watling Street Medical Centre NW)"}]
["Bowland Medical Practice NW)",1,{"$f":"IF(B858=1,COUNTIF($B$61:$B858,1),\"\")","v":798},{"$f":"IFERROR(INDEX($A$61:$A$1687,MATCH(ROWS($C$61:$C858),$C$61:$C$1687,0)),\"\")","v":"Bowland Medical Practice NW)"}]
["Heald Green Health Centre 1 NW)",1,{"$f":"IF(B859=1,COUNTIF($B$61:$B859,1),\"\")","v":799},{"$f":"IFERROR(INDEX($A$61:$A$1687,MATCH(ROWS($C$61:$C859),$C$61:$C$1687,0)),\"\")","v":"Heald Green Health Centre 1 NW)"}]
["Kidsgrove Medical Centre WM)",1,{"$f":"IF(B860=1,COUNTIF($B$61:$B860,1),\"\")","v":800},{"$f":"IFERROR(INDEX($A$61:$A$1687,MATCH(ROWS($C$61:$C860),$C$61:$C$1687,0)),\"\")","v":"Kidsgrove Medical Centre WM)"}]
["Arthur Medical Centre EM)",1,{"$f":"IF(B861=1,COUNTIF($B$61:$B861,1),\"\")","v":801},{"$f":"IFERROR(INDEX($A$61:$A$1687,MATCH(ROWS($C$61:$C861),$C$61:$C$1687,0)),\"\")","v":"Arthur Medical Centre EM)"}]
["Creffield Medical Group EoE)",1,{"$f":"IF(B862=1,COUNTIF($B$61:$B862,1),\"\")","v":802},{"$f":"IFERROR(INDEX($A$61:$A$1687,MATCH(ROWS($C$61:$C862),$C$61:$C$1687,0)),\"\")","v":"Creffield Medical Group EoE)"}]
["Wood End Health Centre WM)",1,{"$f":"IF(B863=1,COUNTIF($B$61:$B863,1),\"\")","v":803},{"$f":"IFERROR(INDEX($A$61:$A$1687,MATCH(ROWS($C$61:$C863),$C$61:$C$1687,0)),\"\")","v":"Wood End Health Centre WM)"}]
["Bootle Village Surgery NW)",1,{"$f":"IF(B864=1,COUNTIF($B$61:$B864,1),\"\")","v":804},{"$f":"IFERROR(INDEX($A$61:$A$1687,MATCH(ROWS($C$61:$C864),$C$61:$C$1687,0)),\"\")","v":"Bootle Village Surgery NW)"}]
["Westminister Medical Centre NW)",1,{"$f":"IF(B865=1,COUNTIF($B$61:$B865,1),\"\")","v":805},{"$f":"IFERROR(INDEX($A$61:$A$1687,MATCH(ROWS($C$61:$C865),$C$61:$C$1687,0)),\"\")","v":"Westminister Medical Centre NW)"}]
["Groby Road Medical Centre EM)",1,{"$f":"IF(B866=1,COUNTIF($B$61:$B866,1),\"\")","v":806},{"$f":"IFERROR(INDEX($A$61:$A$1687,MATCH(ROWS($C$61:$C866),$C$61:$C$1687,0)),\"\")","v":"Groby Road Medical Centre EM)"}]
["Denton Medical Practice NW)",1,{"$f":"IF(B867=1,COUNTIF($B$61:$B867,1),\"\")","v":807},{"$f":"IFERROR(INDEX($A$61:$A$1687,MATCH(ROWS($C$61:$C867),$C$61:$C$1687,0)),\"\")","v":"Denton Medical Practice NW)"}]
["Elgar House WM)",1,{"$f":"IF(B868=1,COUNTIF($B$61:$B868,1),\"\")","v":808},{"$f":"IFERROR(INDEX($A$61:$A$1687,MATCH(ROWS($C$61:$C868),$C$61:$C$1687,0)),\"\")","v":"Elgar House WM)"}]
["St Stephens Surgery WM)",1,{"$f":"IF(B869=1,COUNTIF($B$61:$B869,1),\"\")","v":809},{"$f":"IFERROR(INDEX($A$61:$A$1687,MATCH(ROWS($C$61:$C869),$C$61:$C$1687,0)),\"\")","v":"St Stephens Surgery WM)"}]
["Gresleydale Healthcare Centre EM)",1,{"$f":"IF(B870=1,COUNTIF($B$61:$B870,1),\"\")","v":810},{"$f":"IFERROR(INDEX($A$61:$A$1687,MATCH(ROWS($C$61:$C870),$C$61:$C$1687,0)),\"\")","v":"Gresleydale Healthcare Centre EM)"}]
["The Lodge Surgery EoE)",1,{"$f":"IF(B871=1,COUNTIF($B$61:$B871,1),\"\")","v":811},{"$f":"IFERROR(INDEX($A$61:$A$1687,MATCH(ROWS($C$61:$C871),$C$61:$C$1687,0)),\"\")","v":"The Lodge Surgery EoE)"}]
["Shifa Surgery NW)",1,{"$f":"IF(B872=1,COUNTIF($B$61:$B872,1),\"\")","v":812},{"$f":"IFERROR(INDEX($A$61:$A$1687,MATCH(ROWS($C$61:$C872),$C$61:$C$1687,0)),\"\")","v":"Shifa Surgery NW)"}]
["Springfield Medical Practice WM)",1,{"$f":"IF(B873=1,COUNTIF($B$61:$B873,1),\"\")","v":813},{"$f":"IFERROR(INDEX($A$61:$A$1687,MATCH(ROWS($C$61:$C873),$C$61:$C$1687,0)),\"\")","v":"Springfield Medical Practice WM)"}]
["School Lane Surgery EoE)",1,{"$f":"IF(B874=1,COUNTIF($B$61:$B874,1),\"\")","v":814},{"$f":"IFERROR(INDEX($A$61:$A$1687,MATCH(ROWS($C$61:$C874),$C$61:$C$1687,0)),\"\")","v":"School Lane Surgery EoE)"}]
["Weavers Medical EM)",1,{"$f":"IF(B875=1,COUNTIF($B$61:$B875,1),\"\")","v":815},{"$f":"IFERROR(INDEX($A$61:$A$1687,MATCH(ROWS($C$61:$C875),$C$61:$C$1687,0)),\"\")","v":"Weavers Medical EM)"}]
["St Gabriels Medical Centre NW)",1,{"$f":"IF(B876=1,COUNTIF($B$61:$B876,1),\"\")","v":816},{"$f":"IFERROR(INDEX($A$61:$A$1687,MATCH(ROWS($C$61:$C876),$C$61:$C$1687,0)),\"\")","v":"St Gabriels Medical Centre NW)"}]
["Danes Camp Medical Centre EM)",1,{"$f":"IF(B877=1,COUNTIF($B$61:$B877,1),\"\")","v":817},{"$f":"IFERROR(INDEX($A$61:$A$1687,MATCH(ROWS($C$61:$C877),$C$61:$C$1687,0)),\"\")","v":"Danes Camp Medical Centre EM)"}]
["Central Surgery EoE)",1,{"$f":"IF(B878=1,COUNTIF($B$61:$B878,1),\"\")","v":818},{"$f":"IFERROR(INDEX($A$61:$A$1687,MATCH(ROWS($C$61:$C878),$C$61:$C$1687,0)),\"\")","v":"Central Surgery EoE)"}]
["Dordon & Polesworth Group Practice WM)",1,{"$f":"IF(B879=1,COUNTIF($B$61:$B879,1),\"\")","v":819},{"$f":"IFERROR(INDEX($A$61:$A$1687,MATCH(ROWS($C$61:$C879),$C$61:$C$1687,0)),\"\")","v":"Dordon & Polesworth Group Practice WM)"}]
["Junior Doctors Awaiting Allocation",1,{"$f":"IF(B880=1,COUNTIF($B$61:$B880,1),\"\")","v":820},{"$f":"IFERROR(INDEX($A$61:$A$1687,MATCH(ROWS($C$61:$C880),$C$61:$C$1687,0)),\"\")","v":"Junior Doctors Awaiting Allocation"}]
["King Edward Road Surgery EM)",1,{"$f":"IF(B881=1,COUNTIF($B$61:$B881,1),\"\")","v":821},{"$f":"IFERROR(INDEX($A$61:$A$1687,MATCH(ROWS($C$61:$C881),$C$61:$C$1687,0)),\"\")","v":"King Edward Road Surgery EM)"}]
["The Dow Surgery WM)",1,{"$f":"IF(B882=1,COUNTIF($B$61:$B882,1),\"\")","v":822},{"$f":"IFERROR(INDEX($A$61:$A$1687,MATCH(ROWS($C$61:$C882),$C$61:$C$1687,0)),\"\")","v":"The Dow Surgery WM)"}]
["Limbrick Wood Surgery WM)",1,{"$f":"IF(B883=1,COUNTIF($B$61:$B883,1),\"\")","v":823},{"$f":"IFERROR(INDEX($A$61:$A$1687,MATCH(ROWS($C$61:$C883),$C$61:$C$1687,0)),\"\")","v":"Limbrick Wood Surgery WM)"}]
["Dengie Medical Partnership EoE)",1,{"$f":"IF(B884=1,COUNTIF($B$61:$B884,1),\"\")","v":824},{"$f":"IFERROR(INDEX($A$61:$A$1687,MATCH(ROWS($C$61:$C884),$C$61:$C$1687,0)),\"\")","v":"Dengie Medical Partnership EoE)"}]
["Audley Health Centre WM)",1,{"$f":"IF(B885=1,COUNTIF($B$61:$B885,1),\"\")","v":825},{"$f":"IFERROR(INDEX($A$61:$A$1687,MATCH(ROWS($C$61:$C885),$C$61:$C$1687,0)),\"\")","v":"Audley Health Centre WM)"}]
["Manor Medical Hillgate) NW",1,{"$f":"IF(B886=1,COUNTIF($B$61:$B886,1),\"\")","v":826},{"$f":"IFERROR(INDEX($A$61:$A$1687,MATCH(ROWS($C$61:$C886),$C$61:$C$1687,0)),\"\")","v":"Manor Medical Hillgate) NW"}]
["Bottisham Medical Practice EoE)",1,{"$f":"IF(B887=1,COUNTIF($B$61:$B887,1),\"\")","v":827},{"$f":"IFERROR(INDEX($A$61:$A$1687,MATCH(ROWS($C$61:$C887),$C$61:$C$1687,0)),\"\")","v":"Bottisham Medical Practice EoE)"}]
["Feldon Lane Surgery WM)",1,{"$f":"IF(B888=1,COUNTIF($B$61:$B888,1),\"\")","v":828},{"$f":"IFERROR(INDEX($A$61:$A$1687,MATCH(ROWS($C$61:$C888),$C$61:$C$1687,0)),\"\")","v":"Feldon Lane Surgery WM)"}]
["The Rookery Medical Centre EoE)",1,{"$f":"IF(B889=1,COUNTIF($B$61:$B889,1),\"\")","v":829},{"$f":"IFERROR(INDEX($A$61:$A$1687,MATCH(ROWS($C$61:$C889),$C$61:$C$1687,0)),\"\")","v":"The Rookery Medical Centre EoE)"}]
["The Peninsula Practice EoE)",1,{"$f":"IF(B890=1,COUNTIF($B$61:$B890,1),\"\")","v":830},{"$f":"IFERROR(INDEX($A$61:$A$1687,MATCH(ROWS($C$61:$C890),$C$61:$C$1687,0)),\"\")","v":"The Peninsula Practice EoE)"}]
["Wigston Central Surgery EM)",1,{"$f":"IF(B891=1,COUNTIF($B$61:$B891,1),\"\")","v":831},{"$f":"IFERROR(INDEX($A$61:$A$1687,MATCH(ROWS($C$61:$C891),$C$61:$C$1687,0)),\"\")","v":"Wigston Central Surgery EM)"}]
["Park Farm Medical Centre EM)",1,{"$f":"IF(B892=1,COUNTIF($B$61:$B892,1),\"\")","v":832},{"$f":"IFERROR(INDEX($A$61:$A$1687,MATCH(ROWS($C$61:$C892),$C$61:$C$1687,0)),\"\")","v":"Park Farm Medical Centre EM)"}]
["East London Foundation Trust",1,{"$f":"IF(B893=1,COUNTIF($B$61:$B893,1),\"\")","v":833},{"$f":"IFERROR(INDEX($A$61:$A$1687,MATCH(ROWS($C$61:$C893),$C$61:$C$1687,0)),\"\")","v":"East London Foundation Trust"}]
["Stapenhill Medical Centre WM)",{"$f":"--ISNUMBER(SEARCH($F$15,A894))","v":1},{"$f":"IF(B894=1,COUNTIF($B$61:$B894,1),\"\")","v":834},{"$f":"IFERROR(INDEX($A$61:$A$1687,MATCH(ROWS($C$61:$C894),$C$61:$C$1687,0)),\"\")","v":"Stapenhill Medical Centre WM)"}]
["Rising Brook Surgery WM)",1,{"$f":"IF(B895=1,COUNTIF($B$61:$B895,1),\"\")","v":835},{"$f":"IFERROR(INDEX($A$61:$A$1687,MATCH(ROWS($C$61:$C895),$C$61:$C$1687,0)),\"\")","v":"Rising Brook Surgery WM)"}]
["Thornbrook Surgery NW)",1,{"$f":"IF(B896=1,COUNTIF($B$61:$B896,1),\"\")","v":836},{"$f":"IFERROR(INDEX($A$61:$A$1687,MATCH(ROWS($C$61:$C896),$C$61:$C$1687,0)),\"\")","v":"Thornbrook Surgery NW)"}]
["Dorridge Surgery WM)",1,{"$f":"IF(B897=1,COUNTIF($B$61:$B897,1),\"\")","v":837},{"$f":"IFERROR(INDEX($A$61:$A$1687,MATCH(ROWS($C$61:$C897),$C$61:$C$1687,0)),\"\")","v":"Dorridge Surgery WM)"}]
["Park Green Surgery NW)",1,{"$f":"IF(B898=1,COUNTIF($B$61:$B898,1),\"\")","v":838},{"$f":"IFERROR(INDEX($A$61:$A$1687,MATCH(ROWS($C$61:$C898),$C$61:$C$1687,0)),\"\")","v":"Park Green Surgery NW)"}]
["Albion Surgery NW)",1,{"$f":"IF(B899=1,COUNTIF($B$61:$B899,1),\"\")","v":839},{"$f":"IFERROR(INDEX($A$61:$A$1687,MATCH(ROWS($C$61:$C899),$C$61:$C$1687,0)),\"\")","v":"Albion Surgery NW)"}]
["Stanmore House Surgery WM)",1,{"$f":"IF(B900=1,COUNTIF($B$61:$B900,1),\"\")","v":840},{"$f":"IFERROR(INDEX($A$61:$A$1687,MATCH(ROWS($C$61:$C900),$C$61:$C$1687,0)),\"\")","v":"Stanmore House Surgery WM)"}]
["Rothwell Medical Centre EM)",1,{"$f":"IF(B901=1,COUNTIF($B$61:$B901,1),\"\")","v":841},{"$f":"IFERROR(INDEX($A$61:$A$1687,MATCH(ROWS($C$61:$C901),$C$61:$C$1687,0)),\"\")","v":"Rothwell Medical Centre EM)"}]
["The Princess Alice Hospice LaSE)",1,{"$f":"IF(B902=1,COUNTIF($B$61:$B902,1),\"\")","v":842},{"$f":"IFERROR(INDEX($A$61:$A$1687,MATCH(ROWS($C$61:$C902),$C$61:$C$1687,0)),\"\")","v":"The Princess Alice Hospice LaSE)"}]
["Toft Road Surgery NW)",1,{"$f":"IF(B903=1,COUNTIF($B$61:$B903,1),\"\")","v":843},{"$f":"IFERROR(INDEX($A$61:$A$1687,MATCH(ROWS($C$61:$C903),$C$61:$C$1687,0)),\"\")","v":"Toft Road Surgery NW)"}]
["Victoria Surgery EoE)",1,{"$f":"IF(B904=1,COUNTIF($B$61:$B904,1),\"\")","v":844},{"$f":"IFERROR(INDEX($A$61:$A$1687,MATCH(ROWS($C$61:$C904),$C$61:$C$1687,0)),\"\")","v":"Victoria Surgery EoE)"}]
["East Leicester Medical Practice EM)",1,{"$f":"IF(B905=1,COUNTIF($B$61:$B905,1),\"\")","v":845},{"$f":"IFERROR(INDEX($A$61:$A$1687,MATCH(ROWS($C$61:$C905),$C$61:$C$1687,0)),\"\")","v":"East Leicester Medical Practice EM)"}]
["Mount Chambers Medical Practice EoE)",1,{"$f":"IF(B906=1,COUNTIF($B$61:$B906,1),\"\")","v":846},{"$f":"IFERROR(INDEX($A$61:$A$1687,MATCH(ROWS($C$61:$C906),$C$61:$C$1687,0)),\"\")","v":"Mount Chambers Medical Practice EoE)"}]
["Mayfield Medical Centre WM)",1,{"$f":"IF(B907=1,COUNTIF($B$61:$B907,1),\"\")","v":847},{"$f":"IFERROR(INDEX($A$61:$A$1687,MATCH(ROWS($C$61:$C907),$C$61:$C$1687,0)),\"\")","v":"Mayfield Medical Centre WM)"}]
["Woodview Medical Centre EM)",1,{"$f":"IF(B908=1,COUNTIF($B$61:$B908,1),\"\")","v":848},{"$f":"IFERROR(INDEX($A$61:$A$1687,MATCH(ROWS($C$61:$C908),$C$61:$C$1687,0)),\"\")","v":"Woodview Medical Centre EM)"}]
["Warley Medical Centre WM)",1,{"$f":"IF(B909=1,COUNTIF($B$61:$B909,1),\"\")","v":849},{"$f":"IFERROR(INDEX($A$61:$A$1687,MATCH(ROWS($C$61:$C909),$C$61:$C$1687,0)),\"\")","v":"Warley Medical Centre WM)"}]
["The Village Surgery Formby NW)",1,{"$f":"IF(B910=1,COUNTIF($B$61:$B910,1),\"\")","v":850},{"$f":"IFERROR(INDEX($A$61:$A$1687,MATCH(ROWS($C$61:$C910),$C$61:$C$1687,0)),\"\")","v":"The Village Surgery Formby NW)"}]
["The Park Medical Centre WM)",1,{"$f":"IF(B911=1,COUNTIF($B$61:$B911,1),\"\")","v":851},{"$f":"IFERROR(INDEX($A$61:$A$1687,MATCH(ROWS($C$61:$C911),$C$61:$C$1687,0)),\"\")","v":"The Park Medical Centre WM)"}]
["Eaton Wood Medical Centre WM)",1,{"$f":"IF(B912=1,COUNTIF($B$61:$B912,1),\"\")","v":852},{"$f":"IFERROR(INDEX($A$61:$A$1687,MATCH(ROWS($C$61:$C912),$C$61:$C$1687,0)),\"\")","v":"Eaton Wood Medical Centre WM)"}]
["Ashfield Surgery WM)",1,{"$f":"IF(B913=1,COUNTIF($B$61:$B913,1),\"\")","v":853},{"$f":"IFERROR(INDEX($A$61:$A$1687,MATCH(ROWS($C$61:$C913),$C$61:$C$1687,0)),\"\")","v":"Ashfield Surgery WM)"}]
["Shanklin House Surgery WM)",1,{"$f":"IF(B914=1,COUNTIF($B$61:$B914,1),\"\")","v":854},{"$f":"IFERROR(INDEX($A$61:$A$1687,MATCH(ROWS($C$61:$C914),$C$61:$C$1687,0)),\"\")","v":"Shanklin House Surgery WM)"}]
["Fearnhead Cross Med Centre NW)",1,{"$f":"IF(B915=1,COUNTIF($B$61:$B915,1),\"\")","v":855},{"$f":"IFERROR(INDEX($A$61:$A$1687,MATCH(ROWS($C$61:$C915),$C$61:$C$1687,0)),\"\")","v":"Fearnhead Cross Med Centre NW)"}]
["Springfield Surgery WM)",1,{"$f":"IF(B916=1,COUNTIF($B$61:$B916,1),\"\")","v":856},{"$f":"IFERROR(INDEX($A$61:$A$1687,MATCH(ROWS($C$61:$C916),$C$61:$C$1687,0)),\"\")","v":"Springfield Surgery WM)"}]
["Treganna Group Practice NW)",1,{"$f":"IF(B917=1,COUNTIF($B$61:$B917,1),\"\")","v":857},{"$f":"IFERROR(INDEX($A$61:$A$1687,MATCH(ROWS($C$61:$C917),$C$61:$C$1687,0)),\"\")","v":"Treganna Group Practice NW)"}]
["Papworth Surgery EoE)",1,{"$f":"IF(B918=1,COUNTIF($B$61:$B918,1),\"\")","v":858},{"$f":"IFERROR(INDEX($A$61:$A$1687,MATCH(ROWS($C$61:$C918),$C$61:$C$1687,0)),\"\")","v":"Papworth Surgery EoE)"}]
["Vista Road Surgery NW)",1,{"$f":"IF(B919=1,COUNTIF($B$61:$B919,1),\"\")","v":859},{"$f":"IFERROR(INDEX($A$61:$A$1687,MATCH(ROWS($C$61:$C919),$C$61:$C$1687,0)),\"\")","v":"Vista Road Surgery NW)"}]
["Stopsley Village Practice EoE)",1,{"$f":"IF(B920=1,COUNTIF($B$61:$B920,1),\"\")","v":860},{"$f":"IFERROR(INDEX($A$61:$A$1687,MATCH(ROWS($C$61:$C920),$C$61:$C$1687,0)),\"\")","v":"Stopsley Village Practice EoE)"}]
["Abington Park Surgery Christchurch) EM)",1,{"$f":"IF(B921=1,COUNTIF($B$61:$B921,1),\"\")","v":861},{"$f":"IFERROR(INDEX($A$61:$A$1687,MATCH(ROWS($C$61:$C921),$C$61:$C$1687,0)),\"\")","v":"Abington Park Surgery Christchurch) EM)"}]
["Oakfield Surgery TV)",1,{"$f":"IF(B922=1,COUNTIF($B$61:$B922,1),\"\")","v":862},{"$f":"IFERROR(INDEX($A$61:$A$1687,MATCH(ROWS($C$61:$C922),$C$61:$C$1687,0)),\"\")","v":"Oakfield Surgery TV)"}]
["Measham Medical Unit EM)",1,{"$f":"IF(B923=1,COUNTIF($B$61:$B923,1),\"\")","v":863},{"$f":"IFERROR(INDEX($A$61:$A$1687,MATCH(ROWS($C$61:$C923),$C$61:$C$1687,0)),\"\")","v":"Measham Medical Unit EM)"}]
["The Burbage Surgery EM)",1,{"$f":"IF(B924=1,COUNTIF($B$61:$B924,1),\"\")","v":864},{"$f":"IFERROR(INDEX($A$61:$A$1687,MATCH(ROWS($C$61:$C924),$C$61:$C$1687,0)),\"\")","v":"The Burbage Surgery EM)"}]
["Chilwell Meadows Surgery EM)",1,{"$f":"IF(B925=1,COUNTIF($B$61:$B925,1),\"\")","v":865},{"$f":"IFERROR(INDEX($A$61:$A$1687,MATCH(ROWS($C$61:$C925),$C$61:$C$1687,0)),\"\")","v":"Chilwell Meadows Surgery EM)"}]
["Woodlands Medical Practice EM)",1,{"$f":"IF(B926=1,COUNTIF($B$61:$B926,1),\"\")","v":866},{"$f":"IFERROR(INDEX($A$61:$A$1687,MATCH(ROWS($C$61:$C926),$C$61:$C$1687,0)),\"\")","v":"Woodlands Medical Practice EM)"}]
["Cambridgeshire and Peterborough NHS Foundation Trust",1,{"$f":"IF(B927=1,COUNTIF($B$61:$B927,1),\"\")","v":867},{"$f":"IFERROR(INDEX($A$61:$A$1687,MATCH(ROWS($C$61:$C927),$C$61:$C$1687,0)),\"\")","v":"Cambridgeshire and Peterborough NHS Foundation Trust"}]
["St Josephs Hospice LaSE)",1,{"$f":"IF(B928=1,COUNTIF($B$61:$B928,1),\"\")","v":868},{"$f":"IFERROR(INDEX($A$61:$A$1687,MATCH(ROWS($C$61:$C928),$C$61:$C$1687,0)),\"\")","v":"St Josephs Hospice LaSE)"}]
["Elbury Moor Medical Centre WM)",1,{"$f":"IF(B929=1,COUNTIF($B$61:$B929,1),\"\")","v":869},{"$f":"IFERROR(INDEX($A$61:$A$1687,MATCH(ROWS($C$61:$C929),$C$61:$C$1687,0)),\"\")","v":"Elbury Moor Medical Centre WM)"}]
["Longton Medical Centre NW)",1,{"$f":"IF(B930=1,COUNTIF($B$61:$B930,1),\"\")","v":870},{"$f":"IFERROR(INDEX($A$61:$A$1687,MATCH(ROWS($C$61:$C930),$C$61:$C$1687,0)),\"\")","v":"Longton Medical Centre NW)"}]
["Castle Donington Surgery EM)",1,{"$f":"IF(B931=1,COUNTIF($B$61:$B931,1),\"\")","v":871},{"$f":"IFERROR(INDEX($A$61:$A$1687,MATCH(ROWS($C$61:$C931),$C$61:$C$1687,0)),\"\")","v":"Castle Donington Surgery EM)"}]
["Malvern Health Centre WM)",1,{"$f":"IF(B932=1,COUNTIF($B$61:$B932,1),\"\")","v":872},{"$f":"IFERROR(INDEX($A$61:$A$1687,MATCH(ROWS($C$61:$C932),$C$61:$C$1687,0)),\"\")","v":"Malvern Health Centre WM)"}]
["Peel Group Practice IOM) NW)",1,{"$f":"IF(B933=1,COUNTIF($B$61:$B933,1),\"\")","v":873},{"$f":"IFERROR(INDEX($A$61:$A$1687,MATCH(ROWS($C$61:$C933),$C$61:$C$1687,0)),\"\")","v":"Peel Group Practice IOM) NW)"}]
["Conway Medical Centre EoE)",1,{"$f":"IF(B934=1,COUNTIF($B$61:$B934,1),\"\")","v":874},{"$f":"IFERROR(INDEX($A$61:$A$1687,MATCH(ROWS($C$61:$C934),$C$61:$C$1687,0)),\"\")","v":"Conway Medical Centre EoE)"}]
["Dr Agha Thorpe Bay Surgery) EoE)",1,{"$f":"IF(B935=1,COUNTIF($B$61:$B935,1),\"\")","v":875},{"$f":"IFERROR(INDEX($A$61:$A$1687,MATCH(ROWS($C$61:$C935),$C$61:$C$1687,0)),\"\")","v":"Dr Agha Thorpe Bay Surgery) EoE)"}]
["Schopwick Surgery EoE)",1,{"$f":"IF(B936=1,COUNTIF($B$61:$B936,1),\"\")","v":876},{"$f":"IFERROR(INDEX($A$61:$A$1687,MATCH(ROWS($C$61:$C936),$C$61:$C$1687,0)),\"\")","v":"Schopwick Surgery EoE)"}]
["Weeping Cross Health Centre WM)",1,{"$f":"IF(B937=1,COUNTIF($B$61:$B937,1),\"\")","v":877},{"$f":"IFERROR(INDEX($A$61:$A$1687,MATCH(ROWS($C$61:$C937),$C$61:$C$1687,0)),\"\")","v":"Weeping Cross Health Centre WM)"}]
["Showell Park Health and Walk in Centre WM)",1,{"$f":"IF(B938=1,COUNTIF($B$61:$B938,1),\"\")","v":878},{"$f":"IFERROR(INDEX($A$61:$A$1687,MATCH(ROWS($C$61:$C938),$C$61:$C$1687,0)),\"\")","v":"Showell Park Health and Walk in Centre WM)"}]
["Helsby Street Medical Centre NW)",1,{"$f":"IF(B939=1,COUNTIF($B$61:$B939,1),\"\")","v":879},{"$f":"IFERROR(INDEX($A$61:$A$1687,MATCH(ROWS($C$61:$C939),$C$61:$C$1687,0)),\"\")","v":"Helsby Street Medical Centre NW)"}]
["Johnson Medical Practice EM)",1,{"$f":"IF(B940=1,COUNTIF($B$61:$B940,1),\"\")","v":880},{"$f":"IFERROR(INDEX($A$61:$A$1687,MATCH(ROWS($C$61:$C940),$C$61:$C$1687,0)),\"\")","v":"Johnson Medical Practice EM)"}]
["The Dicconson Group Practice NW)",1,{"$f":"IF(B941=1,COUNTIF($B$61:$B941,1),\"\")","v":881},{"$f":"IFERROR(INDEX($A$61:$A$1687,MATCH(ROWS($C$61:$C941),$C$61:$C$1687,0)),\"\")","v":"The Dicconson Group Practice NW)"}]
["Torkard Hill Medical Centre EM)",1,{"$f":"IF(B942=1,COUNTIF($B$61:$B942,1),\"\")","v":882},{"$f":"IFERROR(INDEX($A$61:$A$1687,MATCH(ROWS($C$61:$C942),$C$61:$C$1687,0)),\"\")","v":"Torkard Hill Medical Centre EM)"}]
["South Meadow Surgery TV)",1,{"$f":"IF(B943=1,COUNTIF($B$61:$B943,1),\"\")","v":883},{"$f":"IFERROR(INDEX($A$61:$A$1687,MATCH(ROWS($C$61:$C943),$C$61:$C$1687,0)),\"\")","v":"South Meadow Surgery TV)"}]
["Paradise Medical Centre WM)",1,{"$f":"IF(B944=1,COUNTIF($B$61:$B944,1),\"\")","v":884},{"$f":"IFERROR(INDEX($A$61:$A$1687,MATCH(ROWS($C$61:$C944),$C$61:$C$1687,0)),\"\")","v":"Paradise Medical Centre WM)"}]
["Ejaz Medical Centre WM)",1,{"$f":"IF(B945=1,COUNTIF($B$61:$B945,1),\"\")","v":885},{"$f":"IFERROR(INDEX($A$61:$A$1687,MATCH(ROWS($C$61:$C945),$C$61:$C$1687,0)),\"\")","v":"Ejaz Medical Centre WM)"}]
["Shelford Medical Practice EoE)",1,{"$f":"IF(B946=1,COUNTIF($B$61:$B946,1),\"\")","v":886},{"$f":"IFERROR(INDEX($A$61:$A$1687,MATCH(ROWS($C$61:$C946),$C$61:$C$1687,0)),\"\")","v":"Shelford Medical Practice EoE)"}]
["Bilston Health Centre WM)",1,{"$f":"IF(B947=1,COUNTIF($B$61:$B947,1),\"\")","v":887},{"$f":"IFERROR(INDEX($A$61:$A$1687,MATCH(ROWS($C$61:$C947),$C$61:$C$1687,0)),\"\")","v":"Bilston Health Centre WM)"}]
["Saffron Health Partnership EoE)",1,{"$f":"IF(B948=1,COUNTIF($B$61:$B948,1),\"\")","v":888},{"$f":"IFERROR(INDEX($A$61:$A$1687,MATCH(ROWS($C$61:$C948),$C$61:$C$1687,0)),\"\")","v":"Saffron Health Partnership EoE)"}]
["Shah Zaman Surgery WM)",1,{"$f":"IF(B949=1,COUNTIF($B$61:$B949,1),\"\")","v":889},{"$f":"IFERROR(INDEX($A$61:$A$1687,MATCH(ROWS($C$61:$C949),$C$61:$C$1687,0)),\"\")","v":"Shah Zaman Surgery WM)"}]
["Jiggins Lane Medical Centre WM)",1,{"$f":"IF(B950=1,COUNTIF($B$61:$B950,1),\"\")","v":890},{"$f":"IFERROR(INDEX($A$61:$A$1687,MATCH(ROWS($C$61:$C950),$C$61:$C$1687,0)),\"\")","v":"Jiggins Lane Medical Centre WM)"}]
["Parkfield Medical Centre EoE)",1,{"$f":"IF(B951=1,COUNTIF($B$61:$B951,1),\"\")","v":891},{"$f":"IFERROR(INDEX($A$61:$A$1687,MATCH(ROWS($C$61:$C951),$C$61:$C$1687,0)),\"\")","v":"Parkfield Medical Centre EoE)"}]
["Leicester Terrace Health Care Centre EM)",1,{"$f":"IF(B952=1,COUNTIF($B$61:$B952,1),\"\")","v":892},{"$f":"IFERROR(INDEX($A$61:$A$1687,MATCH(ROWS($C$61:$C952),$C$61:$C$1687,0)),\"\")","v":"Leicester Terrace Health Care Centre EM)"}]
["Bosworth Medical Centre WM)",1,{"$f":"IF(B953=1,COUNTIF($B$61:$B953,1),\"\")","v":893},{"$f":"IFERROR(INDEX($A$61:$A$1687,MATCH(ROWS($C$61:$C953),$C$61:$C$1687,0)),\"\")","v":"Bosworth Medical Centre WM)"}]
["Ashworth Street Surgery NW)",1,{"$f":"IF(B954=1,COUNTIF($B$61:$B954,1),\"\")","v":894},{"$f":"IFERROR(INDEX($A$61:$A$1687,MATCH(ROWS($C$61:$C954),$C$61:$C$1687,0)),\"\")","v":"Ashworth Street Surgery NW)"}]
["Drs Adey and Dancy NW)",1,{"$f":"IF(B955=1,COUNTIF($B$61:$B955,1),\"\")","v":895},{"$f":"IFERROR(INDEX($A$61:$A$1687,MATCH(ROWS($C$61:$C955),$C$61:$C$1687,0)),\"\")","v":"Drs Adey and Dancy NW)"}]
["Firs House Surgery EoE)",1,{"$f":"IF(B956=1,COUNTIF($B$61:$B956,1),\"\")","v":896},{"$f":"IFERROR(INDEX($A$61:$A$1687,MATCH(ROWS($C$61:$C956),$C$61:$C$1687,0)),\"\")","v":"Firs House Surgery EoE)"}]
["Levenshulme Medical Practice NW)",1,{"$f":"IF(B957=1,COUNTIF($B$61:$B957,1),\"\")","v":897},{"$f":"IFERROR(INDEX($A$61:$A$1687,MATCH(ROWS($C$61:$C957),$C$61:$C$1687,0)),\"\")","v":"Levenshulme Medical Practice NW)"}]
["Robert Darbishire Practice NW)",{"$f":"--ISNUMBER(SEARCH($F$15,A958))","v":1},{"$f":"IF(B958=1,COUNTIF($B$61:$B958,1),\"\")","v":898},{"$f":"IFERROR(INDEX($A$61:$A$1687,MATCH(ROWS($C$61:$C958),$C$61:$C$1687,0)),\"\")","v":"Robert Darbishire Practice NW)"}]
["Rosedale Surgery EoE)",1,{"$f":"IF(B959=1,COUNTIF($B$61:$B959,1),\"\")","v":899},{"$f":"IFERROR(INDEX($A$61:$A$1687,MATCH(ROWS($C$61:$C959),$C$61:$C$1687,0)),\"\")","v":"Rosedale Surgery EoE)"}]
["Marple Cottage Surgery NW)",1,{"$f":"IF(B960=1,COUNTIF($B$61:$B960,1),\"\")","v":900},{"$f":"IFERROR(INDEX($A$61:$A$1687,MATCH(ROWS($C$61:$C960),$C$61:$C$1687,0)),\"\")","v":"Marple Cottage Surgery NW)"}]
["Clay Lane Medical Centre WM)",1,{"$f":"IF(B961=1,COUNTIF($B$61:$B961,1),\"\")","v":901},{"$f":"IFERROR(INDEX($A$61:$A$1687,MATCH(ROWS($C$61:$C961),$C$61:$C$1687,0)),\"\")","v":"Clay Lane Medical Centre WM)"}]
["Baddow Village Surgery EoE)",1,{"$f":"IF(B962=1,COUNTIF($B$61:$B962,1),\"\")","v":902},{"$f":"IFERROR(INDEX($A$61:$A$1687,MATCH(ROWS($C$61:$C962),$C$61:$C$1687,0)),\"\")","v":"Baddow Village Surgery EoE)"}]
["Market Surgery EoE)",1,{"$f":"IF(B963=1,COUNTIF($B$61:$B963,1),\"\")","v":903},{"$f":"IFERROR(INDEX($A$61:$A$1687,MATCH(ROWS($C$61:$C963),$C$61:$C$1687,0)),\"\")","v":"Market Surgery EoE)"}]
["Great Massingham Surgery EoE)",1,{"$f":"IF(B964=1,COUNTIF($B$61:$B964,1),\"\")","v":904},{"$f":"IFERROR(INDEX($A$61:$A$1687,MATCH(ROWS($C$61:$C964),$C$61:$C$1687,0)),\"\")","v":"Great Massingham Surgery EoE)"}]
["Mile Lane Health Centre NW)",1,{"$f":"IF(B965=1,COUNTIF($B$61:$B965,1),\"\")","v":905},{"$f":"IFERROR(INDEX($A$61:$A$1687,MATCH(ROWS($C$61:$C965),$C$61:$C$1687,0)),\"\")","v":"Mile Lane Health Centre NW)"}]
["Westway Medical Centre NW)",1,{"$f":"IF(B966=1,COUNTIF($B$61:$B966,1),\"\")","v":906},{"$f":"IFERROR(INDEX($A$61:$A$1687,MATCH(ROWS($C$61:$C966),$C$61:$C$1687,0)),\"\")","v":"Westway Medical Centre NW)"}]
["Ashwell Surgery EoE)",1,{"$f":"IF(B967=1,COUNTIF($B$61:$B967,1),\"\")","v":907},{"$f":"IFERROR(INDEX($A$61:$A$1687,MATCH(ROWS($C$61:$C967),$C$61:$C$1687,0)),\"\")","v":"Ashwell Surgery EoE)"}]
["Berryfields Medical Centre TV)",1,{"$f":"IF(B968=1,COUNTIF($B$61:$B968,1),\"\")","v":908},{"$f":"IFERROR(INDEX($A$61:$A$1687,MATCH(ROWS($C$61:$C968),$C$61:$C$1687,0)),\"\")","v":"Berryfields Medical Centre TV)"}]
["Park Leys Medical Practice WM)",1,{"$f":"IF(B969=1,COUNTIF($B$61:$B969,1),\"\")","v":909},{"$f":"IFERROR(INDEX($A$61:$A$1687,MATCH(ROWS($C$61:$C969),$C$61:$C$1687,0)),\"\")","v":"Park Leys Medical Practice WM)"}]
["Mossley Medical Practice NW)",1,{"$f":"IF(B970=1,COUNTIF($B$61:$B970,1),\"\")","v":910},{"$f":"IFERROR(INDEX($A$61:$A$1687,MATCH(ROWS($C$61:$C970),$C$61:$C$1687,0)),\"\")","v":"Mossley Medical Practice NW)"}]
["Palatine Group Practice IOM) NW)",1,{"$f":"IF(B971=1,COUNTIF($B$61:$B971,1),\"\")","v":911},{"$f":"IFERROR(INDEX($A$61:$A$1687,MATCH(ROWS($C$61:$C971),$C$61:$C$1687,0)),\"\")","v":"Palatine Group Practice IOM) NW)"}]
["Whitemoor Medical Centre EM)",1,{"$f":"IF(B972=1,COUNTIF($B$61:$B972,1),\"\")","v":912},{"$f":"IFERROR(INDEX($A$61:$A$1687,MATCH(ROWS($C$61:$C972),$C$61:$C$1687,0)),\"\")","v":"Whitemoor Medical Centre EM)"}]
["Northway Medical Centre WM)",1,{"$f":"IF(B973=1,COUNTIF($B$61:$B973,1),\"\")","v":913},{"$f":"IFERROR(INDEX($A$61:$A$1687,MATCH(ROWS($C$61:$C973),$C$61:$C$1687,0)),\"\")","v":"Northway Medical Centre WM)"}]
["Castleton Health Centre NW)",1,{"$f":"IF(B974=1,COUNTIF($B$61:$B974,1),\"\")","v":914},{"$f":"IFERROR(INDEX($A$61:$A$1687,MATCH(ROWS($C$61:$C974),$C$61:$C$1687,0)),\"\")","v":"Castleton Health Centre NW)"}]
["Red Roofs Surgery WM)",1,{"$f":"IF(B975=1,COUNTIF($B$61:$B975,1),\"\")","v":915},{"$f":"IFERROR(INDEX($A$61:$A$1687,MATCH(ROWS($C$61:$C975),$C$61:$C$1687,0)),\"\")","v":"Red Roofs Surgery WM)"}]
["Engleton House Surgery WM)",1,{"$f":"IF(B976=1,COUNTIF($B$61:$B976,1),\"\")","v":916},{"$f":"IFERROR(INDEX($A$61:$A$1687,MATCH(ROWS($C$61:$C976),$C$61:$C$1687,0)),\"\")","v":"Engleton House Surgery WM)"}]
["Davenal House Surgery WM)",1,{"$f":"IF(B977=1,COUNTIF($B$61:$B977,1),\"\")","v":917},{"$f":"IFERROR(INDEX($A$61:$A$1687,MATCH(ROWS($C$61:$C977),$C$61:$C$1687,0)),\"\")","v":"Davenal House Surgery WM)"}]
["Ellenbrook Medical Centre NW)",1,{"$f":"IF(B978=1,COUNTIF($B$61:$B978,1),\"\")","v":918},{"$f":"IFERROR(INDEX($A$61:$A$1687,MATCH(ROWS($C$61:$C978),$C$61:$C$1687,0)),\"\")","v":"Ellenbrook Medical Centre NW)"}]
["Kildonan House NW)",1,{"$f":"IF(B979=1,COUNTIF($B$61:$B979,1),\"\")","v":919},{"$f":"IFERROR(INDEX($A$61:$A$1687,MATCH(ROWS($C$61:$C979),$C$61:$C$1687,0)),\"\")","v":"Kildonan House NW)"}]
["Demontfort Medical Centre WM)",1,{"$f":"IF(B980=1,COUNTIF($B$61:$B980,1),\"\")","v":920},{"$f":"IFERROR(INDEX($A$61:$A$1687,MATCH(ROWS($C$61:$C980),$C$61:$C$1687,0)),\"\")","v":"Demontfort Medical Centre WM)"}]
["Northgate Medical Centre WM)",1,{"$f":"IF(B981=1,COUNTIF($B$61:$B981,1),\"\")","v":921},{"$f":"IFERROR(INDEX($A$61:$A$1687,MATCH(ROWS($C$61:$C981),$C$61:$C$1687,0)),\"\")","v":"Northgate Medical Centre WM)"}]
["Brookside Surgery WM)",1,{"$f":"IF(B982=1,COUNTIF($B$61:$B982,1),\"\")","v":922},{"$f":"IFERROR(INDEX($A$61:$A$1687,MATCH(ROWS($C$61:$C982),$C$61:$C$1687,0)),\"\")","v":"Brookside Surgery WM)"}]
["Grosvenor Medical Centre NW)",1,{"$f":"IF(B983=1,COUNTIF($B$61:$B983,1),\"\")","v":923},{"$f":"IFERROR(INDEX($A$61:$A$1687,MATCH(ROWS($C$61:$C983),$C$61:$C$1687,0)),\"\")","v":"Grosvenor Medical Centre NW)"}]
["Vale of Red Horse WM)",1,{"$f":"IF(B984=1,COUNTIF($B$61:$B984,1),\"\")","v":924},{"$f":"IFERROR(INDEX($A$61:$A$1687,MATCH(ROWS($C$61:$C984),$C$61:$C$1687,0)),\"\")","v":"Vale of Red Horse WM)"}]
["Little Waltham & Gt Notley Surgery EoE)",1,{"$f":"IF(B985=1,COUNTIF($B$61:$B985,1),\"\")","v":925},{"$f":"IFERROR(INDEX($A$61:$A$1687,MATCH(ROWS($C$61:$C985),$C$61:$C$1687,0)),\"\")","v":"Little Waltham & Gt Notley Surgery EoE)"}]
["The Health Centre Practice EoE)",1,{"$f":"IF(B986=1,COUNTIF($B$61:$B986,1),\"\")","v":926},{"$f":"IFERROR(INDEX($A$61:$A$1687,MATCH(ROWS($C$61:$C986),$C$61:$C$1687,0)),\"\")","v":"The Health Centre Practice EoE)"}]
["Balmore Park Surgery TV)",1,{"$f":"IF(B987=1,COUNTIF($B$61:$B987,1),\"\")","v":927},{"$f":"IFERROR(INDEX($A$61:$A$1687,MATCH(ROWS($C$61:$C987),$C$61:$C$1687,0)),\"\")","v":"Balmore Park Surgery TV)"}]
["Wetmore Road Surgery WM)",1,{"$f":"IF(B988=1,COUNTIF($B$61:$B988,1),\"\")","v":928},{"$f":"IFERROR(INDEX($A$61:$A$1687,MATCH(ROWS($C$61:$C988),$C$61:$C$1687,0)),\"\")","v":"Wetmore Road Surgery WM)"}]
["Cromer Group Practice EoE)",1,{"$f":"IF(B989=1,COUNTIF($B$61:$B989,1),\"\")","v":929},{"$f":"IFERROR(INDEX($A$61:$A$1687,MATCH(ROWS($C$61:$C989),$C$61:$C$1687,0)),\"\")","v":"Cromer Group Practice EoE)"}]
["Newhall Surgery EM)",1,{"$f":"IF(B990=1,COUNTIF($B$61:$B990,1),\"\")","v":930},{"$f":"IFERROR(INDEX($A$61:$A$1687,MATCH(ROWS($C$61:$C990),$C$61:$C$1687,0)),\"\")","v":"Newhall Surgery EM)"}]
["Tanworth-in-Arden Medical Centre WM",1,{"$f":"IF(B991=1,COUNTIF($B$61:$B991,1),\"\")","v":931},{"$f":"IFERROR(INDEX($A$61:$A$1687,MATCH(ROWS($C$61:$C991),$C$61:$C$1687,0)),\"\")","v":"Tanworth-in-Arden Medical Centre WM"}]
["Little London Surgery WM)",1,{"$f":"IF(B992=1,COUNTIF($B$61:$B992,1),\"\")","v":932},{"$f":"IFERROR(INDEX($A$61:$A$1687,MATCH(ROWS($C$61:$C992),$C$61:$C$1687,0)),\"\")","v":"Little London Surgery WM)"}]
["Merstow Green Medical Practice WM)",1,{"$f":"IF(B993=1,COUNTIF($B$61:$B993,1),\"\")","v":933},{"$f":"IFERROR(INDEX($A$61:$A$1687,MATCH(ROWS($C$61:$C993),$C$61:$C$1687,0)),\"\")","v":"Merstow Green Medical Practice WM)"}]
["Park Surgery EM)",1,{"$f":"IF(B994=1,COUNTIF($B$61:$B994,1),\"\")","v":934},{"$f":"IFERROR(INDEX($A$61:$A$1687,MATCH(ROWS($C$61:$C994),$C$61:$C$1687,0)),\"\")","v":"Park Surgery EM)"}]
["Greens Norton & Weedon Medical EM)",1,{"$f":"IF(B995=1,COUNTIF($B$61:$B995,1),\"\")","v":935},{"$f":"IFERROR(INDEX($A$61:$A$1687,MATCH(ROWS($C$61:$C995),$C$61:$C$1687,0)),\"\")","v":"Greens Norton & Weedon Medical EM)"}]
["The Park Surgery EoE)",1,{"$f":"IF(B996=1,COUNTIF($B$61:$B996,1),\"\")","v":936},{"$f":"IFERROR(INDEX($A$61:$A$1687,MATCH(ROWS($C$61:$C996),$C$61:$C$1687,0)),\"\")","v":"The Park Surgery EoE)"}]
["St Johns Surgery WM)",1,{"$f":"IF(B997=1,COUNTIF($B$61:$B997,1),\"\")","v":937},{"$f":"IFERROR(INDEX($A$61:$A$1687,MATCH(ROWS($C$61:$C997),$C$61:$C$1687,0)),\"\")","v":"St Johns Surgery WM)"}]
["Garston Medical Centre EoE)",1,{"$f":"IF(B998=1,COUNTIF($B$61:$B998,1),\"\")","v":938},{"$f":"IFERROR(INDEX($A$61:$A$1687,MATCH(ROWS($C$61:$C998),$C$61:$C$1687,0)),\"\")","v":"Garston Medical Centre EoE)"}]
["Ward End Medical Centre WM)",1,{"$f":"IF(B999=1,COUNTIF($B$61:$B999,1),\"\")","v":939},{"$f":"IFERROR(INDEX($A$61:$A$1687,MATCH(ROWS($C$61:$C999),$C$61:$C$1687,0)),\"\")","v":"Ward End Medical Centre WM)"}]
["Woolton House Medical Centre NW)",1,{"$f":"IF(B1000=1,COUNTIF($B$61:$B1000,1),\"\")","v":940},{"$f":"IFERROR(INDEX($A$61:$A$1687,MATCH(ROWS($C$61:$C1000),$C$61:$C$1687,0)),\"\")","v":"Woolton House Medical Centre NW)"}]
["Leiston Surgery EoE)",1,{"$f":"IF(B1001=1,COUNTIF($B$61:$B1001,1),\"\")","v":941},{"$f":"IFERROR(INDEX($A$61:$A$1687,MATCH(ROWS($C$61:$C1001),$C$61:$C$1687,0)),\"\")","v":"Leiston Surgery EoE)"}]
["Cedar House Surgery EoE)",1,{"$f":"IF(B1002=1,COUNTIF($B$61:$B1002,1),\"\")","v":942},{"$f":"IFERROR(INDEX($A$61:$A$1687,MATCH(ROWS($C$61:$C1002),$C$61:$C$1687,0)),\"\")","v":"Cedar House Surgery EoE)"}]
["Lister House Surgery EM)",1,{"$f":"IF(B1003=1,COUNTIF($B$61:$B1003,1),\"\")","v":943},{"$f":"IFERROR(INDEX($A$61:$A$1687,MATCH(ROWS($C$61:$C1003),$C$61:$C$1687,0)),\"\")","v":"Lister House Surgery EM)"}]
["Spital Surgery NW)",1,{"$f":"IF(B1004=1,COUNTIF($B$61:$B1004,1),\"\")","v":944},{"$f":"IFERROR(INDEX($A$61:$A$1687,MATCH(ROWS($C$61:$C1004),$C$61:$C$1687,0)),\"\")","v":"Spital Surgery NW)"}]
["The Marches Surgery WM)",1,{"$f":"IF(B1005=1,COUNTIF($B$61:$B1005,1),\"\")","v":945},{"$f":"IFERROR(INDEX($A$61:$A$1687,MATCH(ROWS($C$61:$C1005),$C$61:$C$1687,0)),\"\")","v":"The Marches Surgery WM)"}]
["Longfield Medical Centre EoE)",1,{"$f":"IF(B1006=1,COUNTIF($B$61:$B1006,1),\"\")","v":946},{"$f":"IFERROR(INDEX($A$61:$A$1687,MATCH(ROWS($C$61:$C1006),$C$61:$C$1687,0)),\"\")","v":"Longfield Medical Centre EoE)"}]
["Dolphin House Surgery EoE)",1,{"$f":"IF(B1007=1,COUNTIF($B$61:$B1007,1),\"\")","v":947},{"$f":"IFERROR(INDEX($A$61:$A$1687,MATCH(ROWS($C$61:$C1007),$C$61:$C$1687,0)),\"\")","v":"Dolphin House Surgery EoE)"}]
["LDN VTS LaSE)",1,{"$f":"IF(B1008=1,COUNTIF($B$61:$B1008,1),\"\")","v":948},{"$f":"IFERROR(INDEX($A$61:$A$1687,MATCH(ROWS($C$61:$C1008),$C$61:$C$1687,0)),\"\")","v":"LDN VTS LaSE)"}]
["Langham Place Surgery EM)",1,{"$f":"IF(B1009=1,COUNTIF($B$61:$B1009,1),\"\")","v":949},{"$f":"IFERROR(INDEX($A$61:$A$1687,MATCH(ROWS($C$61:$C1009),$C$61:$C$1687,0)),\"\")","v":"Langham Place Surgery EM)"}]
["White Horse Medical Practice TV)",1,{"$f":"IF(B1010=1,COUNTIF($B$61:$B1010,1),\"\")","v":950},{"$f":"IFERROR(INDEX($A$61:$A$1687,MATCH(ROWS($C$61:$C1010),$C$61:$C$1687,0)),\"\")","v":"White Horse Medical Practice TV)"}]
["Moreton Medical Centre NW)",1,{"$f":"IF(B1011=1,COUNTIF($B$61:$B1011,1),\"\")","v":951},{"$f":"IFERROR(INDEX($A$61:$A$1687,MATCH(ROWS($C$61:$C1011),$C$61:$C$1687,0)),\"\")","v":"Moreton Medical Centre NW)"}]
["The Wellspring Surgery EM)",1,{"$f":"IF(B1012=1,COUNTIF($B$61:$B1012,1),\"\")","v":952},{"$f":"IFERROR(INDEX($A$61:$A$1687,MATCH(ROWS($C$61:$C1012),$C$61:$C$1687,0)),\"\")","v":"The Wellspring Surgery EM)"}]
["Stonehill Medical Centre NW)",1,{"$f":"IF(B1013=1,COUNTIF($B$61:$B1013,1),\"\")","v":953},{"$f":"IFERROR(INDEX($A$61:$A$1687,MATCH(ROWS($C$61:$C1013),$C$61:$C$1687,0)),\"\")","v":"Stonehill Medical Centre NW)"}]
["The Surgery NW)",1,{"$f":"IF(B1014=1,COUNTIF($B$61:$B1014,1),\"\")","v":954},{"$f":"IFERROR(INDEX($A$61:$A$1687,MATCH(ROWS($C$61:$C1014),$C$61:$C$1687,0)),\"\")","v":"The Surgery NW)"}]
["Waterhouses Medical Practice WM)",1,{"$f":"IF(B1015=1,COUNTIF($B$61:$B1015,1),\"\")","v":955},{"$f":"IFERROR(INDEX($A$61:$A$1687,MATCH(ROWS($C$61:$C1015),$C$61:$C$1687,0)),\"\")","v":"Waterhouses Medical Practice WM)"}]
["Millwood Surgery EoE)",1,{"$f":"IF(B1016=1,COUNTIF($B$61:$B1016,1),\"\")","v":956},{"$f":"IFERROR(INDEX($A$61:$A$1687,MATCH(ROWS($C$61:$C1016),$C$61:$C$1687,0)),\"\")","v":"Millwood Surgery EoE)"}]
["St Stephen's Gate Medical Partnership EoE)",1,{"$f":"IF(B1017=1,COUNTIF($B$61:$B1017,1),\"\")","v":957},{"$f":"IFERROR(INDEX($A$61:$A$1687,MATCH(ROWS($C$61:$C1017),$C$61:$C$1687,0)),\"\")","v":"St Stephen's Gate Medical Partnership EoE)"}]
["Trent Vale Medical Practice WM)",1,{"$f":"IF(B1018=1,COUNTIF($B$61:$B1018,1),\"\")","v":958},{"$f":"IFERROR(INDEX($A$61:$A$1687,MATCH(ROWS($C$61:$C1018),$C$61:$C$1687,0)),\"\")","v":"Trent Vale Medical Practice WM)"}]
["Bridgewater Community Healthcare NHS Trust",1,{"$f":"IF(B1019=1,COUNTIF($B$61:$B1019,1),\"\")","v":959},{"$f":"IFERROR(INDEX($A$61:$A$1687,MATCH(ROWS($C$61:$C1019),$C$61:$C$1687,0)),\"\")","v":"Bridgewater Community Healthcare NHS Trust"}]
["Mansfield Medical Centre WM)",1,{"$f":"IF(B1020=1,COUNTIF($B$61:$B1020,1),\"\")","v":960},{"$f":"IFERROR(INDEX($A$61:$A$1687,MATCH(ROWS($C$61:$C1020),$C$61:$C$1687,0)),\"\")","v":"Mansfield Medical Centre WM)"}]
["Bridge Road Surgery EoE)",1,{"$f":"IF(B1021=1,COUNTIF($B$61:$B1021,1),\"\")","v":961},{"$f":"IFERROR(INDEX($A$61:$A$1687,MATCH(ROWS($C$61:$C1021),$C$61:$C$1687,0)),\"\")","v":"Bridge Road Surgery EoE)"}]
["The Range Medical Centre NW)",{"$f":"--ISNUMBER(SEARCH($F$15,A1022))","v":1},{"$f":"IF(B1022=1,COUNTIF($B$61:$B1022,1),\"\")","v":962},{"$f":"IFERROR(INDEX($A$61:$A$1687,MATCH(ROWS($C$61:$C1022),$C$61:$C$1687,0)),\"\")","v":"The Range Medical Centre NW)"}]
["Ashfields Primary Care Centre NW)",1,{"$f":"IF(B1023=1,COUNTIF($B$61:$B1023,1),\"\")","v":963},{"$f":"IFERROR(INDEX($A$61:$A$1687,MATCH(ROWS($C$61:$C1023),$C$61:$C$1687,0)),\"\")","v":"Ashfields Primary Care Centre NW)"}]
["Bartley Green Medical Practice WM)",1,{"$f":"IF(B1024=1,COUNTIF($B$61:$B1024,1),\"\")","v":964},{"$f":"IFERROR(INDEX($A$61:$A$1687,MATCH(ROWS($C$61:$C1024),$C$61:$C$1687,0)),\"\")","v":"Bartley Green Medical Practice WM)"}]
["Cubbington Road Surgery WM)",1,{"$f":"IF(B1025=1,COUNTIF($B$61:$B1025,1),\"\")","v":965},{"$f":"IFERROR(INDEX($A$61:$A$1687,MATCH(ROWS($C$61:$C1025),$C$61:$C$1687,0)),\"\")","v":"Cubbington Road Surgery WM)"}]
["St Clements Surgery WM)",1,{"$f":"IF(B1026=1,COUNTIF($B$61:$B1026,1),\"\")","v":966},{"$f":"IFERROR(INDEX($A$61:$A$1687,MATCH(ROWS($C$61:$C1026),$C$61:$C$1687,0)),\"\")","v":"St Clements Surgery WM)"}]
["Lee House Surgery TV)",1,{"$f":"IF(B1027=1,COUNTIF($B$61:$B1027,1),\"\")","v":967},{"$f":"IFERROR(INDEX($A$61:$A$1687,MATCH(ROWS($C$61:$C1027),$C$61:$C$1687,0)),\"\")","v":"Lee House Surgery TV)"}]
["Beeches Medical Practice WM)",1,{"$f":"IF(B1028=1,COUNTIF($B$61:$B1028,1),\"\")","v":968},{"$f":"IFERROR(INDEX($A$61:$A$1687,MATCH(ROWS($C$61:$C1028),$C$61:$C$1687,0)),\"\")","v":"Beeches Medical Practice WM)"}]
["Hollymoor Medical Centre WM)",1,{"$f":"IF(B1029=1,COUNTIF($B$61:$B1029,1),\"\")","v":969},{"$f":"IFERROR(INDEX($A$61:$A$1687,MATCH(ROWS($C$61:$C1029),$C$61:$C$1687,0)),\"\")","v":"Hollymoor Medical Centre WM)"}]
["Yew Tree Medical Centre WM)",1,{"$f":"IF(B1030=1,COUNTIF($B$61:$B1030,1),\"\")","v":970},{"$f":"IFERROR(INDEX($A$61:$A$1687,MATCH(ROWS($C$61:$C1030),$C$61:$C$1687,0)),\"\")","v":"Yew Tree Medical Centre WM)"}]
["Heaton Moor Medical Centre NW)",1,{"$f":"IF(B1031=1,COUNTIF($B$61:$B1031,1),\"\")","v":971},{"$f":"IFERROR(INDEX($A$61:$A$1687,MATCH(ROWS($C$61:$C1031),$C$61:$C$1687,0)),\"\")","v":"Heaton Moor Medical Centre NW)"}]
["St Francis Hospice LaSE)",1,{"$f":"IF(B1032=1,COUNTIF($B$61:$B1032,1),\"\")","v":972},{"$f":"IFERROR(INDEX($A$61:$A$1687,MATCH(ROWS($C$61:$C1032),$C$61:$C$1687,0)),\"\")","v":"St Francis Hospice LaSE)"}]
["Revel Surgery WM)",1,{"$f":"IF(B1033=1,COUNTIF($B$61:$B1033,1),\"\")","v":973},{"$f":"IFERROR(INDEX($A$61:$A$1687,MATCH(ROWS($C$61:$C1033),$C$61:$C$1687,0)),\"\")","v":"Revel Surgery WM)"}]
["Highcroft Surgery EM)",1,{"$f":"IF(B1034=1,COUNTIF($B$61:$B1034,1),\"\")","v":974},{"$f":"IFERROR(INDEX($A$61:$A$1687,MATCH(ROWS($C$61:$C1034),$C$61:$C$1687,0)),\"\")","v":"Highcroft Surgery EM)"}]
["The Kingstanding Community Practice WM)",1,{"$f":"IF(B1035=1,COUNTIF($B$61:$B1035,1),\"\")","v":975},{"$f":"IFERROR(INDEX($A$61:$A$1687,MATCH(ROWS($C$61:$C1035),$C$61:$C$1687,0)),\"\")","v":"The Kingstanding Community Practice WM)"}]
["Clifton Road Surgery WM)",1,{"$f":"IF(B1036=1,COUNTIF($B$61:$B1036,1),\"\")","v":976},{"$f":"IFERROR(INDEX($A$61:$A$1687,MATCH(ROWS($C$61:$C1036),$C$61:$C$1687,0)),\"\")","v":"Clifton Road Surgery WM)"}]
["Springfield Medical Practice WM)",1,{"$f":"IF(B1037=1,COUNTIF($B$61:$B1037,1),\"\")","v":977},{"$f":"IFERROR(INDEX($A$61:$A$1687,MATCH(ROWS($C$61:$C1037),$C$61:$C$1687,0)),\"\")","v":"Springfield Medical Practice WM)"}]
["Orsett Surgery EoE)",1,{"$f":"IF(B1038=1,COUNTIF($B$61:$B1038,1),\"\")","v":978},{"$f":"IFERROR(INDEX($A$61:$A$1687,MATCH(ROWS($C$61:$C1038),$C$61:$C$1687,0)),\"\")","v":"Orsett Surgery EoE)"}]
["Swadlincote Surgery EM)",1,{"$f":"IF(B1039=1,COUNTIF($B$61:$B1039,1),\"\")","v":979},{"$f":"IFERROR(INDEX($A$61:$A$1687,MATCH(ROWS($C$61:$C1039),$C$61:$C$1687,0)),\"\")","v":"Swadlincote Surgery EM)"}]
["Tower House Practice NW)",1,{"$f":"IF(B1040=1,COUNTIF($B$61:$B1040,1),\"\")","v":980},{"$f":"IFERROR(INDEX($A$61:$A$1687,MATCH(ROWS($C$61:$C1040),$C$61:$C$1687,0)),\"\")","v":"Tower House Practice NW)"}]
["Pleck Health Centre WM)",1,{"$f":"IF(B1041=1,COUNTIF($B$61:$B1041,1),\"\")","v":981},{"$f":"IFERROR(INDEX($A$61:$A$1687,MATCH(ROWS($C$61:$C1041),$C$61:$C$1687,0)),\"\")","v":"Pleck Health Centre WM)"}]
["Swanlow Medical Centre NW)",1,{"$f":"IF(B1042=1,COUNTIF($B$61:$B1042,1),\"\")","v":982},{"$f":"IFERROR(INDEX($A$61:$A$1687,MATCH(ROWS($C$61:$C1042),$C$61:$C$1687,0)),\"\")","v":"Swanlow Medical Centre NW)"}]
["Audley Mills Surgery EoE)",1,{"$f":"IF(B1043=1,COUNTIF($B$61:$B1043,1),\"\")","v":983},{"$f":"IFERROR(INDEX($A$61:$A$1687,MATCH(ROWS($C$61:$C1043),$C$61:$C$1687,0)),\"\")","v":"Audley Mills Surgery EoE)"}]
["The Slieve Surgery WM)",1,{"$f":"IF(B1044=1,COUNTIF($B$61:$B1044,1),\"\")","v":984},{"$f":"IFERROR(INDEX($A$61:$A$1687,MATCH(ROWS($C$61:$C1044),$C$61:$C$1687,0)),\"\")","v":"The Slieve Surgery WM)"}]
["Victoria Park Health Centre EM)",1,{"$f":"IF(B1045=1,COUNTIF($B$61:$B1045,1),\"\")","v":985},{"$f":"IFERROR(INDEX($A$61:$A$1687,MATCH(ROWS($C$61:$C1045),$C$61:$C$1687,0)),\"\")","v":"Victoria Park Health Centre EM)"}]
["The Wycliffe Medical Practice EM)",1,{"$f":"IF(B1046=1,COUNTIF($B$61:$B1046,1),\"\")","v":986},{"$f":"IFERROR(INDEX($A$61:$A$1687,MATCH(ROWS($C$61:$C1046),$C$61:$C$1687,0)),\"\")","v":"The Wycliffe Medical Practice EM)"}]
["Herschel Medical Centre TV)",1,{"$f":"IF(B1047=1,COUNTIF($B$61:$B1047,1),\"\")","v":987},{"$f":"IFERROR(INDEX($A$61:$A$1687,MATCH(ROWS($C$61:$C1047),$C$61:$C$1687,0)),\"\")","v":"Herschel Medical Centre TV)"}]
["Linden Hall Surgery WM)",1,{"$f":"IF(B1048=1,COUNTIF($B$61:$B1048,1),\"\")","v":988},{"$f":"IFERROR(INDEX($A$61:$A$1687,MATCH(ROWS($C$61:$C1048),$C$61:$C$1687,0)),\"\")","v":"Linden Hall Surgery WM)"}]
["Stockton Heath Medical Centre NW)",1,{"$f":"IF(B1049=1,COUNTIF($B$61:$B1049,1),\"\")","v":989},{"$f":"IFERROR(INDEX($A$61:$A$1687,MATCH(ROWS($C$61:$C1049),$C$61:$C$1687,0)),\"\")","v":"Stockton Heath Medical Centre NW)"}]
["The Valkyrie Surgery EoE)",1,{"$f":"IF(B1050=1,COUNTIF($B$61:$B1050,1),\"\")","v":990},{"$f":"IFERROR(INDEX($A$61:$A$1687,MATCH(ROWS($C$61:$C1050),$C$61:$C$1687,0)),\"\")","v":"The Valkyrie Surgery EoE)"}]
["Halcyon Medical WM)",1,{"$f":"IF(B1051=1,COUNTIF($B$61:$B1051,1),\"\")","v":991},{"$f":"IFERROR(INDEX($A$61:$A$1687,MATCH(ROWS($C$61:$C1051),$C$61:$C$1687,0)),\"\")","v":"Halcyon Medical WM)"}]
["Cobridge Surgery WM)",1,{"$f":"IF(B1052=1,COUNTIF($B$61:$B1052,1),\"\")","v":992},{"$f":"IFERROR(INDEX($A$61:$A$1687,MATCH(ROWS($C$61:$C1052),$C$61:$C$1687,0)),\"\")","v":"Cobridge Surgery WM)"}]
["Freshwell Health Centre EoE)",1,{"$f":"IF(B1053=1,COUNTIF($B$61:$B1053,1),\"\")","v":993},{"$f":"IFERROR(INDEX($A$61:$A$1687,MATCH(ROWS($C$61:$C1053),$C$61:$C$1687,0)),\"\")","v":"Freshwell Health Centre EoE)"}]
["Lane Ends Surgery NW)",1,{"$f":"IF(B1054=1,COUNTIF($B$61:$B1054,1),\"\")","v":994},{"$f":"IFERROR(INDEX($A$61:$A$1687,MATCH(ROWS($C$61:$C1054),$C$61:$C$1687,0)),\"\")","v":"Lane Ends Surgery NW)"}]
["Oakeswell Health Centre WM)",1,{"$f":"IF(B1055=1,COUNTIF($B$61:$B1055,1),\"\")","v":995},{"$f":"IFERROR(INDEX($A$61:$A$1687,MATCH(ROWS($C$61:$C1055),$C$61:$C$1687,0)),\"\")","v":"Oakeswell Health Centre WM)"}]
["East Hill Surgery EoE)",1,{"$f":"IF(B1056=1,COUNTIF($B$61:$B1056,1),\"\")","v":996},{"$f":"IFERROR(INDEX($A$61:$A$1687,MATCH(ROWS($C$61:$C1056),$C$61:$C$1687,0)),\"\")","v":"East Hill Surgery EoE)"}]
["Ordsall Health Surgery NW)",1,{"$f":"IF(B1057=1,COUNTIF($B$61:$B1057,1),\"\")","v":997},{"$f":"IFERROR(INDEX($A$61:$A$1687,MATCH(ROWS($C$61:$C1057),$C$61:$C$1687,0)),\"\")","v":"Ordsall Health Surgery NW)"}]
["Aldborough Surgery EoE)",1,{"$f":"IF(B1058=1,COUNTIF($B$61:$B1058,1),\"\")","v":998},{"$f":"IFERROR(INDEX($A$61:$A$1687,MATCH(ROWS($C$61:$C1058),$C$61:$C$1687,0)),\"\")","v":"Aldborough Surgery EoE)"}]
["Macklin Street Surgery EM)",1,{"$f":"IF(B1059=1,COUNTIF($B$61:$B1059,1),\"\")","v":999},{"$f":"IFERROR(INDEX($A$61:$A$1687,MATCH(ROWS($C$61:$C1059),$C$61:$C$1687,0)),\"\")","v":"Macklin Street Surgery EM)"}]
["Alpine House Surgery EM)",1,{"$f":"IF(B1060=1,COUNTIF($B$61:$B1060,1),\"\")","v":1000},{"$f":"IFERROR(INDEX($A$61:$A$1687,MATCH(ROWS($C$61:$C1060),$C$61:$C$1687,0)),\"\")","v":"Alpine House Surgery EM)"}]
["New Court Surgery WM)",1,{"$f":"IF(B1061=1,COUNTIF($B$61:$B1061,1),\"\")","v":1001},{"$f":"IFERROR(INDEX($A$61:$A$1687,MATCH(ROWS($C$61:$C1061),$C$61:$C$1687,0)),\"\")","v":"New Court Surgery WM)"}]
["Waterloo House Surgery NW)",1,{"$f":"IF(B1062=1,COUNTIF($B$61:$B1062,1),\"\")","v":1002},{"$f":"IFERROR(INDEX($A$61:$A$1687,MATCH(ROWS($C$61:$C1062),$C$61:$C$1687,0)),\"\")","v":"Waterloo House Surgery NW)"}]
["Grove Surgery EoE)",1,{"$f":"IF(B1063=1,COUNTIF($B$61:$B1063,1),\"\")","v":1003},{"$f":"IFERROR(INDEX($A$61:$A$1687,MATCH(ROWS($C$61:$C1063),$C$61:$C$1687,0)),\"\")","v":"Grove Surgery EoE)"}]
["Leicestershire & Rutland Hospice EM)",1,{"$f":"IF(B1064=1,COUNTIF($B$61:$B1064,1),\"\")","v":1004},{"$f":"IFERROR(INDEX($A$61:$A$1687,MATCH(ROWS($C$61:$C1064),$C$61:$C$1687,0)),\"\")","v":"Leicestershire & Rutland Hospice EM)"}]
["The Hawthorns Surgery WM)",1,{"$f":"IF(B1065=1,COUNTIF($B$61:$B1065,1),\"\")","v":1005},{"$f":"IFERROR(INDEX($A$61:$A$1687,MATCH(ROWS($C$61:$C1065),$C$61:$C$1687,0)),\"\")","v":"The Hawthorns Surgery WM)"}]
["Brinnington Health Centre NW)",1,{"$f":"IF(B1066=1,COUNTIF($B$61:$B1066,1),\"\")","v":1006},{"$f":"IFERROR(INDEX($A$61:$A$1687,MATCH(ROWS($C$61:$C1066),$C$61:$C$1687,0)),\"\")","v":"Brinnington Health Centre NW)"}]
["Wingate Medical Centre NW)",1,{"$f":"IF(B1067=1,COUNTIF($B$61:$B1067,1),\"\")","v":1007},{"$f":"IFERROR(INDEX($A$61:$A$1687,MATCH(ROWS($C$61:$C1067),$C$61:$C$1687,0)),\"\")","v":"Wingate Medical Centre NW)"}]
["Anfield Group Practice NW)",1,{"$f":"IF(B1068=1,COUNTIF($B$61:$B1068,1),\"\")","v":1008},{"$f":"IFERROR(INDEX($A$61:$A$1687,MATCH(ROWS($C$61:$C1068),$C$61:$C$1687,0)),\"\")","v":"Anfield Group Practice NW)"}]
["The Univ of Nottingham Health Service EM)",1,{"$f":"IF(B1069=1,COUNTIF($B$61:$B1069,1),\"\")","v":1009},{"$f":"IFERROR(INDEX($A$61:$A$1687,MATCH(ROWS($C$61:$C1069),$C$61:$C$1687,0)),\"\")","v":"The Univ of Nottingham Health Service EM)"}]
["College Street Medical Practice EM)",1,{"$f":"IF(B1070=1,COUNTIF($B$61:$B1070,1),\"\")","v":1010},{"$f":"IFERROR(INDEX($A$61:$A$1687,MATCH(ROWS($C$61:$C1070),$C$61:$C$1687,0)),\"\")","v":"College Street Medical Practice EM)"}]
["Langley Health Centre TV)",1,{"$f":"IF(B1071=1,COUNTIF($B$61:$B1071,1),\"\")","v":1011},{"$f":"IFERROR(INDEX($A$61:$A$1687,MATCH(ROWS($C$61:$C1071),$C$61:$C$1687,0)),\"\")","v":"Langley Health Centre TV)"}]
["University Medical Practice WM)",1,{"$f":"IF(B1072=1,COUNTIF($B$61:$B1072,1),\"\")","v":1012},{"$f":"IFERROR(INDEX($A$61:$A$1687,MATCH(ROWS($C$61:$C1072),$C$61:$C$1687,0)),\"\")","v":"University Medical Practice WM)"}]
["Marine Lake Medical Practice NW)",1,{"$f":"IF(B1073=1,COUNTIF($B$61:$B1073,1),\"\")","v":1013},{"$f":"IFERROR(INDEX($A$61:$A$1687,MATCH(ROWS($C$61:$C1073),$C$61:$C$1687,0)),\"\")","v":"Marine Lake Medical Practice NW)"}]
["Bracondale Medical Centre NW)",1,{"$f":"IF(B1074=1,COUNTIF($B$61:$B1074,1),\"\")","v":1014},{"$f":"IFERROR(INDEX($A$61:$A$1687,MATCH(ROWS($C$61:$C1074),$C$61:$C$1687,0)),\"\")","v":"Bracondale Medical Centre NW)"}]
["Grey Gable Surgery WM)",1,{"$f":"IF(B1075=1,COUNTIF($B$61:$B1075,1),\"\")","v":1015},{"$f":"IFERROR(INDEX($A$61:$A$1687,MATCH(ROWS($C$61:$C1075),$C$61:$C$1687,0)),\"\")","v":"Grey Gable Surgery WM)"}]
["The Baldock Surgery EoE)",1,{"$f":"IF(B1076=1,COUNTIF($B$61:$B1076,1),\"\")","v":1016},{"$f":"IFERROR(INDEX($A$61:$A$1687,MATCH(ROWS($C$61:$C1076),$C$61:$C$1687,0)),\"\")","v":"The Baldock Surgery EoE)"}]
["3/Springfield House Medical Practice NW)",1,{"$f":"IF(B1077=1,COUNTIF($B$61:$B1077,1),\"\")","v":1017},{"$f":"IFERROR(INDEX($A$61:$A$1687,MATCH(ROWS($C$61:$C1077),$C$61:$C$1687,0)),\"\")","v":"3/Springfield House Medical Practice NW)"}]
["Danebridge Medical Centre NW)",1,{"$f":"IF(B1078=1,COUNTIF($B$61:$B1078,1),\"\")","v":1018},{"$f":"IFERROR(INDEX($A$61:$A$1687,MATCH(ROWS($C$61:$C1078),$C$61:$C$1687,0)),\"\")","v":"Danebridge Medical Centre NW)"}]
["The Parks Medical Practice TV)",1,{"$f":"IF(B1079=1,COUNTIF($B$61:$B1079,1),\"\")","v":1019},{"$f":"IFERROR(INDEX($A$61:$A$1687,MATCH(ROWS($C$61:$C1079),$C$61:$C$1687,0)),\"\")","v":"The Parks Medical Practice TV)"}]
["Soho Road Primary Care Centre WM)",1,{"$f":"IF(B1080=1,COUNTIF($B$61:$B1080,1),\"\")","v":1020},{"$f":"IFERROR(INDEX($A$61:$A$1687,MATCH(ROWS($C$61:$C1080),$C$61:$C$1687,0)),\"\")","v":"Soho Road Primary Care Centre WM)"}]
["Bodmin Road Health Centre NW)",1,{"$f":"IF(B1081=1,COUNTIF($B$61:$B1081,1),\"\")","v":1021},{"$f":"IFERROR(INDEX($A$61:$A$1687,MATCH(ROWS($C$61:$C1081),$C$61:$C$1687,0)),\"\")","v":"Bodmin Road Health Centre NW)"}]
["New Queen Street Surgery EoE)",1,{"$f":"IF(B1082=1,COUNTIF($B$61:$B1082,1),\"\")","v":1022},{"$f":"IFERROR(INDEX($A$61:$A$1687,MATCH(ROWS($C$61:$C1082),$C$61:$C$1687,0)),\"\")","v":"New Queen Street Surgery EoE)"}]
["Heady Hill Surgery NW)",1,{"$f":"IF(B1083=1,COUNTIF($B$61:$B1083,1),\"\")","v":1023},{"$f":"IFERROR(INDEX($A$61:$A$1687,MATCH(ROWS($C$61:$C1083),$C$61:$C$1687,0)),\"\")","v":"Heady Hill Surgery NW)"}]
["Saxon Spires Practice EM)",1,{"$f":"IF(B1084=1,COUNTIF($B$61:$B1084,1),\"\")","v":1024},{"$f":"IFERROR(INDEX($A$61:$A$1687,MATCH(ROWS($C$61:$C1084),$C$61:$C$1687,0)),\"\")","v":"Saxon Spires Practice EM)"}]
["Eve Hill Medical Practice WM)",1,{"$f":"IF(B1085=1,COUNTIF($B$61:$B1085,1),\"\")","v":1025},{"$f":"IFERROR(INDEX($A$61:$A$1687,MATCH(ROWS($C$61:$C1085),$C$61:$C$1687,0)),\"\")","v":"Eve Hill Medical Practice WM)"}]
["The Central Surgery EM)",{"$f":"--ISNUMBER(SEARCH($F$15,A1086))","v":1},{"$f":"IF(B1086=1,COUNTIF($B$61:$B1086,1),\"\")","v":1026},{"$f":"IFERROR(INDEX($A$61:$A$1687,MATCH(ROWS($C$61:$C1086),$C$61:$C$1687,0)),\"\")","v":"The Central Surgery EM)"}]
["Darlaston Family Practice WM)",1,{"$f":"IF(B1087=1,COUNTIF($B$61:$B1087,1),\"\")","v":1027},{"$f":"IFERROR(INDEX($A$61:$A$1687,MATCH(ROWS($C$61:$C1087),$C$61:$C$1687,0)),\"\")","v":"Darlaston Family Practice WM)"}]
["Sky Blue Medical Practice WM)",1,{"$f":"IF(B1088=1,COUNTIF($B$61:$B1088,1),\"\")","v":1028},{"$f":"IFERROR(INDEX($A$61:$A$1687,MATCH(ROWS($C$61:$C1088),$C$61:$C$1687,0)),\"\")","v":"Sky Blue Medical Practice WM)"}]
["Stroud Practice WM)",1,{"$f":"IF(B1089=1,COUNTIF($B$61:$B1089,1),\"\")","v":1029},{"$f":"IFERROR(INDEX($A$61:$A$1687,MATCH(ROWS($C$61:$C1089),$C$61:$C$1687,0)),\"\")","v":"Stroud Practice WM)"}]
["Clarendon Lodge Medical Centre WM)",1,{"$f":"IF(B1090=1,COUNTIF($B$61:$B1090,1),\"\")","v":1030},{"$f":"IFERROR(INDEX($A$61:$A$1687,MATCH(ROWS($C$61:$C1090),$C$61:$C$1687,0)),\"\")","v":"Clarendon Lodge Medical Centre WM)"}]
["The Swan Practice TV)",1,{"$f":"IF(B1091=1,COUNTIF($B$61:$B1091,1),\"\")","v":1031},{"$f":"IFERROR(INDEX($A$61:$A$1687,MATCH(ROWS($C$61:$C1091),$C$61:$C$1687,0)),\"\")","v":"The Swan Practice TV)"}]
["Well Street Medical Centre WM)",1,{"$f":"IF(B1092=1,COUNTIF($B$61:$B1092,1),\"\")","v":1032},{"$f":"IFERROR(INDEX($A$61:$A$1687,MATCH(ROWS($C$61:$C1092),$C$61:$C$1687,0)),\"\")","v":"Well Street Medical Centre WM)"}]
["Miriam Primary Care Group NW)",1,{"$f":"IF(B1093=1,COUNTIF($B$61:$B1093,1),\"\")","v":1033},{"$f":"IFERROR(INDEX($A$61:$A$1687,MATCH(ROWS($C$61:$C1093),$C$61:$C$1687,0)),\"\")","v":"Miriam Primary Care Group NW)"}]
["The Elms Medical Centre NW)",1,{"$f":"IF(B1094=1,COUNTIF($B$61:$B1094,1),\"\")","v":1034},{"$f":"IFERROR(INDEX($A$61:$A$1687,MATCH(ROWS($C$61:$C1094),$C$61:$C$1687,0)),\"\")","v":"The Elms Medical Centre NW)"}]
["The Forest Practice EM)",1,{"$f":"IF(B1095=1,COUNTIF($B$61:$B1095,1),\"\")","v":1035},{"$f":"IFERROR(INDEX($A$61:$A$1687,MATCH(ROWS($C$61:$C1095),$C$61:$C$1687,0)),\"\")","v":"The Forest Practice EM)"}]
["Montgomery Health Practice WM) W96001",1,{"$f":"IF(B1096=1,COUNTIF($B$61:$B1096,1),\"\")","v":1036},{"$f":"IFERROR(INDEX($A$61:$A$1687,MATCH(ROWS($C$61:$C1096),$C$61:$C$1687,0)),\"\")","v":"Montgomery Health Practice WM) W96001"}]
["Wollaston and Bozeat Surgeries EM)",1,{"$f":"IF(B1097=1,COUNTIF($B$61:$B1097,1),\"\")","v":1037},{"$f":"IFERROR(INDEX($A$61:$A$1687,MATCH(ROWS($C$61:$C1097),$C$61:$C$1687,0)),\"\")","v":"Wollaston and Bozeat Surgeries EM)"}]
["Speke HC - Dr Thakur NW)",1,{"$f":"IF(B1098=1,COUNTIF($B$61:$B1098,1),\"\")","v":1038},{"$f":"IFERROR(INDEX($A$61:$A$1687,MATCH(ROWS($C$61:$C1098),$C$61:$C$1687,0)),\"\")","v":"Speke HC - Dr Thakur NW)"}]
["Park Medical Centre WM)",1,{"$f":"IF(B1099=1,COUNTIF($B$61:$B1099,1),\"\")","v":1039},{"$f":"IFERROR(INDEX($A$61:$A$1687,MATCH(ROWS($C$61:$C1099),$C$61:$C$1687,0)),\"\")","v":"Park Medical Centre WM)"}]
["Budbrooke Medical Centre WM)",1,{"$f":"IF(B1100=1,COUNTIF($B$61:$B1100,1),\"\")","v":1040},{"$f":"IFERROR(INDEX($A$61:$A$1687,MATCH(ROWS($C$61:$C1100),$C$61:$C$1687,0)),\"\")","v":"Budbrooke Medical Centre WM)"}]
["Bedwell Medical Centre EoE)",1,{"$f":"IF(B1101=1,COUNTIF($B$61:$B1101,1),\"\")","v":1041},{"$f":"IFERROR(INDEX($A$61:$A$1687,MATCH(ROWS($C$61:$C1101),$C$61:$C$1687,0)),\"\")","v":"Bedwell Medical Centre EoE)"}]
["Forest House Surgery EM)",1,{"$f":"IF(B1102=1,COUNTIF($B$61:$B1102,1),\"\")","v":1042},{"$f":"IFERROR(INDEX($A$61:$A$1687,MATCH(ROWS($C$61:$C1102),$C$61:$C$1687,0)),\"\")","v":"Forest House Surgery EM)"}]
["Great Oakley Medical Centre EM)",1,{"$f":"IF(B1103=1,COUNTIF($B$61:$B1103,1),\"\")","v":1043},{"$f":"IFERROR(INDEX($A$61:$A$1687,MATCH(ROWS($C$61:$C1103),$C$61:$C$1687,0)),\"\")","v":"Great Oakley Medical Centre EM)"}]
["The Golden Brook Practice EM)",1,{"$f":"IF(B1104=1,COUNTIF($B$61:$B1104,1),\"\")","v":1044},{"$f":"IFERROR(INDEX($A$61:$A$1687,MATCH(ROWS($C$61:$C1104),$C$61:$C$1687,0)),\"\")","v":"The Golden Brook Practice EM)"}]
["The Ardleigh Surgery EoE)",1,{"$f":"IF(B1105=1,COUNTIF($B$61:$B1105,1),\"\")","v":1045},{"$f":"IFERROR(INDEX($A$61:$A$1687,MATCH(ROWS($C$61:$C1105),$C$61:$C$1687,0)),\"\")","v":"The Ardleigh Surgery EoE)"}]
["Betsi Cadwaladr - Wrexham NW)",1,{"$f":"IF(B1106=1,COUNTIF($B$61:$B1106,1),\"\")","v":1046},{"$f":"IFERROR(INDEX($A$61:$A$1687,MATCH(ROWS($C$61:$C1106),$C$61:$C$1687,0)),\"\")","v":"Betsi Cadwaladr - Wrexham NW)"}]
["Westmoreland GP Practice NW)",1,{"$f":"IF(B1107=1,COUNTIF($B$61:$B1107,1),\"\")","v":1047},{"$f":"IFERROR(INDEX($A$61:$A$1687,MATCH(ROWS($C$61:$C1107),$C$61:$C$1687,0)),\"\")","v":"Westmoreland GP Practice NW)"}]
["St James' Surgery EoE)",1,{"$f":"IF(B1108=1,COUNTIF($B$61:$B1108,1),\"\")","v":1048},{"$f":"IFERROR(INDEX($A$61:$A$1687,MATCH(ROWS($C$61:$C1108),$C$61:$C$1687,0)),\"\")","v":"St James' Surgery EoE)"}]
["Boultham Park Medical Practice EM)",1,{"$f":"IF(B1109=1,COUNTIF($B$61:$B1109,1),\"\")","v":1049},{"$f":"IFERROR(INDEX($A$61:$A$1687,MATCH(ROWS($C$61:$C1109),$C$61:$C$1687,0)),\"\")","v":"Boultham Park Medical Practice EM)"}]
["Riverside Surgery WM)",1,{"$f":"IF(B1110=1,COUNTIF($B$61:$B1110,1),\"\")","v":1050},{"$f":"IFERROR(INDEX($A$61:$A$1687,MATCH(ROWS($C$61:$C1110),$C$61:$C$1687,0)),\"\")","v":"Riverside Surgery WM)"}]
["Kingsbury Road Medical Centre WM)",1,{"$f":"IF(B1111=1,COUNTIF($B$61:$B1111,1),\"\")","v":1051},{"$f":"IFERROR(INDEX($A$61:$A$1687,MATCH(ROWS($C$61:$C1111),$C$61:$C$1687,0)),\"\")","v":"Kingsbury Road Medical Centre WM)"}]
["Enki Medical Practice WM)",1,{"$f":"IF(B1112=1,COUNTIF($B$61:$B1112,1),\"\")","v":1052},{"$f":"IFERROR(INDEX($A$61:$A$1687,MATCH(ROWS($C$61:$C1112),$C$61:$C$1687,0)),\"\")","v":"Enki Medical Practice WM)"}]
["Beacon Health Group-Danbury Medical Centre EoE)",1,{"$f":"IF(B1113=1,COUNTIF($B$61:$B1113,1),\"\")","v":1053},{"$f":"IFERROR(INDEX($A$61:$A$1687,MATCH(ROWS($C$61:$C1113),$C$61:$C$1687,0)),\"\")","v":"Beacon Health Group-Danbury Medical Centre EoE)"}]
["Enderby Medical Centre EM)",1,{"$f":"IF(B1114=1,COUNTIF($B$61:$B1114,1),\"\")","v":1054},{"$f":"IFERROR(INDEX($A$61:$A$1687,MATCH(ROWS($C$61:$C1114),$C$61:$C$1687,0)),\"\")","v":"Enderby Medical Centre EM)"}]
["Willington Surgery EM)",1,{"$f":"IF(B1115=1,COUNTIF($B$61:$B1115,1),\"\")","v":1055},{"$f":"IFERROR(INDEX($A$61:$A$1687,MATCH(ROWS($C$61:$C1115),$C$61:$C$1687,0)),\"\")","v":"Willington Surgery EM)"}]
["Central Surgery WM)",1,{"$f":"IF(B1116=1,COUNTIF($B$61:$B1116,1),\"\")","v":1056},{"$f":"IFERROR(INDEX($A$61:$A$1687,MATCH(ROWS($C$61:$C1116),$C$61:$C$1687,0)),\"\")","v":"Central Surgery WM)"}]
["The New Springwells Practice EM)",1,{"$f":"IF(B1117=1,COUNTIF($B$61:$B1117,1),\"\")","v":1057},{"$f":"IFERROR(INDEX($A$61:$A$1687,MATCH(ROWS($C$61:$C1117),$C$61:$C$1687,0)),\"\")","v":"The New Springwells Practice EM)"}]
["Old Harlow Health Centre EoE)",1,{"$f":"IF(B1118=1,COUNTIF($B$61:$B1118,1),\"\")","v":1058},{"$f":"IFERROR(INDEX($A$61:$A$1687,MATCH(ROWS($C$61:$C1118),$C$61:$C$1687,0)),\"\")","v":"Old Harlow Health Centre EoE)"}]
["Ludham And Stalham Green Surgeries EoE)",1,{"$f":"IF(B1119=1,COUNTIF($B$61:$B1119,1),\"\")","v":1059},{"$f":"IFERROR(INDEX($A$61:$A$1687,MATCH(ROWS($C$61:$C1119),$C$61:$C$1687,0)),\"\")","v":"Ludham And Stalham Green Surgeries EoE)"}]
["The Healthcare Centre NW)",1,{"$f":"IF(B1120=1,COUNTIF($B$61:$B1120,1),\"\")","v":1060},{"$f":"IFERROR(INDEX($A$61:$A$1687,MATCH(ROWS($C$61:$C1120),$C$61:$C$1687,0)),\"\")","v":"The Healthcare Centre NW)"}]
["Rushall Medical Centre WM)",1,{"$f":"IF(B1121=1,COUNTIF($B$61:$B1121,1),\"\")","v":1061},{"$f":"IFERROR(INDEX($A$61:$A$1687,MATCH(ROWS($C$61:$C1121),$C$61:$C$1687,0)),\"\")","v":"Rushall Medical Centre WM)"}]
["Grange Street Surgery EoE)",1,{"$f":"IF(B1122=1,COUNTIF($B$61:$B1122,1),\"\")","v":1062},{"$f":"IFERROR(INDEX($A$61:$A$1687,MATCH(ROWS($C$61:$C1122),$C$61:$C$1687,0)),\"\")","v":"Grange Street Surgery EoE)"}]
["Tanworth Lane Surgery WM)",1,{"$f":"IF(B1123=1,COUNTIF($B$61:$B1123,1),\"\")","v":1063},{"$f":"IFERROR(INDEX($A$61:$A$1687,MATCH(ROWS($C$61:$C1123),$C$61:$C$1687,0)),\"\")","v":"Tanworth Lane Surgery WM)"}]
["Amersham Health Centre TV)",1,{"$f":"IF(B1124=1,COUNTIF($B$61:$B1124,1),\"\")","v":1064},{"$f":"IFERROR(INDEX($A$61:$A$1687,MATCH(ROWS($C$61:$C1124),$C$61:$C$1687,0)),\"\")","v":"Amersham Health Centre TV)"}]
["Rock Court Surgery NW)",1,{"$f":"IF(B1125=1,COUNTIF($B$61:$B1125,1),\"\")","v":1065},{"$f":"IFERROR(INDEX($A$61:$A$1687,MATCH(ROWS($C$61:$C1125),$C$61:$C$1687,0)),\"\")","v":"Rock Court Surgery NW)"}]
["Yaxley Group Practice Lakeside Healthcare) EoE)",1,{"$f":"IF(B1126=1,COUNTIF($B$61:$B1126,1),\"\")","v":1066},{"$f":"IFERROR(INDEX($A$61:$A$1687,MATCH(ROWS($C$61:$C1126),$C$61:$C$1687,0)),\"\")","v":"Yaxley Group Practice Lakeside Healthcare) EoE)"}]
["Wymondham Medical Partnership EoE)",1,{"$f":"IF(B1127=1,COUNTIF($B$61:$B1127,1),\"\")","v":1067},{"$f":"IFERROR(INDEX($A$61:$A$1687,MATCH(ROWS($C$61:$C1127),$C$61:$C$1687,0)),\"\")","v":"Wymondham Medical Partnership EoE)"}]
["Springfield Surgery TV)",1,{"$f":"IF(B1128=1,COUNTIF($B$61:$B1128,1),\"\")","v":1068},{"$f":"IFERROR(INDEX($A$61:$A$1687,MATCH(ROWS($C$61:$C1128),$C$61:$C$1687,0)),\"\")","v":"Springfield Surgery TV)"}]
["Brooks Bar Medical Centre NW)",1,{"$f":"IF(B1129=1,COUNTIF($B$61:$B1129,1),\"\")","v":1069},{"$f":"IFERROR(INDEX($A$61:$A$1687,MATCH(ROWS($C$61:$C1129),$C$61:$C$1687,0)),\"\")","v":"Brooks Bar Medical Centre NW)"}]
["Princess Road Surgery NW)",1,{"$f":"IF(B1130=1,COUNTIF($B$61:$B1130,1),\"\")","v":1070},{"$f":"IFERROR(INDEX($A$61:$A$1687,MATCH(ROWS($C$61:$C1130),$C$61:$C$1687,0)),\"\")","v":"Princess Road Surgery NW)"}]
["Fegan & Partners NW)",1,{"$f":"IF(B1131=1,COUNTIF($B$61:$B1131,1),\"\")","v":1071},{"$f":"IFERROR(INDEX($A$61:$A$1687,MATCH(ROWS($C$61:$C1131),$C$61:$C$1687,0)),\"\")","v":"Fegan & Partners NW)"}]
["Peterloo Medical Centre NW)",1,{"$f":"IF(B1132=1,COUNTIF($B$61:$B1132,1),\"\")","v":1072},{"$f":"IFERROR(INDEX($A$61:$A$1687,MATCH(ROWS($C$61:$C1132),$C$61:$C$1687,0)),\"\")","v":"Peterloo Medical Centre NW)"}]
["Dr Alistair & Partners NW)",1,{"$f":"IF(B1133=1,COUNTIF($B$61:$B1133,1),\"\")","v":1073},{"$f":"IFERROR(INDEX($A$61:$A$1687,MATCH(ROWS($C$61:$C1133),$C$61:$C$1687,0)),\"\")","v":"Dr Alistair & Partners NW)"}]
["Wellfield Medical Centre NW)",1,{"$f":"IF(B1134=1,COUNTIF($B$61:$B1134,1),\"\")","v":1074},{"$f":"IFERROR(INDEX($A$61:$A$1687,MATCH(ROWS($C$61:$C1134),$C$61:$C$1687,0)),\"\")","v":"Wellfield Medical Centre NW)"}]
["Grove House Practice NW)",1,{"$f":"IF(B1135=1,COUNTIF($B$61:$B1135,1),\"\")","v":1075},{"$f":"IFERROR(INDEX($A$61:$A$1687,MATCH(ROWS($C$61:$C1135),$C$61:$C$1687,0)),\"\")","v":"Grove House Practice NW)"}]
["Parkside Surgery NW)",1,{"$f":"IF(B1136=1,COUNTIF($B$61:$B1136,1),\"\")","v":1076},{"$f":"IFERROR(INDEX($A$61:$A$1687,MATCH(ROWS($C$61:$C1136),$C$61:$C$1687,0)),\"\")","v":"Parkside Surgery NW)"}]
["Shawbirch Medical Practice WM)",1,{"$f":"IF(B1137=1,COUNTIF($B$61:$B1137,1),\"\")","v":1077},{"$f":"IFERROR(INDEX($A$61:$A$1687,MATCH(ROWS($C$61:$C1137),$C$61:$C$1687,0)),\"\")","v":"Shawbirch Medical Practice WM)"}]
["Lucie Wedgwood Health Centre WM)",1,{"$f":"IF(B1138=1,COUNTIF($B$61:$B1138,1),\"\")","v":1078},{"$f":"IFERROR(INDEX($A$61:$A$1687,MATCH(ROWS($C$61:$C1138),$C$61:$C$1687,0)),\"\")","v":"Lucie Wedgwood Health Centre WM)"}]
["Trentside Medical Group EM)",1,{"$f":"IF(B1139=1,COUNTIF($B$61:$B1139,1),\"\")","v":1079},{"$f":"IFERROR(INDEX($A$61:$A$1687,MATCH(ROWS($C$61:$C1139),$C$61:$C$1687,0)),\"\")","v":"Trentside Medical Group EM)"}]
["The Church Street Practice WM)",1,{"$f":"IF(B1140=1,COUNTIF($B$61:$B1140,1),\"\")","v":1080},{"$f":"IFERROR(INDEX($A$61:$A$1687,MATCH(ROWS($C$61:$C1140),$C$61:$C$1687,0)),\"\")","v":"The Church Street Practice WM)"}]
["Heacham Group Practice EoE)",1,{"$f":"IF(B1141=1,COUNTIF($B$61:$B1141,1),\"\")","v":1081},{"$f":"IFERROR(INDEX($A$61:$A$1687,MATCH(ROWS($C$61:$C1141),$C$61:$C$1687,0)),\"\")","v":"Heacham Group Practice EoE)"}]
["St James' Medical Centre NW)",1,{"$f":"IF(B1142=1,COUNTIF($B$61:$B1142,1),\"\")","v":1082},{"$f":"IFERROR(INDEX($A$61:$A$1687,MATCH(ROWS($C$61:$C1142),$C$61:$C$1687,0)),\"\")","v":"St James' Medical Centre NW)"}]
["Debenham Group Practice EoE)",1,{"$f":"IF(B1143=1,COUNTIF($B$61:$B1143,1),\"\")","v":1083},{"$f":"IFERROR(INDEX($A$61:$A$1687,MATCH(ROWS($C$61:$C1143),$C$61:$C$1687,0)),\"\")","v":"Debenham Group Practice EoE)"}]
["Marden Medical Practice WM)",1,{"$f":"IF(B1144=1,COUNTIF($B$61:$B1144,1),\"\")","v":1084},{"$f":"IFERROR(INDEX($A$61:$A$1687,MATCH(ROWS($C$61:$C1144),$C$61:$C$1687,0)),\"\")","v":"Marden Medical Practice WM)"}]
["Dalton Surgery NW)",1,{"$f":"IF(B1145=1,COUNTIF($B$61:$B1145,1),\"\")","v":1085},{"$f":"IFERROR(INDEX($A$61:$A$1687,MATCH(ROWS($C$61:$C1145),$C$61:$C$1687,0)),\"\")","v":"Dalton Surgery NW)"}]
["Holmcroft Surgery WM)",1,{"$f":"IF(B1146=1,COUNTIF($B$61:$B1146,1),\"\")","v":1086},{"$f":"IFERROR(INDEX($A$61:$A$1687,MATCH(ROWS($C$61:$C1146),$C$61:$C$1687,0)),\"\")","v":"Holmcroft Surgery WM)"}]
["Mansion House Surgery WM)",1,{"$f":"IF(B1147=1,COUNTIF($B$61:$B1147,1),\"\")","v":1087},{"$f":"IFERROR(INDEX($A$61:$A$1687,MATCH(ROWS($C$61:$C1147),$C$61:$C$1687,0)),\"\")","v":"Mansion House Surgery WM)"}]
["The Long Buckby Practice EM)",1,{"$f":"IF(B1148=1,COUNTIF($B$61:$B1148,1),\"\")","v":1088},{"$f":"IFERROR(INDEX($A$61:$A$1687,MATCH(ROWS($C$61:$C1148),$C$61:$C$1687,0)),\"\")","v":"The Long Buckby Practice EM)"}]
["The Billericay Medical Practice EoE)",1,{"$f":"IF(B1149=1,COUNTIF($B$61:$B1149,1),\"\")","v":1089},{"$f":"IFERROR(INDEX($A$61:$A$1687,MATCH(ROWS($C$61:$C1149),$C$61:$C$1687,0)),\"\")","v":"The Billericay Medical Practice EoE)"}]
["Furlong Medical Centre WM)",{"$f":"--ISNUMBER(SEARCH($F$15,A1150))","v":1},{"$f":"IF(B1150=1,COUNTIF($B$61:$B1150,1),\"\")","v":1090},{"$f":"IFERROR(INDEX($A$61:$A$1687,MATCH(ROWS($C$61:$C1150),$C$61:$C$1687,0)),\"\")","v":"Furlong Medical Centre WM)"}]
["The Cheylesmore Surgery WM)",1,{"$f":"IF(B1151=1,COUNTIF($B$61:$B1151,1),\"\")","v":1091},{"$f":"IFERROR(INDEX($A$61:$A$1687,MATCH(ROWS($C$61:$C1151),$C$61:$C$1687,0)),\"\")","v":"The Cheylesmore Surgery WM)"}]
["Pontesbury Medical Practice WM)",1,{"$f":"IF(B1152=1,COUNTIF($B$61:$B1152,1),\"\")","v":1092},{"$f":"IFERROR(INDEX($A$61:$A$1687,MATCH(ROWS($C$61:$C1152),$C$61:$C$1687,0)),\"\")","v":"Pontesbury Medical Practice WM)"}]
["St Peters Hill Surgery EM)",1,{"$f":"IF(B1153=1,COUNTIF($B$61:$B1153,1),\"\")","v":1093},{"$f":"IFERROR(INDEX($A$61:$A$1687,MATCH(ROWS($C$61:$C1153),$C$61:$C$1687,0)),\"\")","v":"St Peters Hill Surgery EM)"}]
["The Portmill Surgery EoE)",1,{"$f":"IF(B1154=1,COUNTIF($B$61:$B1154,1),\"\")","v":1094},{"$f":"IFERROR(INDEX($A$61:$A$1687,MATCH(ROWS($C$61:$C1154),$C$61:$C$1687,0)),\"\")","v":"The Portmill Surgery EoE)"}]
["Harborough Field Surgery EM)",1,{"$f":"IF(B1155=1,COUNTIF($B$61:$B1155,1),\"\")","v":1095},{"$f":"IFERROR(INDEX($A$61:$A$1687,MATCH(ROWS($C$61:$C1155),$C$61:$C$1687,0)),\"\")","v":"Harborough Field Surgery EM)"}]
["Ainsdale Medical Centre NW)",1,{"$f":"IF(B1156=1,COUNTIF($B$61:$B1156,1),\"\")","v":1096},{"$f":"IFERROR(INDEX($A$61:$A$1687,MATCH(ROWS($C$61:$C1156),$C$61:$C$1687,0)),\"\")","v":"Ainsdale Medical Centre NW)"}]
["Sivakumar & Partner NW)",1,{"$f":"IF(B1157=1,COUNTIF($B$61:$B1157,1),\"\")","v":1097},{"$f":"IFERROR(INDEX($A$61:$A$1687,MATCH(ROWS($C$61:$C1157),$C$61:$C$1687,0)),\"\")","v":"Sivakumar & Partner NW)"}]
["Thistlemoor Medical Centre EoE)",1,{"$f":"IF(B1158=1,COUNTIF($B$61:$B1158,1),\"\")","v":1098},{"$f":"IFERROR(INDEX($A$61:$A$1687,MATCH(ROWS($C$61:$C1158),$C$61:$C$1687,0)),\"\")","v":"Thistlemoor Medical Centre EoE)"}]
["Paston Surgery EoE)",1,{"$f":"IF(B1159=1,COUNTIF($B$61:$B1159,1),\"\")","v":1099},{"$f":"IFERROR(INDEX($A$61:$A$1687,MATCH(ROWS($C$61:$C1159),$C$61:$C$1687,0)),\"\")","v":"Paston Surgery EoE)"}]
["Church Walk Surgery EM)",1,{"$f":"IF(B1160=1,COUNTIF($B$61:$B1160,1),\"\")","v":1100},{"$f":"IFERROR(INDEX($A$61:$A$1687,MATCH(ROWS($C$61:$C1160),$C$61:$C$1687,0)),\"\")","v":"Church Walk Surgery EM)"}]
["Whiteacres Medical Centre WM)",1,{"$f":"IF(B1161=1,COUNTIF($B$61:$B1161,1),\"\")","v":1101},{"$f":"IFERROR(INDEX($A$61:$A$1687,MATCH(ROWS($C$61:$C1161),$C$61:$C$1687,0)),\"\")","v":"Whiteacres Medical Centre WM)"}]
["Wolstanton Medical Centre WM)",1,{"$f":"IF(B1162=1,COUNTIF($B$61:$B1162,1),\"\")","v":1102},{"$f":"IFERROR(INDEX($A$61:$A$1687,MATCH(ROWS($C$61:$C1162),$C$61:$C$1687,0)),\"\")","v":"Wolstanton Medical Centre WM)"}]
["Henwick Halt Medical Centre WM)",1,{"$f":"IF(B1163=1,COUNTIF($B$61:$B1163,1),\"\")","v":1103},{"$f":"IFERROR(INDEX($A$61:$A$1687,MATCH(ROWS($C$61:$C1163),$C$61:$C$1687,0)),\"\")","v":"Henwick Halt Medical Centre WM)"}]
["Sandy Health Centre EoE)",1,{"$f":"IF(B1164=1,COUNTIF($B$61:$B1164,1),\"\")","v":1104},{"$f":"IFERROR(INDEX($A$61:$A$1687,MATCH(ROWS($C$61:$C1164),$C$61:$C$1687,0)),\"\")","v":"Sandy Health Centre EoE)"}]
["Campingland Surgery EoE)",1,{"$f":"IF(B1165=1,COUNTIF($B$61:$B1165,1),\"\")","v":1105},{"$f":"IFERROR(INDEX($A$61:$A$1687,MATCH(ROWS($C$61:$C1165),$C$61:$C$1687,0)),\"\")","v":"Campingland Surgery EoE)"}]
["Hanford Health Centre WM)",1,{"$f":"IF(B1166=1,COUNTIF($B$61:$B1166,1),\"\")","v":1106},{"$f":"IFERROR(INDEX($A$61:$A$1687,MATCH(ROWS($C$61:$C1166),$C$61:$C$1687,0)),\"\")","v":"Hanford Health Centre WM)"}]
["Dr Khan & Partners Rushbottom Lane Surgery EoE)",1,{"$f":"IF(B1167=1,COUNTIF($B$61:$B1167,1),\"\")","v":1107},{"$f":"IFERROR(INDEX($A$61:$A$1687,MATCH(ROWS($C$61:$C1167),$C$61:$C$1687,0)),\"\")","v":"Dr Khan & Partners Rushbottom Lane Surgery EoE)"}]
["Alexandra & Crestview Surgeries EoE)",1,{"$f":"IF(B1168=1,COUNTIF($B$61:$B1168,1),\"\")","v":1108},{"$f":"IFERROR(INDEX($A$61:$A$1687,MATCH(ROWS($C$61:$C1168),$C$61:$C$1687,0)),\"\")","v":"Alexandra & Crestview Surgeries EoE)"}]
["Thomas Walker EoE)",1,{"$f":"IF(B1169=1,COUNTIF($B$61:$B1169,1),\"\")","v":1109},{"$f":"IFERROR(INDEX($A$61:$A$1687,MATCH(ROWS($C$61:$C1169),$C$61:$C$1687,0)),\"\")","v":"Thomas Walker EoE)"}]
["Lower Gornal Medical Practice WM)",1,{"$f":"IF(B1170=1,COUNTIF($B$61:$B1170,1),\"\")","v":1110},{"$f":"IFERROR(INDEX($A$61:$A$1687,MATCH(ROWS($C$61:$C1170),$C$61:$C$1687,0)),\"\")","v":"Lower Gornal Medical Practice WM)"}]
["Arran Medical Centre WM)",1,{"$f":"IF(B1171=1,COUNTIF($B$61:$B1171,1),\"\")","v":1111},{"$f":"IFERROR(INDEX($A$61:$A$1687,MATCH(ROWS($C$61:$C1171),$C$61:$C$1687,0)),\"\")","v":"Arran Medical Centre WM)"}]
["Beacon Medical Practice EM)",1,{"$f":"IF(B1172=1,COUNTIF($B$61:$B1172,1),\"\")","v":1112},{"$f":"IFERROR(INDEX($A$61:$A$1687,MATCH(ROWS($C$61:$C1172),$C$61:$C$1687,0)),\"\")","v":"Beacon Medical Practice EM)"}]
["Coltishall Surgery EoE)",1,{"$f":"IF(B1173=1,COUNTIF($B$61:$B1173,1),\"\")","v":1113},{"$f":"IFERROR(INDEX($A$61:$A$1687,MATCH(ROWS($C$61:$C1173),$C$61:$C$1687,0)),\"\")","v":"Coltishall Surgery EoE)"}]
["Stafford Health & Wellbeing WM)",1,{"$f":"IF(B1174=1,COUNTIF($B$61:$B1174,1),\"\")","v":1114},{"$f":"IFERROR(INDEX($A$61:$A$1687,MATCH(ROWS($C$61:$C1174),$C$61:$C$1687,0)),\"\")","v":"Stafford Health & Wellbeing WM)"}]
["Park Lane Surgery NW)",1,{"$f":"IF(B1175=1,COUNTIF($B$61:$B1175,1),\"\")","v":1115},{"$f":"IFERROR(INDEX($A$61:$A$1687,MATCH(ROWS($C$61:$C1175),$C$61:$C$1687,0)),\"\")","v":"Park Lane Surgery NW)"}]
["Heath Hayes Medical Centre WM)",1,{"$f":"IF(B1176=1,COUNTIF($B$61:$B1176,1),\"\")","v":1116},{"$f":"IFERROR(INDEX($A$61:$A$1687,MATCH(ROWS($C$61:$C1176),$C$61:$C$1687,0)),\"\")","v":"Heath Hayes Medical Centre WM)"}]
["Ford Medical Practice NW)",1,{"$f":"IF(B1177=1,COUNTIF($B$61:$B1177,1),\"\")","v":1117},{"$f":"IFERROR(INDEX($A$61:$A$1687,MATCH(ROWS($C$61:$C1177),$C$61:$C$1687,0)),\"\")","v":"Ford Medical Practice NW)"}]
["Greenview Surgery EM)",1,{"$f":"IF(B1178=1,COUNTIF($B$61:$B1178,1),\"\")","v":1118},{"$f":"IFERROR(INDEX($A$61:$A$1687,MATCH(ROWS($C$61:$C1178),$C$61:$C$1687,0)),\"\")","v":"Greenview Surgery EM)"}]
["Brookvale Practice NW)",1,{"$f":"IF(B1179=1,COUNTIF($B$61:$B1179,1),\"\")","v":1119},{"$f":"IFERROR(INDEX($A$61:$A$1687,MATCH(ROWS($C$61:$C1179),$C$61:$C$1687,0)),\"\")","v":"Brookvale Practice NW)"}]
["Littlebury Medical Centre EM)",1,{"$f":"IF(B1180=1,COUNTIF($B$61:$B1180,1),\"\")","v":1120},{"$f":"IFERROR(INDEX($A$61:$A$1687,MATCH(ROWS($C$61:$C1180),$C$61:$C$1687,0)),\"\")","v":"Littlebury Medical Centre EM)"}]
["Birchwood Medical Practice EoE)",1,{"$f":"IF(B1181=1,COUNTIF($B$61:$B1181,1),\"\")","v":1121},{"$f":"IFERROR(INDEX($A$61:$A$1687,MATCH(ROWS($C$61:$C1181),$C$61:$C$1687,0)),\"\")","v":"Birchwood Medical Practice EoE)"}]
["Petersfield Surgery EoE)",1,{"$f":"IF(B1182=1,COUNTIF($B$61:$B1182,1),\"\")","v":1122},{"$f":"IFERROR(INDEX($A$61:$A$1687,MATCH(ROWS($C$61:$C1182),$C$61:$C$1687,0)),\"\")","v":"Petersfield Surgery EoE)"}]
["The Cedars Medical Centre NW)",1,{"$f":"IF(B1183=1,COUNTIF($B$61:$B1183,1),\"\")","v":1123},{"$f":"IFERROR(INDEX($A$61:$A$1687,MATCH(ROWS($C$61:$C1183),$C$61:$C$1687,0)),\"\")","v":"The Cedars Medical Centre NW)"}]
["Hazeldene House Surgery WM)",1,{"$f":"IF(B1184=1,COUNTIF($B$61:$B1184,1),\"\")","v":1124},{"$f":"IFERROR(INDEX($A$61:$A$1687,MATCH(ROWS($C$61:$C1184),$C$61:$C$1687,0)),\"\")","v":"Hazeldene House Surgery WM)"}]
["Norwood Medical Centre NW)",1,{"$f":"IF(B1185=1,COUNTIF($B$61:$B1185,1),\"\")","v":1125},{"$f":"IFERROR(INDEX($A$61:$A$1687,MATCH(ROWS($C$61:$C1185),$C$61:$C$1687,0)),\"\")","v":"Norwood Medical Centre NW)"}]
["Long Stratton Medical Partnership EoE)",1,{"$f":"IF(B1186=1,COUNTIF($B$61:$B1186,1),\"\")","v":1126},{"$f":"IFERROR(INDEX($A$61:$A$1687,MATCH(ROWS($C$61:$C1186),$C$61:$C$1687,0)),\"\")","v":"Long Stratton Medical Partnership EoE)"}]
["Aelfgar Surgery WM)",1,{"$f":"IF(B1187=1,COUNTIF($B$61:$B1187,1),\"\")","v":1127},{"$f":"IFERROR(INDEX($A$61:$A$1687,MATCH(ROWS($C$61:$C1187),$C$61:$C$1687,0)),\"\")","v":"Aelfgar Surgery WM)"}]
["Little Harwood Health Centre NW)",1,{"$f":"IF(B1188=1,COUNTIF($B$61:$B1188,1),\"\")","v":1128},{"$f":"IFERROR(INDEX($A$61:$A$1687,MATCH(ROWS($C$61:$C1188),$C$61:$C$1687,0)),\"\")","v":"Little Harwood Health Centre NW)"}]
["Vale of Red Horse TV)",1,{"$f":"IF(B1189=1,COUNTIF($B$61:$B1189,1),\"\")","v":1129},{"$f":"IFERROR(INDEX($A$61:$A$1687,MATCH(ROWS($C$61:$C1189),$C$61:$C$1687,0)),\"\")","v":"Vale of Red Horse TV)"}]
["Forrest Medical Centre WM)",1,{"$f":"IF(B1190=1,COUNTIF($B$61:$B1190,1),\"\")","v":1130},{"$f":"IFERROR(INDEX($A$61:$A$1687,MATCH(ROWS($C$61:$C1190),$C$61:$C$1687,0)),\"\")","v":"Forrest Medical Centre WM)"}]
["Annandale Medical Centre EoE)",1,{"$f":"IF(B1191=1,COUNTIF($B$61:$B1191,1),\"\")","v":1131},{"$f":"IFERROR(INDEX($A$61:$A$1687,MATCH(ROWS($C$61:$C1191),$C$61:$C$1687,0)),\"\")","v":"Annandale Medical Centre EoE)"}]
["Claremont Bank Surgery WM)",1,{"$f":"IF(B1192=1,COUNTIF($B$61:$B1192,1),\"\")","v":1132},{"$f":"IFERROR(INDEX($A$61:$A$1687,MATCH(ROWS($C$61:$C1192),$C$61:$C$1687,0)),\"\")","v":"Claremont Bank Surgery WM)"}]
["Much Wenlock & Cressage Medical WM)",1,{"$f":"IF(B1193=1,COUNTIF($B$61:$B1193,1),\"\")","v":1133},{"$f":"IFERROR(INDEX($A$61:$A$1687,MATCH(ROWS($C$61:$C1193),$C$61:$C$1687,0)),\"\")","v":"Much Wenlock & Cressage Medical WM)"}]
["North Shore Surgery NW)",1,{"$f":"IF(B1194=1,COUNTIF($B$61:$B1194,1),\"\")","v":1134},{"$f":"IFERROR(INDEX($A$61:$A$1687,MATCH(ROWS($C$61:$C1194),$C$61:$C$1687,0)),\"\")","v":"North Shore Surgery NW)"}]
["The Derby Road Practice EoE)",1,{"$f":"IF(B1195=1,COUNTIF($B$61:$B1195,1),\"\")","v":1135},{"$f":"IFERROR(INDEX($A$61:$A$1687,MATCH(ROWS($C$61:$C1195),$C$61:$C$1687,0)),\"\")","v":"The Derby Road Practice EoE)"}]
["Finch Hill HC IOM) NW)",1,{"$f":"IF(B1196=1,COUNTIF($B$61:$B1196,1),\"\")","v":1136},{"$f":"IFERROR(INDEX($A$61:$A$1687,MATCH(ROWS($C$61:$C1196),$C$61:$C$1687,0)),\"\")","v":"Finch Hill HC IOM) NW)"}]
["Cofton Medical Centre WM)",1,{"$f":"IF(B1197=1,COUNTIF($B$61:$B1197,1),\"\")","v":1137},{"$f":"IFERROR(INDEX($A$61:$A$1687,MATCH(ROWS($C$61:$C1197),$C$61:$C$1687,0)),\"\")","v":"Cofton Medical Centre WM)"}]
["Beaches Medical Centre EoE)",1,{"$f":"IF(B1198=1,COUNTIF($B$61:$B1198,1),\"\")","v":1138},{"$f":"IFERROR(INDEX($A$61:$A$1687,MATCH(ROWS($C$61:$C1198),$C$61:$C$1687,0)),\"\")","v":"Beaches Medical Centre EoE)"}]
["Great Bentley Surgery EoE)",1,{"$f":"IF(B1199=1,COUNTIF($B$61:$B1199,1),\"\")","v":1139},{"$f":"IFERROR(INDEX($A$61:$A$1687,MATCH(ROWS($C$61:$C1199),$C$61:$C$1687,0)),\"\")","v":"Great Bentley Surgery EoE)"}]
["Abbottswood Medical Centre WM)",1,{"$f":"IF(B1200=1,COUNTIF($B$61:$B1200,1),\"\")","v":1140},{"$f":"IFERROR(INDEX($A$61:$A$1687,MATCH(ROWS($C$61:$C1200),$C$61:$C$1687,0)),\"\")","v":"Abbottswood Medical Centre WM)"}]
["Park Medical Centre NW)",1,{"$f":"IF(B1201=1,COUNTIF($B$61:$B1201,1),\"\")","v":1141},{"$f":"IFERROR(INDEX($A$61:$A$1687,MATCH(ROWS($C$61:$C1201),$C$61:$C$1687,0)),\"\")","v":"Park Medical Centre NW)"}]
["West Gorton Medical Centre NW)",1,{"$f":"IF(B1202=1,COUNTIF($B$61:$B1202,1),\"\")","v":1142},{"$f":"IFERROR(INDEX($A$61:$A$1687,MATCH(ROWS($C$61:$C1202),$C$61:$C$1687,0)),\"\")","v":"West Gorton Medical Centre NW)"}]
["Partington Family Practice NW)",1,{"$f":"IF(B1203=1,COUNTIF($B$61:$B1203,1),\"\")","v":1143},{"$f":"IFERROR(INDEX($A$61:$A$1687,MATCH(ROWS($C$61:$C1203),$C$61:$C$1687,0)),\"\")","v":"Partington Family Practice NW)"}]
["Threeways Surgery TV)",1,{"$f":"IF(B1204=1,COUNTIF($B$61:$B1204,1),\"\")","v":1144},{"$f":"IFERROR(INDEX($A$61:$A$1687,MATCH(ROWS($C$61:$C1204),$C$61:$C$1687,0)),\"\")","v":"Threeways Surgery TV)"}]
["Church Road Medical Practice NW)",1,{"$f":"IF(B1205=1,COUNTIF($B$61:$B1205,1),\"\")","v":1145},{"$f":"IFERROR(INDEX($A$61:$A$1687,MATCH(ROWS($C$61:$C1205),$C$61:$C$1687,0)),\"\")","v":"Church Road Medical Practice NW)"}]
["Wordsley Green Health Centre WM)",1,{"$f":"IF(B1206=1,COUNTIF($B$61:$B1206,1),\"\")","v":1146},{"$f":"IFERROR(INDEX($A$61:$A$1687,MATCH(ROWS($C$61:$C1206),$C$61:$C$1687,0)),\"\")","v":"Wordsley Green Health Centre WM)"}]
["Woodlands Surgery EoE)",1,{"$f":"IF(B1207=1,COUNTIF($B$61:$B1207,1),\"\")","v":1147},{"$f":"IFERROR(INDEX($A$61:$A$1687,MATCH(ROWS($C$61:$C1207),$C$61:$C$1687,0)),\"\")","v":"Woodlands Surgery EoE)"}]
["Woodbrook Medical Centre EM)",1,{"$f":"IF(B1208=1,COUNTIF($B$61:$B1208,1),\"\")","v":1148},{"$f":"IFERROR(INDEX($A$61:$A$1687,MATCH(ROWS($C$61:$C1208),$C$61:$C$1687,0)),\"\")","v":"Woodbrook Medical Centre EM)"}]
["Sheepcot Medical Centre EoE)",1,{"$f":"IF(B1209=1,COUNTIF($B$61:$B1209,1),\"\")","v":1149},{"$f":"IFERROR(INDEX($A$61:$A$1687,MATCH(ROWS($C$61:$C1209),$C$61:$C$1687,0)),\"\")","v":"Sheepcot Medical Centre EoE)"}]
["Barrow Health Centre EM)",1,{"$f":"IF(B1210=1,COUNTIF($B$61:$B1210,1),\"\")","v":1150},{"$f":"IFERROR(INDEX($A$61:$A$1687,MATCH(ROWS($C$61:$C1210),$C$61:$C$1687,0)),\"\")","v":"Barrow Health Centre EM)"}]
["Longshore Surgeries EoE)",1,{"$f":"IF(B1211=1,COUNTIF($B$61:$B1211,1),\"\")","v":1151},{"$f":"IFERROR(INDEX($A$61:$A$1687,MATCH(ROWS($C$61:$C1211),$C$61:$C$1687,0)),\"\")","v":"Longshore Surgeries EoE)"}]
["Hillcrest Surgery WM)",1,{"$f":"IF(B1212=1,COUNTIF($B$61:$B1212,1),\"\")","v":1152},{"$f":"IFERROR(INDEX($A$61:$A$1687,MATCH(ROWS($C$61:$C1212),$C$61:$C$1687,0)),\"\")","v":"Hillcrest Surgery WM)"}]
["The Old Priory Surgery WM)",1,{"$f":"IF(B1213=1,COUNTIF($B$61:$B1213,1),\"\")","v":1153},{"$f":"IFERROR(INDEX($A$61:$A$1687,MATCH(ROWS($C$61:$C1213),$C$61:$C$1687,0)),\"\")","v":"The Old Priory Surgery WM)"}]
["Rise Park Surgery EM)",{"$f":"--ISNUMBER(SEARCH($F$15,A1214))","v":1},{"$f":"IF(B1214=1,COUNTIF($B$61:$B1214,1),\"\")","v":1154},{"$f":"IFERROR(INDEX($A$61:$A$1687,MATCH(ROWS($C$61:$C1214),$C$61:$C$1687,0)),\"\")","v":"Rise Park Surgery EM)"}]
["The Black Country Family Practice WM)",1,{"$f":"IF(B1215=1,COUNTIF($B$61:$B1215,1),\"\")","v":1155},{"$f":"IFERROR(INDEX($A$61:$A$1687,MATCH(ROWS($C$61:$C1215),$C$61:$C$1687,0)),\"\")","v":"The Black Country Family Practice WM)"}]
["The Cedars Surgery TV)",1,{"$f":"IF(B1216=1,COUNTIF($B$61:$B1216,1),\"\")","v":1156},{"$f":"IFERROR(INDEX($A$61:$A$1687,MATCH(ROWS($C$61:$C1216),$C$61:$C$1687,0)),\"\")","v":"The Cedars Surgery TV)"}]
["Crosby House Surgery TV)",1,{"$f":"IF(B1217=1,COUNTIF($B$61:$B1217,1),\"\")","v":1157},{"$f":"IFERROR(INDEX($A$61:$A$1687,MATCH(ROWS($C$61:$C1217),$C$61:$C$1687,0)),\"\")","v":"Crosby House Surgery TV)"}]
["Bungay Medical Centre EoE)",1,{"$f":"IF(B1218=1,COUNTIF($B$61:$B1218,1),\"\")","v":1158},{"$f":"IFERROR(INDEX($A$61:$A$1687,MATCH(ROWS($C$61:$C1218),$C$61:$C$1687,0)),\"\")","v":"Bungay Medical Centre EoE)"}]
["Nettleham Medical Practice EM)",1,{"$f":"IF(B1219=1,COUNTIF($B$61:$B1219,1),\"\")","v":1159},{"$f":"IFERROR(INDEX($A$61:$A$1687,MATCH(ROWS($C$61:$C1219),$C$61:$C$1687,0)),\"\")","v":"Nettleham Medical Practice EM)"}]
["Bicester Health Centre TV)",1,{"$f":"IF(B1220=1,COUNTIF($B$61:$B1220,1),\"\")","v":1160},{"$f":"IFERROR(INDEX($A$61:$A$1687,MATCH(ROWS($C$61:$C1220),$C$61:$C$1687,0)),\"\")","v":"Bicester Health Centre TV)"}]
["Ashville Surgery NW)",1,{"$f":"IF(B1221=1,COUNTIF($B$61:$B1221,1),\"\")","v":1161},{"$f":"IFERROR(INDEX($A$61:$A$1687,MATCH(ROWS($C$61:$C1221),$C$61:$C$1687,0)),\"\")","v":"Ashville Surgery NW)"}]
["The Community Health Centre EM)",1,{"$f":"IF(B1222=1,COUNTIF($B$61:$B1222,1),\"\")","v":1162},{"$f":"IFERROR(INDEX($A$61:$A$1687,MATCH(ROWS($C$61:$C1222),$C$61:$C$1687,0)),\"\")","v":"The Community Health Centre EM)"}]
["Orchard Surgery WM)",1,{"$f":"IF(B1223=1,COUNTIF($B$61:$B1223,1),\"\")","v":1163},{"$f":"IFERROR(INDEX($A$61:$A$1687,MATCH(ROWS($C$61:$C1223),$C$61:$C$1687,0)),\"\")","v":"Orchard Surgery WM)"}]
["Holt Medical Practice EoE)",1,{"$f":"IF(B1224=1,COUNTIF($B$61:$B1224,1),\"\")","v":1164},{"$f":"IFERROR(INDEX($A$61:$A$1687,MATCH(ROWS($C$61:$C1224),$C$61:$C$1687,0)),\"\")","v":"Holt Medical Practice EoE)"}]
["Towcester Medical Centre EM)",1,{"$f":"IF(B1225=1,COUNTIF($B$61:$B1225,1),\"\")","v":1165},{"$f":"IFERROR(INDEX($A$61:$A$1687,MATCH(ROWS($C$61:$C1225),$C$61:$C$1687,0)),\"\")","v":"Towcester Medical Centre EM)"}]
["Clifton Medical Practice EM)",1,{"$f":"IF(B1226=1,COUNTIF($B$61:$B1226,1),\"\")","v":1166},{"$f":"IFERROR(INDEX($A$61:$A$1687,MATCH(ROWS($C$61:$C1226),$C$61:$C$1687,0)),\"\")","v":"Clifton Medical Practice EM)"}]
["Millbarn Medical Centre TV)",1,{"$f":"IF(B1227=1,COUNTIF($B$61:$B1227,1),\"\")","v":1167},{"$f":"IFERROR(INDEX($A$61:$A$1687,MATCH(ROWS($C$61:$C1227),$C$61:$C$1687,0)),\"\")","v":"Millbarn Medical Centre TV)"}]
["Bridgewater Family Medical Practice WM)",1,{"$f":"IF(B1228=1,COUNTIF($B$61:$B1228,1),\"\")","v":1168},{"$f":"IFERROR(INDEX($A$61:$A$1687,MATCH(ROWS($C$61:$C1228),$C$61:$C$1687,0)),\"\")","v":"Bridgewater Family Medical Practice WM)"}]
["Old Mill Surgery WM)",1,{"$f":"IF(B1229=1,COUNTIF($B$61:$B1229,1),\"\")","v":1169},{"$f":"IFERROR(INDEX($A$61:$A$1687,MATCH(ROWS($C$61:$C1229),$C$61:$C$1687,0)),\"\")","v":"Old Mill Surgery WM)"}]
["EOE GP's Awaiting Allocation",1,{"$f":"IF(B1230=1,COUNTIF($B$61:$B1230,1),\"\")","v":1170},{"$f":"IFERROR(INDEX($A$61:$A$1687,MATCH(ROWS($C$61:$C1230),$C$61:$C$1687,0)),\"\")","v":"EOE GP's Awaiting Allocation"}]
["Hucknall Road Medical Centre EM)",1,{"$f":"IF(B1231=1,COUNTIF($B$61:$B1231,1),\"\")","v":1171},{"$f":"IFERROR(INDEX($A$61:$A$1687,MATCH(ROWS($C$61:$C1231),$C$61:$C$1687,0)),\"\")","v":"Hucknall Road Medical Centre EM)"}]
["Woodgate Valley Health Centre WM)",1,{"$f":"IF(B1232=1,COUNTIF($B$61:$B1232,1),\"\")","v":1172},{"$f":"IFERROR(INDEX($A$61:$A$1687,MATCH(ROWS($C$61:$C1232),$C$61:$C$1687,0)),\"\")","v":"Woodgate Valley Health Centre WM)"}]
["Upton Village Surgery NW)",1,{"$f":"IF(B1233=1,COUNTIF($B$61:$B1233,1),\"\")","v":1173},{"$f":"IFERROR(INDEX($A$61:$A$1687,MATCH(ROWS($C$61:$C1233),$C$61:$C$1687,0)),\"\")","v":"Upton Village Surgery NW)"}]
["Dovecot Health Centre NW)",1,{"$f":"IF(B1234=1,COUNTIF($B$61:$B1234,1),\"\")","v":1174},{"$f":"IFERROR(INDEX($A$61:$A$1687,MATCH(ROWS($C$61:$C1234),$C$61:$C$1687,0)),\"\")","v":"Dovecot Health Centre NW)"}]
["Springfield Surgery EM)",1,{"$f":"IF(B1235=1,COUNTIF($B$61:$B1235,1),\"\")","v":1175},{"$f":"IFERROR(INDEX($A$61:$A$1687,MATCH(ROWS($C$61:$C1235),$C$61:$C$1687,0)),\"\")","v":"Springfield Surgery EM)"}]
["Copsewood Medical Centre WM)",1,{"$f":"IF(B1236=1,COUNTIF($B$61:$B1236,1),\"\")","v":1176},{"$f":"IFERROR(INDEX($A$61:$A$1687,MATCH(ROWS($C$61:$C1236),$C$61:$C$1687,0)),\"\")","v":"Copsewood Medical Centre WM)"}]
["Leicester City Assist Practice EM)",1,{"$f":"IF(B1237=1,COUNTIF($B$61:$B1237,1),\"\")","v":1177},{"$f":"IFERROR(INDEX($A$61:$A$1687,MATCH(ROWS($C$61:$C1237),$C$61:$C$1687,0)),\"\")","v":"Leicester City Assist Practice EM)"}]
["The Cornerstone Practice EoE)",1,{"$f":"IF(B1238=1,COUNTIF($B$61:$B1238,1),\"\")","v":1178},{"$f":"IFERROR(INDEX($A$61:$A$1687,MATCH(ROWS($C$61:$C1238),$C$61:$C$1687,0)),\"\")","v":"The Cornerstone Practice EoE)"}]
["Yardley Green Medical Centre WM)",1,{"$f":"IF(B1239=1,COUNTIF($B$61:$B1239,1),\"\")","v":1179},{"$f":"IFERROR(INDEX($A$61:$A$1687,MATCH(ROWS($C$61:$C1239),$C$61:$C$1687,0)),\"\")","v":"Yardley Green Medical Centre WM)"}]
["Wallace House Surgery EoE)",1,{"$f":"IF(B1240=1,COUNTIF($B$61:$B1240,1),\"\")","v":1180},{"$f":"IFERROR(INDEX($A$61:$A$1687,MATCH(ROWS($C$61:$C1240),$C$61:$C$1687,0)),\"\")","v":"Wallace House Surgery EoE)"}]
["Bath Row Medical Centre WM)",1,{"$f":"IF(B1241=1,COUNTIF($B$61:$B1241,1),\"\")","v":1181},{"$f":"IFERROR(INDEX($A$61:$A$1687,MATCH(ROWS($C$61:$C1241),$C$61:$C$1687,0)),\"\")","v":"Bath Row Medical Centre WM)"}]
["Wychwood Surgery TV)",1,{"$f":"IF(B1242=1,COUNTIF($B$61:$B1242,1),\"\")","v":1182},{"$f":"IFERROR(INDEX($A$61:$A$1687,MATCH(ROWS($C$61:$C1242),$C$61:$C$1687,0)),\"\")","v":"Wychwood Surgery TV)"}]
["Dr G Horton's Practice WM)",1,{"$f":"IF(B1243=1,COUNTIF($B$61:$B1243,1),\"\")","v":1183},{"$f":"IFERROR(INDEX($A$61:$A$1687,MATCH(ROWS($C$61:$C1243),$C$61:$C$1687,0)),\"\")","v":"Dr G Horton's Practice WM)"}]
["Pear Tree Surgery WM)",1,{"$f":"IF(B1244=1,COUNTIF($B$61:$B1244,1),\"\")","v":1184},{"$f":"IFERROR(INDEX($A$61:$A$1687,MATCH(ROWS($C$61:$C1244),$C$61:$C$1687,0)),\"\")","v":"Pear Tree Surgery WM)"}]
["The Bridge Sugery WM)",1,{"$f":"IF(B1245=1,COUNTIF($B$61:$B1245,1),\"\")","v":1185},{"$f":"IFERROR(INDEX($A$61:$A$1687,MATCH(ROWS($C$61:$C1245),$C$61:$C$1687,0)),\"\")","v":"The Bridge Sugery WM)"}]
["The Manor Street Surgery EoE)",1,{"$f":"IF(B1246=1,COUNTIF($B$61:$B1246,1),\"\")","v":1186},{"$f":"IFERROR(INDEX($A$61:$A$1687,MATCH(ROWS($C$61:$C1246),$C$61:$C$1687,0)),\"\")","v":"The Manor Street Surgery EoE)"}]
["Mytton Oak Surgery WM)",1,{"$f":"IF(B1247=1,COUNTIF($B$61:$B1247,1),\"\")","v":1187},{"$f":"IFERROR(INDEX($A$61:$A$1687,MATCH(ROWS($C$61:$C1247),$C$61:$C$1687,0)),\"\")","v":"Mytton Oak Surgery WM)"}]
["John Street Medical Practice NW)",1,{"$f":"IF(B1248=1,COUNTIF($B$61:$B1248,1),\"\")","v":1188},{"$f":"IFERROR(INDEX($A$61:$A$1687,MATCH(ROWS($C$61:$C1248),$C$61:$C$1687,0)),\"\")","v":"John Street Medical Practice NW)"}]
["St Nicholas Group Practice NW)",1,{"$f":"IF(B1249=1,COUNTIF($B$61:$B1249,1),\"\")","v":1189},{"$f":"IFERROR(INDEX($A$61:$A$1687,MATCH(ROWS($C$61:$C1249),$C$61:$C$1687,0)),\"\")","v":"St Nicholas Group Practice NW)"}]
["Greenridge Surgery WM)",1,{"$f":"IF(B1250=1,COUNTIF($B$61:$B1250,1),\"\")","v":1190},{"$f":"IFERROR(INDEX($A$61:$A$1687,MATCH(ROWS($C$61:$C1250),$C$61:$C$1687,0)),\"\")","v":"Greenridge Surgery WM)"}]
["Brownhill Surgery NW)",1,{"$f":"IF(B1251=1,COUNTIF($B$61:$B1251,1),\"\")","v":1191},{"$f":"IFERROR(INDEX($A$61:$A$1687,MATCH(ROWS($C$61:$C1251),$C$61:$C$1687,0)),\"\")","v":"Brownhill Surgery NW)"}]
["Bellevue Medical Centre WM)",1,{"$f":"IF(B1252=1,COUNTIF($B$61:$B1252,1),\"\")","v":1192},{"$f":"IFERROR(INDEX($A$61:$A$1687,MATCH(ROWS($C$61:$C1252),$C$61:$C$1687,0)),\"\")","v":"Bellevue Medical Centre WM)"}]
["Sherbourne Medical Centre WM)",1,{"$f":"IF(B1253=1,COUNTIF($B$61:$B1253,1),\"\")","v":1193},{"$f":"IFERROR(INDEX($A$61:$A$1687,MATCH(ROWS($C$61:$C1253),$C$61:$C$1687,0)),\"\")","v":"Sherbourne Medical Centre WM)"}]
["Florence House Medical Practice NW)",1,{"$f":"IF(B1254=1,COUNTIF($B$61:$B1254,1),\"\")","v":1194},{"$f":"IFERROR(INDEX($A$61:$A$1687,MATCH(ROWS($C$61:$C1254),$C$61:$C$1687,0)),\"\")","v":"Florence House Medical Practice NW)"}]
["Hilltops Medical Centre TV)",1,{"$f":"IF(B1255=1,COUNTIF($B$61:$B1255,1),\"\")","v":1195},{"$f":"IFERROR(INDEX($A$61:$A$1687,MATCH(ROWS($C$61:$C1255),$C$61:$C$1687,0)),\"\")","v":"Hilltops Medical Centre TV)"}]
["Rothschild House Surgery TV)",1,{"$f":"IF(B1256=1,COUNTIF($B$61:$B1256,1),\"\")","v":1196},{"$f":"IFERROR(INDEX($A$61:$A$1687,MATCH(ROWS($C$61:$C1256),$C$61:$C$1687,0)),\"\")","v":"Rothschild House Surgery TV)"}]
["Family Surgery NW)",1,{"$f":"IF(B1257=1,COUNTIF($B$61:$B1257,1),\"\")","v":1197},{"$f":"IFERROR(INDEX($A$61:$A$1687,MATCH(ROWS($C$61:$C1257),$C$61:$C$1687,0)),\"\")","v":"Family Surgery NW)"}]
["Monkspath Surgery WM)",1,{"$f":"IF(B1258=1,COUNTIF($B$61:$B1258,1),\"\")","v":1198},{"$f":"IFERROR(INDEX($A$61:$A$1687,MATCH(ROWS($C$61:$C1258),$C$61:$C$1687,0)),\"\")","v":"Monkspath Surgery WM)"}]
["The Bell Surgery TV)",1,{"$f":"IF(B1259=1,COUNTIF($B$61:$B1259,1),\"\")","v":1199},{"$f":"IFERROR(INDEX($A$61:$A$1687,MATCH(ROWS($C$61:$C1259),$C$61:$C$1687,0)),\"\")","v":"The Bell Surgery TV)"}]
["Red House Surgery EoE)",1,{"$f":"IF(B1260=1,COUNTIF($B$61:$B1260,1),\"\")","v":1200},{"$f":"IFERROR(INDEX($A$61:$A$1687,MATCH(ROWS($C$61:$C1260),$C$61:$C$1687,0)),\"\")","v":"Red House Surgery EoE)"}]
["Dr Irlam & Partners Central Surgery) EoE)",1,{"$f":"IF(B1261=1,COUNTIF($B$61:$B1261,1),\"\")","v":1201},{"$f":"IFERROR(INDEX($A$61:$A$1687,MATCH(ROWS($C$61:$C1261),$C$61:$C$1687,0)),\"\")","v":"Dr Irlam & Partners Central Surgery) EoE)"}]
["Central London Community Healthcare NHS Trust LaSE)",1,{"$f":"IF(B1262=1,COUNTIF($B$61:$B1262,1),\"\")","v":1202},{"$f":"IFERROR(INDEX($A$61:$A$1687,MATCH(ROWS($C$61:$C1262),$C$61:$C$1687,0)),\"\")","v":"Central London Community Healthcare NHS Trust LaSE)"}]
["Wellside Surgery EoE)",1,{"$f":"IF(B1263=1,COUNTIF($B$61:$B1263,1),\"\")","v":1203},{"$f":"IFERROR(INDEX($A$61:$A$1687,MATCH(ROWS($C$61:$C1263),$C$61:$C$1687,0)),\"\")","v":"Wellside Surgery EoE)"}]
["Dinas Lane Medical Centre NW)",1,{"$f":"IF(B1264=1,COUNTIF($B$61:$B1264,1),\"\")","v":1204},{"$f":"IFERROR(INDEX($A$61:$A$1687,MATCH(ROWS($C$61:$C1264),$C$61:$C$1687,0)),\"\")","v":"Dinas Lane Medical Centre NW)"}]
["Grove Surgery WM)",1,{"$f":"IF(B1265=1,COUNTIF($B$61:$B1265,1),\"\")","v":1205},{"$f":"IFERROR(INDEX($A$61:$A$1687,MATCH(ROWS($C$61:$C1265),$C$61:$C$1687,0)),\"\")","v":"Grove Surgery WM)"}]
["Fountain Medical Centre EM)",1,{"$f":"IF(B1266=1,COUNTIF($B$61:$B1266,1),\"\")","v":1206},{"$f":"IFERROR(INDEX($A$61:$A$1687,MATCH(ROWS($C$61:$C1266),$C$61:$C$1687,0)),\"\")","v":"Fountain Medical Centre EM)"}]
["Loomer Road Surgery WM)",1,{"$f":"IF(B1267=1,COUNTIF($B$61:$B1267,1),\"\")","v":1207},{"$f":"IFERROR(INDEX($A$61:$A$1687,MATCH(ROWS($C$61:$C1267),$C$61:$C$1687,0)),\"\")","v":"Loomer Road Surgery WM)"}]
["South Hermitage Surgery WM)",1,{"$f":"IF(B1268=1,COUNTIF($B$61:$B1268,1),\"\")","v":1208},{"$f":"IFERROR(INDEX($A$61:$A$1687,MATCH(ROWS($C$61:$C1268),$C$61:$C$1687,0)),\"\")","v":"South Hermitage Surgery WM)"}]
["Riversley Road Surgery WM)",1,{"$f":"IF(B1269=1,COUNTIF($B$61:$B1269,1),\"\")","v":1209},{"$f":"IFERROR(INDEX($A$61:$A$1687,MATCH(ROWS($C$61:$C1269),$C$61:$C$1687,0)),\"\")","v":"Riversley Road Surgery WM)"}]
["Granton Medical Centre WM)",1,{"$f":"IF(B1270=1,COUNTIF($B$61:$B1270,1),\"\")","v":1210},{"$f":"IFERROR(INDEX($A$61:$A$1687,MATCH(ROWS($C$61:$C1270),$C$61:$C$1687,0)),\"\")","v":"Granton Medical Centre WM)"}]
["Victoria Road Surgery WM) WM)",1,{"$f":"IF(B1271=1,COUNTIF($B$61:$B1271,1),\"\")","v":1211},{"$f":"IFERROR(INDEX($A$61:$A$1687,MATCH(ROWS($C$61:$C1271),$C$61:$C$1687,0)),\"\")","v":"Victoria Road Surgery WM) WM)"}]
["Broadway Health Centre WM)",1,{"$f":"IF(B1272=1,COUNTIF($B$61:$B1272,1),\"\")","v":1212},{"$f":"IFERROR(INDEX($A$61:$A$1687,MATCH(ROWS($C$61:$C1272),$C$61:$C$1687,0)),\"\")","v":"Broadway Health Centre WM)"}]
["Loughton Health Centre EoE)",1,{"$f":"IF(B1273=1,COUNTIF($B$61:$B1273,1),\"\")","v":1213},{"$f":"IFERROR(INDEX($A$61:$A$1687,MATCH(ROWS($C$61:$C1273),$C$61:$C$1687,0)),\"\")","v":"Loughton Health Centre EoE)"}]
["Barton Hills Medical Group EoE)",1,{"$f":"IF(B1274=1,COUNTIF($B$61:$B1274,1),\"\")","v":1214},{"$f":"IFERROR(INDEX($A$61:$A$1687,MATCH(ROWS($C$61:$C1274),$C$61:$C$1687,0)),\"\")","v":"Barton Hills Medical Group EoE)"}]
["Stourport Health Centre WM)",1,{"$f":"IF(B1275=1,COUNTIF($B$61:$B1275,1),\"\")","v":1215},{"$f":"IFERROR(INDEX($A$61:$A$1687,MATCH(ROWS($C$61:$C1275),$C$61:$C$1687,0)),\"\")","v":"Stourport Health Centre WM)"}]
["Durnford Medical Centre NW)",1,{"$f":"IF(B1276=1,COUNTIF($B$61:$B1276,1),\"\")","v":1216},{"$f":"IFERROR(INDEX($A$61:$A$1687,MATCH(ROWS($C$61:$C1276),$C$61:$C$1687,0)),\"\")","v":"Durnford Medical Centre NW)"}]
["Wellington Medical Practice WM)",1,{"$f":"IF(B1277=1,COUNTIF($B$61:$B1277,1),\"\")","v":1217},{"$f":"IFERROR(INDEX($A$61:$A$1687,MATCH(ROWS($C$61:$C1277),$C$61:$C$1687,0)),\"\")","v":"Wellington Medical Practice WM)"}]
["Minden Family Practices - Dr Norman NW)",{"$f":"--ISNUMBER(SEARCH($F$15,A1278))","v":1},{"$f":"IF(B1278=1,COUNTIF($B$61:$B1278,1),\"\")","v":1218},{"$f":"IFERROR(INDEX($A$61:$A$1687,MATCH(ROWS($C$61:$C1278),$C$61:$C$1687,0)),\"\")","v":"Minden Family Practices - Dr Norman NW)"}]
["Bewdley Medical Practice WM)",1,{"$f":"IF(B1279=1,COUNTIF($B$61:$B1279,1),\"\")","v":1219},{"$f":"IFERROR(INDEX($A$61:$A$1687,MATCH(ROWS($C$61:$C1279),$C$61:$C$1687,0)),\"\")","v":"Bewdley Medical Practice WM)"}]
["The Doc's Surgery NW)",1,{"$f":"IF(B1280=1,COUNTIF($B$61:$B1280,1),\"\")","v":1220},{"$f":"IFERROR(INDEX($A$61:$A$1687,MATCH(ROWS($C$61:$C1280),$C$61:$C$1687,0)),\"\")","v":"The Doc's Surgery NW)"}]
["Bridgewater Family Medical Practice NW",1,{"$f":"IF(B1281=1,COUNTIF($B$61:$B1281,1),\"\")","v":1221},{"$f":"IFERROR(INDEX($A$61:$A$1687,MATCH(ROWS($C$61:$C1281),$C$61:$C$1687,0)),\"\")","v":"Bridgewater Family Medical Practice NW"}]
["Felixstowe Road Medical Practice EoE)",1,{"$f":"IF(B1282=1,COUNTIF($B$61:$B1282,1),\"\")","v":1222},{"$f":"IFERROR(INDEX($A$61:$A$1687,MATCH(ROWS($C$61:$C1282),$C$61:$C$1687,0)),\"\")","v":"Felixstowe Road Medical Practice EoE)"}]
["Alrewas The Surgery WM)",1,{"$f":"IF(B1283=1,COUNTIF($B$61:$B1283,1),\"\")","v":1223},{"$f":"IFERROR(INDEX($A$61:$A$1687,MATCH(ROWS($C$61:$C1283),$C$61:$C$1687,0)),\"\")","v":"Alrewas The Surgery WM)"}]
["Westside Medical Centre WM)",1,{"$f":"IF(B1284=1,COUNTIF($B$61:$B1284,1),\"\")","v":1224},{"$f":"IFERROR(INDEX($A$61:$A$1687,MATCH(ROWS($C$61:$C1284),$C$61:$C$1687,0)),\"\")","v":"Westside Medical Centre WM)"}]
["Village Surgery EM)",1,{"$f":"IF(B1285=1,COUNTIF($B$61:$B1285,1),\"\")","v":1225},{"$f":"IFERROR(INDEX($A$61:$A$1687,MATCH(ROWS($C$61:$C1285),$C$61:$C$1687,0)),\"\")","v":"Village Surgery EM)"}]
["Adelaide Street Family Practice NW)",1,{"$f":"IF(B1286=1,COUNTIF($B$61:$B1286,1),\"\")","v":1226},{"$f":"IFERROR(INDEX($A$61:$A$1687,MATCH(ROWS($C$61:$C1286),$C$61:$C$1687,0)),\"\")","v":"Adelaide Street Family Practice NW)"}]
["Bedford VTS",1,{"$f":"IF(B1287=1,COUNTIF($B$61:$B1287,1),\"\")","v":1227},{"$f":"IFERROR(INDEX($A$61:$A$1687,MATCH(ROWS($C$61:$C1287),$C$61:$C$1687,0)),\"\")","v":"Bedford VTS"}]
["The Village Surgery WM)",1,{"$f":"IF(B1288=1,COUNTIF($B$61:$B1288,1),\"\")","v":1228},{"$f":"IFERROR(INDEX($A$61:$A$1687,MATCH(ROWS($C$61:$C1288),$C$61:$C$1687,0)),\"\")","v":"The Village Surgery WM)"}]
["Barwell & Hollycroft Medical Centre EM)",1,{"$f":"IF(B1289=1,COUNTIF($B$61:$B1289,1),\"\")","v":1229},{"$f":"IFERROR(INDEX($A$61:$A$1687,MATCH(ROWS($C$61:$C1289),$C$61:$C$1687,0)),\"\")","v":"Barwell & Hollycroft Medical Centre EM)"}]
["The Wand Medical Centre WM)",1,{"$f":"IF(B1290=1,COUNTIF($B$61:$B1290,1),\"\")","v":1230},{"$f":"IFERROR(INDEX($A$61:$A$1687,MATCH(ROWS($C$61:$C1290),$C$61:$C$1687,0)),\"\")","v":"The Wand Medical Centre WM)"}]
["Colchester Medical Centre EoE)",1,{"$f":"IF(B1291=1,COUNTIF($B$61:$B1291,1),\"\")","v":1231},{"$f":"IFERROR(INDEX($A$61:$A$1687,MATCH(ROWS($C$61:$C1291),$C$61:$C$1687,0)),\"\")","v":"Colchester Medical Centre EoE)"}]
["Radbrook Green Surgery WM)",1,{"$f":"IF(B1292=1,COUNTIF($B$61:$B1292,1),\"\")","v":1232},{"$f":"IFERROR(INDEX($A$61:$A$1687,MATCH(ROWS($C$61:$C1292),$C$61:$C$1687,0)),\"\")","v":"Radbrook Green Surgery WM)"}]
["Theatre Royal Surgery EoE)",1,{"$f":"IF(B1293=1,COUNTIF($B$61:$B1293,1),\"\")","v":1233},{"$f":"IFERROR(INDEX($A$61:$A$1687,MATCH(ROWS($C$61:$C1293),$C$61:$C$1687,0)),\"\")","v":"Theatre Royal Surgery EoE)"}]
["Whitnash Medical Centre WM)",1,{"$f":"IF(B1294=1,COUNTIF($B$61:$B1294,1),\"\")","v":1234},{"$f":"IFERROR(INDEX($A$61:$A$1687,MATCH(ROWS($C$61:$C1294),$C$61:$C$1687,0)),\"\")","v":"Whitnash Medical Centre WM)"}]
["Banbury Cross Health Centre TV)",1,{"$f":"IF(B1295=1,COUNTIF($B$61:$B1295,1),\"\")","v":1235},{"$f":"IFERROR(INDEX($A$61:$A$1687,MATCH(ROWS($C$61:$C1295),$C$61:$C$1687,0)),\"\")","v":"Banbury Cross Health Centre TV)"}]
["Guide Bridge Medical Practice NW)",1,{"$f":"IF(B1296=1,COUNTIF($B$61:$B1296,1),\"\")","v":1236},{"$f":"IFERROR(INDEX($A$61:$A$1687,MATCH(ROWS($C$61:$C1296),$C$61:$C$1687,0)),\"\")","v":"Guide Bridge Medical Practice NW)"}]
["The Cornerstone Practice NW)",1,{"$f":"IF(B1297=1,COUNTIF($B$61:$B1297,1),\"\")","v":1237},{"$f":"IFERROR(INDEX($A$61:$A$1687,MATCH(ROWS($C$61:$C1297),$C$61:$C$1687,0)),\"\")","v":"The Cornerstone Practice NW)"}]
["Springfield House NW)",1,{"$f":"IF(B1298=1,COUNTIF($B$61:$B1298,1),\"\")","v":1238},{"$f":"IFERROR(INDEX($A$61:$A$1687,MATCH(ROWS($C$61:$C1298),$C$61:$C$1687,0)),\"\")","v":"Springfield House NW)"}]
["Thornley Street Medical Practice WM)",1,{"$f":"IF(B1299=1,COUNTIF($B$61:$B1299,1),\"\")","v":1239},{"$f":"IFERROR(INDEX($A$61:$A$1687,MATCH(ROWS($C$61:$C1299),$C$61:$C$1687,0)),\"\")","v":"Thornley Street Medical Practice WM)"}]
["Sonning Common Health Centre TV)",1,{"$f":"IF(B1300=1,COUNTIF($B$61:$B1300,1),\"\")","v":1240},{"$f":"IFERROR(INDEX($A$61:$A$1687,MATCH(ROWS($C$61:$C1300),$C$61:$C$1687,0)),\"\")","v":"Sonning Common Health Centre TV)"}]
["Swanswell Medical Centre WM)",1,{"$f":"IF(B1301=1,COUNTIF($B$61:$B1301,1),\"\")","v":1241},{"$f":"IFERROR(INDEX($A$61:$A$1687,MATCH(ROWS($C$61:$C1301),$C$61:$C$1687,0)),\"\")","v":"Swanswell Medical Centre WM)"}]
["The Misbourne Surgery TV)",1,{"$f":"IF(B1302=1,COUNTIF($B$61:$B1302,1),\"\")","v":1242},{"$f":"IFERROR(INDEX($A$61:$A$1687,MATCH(ROWS($C$61:$C1302),$C$61:$C$1687,0)),\"\")","v":"The Misbourne Surgery TV)"}]
["Shipston Medical Centre WM)",1,{"$f":"IF(B1303=1,COUNTIF($B$61:$B1303,1),\"\")","v":1243},{"$f":"IFERROR(INDEX($A$61:$A$1687,MATCH(ROWS($C$61:$C1303),$C$61:$C$1687,0)),\"\")","v":"Shipston Medical Centre WM)"}]
["Northfield Health Centre WM)",1,{"$f":"IF(B1304=1,COUNTIF($B$61:$B1304,1),\"\")","v":1244},{"$f":"IFERROR(INDEX($A$61:$A$1687,MATCH(ROWS($C$61:$C1304),$C$61:$C$1687,0)),\"\")","v":"Northfield Health Centre WM)"}]
["Sullivan Way Surgery NW)",1,{"$f":"IF(B1305=1,COUNTIF($B$61:$B1305,1),\"\")","v":1245},{"$f":"IFERROR(INDEX($A$61:$A$1687,MATCH(ROWS($C$61:$C1305),$C$61:$C$1687,0)),\"\")","v":"Sullivan Way Surgery NW)"}]
["Hill Top Surgery NW)",1,{"$f":"IF(B1306=1,COUNTIF($B$61:$B1306,1),\"\")","v":1246},{"$f":"IFERROR(INDEX($A$61:$A$1687,MATCH(ROWS($C$61:$C1306),$C$61:$C$1687,0)),\"\")","v":"Hill Top Surgery NW)"}]
["Fownhope Medical Centre WM)",1,{"$f":"IF(B1307=1,COUNTIF($B$61:$B1307,1),\"\")","v":1247},{"$f":"IFERROR(INDEX($A$61:$A$1687,MATCH(ROWS($C$61:$C1307),$C$61:$C$1687,0)),\"\")","v":"Fownhope Medical Centre WM)"}]
["Littlewick Medical Centre EM)",1,{"$f":"IF(B1308=1,COUNTIF($B$61:$B1308,1),\"\")","v":1248},{"$f":"IFERROR(INDEX($A$61:$A$1687,MATCH(ROWS($C$61:$C1308),$C$61:$C$1687,0)),\"\")","v":"Littlewick Medical Centre EM)"}]
["Links Medical Practice WM)",1,{"$f":"IF(B1309=1,COUNTIF($B$61:$B1309,1),\"\")","v":1249},{"$f":"IFERROR(INDEX($A$61:$A$1687,MATCH(ROWS($C$61:$C1309),$C$61:$C$1687,0)),\"\")","v":"Links Medical Practice WM)"}]
["St George's Medical Centre NW)",1,{"$f":"IF(B1310=1,COUNTIF($B$61:$B1310,1),\"\")","v":1250},{"$f":"IFERROR(INDEX($A$61:$A$1687,MATCH(ROWS($C$61:$C1310),$C$61:$C$1687,0)),\"\")","v":"St George's Medical Centre NW)"}]
["Small Heath Medical Practice WM)",1,{"$f":"IF(B1311=1,COUNTIF($B$61:$B1311,1),\"\")","v":1251},{"$f":"IFERROR(INDEX($A$61:$A$1687,MATCH(ROWS($C$61:$C1311),$C$61:$C$1687,0)),\"\")","v":"Small Heath Medical Practice WM)"}]
["Market Quarter Medical Practice WM)",1,{"$f":"IF(B1312=1,COUNTIF($B$61:$B1312,1),\"\")","v":1252},{"$f":"IFERROR(INDEX($A$61:$A$1687,MATCH(ROWS($C$61:$C1312),$C$61:$C$1687,0)),\"\")","v":"Market Quarter Medical Practice WM)"}]
["Albany House Surgery WM)",1,{"$f":"IF(B1313=1,COUNTIF($B$61:$B1313,1),\"\")","v":1253},{"$f":"IFERROR(INDEX($A$61:$A$1687,MATCH(ROWS($C$61:$C1313),$C$61:$C$1687,0)),\"\")","v":"Albany House Surgery WM)"}]
["Bourne Galletly Practice Team EM)",1,{"$f":"IF(B1314=1,COUNTIF($B$61:$B1314,1),\"\")","v":1254},{"$f":"IFERROR(INDEX($A$61:$A$1687,MATCH(ROWS($C$61:$C1314),$C$61:$C$1687,0)),\"\")","v":"Bourne Galletly Practice Team EM)"}]
["Heaton Mersey Med.Pract. NW)",1,{"$f":"IF(B1315=1,COUNTIF($B$61:$B1315,1),\"\")","v":1255},{"$f":"IFERROR(INDEX($A$61:$A$1687,MATCH(ROWS($C$61:$C1315),$C$61:$C$1687,0)),\"\")","v":"Heaton Mersey Med.Pract. NW)"}]
["Kidderminster Medical Centre WM)",1,{"$f":"IF(B1316=1,COUNTIF($B$61:$B1316,1),\"\")","v":1256},{"$f":"IFERROR(INDEX($A$61:$A$1687,MATCH(ROWS($C$61:$C1316),$C$61:$C$1687,0)),\"\")","v":"Kidderminster Medical Centre WM)"}]
["Ironbridge Medical Practice WM)",1,{"$f":"IF(B1317=1,COUNTIF($B$61:$B1317,1),\"\")","v":1257},{"$f":"IFERROR(INDEX($A$61:$A$1687,MATCH(ROWS($C$61:$C1317),$C$61:$C$1687,0)),\"\")","v":"Ironbridge Medical Practice WM)"}]
["Oxford Drive Medical Centre EoE)",1,{"$f":"IF(B1318=1,COUNTIF($B$61:$B1318,1),\"\")","v":1258},{"$f":"IFERROR(INDEX($A$61:$A$1687,MATCH(ROWS($C$61:$C1318),$C$61:$C$1687,0)),\"\")","v":"Oxford Drive Medical Centre EoE)"}]
["Baldwins Lane Surgery EoE)",1,{"$f":"IF(B1319=1,COUNTIF($B$61:$B1319,1),\"\")","v":1259},{"$f":"IFERROR(INDEX($A$61:$A$1687,MATCH(ROWS($C$61:$C1319),$C$61:$C$1687,0)),\"\")","v":"Baldwins Lane Surgery EoE)"}]
["Witton Street Surgery NW)",1,{"$f":"IF(B1320=1,COUNTIF($B$61:$B1320,1),\"\")","v":1260},{"$f":"IFERROR(INDEX($A$61:$A$1687,MATCH(ROWS($C$61:$C1320),$C$61:$C$1687,0)),\"\")","v":"Witton Street Surgery NW)"}]
["Bell House Medical Centre EoE)",1,{"$f":"IF(B1321=1,COUNTIF($B$61:$B1321,1),\"\")","v":1261},{"$f":"IFERROR(INDEX($A$61:$A$1687,MATCH(ROWS($C$61:$C1321),$C$61:$C$1687,0)),\"\")","v":"Bell House Medical Centre EoE)"}]
["Fairfields Practice EM)",1,{"$f":"IF(B1322=1,COUNTIF($B$61:$B1322,1),\"\")","v":1262},{"$f":"IFERROR(INDEX($A$61:$A$1687,MATCH(ROWS($C$61:$C1322),$C$61:$C$1687,0)),\"\")","v":"Fairfields Practice EM)"}]
["Medlock Medical Centre NW)",1,{"$f":"IF(B1323=1,COUNTIF($B$61:$B1323,1),\"\")","v":1263},{"$f":"IFERROR(INDEX($A$61:$A$1687,MATCH(ROWS($C$61:$C1323),$C$61:$C$1687,0)),\"\")","v":"Medlock Medical Centre NW)"}]
["The Arch Medical Practice NW)",1,{"$f":"IF(B1324=1,COUNTIF($B$61:$B1324,1),\"\")","v":1264},{"$f":"IFERROR(INDEX($A$61:$A$1687,MATCH(ROWS($C$61:$C1324),$C$61:$C$1687,0)),\"\")","v":"The Arch Medical Practice NW)"}]
["Park End Surgery EoE)",1,{"$f":"IF(B1325=1,COUNTIF($B$61:$B1325,1),\"\")","v":1265},{"$f":"IFERROR(INDEX($A$61:$A$1687,MATCH(ROWS($C$61:$C1325),$C$61:$C$1687,0)),\"\")","v":"Park End Surgery EoE)"}]
["Burford Surgery TV)",1,{"$f":"IF(B1326=1,COUNTIF($B$61:$B1326,1),\"\")","v":1266},{"$f":"IFERROR(INDEX($A$61:$A$1687,MATCH(ROWS($C$61:$C1326),$C$61:$C$1687,0)),\"\")","v":"Burford Surgery TV)"}]
["Crankhall Lane Medical Centre WM)",1,{"$f":"IF(B1327=1,COUNTIF($B$61:$B1327,1),\"\")","v":1267},{"$f":"IFERROR(INDEX($A$61:$A$1687,MATCH(ROWS($C$61:$C1327),$C$61:$C$1687,0)),\"\")","v":"Crankhall Lane Medical Centre WM)"}]
["Allport Medical Centre NW)",1,{"$f":"IF(B1328=1,COUNTIF($B$61:$B1328,1),\"\")","v":1268},{"$f":"IFERROR(INDEX($A$61:$A$1687,MATCH(ROWS($C$61:$C1328),$C$61:$C$1687,0)),\"\")","v":"Allport Medical Centre NW)"}]
["Eaton Socon Health Centre EoE)",1,{"$f":"IF(B1329=1,COUNTIF($B$61:$B1329,1),\"\")","v":1269},{"$f":"IFERROR(INDEX($A$61:$A$1687,MATCH(ROWS($C$61:$C1329),$C$61:$C$1687,0)),\"\")","v":"Eaton Socon Health Centre EoE)"}]
["Steppingstones Medical Practice WM)",1,{"$f":"IF(B1330=1,COUNTIF($B$61:$B1330,1),\"\")","v":1270},{"$f":"IFERROR(INDEX($A$61:$A$1687,MATCH(ROWS($C$61:$C1330),$C$61:$C$1687,0)),\"\")","v":"Steppingstones Medical Practice WM)"}]
["Bennetts End Surgery EoE)",1,{"$f":"IF(B1331=1,COUNTIF($B$61:$B1331,1),\"\")","v":1271},{"$f":"IFERROR(INDEX($A$61:$A$1687,MATCH(ROWS($C$61:$C1331),$C$61:$C$1687,0)),\"\")","v":"Bennetts End Surgery EoE)"}]
["York House Medical Centre WM)",1,{"$f":"IF(B1332=1,COUNTIF($B$61:$B1332,1),\"\")","v":1272},{"$f":"IFERROR(INDEX($A$61:$A$1687,MATCH(ROWS($C$61:$C1332),$C$61:$C$1687,0)),\"\")","v":"York House Medical Centre WM)"}]
["Chorlton Family Practice NW)",1,{"$f":"IF(B1333=1,COUNTIF($B$61:$B1333,1),\"\")","v":1273},{"$f":"IFERROR(INDEX($A$61:$A$1687,MATCH(ROWS($C$61:$C1333),$C$61:$C$1687,0)),\"\")","v":"Chorlton Family Practice NW)"}]
["Hillfoot Health NW)",1,{"$f":"IF(B1334=1,COUNTIF($B$61:$B1334,1),\"\")","v":1274},{"$f":"IFERROR(INDEX($A$61:$A$1687,MATCH(ROWS($C$61:$C1334),$C$61:$C$1687,0)),\"\")","v":"Hillfoot Health NW)"}]
["The Blythe Practice WM)",1,{"$f":"IF(B1335=1,COUNTIF($B$61:$B1335,1),\"\")","v":1275},{"$f":"IFERROR(INDEX($A$61:$A$1687,MATCH(ROWS($C$61:$C1335),$C$61:$C$1687,0)),\"\")","v":"The Blythe Practice WM)"}]
["Lymebrook Surgery WM)",1,{"$f":"IF(B1336=1,COUNTIF($B$61:$B1336,1),\"\")","v":1276},{"$f":"IFERROR(INDEX($A$61:$A$1687,MATCH(ROWS($C$61:$C1336),$C$61:$C$1687,0)),\"\")","v":"Lymebrook Surgery WM)"}]
["Fakenham Medical Practice EoE)",1,{"$f":"IF(B1337=1,COUNTIF($B$61:$B1337,1),\"\")","v":1277},{"$f":"IFERROR(INDEX($A$61:$A$1687,MATCH(ROWS($C$61:$C1337),$C$61:$C$1687,0)),\"\")","v":"Fakenham Medical Practice EoE)"}]
["Dr Jude's Practice - Riverside NW)",1,{"$f":"IF(B1338=1,COUNTIF($B$61:$B1338,1),\"\")","v":1278},{"$f":"IFERROR(INDEX($A$61:$A$1687,MATCH(ROWS($C$61:$C1338),$C$61:$C$1687,0)),\"\")","v":"Dr Jude's Practice - Riverside NW)"}]
["Cambridge VTS",1,{"$f":"IF(B1339=1,COUNTIF($B$61:$B1339,1),\"\")","v":1279},{"$f":"IFERROR(INDEX($A$61:$A$1687,MATCH(ROWS($C$61:$C1339),$C$61:$C$1687,0)),\"\")","v":"Cambridge VTS"}]
["The Ridgeway Surgery WM)",1,{"$f":"IF(B1340=1,COUNTIF($B$61:$B1340,1),\"\")","v":1280},{"$f":"IFERROR(INDEX($A$61:$A$1687,MATCH(ROWS($C$61:$C1340),$C$61:$C$1687,0)),\"\")","v":"The Ridgeway Surgery WM)"}]
["Churchfields Medical Practice EM)",1,{"$f":"IF(B1341=1,COUNTIF($B$61:$B1341,1),\"\")","v":1281},{"$f":"IFERROR(INDEX($A$61:$A$1687,MATCH(ROWS($C$61:$C1341),$C$61:$C$1687,0)),\"\")","v":"Churchfields Medical Practice EM)"}]
["Intrahealth Marsh Green NW)",{"$f":"--ISNUMBER(SEARCH($F$15,A1342))","v":1},{"$f":"IF(B1342=1,COUNTIF($B$61:$B1342,1),\"\")","v":1282},{"$f":"IFERROR(INDEX($A$61:$A$1687,MATCH(ROWS($C$61:$C1342),$C$61:$C$1687,0)),\"\")","v":"Intrahealth Marsh Green NW)"}]
["Manchester Road Medical Centre NW)",1,{"$f":"IF(B1343=1,COUNTIF($B$61:$B1343,1),\"\")","v":1283},{"$f":"IFERROR(INDEX($A$61:$A$1687,MATCH(ROWS($C$61:$C1343),$C$61:$C$1687,0)),\"\")","v":"Manchester Road Medical Centre NW)"}]
["Great Harwood Medical Group NW)",1,{"$f":"IF(B1344=1,COUNTIF($B$61:$B1344,1),\"\")","v":1284},{"$f":"IFERROR(INDEX($A$61:$A$1687,MATCH(ROWS($C$61:$C1344),$C$61:$C$1687,0)),\"\")","v":"Great Harwood Medical Group NW)"}]
["Northbrook Group Health Centre WM)",1,{"$f":"IF(B1345=1,COUNTIF($B$61:$B1345,1),\"\")","v":1285},{"$f":"IFERROR(INDEX($A$61:$A$1687,MATCH(ROWS($C$61:$C1345),$C$61:$C$1687,0)),\"\")","v":"Northbrook Group Health Centre WM)"}]
["Howard House Surgery EoE)",1,{"$f":"IF(B1346=1,COUNTIF($B$61:$B1346,1),\"\")","v":1286},{"$f":"IFERROR(INDEX($A$61:$A$1687,MATCH(ROWS($C$61:$C1346),$C$61:$C$1687,0)),\"\")","v":"Howard House Surgery EoE)"}]
["Church Road Surgery WM)",1,{"$f":"IF(B1347=1,COUNTIF($B$61:$B1347,1),\"\")","v":1287},{"$f":"IFERROR(INDEX($A$61:$A$1687,MATCH(ROWS($C$61:$C1347),$C$61:$C$1687,0)),\"\")","v":"Church Road Surgery WM)"}]
["St George's Medical Centre EoE)",1,{"$f":"IF(B1348=1,COUNTIF($B$61:$B1348,1),\"\")","v":1288},{"$f":"IFERROR(INDEX($A$61:$A$1687,MATCH(ROWS($C$61:$C1348),$C$61:$C$1687,0)),\"\")","v":"St George's Medical Centre EoE)"}]
["Woodcock Road Surgery EoE)",1,{"$f":"IF(B1349=1,COUNTIF($B$61:$B1349,1),\"\")","v":1289},{"$f":"IFERROR(INDEX($A$61:$A$1687,MATCH(ROWS($C$61:$C1349),$C$61:$C$1687,0)),\"\")","v":"Woodcock Road Surgery EoE)"}]
["Over Surgery EoE)",1,{"$f":"IF(B1350=1,COUNTIF($B$61:$B1350,1),\"\")","v":1290},{"$f":"IFERROR(INDEX($A$61:$A$1687,MATCH(ROWS($C$61:$C1350),$C$61:$C$1687,0)),\"\")","v":"Over Surgery EoE)"}]
["Hope Farm Medical Centre NW)",1,{"$f":"IF(B1351=1,COUNTIF($B$61:$B1351,1),\"\")","v":1291},{"$f":"IFERROR(INDEX($A$61:$A$1687,MATCH(ROWS($C$61:$C1351),$C$61:$C$1687,0)),\"\")","v":"Hope Farm Medical Centre NW)"}]
["Arbury Road Surgery EoE)",1,{"$f":"IF(B1352=1,COUNTIF($B$61:$B1352,1),\"\")","v":1292},{"$f":"IFERROR(INDEX($A$61:$A$1687,MATCH(ROWS($C$61:$C1352),$C$61:$C$1687,0)),\"\")","v":"Arbury Road Surgery EoE)"}]
["St Christopher's Hospice LaSE)",1,{"$f":"IF(B1353=1,COUNTIF($B$61:$B1353,1),\"\")","v":1293},{"$f":"IFERROR(INDEX($A$61:$A$1687,MATCH(ROWS($C$61:$C1353),$C$61:$C$1687,0)),\"\")","v":"St Christopher's Hospice LaSE)"}]
["Hollies Practice WM)",1,{"$f":"IF(B1354=1,COUNTIF($B$61:$B1354,1),\"\")","v":1294},{"$f":"IFERROR(INDEX($A$61:$A$1687,MATCH(ROWS($C$61:$C1354),$C$61:$C$1687,0)),\"\")","v":"Hollies Practice WM)"}]
["Weoley Park Surgery WM)",1,{"$f":"IF(B1355=1,COUNTIF($B$61:$B1355,1),\"\")","v":1295},{"$f":"IFERROR(INDEX($A$61:$A$1687,MATCH(ROWS($C$61:$C1355),$C$61:$C$1687,0)),\"\")","v":"Weoley Park Surgery WM)"}]
["Swanwood Partnership EoE)",1,{"$f":"IF(B1356=1,COUNTIF($B$61:$B1356,1),\"\")","v":1296},{"$f":"IFERROR(INDEX($A$61:$A$1687,MATCH(ROWS($C$61:$C1356),$C$61:$C$1687,0)),\"\")","v":"Swanwood Partnership EoE)"}]
["Regal Chambers Surgery EoE)",1,{"$f":"IF(B1357=1,COUNTIF($B$61:$B1357,1),\"\")","v":1297},{"$f":"IFERROR(INDEX($A$61:$A$1687,MATCH(ROWS($C$61:$C1357),$C$61:$C$1687,0)),\"\")","v":"Regal Chambers Surgery EoE)"}]
["Kingsway Surgery EM)",1,{"$f":"IF(B1358=1,COUNTIF($B$61:$B1358,1),\"\")","v":1298},{"$f":"IFERROR(INDEX($A$61:$A$1687,MATCH(ROWS($C$61:$C1358),$C$61:$C$1687,0)),\"\")","v":"Kingsway Surgery EM)"}]
["Nutwood Medical Practice NW)",1,{"$f":"IF(B1359=1,COUNTIF($B$61:$B1359,1),\"\")","v":1299},{"$f":"IFERROR(INDEX($A$61:$A$1687,MATCH(ROWS($C$61:$C1359),$C$61:$C$1687,0)),\"\")","v":"Nutwood Medical Practice NW)"}]
["DR JK Marsden's Practice EoE)",1,{"$f":"IF(B1360=1,COUNTIF($B$61:$B1360,1),\"\")","v":1300},{"$f":"IFERROR(INDEX($A$61:$A$1687,MATCH(ROWS($C$61:$C1360),$C$61:$C$1687,0)),\"\")","v":"DR JK Marsden's Practice EoE)"}]
["Burvill House Surgery EoE)",1,{"$f":"IF(B1361=1,COUNTIF($B$61:$B1361,1),\"\")","v":1301},{"$f":"IFERROR(INDEX($A$61:$A$1687,MATCH(ROWS($C$61:$C1361),$C$61:$C$1687,0)),\"\")","v":"Burvill House Surgery EoE)"}]
["Merepark Medical Centre NW)",1,{"$f":"IF(B1362=1,COUNTIF($B$61:$B1362,1),\"\")","v":1302},{"$f":"IFERROR(INDEX($A$61:$A$1687,MATCH(ROWS($C$61:$C1362),$C$61:$C$1687,0)),\"\")","v":"Merepark Medical Centre NW)"}]
["Elmham Surgery EoE)",1,{"$f":"IF(B1363=1,COUNTIF($B$61:$B1363,1),\"\")","v":1303},{"$f":"IFERROR(INDEX($A$61:$A$1687,MATCH(ROWS($C$61:$C1363),$C$61:$C$1687,0)),\"\")","v":"Elmham Surgery EoE)"}]
["Evington Medical Centre EM)",1,{"$f":"IF(B1364=1,COUNTIF($B$61:$B1364,1),\"\")","v":1304},{"$f":"IFERROR(INDEX($A$61:$A$1687,MATCH(ROWS($C$61:$C1364),$C$61:$C$1687,0)),\"\")","v":"Evington Medical Centre EM)"}]
["Chilwell Valley & Meadow Practice EM)",1,{"$f":"IF(B1365=1,COUNTIF($B$61:$B1365,1),\"\")","v":1305},{"$f":"IFERROR(INDEX($A$61:$A$1687,MATCH(ROWS($C$61:$C1365),$C$61:$C$1687,0)),\"\")","v":"Chilwell Valley & Meadow Practice EM)"}]
["The Brooke Surgery NW)",1,{"$f":"IF(B1366=1,COUNTIF($B$61:$B1366,1),\"\")","v":1306},{"$f":"IFERROR(INDEX($A$61:$A$1687,MATCH(ROWS($C$61:$C1366),$C$61:$C$1687,0)),\"\")","v":"The Brooke Surgery NW)"}]
["Hopwood Medical Centre NW)",1,{"$f":"IF(B1367=1,COUNTIF($B$61:$B1367,1),\"\")","v":1307},{"$f":"IFERROR(INDEX($A$61:$A$1687,MATCH(ROWS($C$61:$C1367),$C$61:$C$1687,0)),\"\")","v":"Hopwood Medical Centre NW)"}]
["Landscape Surgery NW)",1,{"$f":"IF(B1368=1,COUNTIF($B$61:$B1368,1),\"\")","v":1308},{"$f":"IFERROR(INDEX($A$61:$A$1687,MATCH(ROWS($C$61:$C1368),$C$61:$C$1687,0)),\"\")","v":"Landscape Surgery NW)"}]
["St Catherine's Hospice LaSE)",1,{"$f":"IF(B1369=1,COUNTIF($B$61:$B1369,1),\"\")","v":1309},{"$f":"IFERROR(INDEX($A$61:$A$1687,MATCH(ROWS($C$61:$C1369),$C$61:$C$1687,0)),\"\")","v":"St Catherine's Hospice LaSE)"}]
["St Mary's Surgery EoE)",1,{"$f":"IF(B1370=1,COUNTIF($B$61:$B1370,1),\"\")","v":1310},{"$f":"IFERROR(INDEX($A$61:$A$1687,MATCH(ROWS($C$61:$C1370),$C$61:$C$1687,0)),\"\")","v":"St Mary's Surgery EoE)"}]
["Apollo Surgery WM)",1,{"$f":"IF(B1371=1,COUNTIF($B$61:$B1371,1),\"\")","v":1311},{"$f":"IFERROR(INDEX($A$61:$A$1687,MATCH(ROWS($C$61:$C1371),$C$61:$C$1687,0)),\"\")","v":"Apollo Surgery WM)"}]
["Whitehall Medical Practice WM)",1,{"$f":"IF(B1372=1,COUNTIF($B$61:$B1372,1),\"\")","v":1312},{"$f":"IFERROR(INDEX($A$61:$A$1687,MATCH(ROWS($C$61:$C1372),$C$61:$C$1687,0)),\"\")","v":"Whitehall Medical Practice WM)"}]
["The Oaks Medical Centre WM)",1,{"$f":"IF(B1373=1,COUNTIF($B$61:$B1373,1),\"\")","v":1313},{"$f":"IFERROR(INDEX($A$61:$A$1687,MATCH(ROWS($C$61:$C1373),$C$61:$C$1687,0)),\"\")","v":"The Oaks Medical Centre WM)"}]
["Millbrook Medical Centre NW)",1,{"$f":"IF(B1374=1,COUNTIF($B$61:$B1374,1),\"\")","v":1314},{"$f":"IFERROR(INDEX($A$61:$A$1687,MATCH(ROWS($C$61:$C1374),$C$61:$C$1687,0)),\"\")","v":"Millbrook Medical Centre NW)"}]
["Botley Medical Centre TV)",1,{"$f":"IF(B1375=1,COUNTIF($B$61:$B1375,1),\"\")","v":1315},{"$f":"IFERROR(INDEX($A$61:$A$1687,MATCH(ROWS($C$61:$C1375),$C$61:$C$1687,0)),\"\")","v":"Botley Medical Centre TV)"}]
["Weaver Vale Practice NW)",1,{"$f":"IF(B1376=1,COUNTIF($B$61:$B1376,1),\"\")","v":1316},{"$f":"IFERROR(INDEX($A$61:$A$1687,MATCH(ROWS($C$61:$C1376),$C$61:$C$1687,0)),\"\")","v":"Weaver Vale Practice NW)"}]
["Allesley Village Surgery WM)",1,{"$f":"IF(B1377=1,COUNTIF($B$61:$B1377,1),\"\")","v":1317},{"$f":"IFERROR(INDEX($A$61:$A$1687,MATCH(ROWS($C$61:$C1377),$C$61:$C$1687,0)),\"\")","v":"Allesley Village Surgery WM)"}]
["City Walls Medical Centre NW)",1,{"$f":"IF(B1378=1,COUNTIF($B$61:$B1378,1),\"\")","v":1318},{"$f":"IFERROR(INDEX($A$61:$A$1687,MATCH(ROWS($C$61:$C1378),$C$61:$C$1687,0)),\"\")","v":"City Walls Medical Centre NW)"}]
["Ballasalla Medical Centre IOM) NW)",1,{"$f":"IF(B1379=1,COUNTIF($B$61:$B1379,1),\"\")","v":1319},{"$f":"IFERROR(INDEX($A$61:$A$1687,MATCH(ROWS($C$61:$C1379),$C$61:$C$1687,0)),\"\")","v":"Ballasalla Medical Centre IOM) NW)"}]
["Belmont Medical Centre WM)",1,{"$f":"IF(B1380=1,COUNTIF($B$61:$B1380,1),\"\")","v":1320},{"$f":"IFERROR(INDEX($A$61:$A$1687,MATCH(ROWS($C$61:$C1380),$C$61:$C$1687,0)),\"\")","v":"Belmont Medical Centre WM)"}]
["Kirkholt Med Practice NW)",1,{"$f":"IF(B1381=1,COUNTIF($B$61:$B1381,1),\"\")","v":1321},{"$f":"IFERROR(INDEX($A$61:$A$1687,MATCH(ROWS($C$61:$C1381),$C$61:$C$1687,0)),\"\")","v":"Kirkholt Med Practice NW)"}]
["The Dunstan Partnership NW)",1,{"$f":"IF(B1382=1,COUNTIF($B$61:$B1382,1),\"\")","v":1322},{"$f":"IFERROR(INDEX($A$61:$A$1687,MATCH(ROWS($C$61:$C1382),$C$61:$C$1687,0)),\"\")","v":"The Dunstan Partnership NW)"}]
["The Park Medical Practice EM)",1,{"$f":"IF(B1383=1,COUNTIF($B$61:$B1383,1),\"\")","v":1323},{"$f":"IFERROR(INDEX($A$61:$A$1687,MATCH(ROWS($C$61:$C1383),$C$61:$C$1687,0)),\"\")","v":"The Park Medical Practice EM)"}]
["Market Street Medical Practice NW)",1,{"$f":"IF(B1384=1,COUNTIF($B$61:$B1384,1),\"\")","v":1324},{"$f":"IFERROR(INDEX($A$61:$A$1687,MATCH(ROWS($C$61:$C1384),$C$61:$C$1687,0)),\"\")","v":"Market Street Medical Practice NW)"}]
["Norden House Surgey TV)",1,{"$f":"IF(B1385=1,COUNTIF($B$61:$B1385,1),\"\")","v":1325},{"$f":"IFERROR(INDEX($A$61:$A$1687,MATCH(ROWS($C$61:$C1385),$C$61:$C$1687,0)),\"\")","v":"Norden House Surgey TV)"}]
["Willowbrook Medical Centre EM)",1,{"$f":"IF(B1386=1,COUNTIF($B$61:$B1386,1),\"\")","v":1326},{"$f":"IFERROR(INDEX($A$61:$A$1687,MATCH(ROWS($C$61:$C1386),$C$61:$C$1687,0)),\"\")","v":"Willowbrook Medical Centre EM)"}]
["Dudley Park Medical Centre WM)",1,{"$f":"IF(B1387=1,COUNTIF($B$61:$B1387,1),\"\")","v":1327},{"$f":"IFERROR(INDEX($A$61:$A$1687,MATCH(ROWS($C$61:$C1387),$C$61:$C$1687,0)),\"\")","v":"Dudley Park Medical Centre WM)"}]
["Sundon Medical Centre EoE)",1,{"$f":"IF(B1388=1,COUNTIF($B$61:$B1388,1),\"\")","v":1328},{"$f":"IFERROR(INDEX($A$61:$A$1687,MATCH(ROWS($C$61:$C1388),$C$61:$C$1687,0)),\"\")","v":"Sundon Medical Centre EoE)"}]
["Brereton Surgery WM)",1,{"$f":"IF(B1389=1,COUNTIF($B$61:$B1389,1),\"\")","v":1329},{"$f":"IFERROR(INDEX($A$61:$A$1687,MATCH(ROWS($C$61:$C1389),$C$61:$C$1687,0)),\"\")","v":"Brereton Surgery WM)"}]
["Leen View Surgery EM)",1,{"$f":"IF(B1390=1,COUNTIF($B$61:$B1390,1),\"\")","v":1330},{"$f":"IFERROR(INDEX($A$61:$A$1687,MATCH(ROWS($C$61:$C1390),$C$61:$C$1687,0)),\"\")","v":"Leen View Surgery EM)"}]
["Portland Medical Practice WM)",1,{"$f":"IF(B1391=1,COUNTIF($B$61:$B1391,1),\"\")","v":1331},{"$f":"IFERROR(INDEX($A$61:$A$1687,MATCH(ROWS($C$61:$C1391),$C$61:$C$1687,0)),\"\")","v":"Portland Medical Practice WM)"}]
["St Helier Medical Practice WM)",1,{"$f":"IF(B1392=1,COUNTIF($B$61:$B1392,1),\"\")","v":1332},{"$f":"IFERROR(INDEX($A$61:$A$1687,MATCH(ROWS($C$61:$C1392),$C$61:$C$1687,0)),\"\")","v":"St Helier Medical Practice WM)"}]
["Woodside Medical Centre WM)",1,{"$f":"IF(B1393=1,COUNTIF($B$61:$B1393,1),\"\")","v":1333},{"$f":"IFERROR(INDEX($A$61:$A$1687,MATCH(ROWS($C$61:$C1393),$C$61:$C$1687,0)),\"\")","v":"Woodside Medical Centre WM)"}]
["Greenmount Medical Centre NW)",1,{"$f":"IF(B1394=1,COUNTIF($B$61:$B1394,1),\"\")","v":1334},{"$f":"IFERROR(INDEX($A$61:$A$1687,MATCH(ROWS($C$61:$C1394),$C$61:$C$1687,0)),\"\")","v":"Greenmount Medical Centre NW)"}]
["Highgate Medical Centre WM)",1,{"$f":"IF(B1395=1,COUNTIF($B$61:$B1395,1),\"\")","v":1335},{"$f":"IFERROR(INDEX($A$61:$A$1687,MATCH(ROWS($C$61:$C1395),$C$61:$C$1687,0)),\"\")","v":"Highgate Medical Centre WM)"}]
["Wellington Road Surgery WM)",1,{"$f":"IF(B1396=1,COUNTIF($B$61:$B1396,1),\"\")","v":1336},{"$f":"IFERROR(INDEX($A$61:$A$1687,MATCH(ROWS($C$61:$C1396),$C$61:$C$1687,0)),\"\")","v":"Wellington Road Surgery WM)"}]
["Stowhealth EoE)",1,{"$f":"IF(B1397=1,COUNTIF($B$61:$B1397,1),\"\")","v":1337},{"$f":"IFERROR(INDEX($A$61:$A$1687,MATCH(ROWS($C$61:$C1397),$C$61:$C$1687,0)),\"\")","v":"Stowhealth EoE)"}]
["Magnolia House Surgery TV)",1,{"$f":"IF(B1398=1,COUNTIF($B$61:$B1398,1),\"\")","v":1338},{"$f":"IFERROR(INDEX($A$61:$A$1687,MATCH(ROWS($C$61:$C1398),$C$61:$C$1687,0)),\"\")","v":"Magnolia House Surgery TV)"}]
["Arnold Medical Centre NW)",1,{"$f":"IF(B1399=1,COUNTIF($B$61:$B1399,1),\"\")","v":1339},{"$f":"IFERROR(INDEX($A$61:$A$1687,MATCH(ROWS($C$61:$C1399),$C$61:$C$1687,0)),\"\")","v":"Arnold Medical Centre NW)"}]
["Stockport Medical Group NW)",1,{"$f":"IF(B1400=1,COUNTIF($B$61:$B1400,1),\"\")","v":1340},{"$f":"IFERROR(INDEX($A$61:$A$1687,MATCH(ROWS($C$61:$C1400),$C$61:$C$1687,0)),\"\")","v":"Stockport Medical Group NW)"}]
["The Borchardt Medical Centre NW)",1,{"$f":"IF(B1401=1,COUNTIF($B$61:$B1401,1),\"\")","v":1341},{"$f":"IFERROR(INDEX($A$61:$A$1687,MATCH(ROWS($C$61:$C1401),$C$61:$C$1687,0)),\"\")","v":"The Borchardt Medical Centre NW)"}]
["Marus Bridge Practice NW)",1,{"$f":"IF(B1402=1,COUNTIF($B$61:$B1402,1),\"\")","v":1342},{"$f":"IFERROR(INDEX($A$61:$A$1687,MATCH(ROWS($C$61:$C1402),$C$61:$C$1687,0)),\"\")","v":"Marus Bridge Practice NW)"}]
["Ribblesdale Medical Practice NW)",1,{"$f":"IF(B1403=1,COUNTIF($B$61:$B1403,1),\"\")","v":1343},{"$f":"IFERROR(INDEX($A$61:$A$1687,MATCH(ROWS($C$61:$C1403),$C$61:$C$1687,0)),\"\")","v":"Ribblesdale Medical Practice NW)"}]
["Spring House Surgery NW)",1,{"$f":"IF(B1404=1,COUNTIF($B$61:$B1404,1),\"\")","v":1344},{"$f":"IFERROR(INDEX($A$61:$A$1687,MATCH(ROWS($C$61:$C1404),$C$61:$C$1687,0)),\"\")","v":"Spring House Surgery NW)"}]
["Bay Medical Group NW)",1,{"$f":"IF(B1405=1,COUNTIF($B$61:$B1405,1),\"\")","v":1345},{"$f":"IFERROR(INDEX($A$61:$A$1687,MATCH(ROWS($C$61:$C1405),$C$61:$C$1687,0)),\"\")","v":"Bay Medical Group NW)"}]
["Firsway Health Centre NW)",{"$f":"--ISNUMBER(SEARCH($F$15,A1406))","v":1},{"$f":"IF(B1406=1,COUNTIF($B$61:$B1406,1),\"\")","v":1346},{"$f":"IFERROR(INDEX($A$61:$A$1687,MATCH(ROWS($C$61:$C1406),$C$61:$C$1687,0)),\"\")","v":"Firsway Health Centre NW)"}]
["Fleetwood Surgery NW)",1,{"$f":"IF(B1407=1,COUNTIF($B$61:$B1407,1),\"\")","v":1347},{"$f":"IFERROR(INDEX($A$61:$A$1687,MATCH(ROWS($C$61:$C1407),$C$61:$C$1687,0)),\"\")","v":"Fleetwood Surgery NW)"}]
["Glenroyd Medical Centre NW)",1,{"$f":"IF(B1408=1,COUNTIF($B$61:$B1408,1),\"\")","v":1348},{"$f":"IFERROR(INDEX($A$61:$A$1687,MATCH(ROWS($C$61:$C1408),$C$61:$C$1687,0)),\"\")","v":"Glenroyd Medical Centre NW)"}]
["The Oaks Family Practice NW)",1,{"$f":"IF(B1409=1,COUNTIF($B$61:$B1409,1),\"\")","v":1349},{"$f":"IFERROR(INDEX($A$61:$A$1687,MATCH(ROWS($C$61:$C1409),$C$61:$C$1687,0)),\"\")","v":"The Oaks Family Practice NW)"}]
["Broadway Medical Centre NW)",1,{"$f":"IF(B1410=1,COUNTIF($B$61:$B1410,1),\"\")","v":1350},{"$f":"IFERROR(INDEX($A$61:$A$1687,MATCH(ROWS($C$61:$C1410),$C$61:$C$1687,0)),\"\")","v":"Broadway Medical Centre NW)"}]
["Blackford House Medical Centre NW)",1,{"$f":"IF(B1411=1,COUNTIF($B$61:$B1411,1),\"\")","v":1351},{"$f":"IFERROR(INDEX($A$61:$A$1687,MATCH(ROWS($C$61:$C1411),$C$61:$C$1687,0)),\"\")","v":"Blackford House Medical Centre NW)"}]
["St Helens Road Practice NW)",1,{"$f":"IF(B1412=1,COUNTIF($B$61:$B1412,1),\"\")","v":1352},{"$f":"IFERROR(INDEX($A$61:$A$1687,MATCH(ROWS($C$61:$C1412),$C$61:$C$1687,0)),\"\")","v":"St Helens Road Practice NW)"}]
["Asplands Medical Centre TV)",1,{"$f":"IF(B1413=1,COUNTIF($B$61:$B1413,1),\"\")","v":1353},{"$f":"IFERROR(INDEX($A$61:$A$1687,MATCH(ROWS($C$61:$C1413),$C$61:$C$1687,0)),\"\")","v":"Asplands Medical Centre TV)"}]
["Reedyford Health Care Group NW)",1,{"$f":"IF(B1414=1,COUNTIF($B$61:$B1414,1),\"\")","v":1354},{"$f":"IFERROR(INDEX($A$61:$A$1687,MATCH(ROWS($C$61:$C1414),$C$61:$C$1687,0)),\"\")","v":"Reedyford Health Care Group NW)"}]
["Padiham Group Practice NW)",1,{"$f":"IF(B1415=1,COUNTIF($B$61:$B1415,1),\"\")","v":1355},{"$f":"IFERROR(INDEX($A$61:$A$1687,MATCH(ROWS($C$61:$C1415),$C$61:$C$1687,0)),\"\")","v":"Padiham Group Practice NW)"}]
["Upwell Health Centre EoE)",1,{"$f":"IF(B1416=1,COUNTIF($B$61:$B1416,1),\"\")","v":1356},{"$f":"IFERROR(INDEX($A$61:$A$1687,MATCH(ROWS($C$61:$C1416),$C$61:$C$1687,0)),\"\")","v":"Upwell Health Centre EoE)"}]
["Royton Medical Centre NW)",1,{"$f":"IF(B1417=1,COUNTIF($B$61:$B1417,1),\"\")","v":1357},{"$f":"IFERROR(INDEX($A$61:$A$1687,MATCH(ROWS($C$61:$C1417),$C$61:$C$1687,0)),\"\")","v":"Royton Medical Centre NW)"}]
["Alderley Edge Medical Practice NW)",1,{"$f":"IF(B1418=1,COUNTIF($B$61:$B1418,1),\"\")","v":1358},{"$f":"IFERROR(INDEX($A$61:$A$1687,MATCH(ROWS($C$61:$C1418),$C$61:$C$1687,0)),\"\")","v":"Alderley Edge Medical Practice NW)"}]
["Kings Lane Medical Centre NW)",1,{"$f":"IF(B1419=1,COUNTIF($B$61:$B1419,1),\"\")","v":1359},{"$f":"IFERROR(INDEX($A$61:$A$1687,MATCH(ROWS($C$61:$C1419),$C$61:$C$1687,0)),\"\")","v":"Kings Lane Medical Centre NW)"}]
["The Sides Medical Practice NW)",1,{"$f":"IF(B1420=1,COUNTIF($B$61:$B1420,1),\"\")","v":1360},{"$f":"IFERROR(INDEX($A$61:$A$1687,MATCH(ROWS($C$61:$C1420),$C$61:$C$1687,0)),\"\")","v":"The Sides Medical Practice NW)"}]
["Lever Chambers 1 NW)",1,{"$f":"IF(B1421=1,COUNTIF($B$61:$B1421,1),\"\")","v":1361},{"$f":"IFERROR(INDEX($A$61:$A$1687,MATCH(ROWS($C$61:$C1421),$C$61:$C$1687,0)),\"\")","v":"Lever Chambers 1 NW)"}]
["Fairfax Group Practice NW)",1,{"$f":"IF(B1422=1,COUNTIF($B$61:$B1422,1),\"\")","v":1362},{"$f":"IFERROR(INDEX($A$61:$A$1687,MATCH(ROWS($C$61:$C1422),$C$61:$C$1687,0)),\"\")","v":"Fairfax Group Practice NW)"}]
["Poplar Grove Practice TV)",1,{"$f":"IF(B1423=1,COUNTIF($B$61:$B1423,1),\"\")","v":1363},{"$f":"IFERROR(INDEX($A$61:$A$1687,MATCH(ROWS($C$61:$C1423),$C$61:$C$1687,0)),\"\")","v":"Poplar Grove Practice TV)"}]
["Dedworth Medical Centre TV)",1,{"$f":"IF(B1424=1,COUNTIF($B$61:$B1424,1),\"\")","v":1364},{"$f":"IFERROR(INDEX($A$61:$A$1687,MATCH(ROWS($C$61:$C1424),$C$61:$C$1687,0)),\"\")","v":"Dedworth Medical Centre TV)"}]
["Lakeside Healthcare at Oundle EoE)",1,{"$f":"IF(B1425=1,COUNTIF($B$61:$B1425,1),\"\")","v":1365},{"$f":"IFERROR(INDEX($A$61:$A$1687,MATCH(ROWS($C$61:$C1425),$C$61:$C$1687,0)),\"\")","v":"Lakeside Healthcare at Oundle EoE)"}]
["Goring & Woodcote Medical Practice TV)",1,{"$f":"IF(B1426=1,COUNTIF($B$61:$B1426,1),\"\")","v":1366},{"$f":"IFERROR(INDEX($A$61:$A$1687,MATCH(ROWS($C$61:$C1426),$C$61:$C$1687,0)),\"\")","v":"Goring & Woodcote Medical Practice TV)"}]
["EM GP's Awaiting Allocation",1,{"$f":"IF(B1427=1,COUNTIF($B$61:$B1427,1),\"\")","v":1367},{"$f":"IFERROR(INDEX($A$61:$A$1687,MATCH(ROWS($C$61:$C1427),$C$61:$C$1687,0)),\"\")","v":"EM GP's Awaiting Allocation"}]
["The Over Wyre Medical Centre NW)",1,{"$f":"IF(B1428=1,COUNTIF($B$61:$B1428,1),\"\")","v":1368},{"$f":"IFERROR(INDEX($A$61:$A$1687,MATCH(ROWS($C$61:$C1428),$C$61:$C$1687,0)),\"\")","v":"The Over Wyre Medical Centre NW)"}]
["Milton Keynes Village Surgery TV)",1,{"$f":"IF(B1429=1,COUNTIF($B$61:$B1429,1),\"\")","v":1369},{"$f":"IFERROR(INDEX($A$61:$A$1687,MATCH(ROWS($C$61:$C1429),$C$61:$C$1687,0)),\"\")","v":"Milton Keynes Village Surgery TV)"}]
["Little Chalfont Surgery TV)",1,{"$f":"IF(B1430=1,COUNTIF($B$61:$B1430,1),\"\")","v":1370},{"$f":"IFERROR(INDEX($A$61:$A$1687,MATCH(ROWS($C$61:$C1430),$C$61:$C$1687,0)),\"\")","v":"Little Chalfont Surgery TV)"}]
["The Royton & Crompton NW)",1,{"$f":"IF(B1431=1,COUNTIF($B$61:$B1431,1),\"\")","v":1371},{"$f":"IFERROR(INDEX($A$61:$A$1687,MATCH(ROWS($C$61:$C1431),$C$61:$C$1687,0)),\"\")","v":"The Royton & Crompton NW)"}]
["Priory Surgery TV)",1,{"$f":"IF(B1432=1,COUNTIF($B$61:$B1432,1),\"\")","v":1372},{"$f":"IFERROR(INDEX($A$61:$A$1687,MATCH(ROWS($C$61:$C1432),$C$61:$C$1687,0)),\"\")","v":"Priory Surgery TV)"}]
["Manor Surgery TV)",1,{"$f":"IF(B1433=1,COUNTIF($B$61:$B1433,1),\"\")","v":1373},{"$f":"IFERROR(INDEX($A$61:$A$1687,MATCH(ROWS($C$61:$C1433),$C$61:$C$1687,0)),\"\")","v":"Manor Surgery TV)"}]
["Stifford Clays Health Centre EoE)",1,{"$f":"IF(B1434=1,COUNTIF($B$61:$B1434,1),\"\")","v":1374},{"$f":"IFERROR(INDEX($A$61:$A$1687,MATCH(ROWS($C$61:$C1434),$C$61:$C$1687,0)),\"\")","v":"Stifford Clays Health Centre EoE)"}]
["The Beeches Medical Centre NW)",1,{"$f":"IF(B1435=1,COUNTIF($B$61:$B1435,1),\"\")","v":1375},{"$f":"IFERROR(INDEX($A$61:$A$1687,MATCH(ROWS($C$61:$C1435),$C$61:$C$1687,0)),\"\")","v":"The Beeches Medical Centre NW)"}]
["Wellfield Health Centre NW)",1,{"$f":"IF(B1436=1,COUNTIF($B$61:$B1436,1),\"\")","v":1376},{"$f":"IFERROR(INDEX($A$61:$A$1687,MATCH(ROWS($C$61:$C1436),$C$61:$C$1687,0)),\"\")","v":"Wellfield Health Centre NW)"}]
["Cornhill Surgery WM)",1,{"$f":"IF(B1437=1,COUNTIF($B$61:$B1437,1),\"\")","v":1377},{"$f":"IFERROR(INDEX($A$61:$A$1687,MATCH(ROWS($C$61:$C1437),$C$61:$C$1687,0)),\"\")","v":"Cornhill Surgery WM)"}]
["Roman Road Health Centre NW)",1,{"$f":"IF(B1438=1,COUNTIF($B$61:$B1438,1),\"\")","v":1378},{"$f":"IFERROR(INDEX($A$61:$A$1687,MATCH(ROWS($C$61:$C1438),$C$61:$C$1687,0)),\"\")","v":"Roman Road Health Centre NW)"}]
["The Crescent Surgery NW)",1,{"$f":"IF(B1439=1,COUNTIF($B$61:$B1439,1),\"\")","v":1379},{"$f":"IFERROR(INDEX($A$61:$A$1687,MATCH(ROWS($C$61:$C1439),$C$61:$C$1687,0)),\"\")","v":"The Crescent Surgery NW)"}]
["Kapur Family Care NW)",1,{"$f":"IF(B1440=1,COUNTIF($B$61:$B1440,1),\"\")","v":1380},{"$f":"IFERROR(INDEX($A$61:$A$1687,MATCH(ROWS($C$61:$C1440),$C$61:$C$1687,0)),\"\")","v":"Kapur Family Care NW)"}]
["The Doctors House Marlow Medical Group TV)",1,{"$f":"IF(B1441=1,COUNTIF($B$61:$B1441,1),\"\")","v":1381},{"$f":"IFERROR(INDEX($A$61:$A$1687,MATCH(ROWS($C$61:$C1441),$C$61:$C$1687,0)),\"\")","v":"The Doctors House Marlow Medical Group TV)"}]
["Oswald Medical Centre NW)",1,{"$f":"IF(B1442=1,COUNTIF($B$61:$B1442,1),\"\")","v":1382},{"$f":"IFERROR(INDEX($A$61:$A$1687,MATCH(ROWS($C$61:$C1442),$C$61:$C$1687,0)),\"\")","v":"Oswald Medical Centre NW)"}]
["Pool Medical Centre WM)",1,{"$f":"IF(B1443=1,COUNTIF($B$61:$B1443,1),\"\")","v":1383},{"$f":"IFERROR(INDEX($A$61:$A$1687,MATCH(ROWS($C$61:$C1443),$C$61:$C$1687,0)),\"\")","v":"Pool Medical Centre WM)"}]
["Ash Tree House Surgery NW)",1,{"$f":"IF(B1444=1,COUNTIF($B$61:$B1444,1),\"\")","v":1384},{"$f":"IFERROR(INDEX($A$61:$A$1687,MATCH(ROWS($C$61:$C1444),$C$61:$C$1687,0)),\"\")","v":"Ash Tree House Surgery NW)"}]
["Westongrove Partnership TV)",1,{"$f":"IF(B1445=1,COUNTIF($B$61:$B1445,1),\"\")","v":1385},{"$f":"IFERROR(INDEX($A$61:$A$1687,MATCH(ROWS($C$61:$C1445),$C$61:$C$1687,0)),\"\")","v":"Westongrove Partnership TV)"}]
["Berinsfield Health Centre TV)",1,{"$f":"IF(B1446=1,COUNTIF($B$61:$B1446,1),\"\")","v":1386},{"$f":"IFERROR(INDEX($A$61:$A$1687,MATCH(ROWS($C$61:$C1446),$C$61:$C$1687,0)),\"\")","v":"Berinsfield Health Centre TV)"}]
["Library House Surgery NW)",1,{"$f":"IF(B1447=1,COUNTIF($B$61:$B1447,1),\"\")","v":1387},{"$f":"IFERROR(INDEX($A$61:$A$1687,MATCH(ROWS($C$61:$C1447),$C$61:$C$1687,0)),\"\")","v":"Library House Surgery NW)"}]
["The Ryan Medical Centre NW)",1,{"$f":"IF(B1448=1,COUNTIF($B$61:$B1448,1),\"\")","v":1388},{"$f":"IFERROR(INDEX($A$61:$A$1687,MATCH(ROWS($C$61:$C1448),$C$61:$C$1687,0)),\"\")","v":"The Ryan Medical Centre NW)"}]
["Standish Medical Practice NW)",1,{"$f":"IF(B1449=1,COUNTIF($B$61:$B1449,1),\"\")","v":1389},{"$f":"IFERROR(INDEX($A$61:$A$1687,MATCH(ROWS($C$61:$C1449),$C$61:$C$1687,0)),\"\")","v":"Standish Medical Practice NW)"}]
["Hazeldene Medical Centre NW)",1,{"$f":"IF(B1450=1,COUNTIF($B$61:$B1450,1),\"\")","v":1390},{"$f":"IFERROR(INDEX($A$61:$A$1687,MATCH(ROWS($C$61:$C1450),$C$61:$C$1687,0)),\"\")","v":"Hazeldene Medical Centre NW)"}]
["Rectory Meadow Surgery TV)",1,{"$f":"IF(B1451=1,COUNTIF($B$61:$B1451,1),\"\")","v":1391},{"$f":"IFERROR(INDEX($A$61:$A$1687,MATCH(ROWS($C$61:$C1451),$C$61:$C$1687,0)),\"\")","v":"Rectory Meadow Surgery TV)"}]
["Beechwood Surgery EoE)",1,{"$f":"IF(B1452=1,COUNTIF($B$61:$B1452,1),\"\")","v":1392},{"$f":"IFERROR(INDEX($A$61:$A$1687,MATCH(ROWS($C$61:$C1452),$C$61:$C$1687,0)),\"\")","v":"Beechwood Surgery EoE)"}]
["Cornishway Group Practice NW)",1,{"$f":"IF(B1453=1,COUNTIF($B$61:$B1453,1),\"\")","v":1393},{"$f":"IFERROR(INDEX($A$61:$A$1687,MATCH(ROWS($C$61:$C1453),$C$61:$C$1687,0)),\"\")","v":"Cornishway Group Practice NW)"}]
["HEE NW Sports & Medicine",1,{"$f":"IF(B1454=1,COUNTIF($B$61:$B1454,1),\"\")","v":1394},{"$f":"IFERROR(INDEX($A$61:$A$1687,MATCH(ROWS($C$61:$C1454),$C$61:$C$1687,0)),\"\")","v":"HEE NW Sports & Medicine"}]
["Barlow Medical Centre NW)",1,{"$f":"IF(B1455=1,COUNTIF($B$61:$B1455,1),\"\")","v":1395},{"$f":"IFERROR(INDEX($A$61:$A$1687,MATCH(ROWS($C$61:$C1455),$C$61:$C$1687,0)),\"\")","v":"Barlow Medical Centre NW)"}]
["Hall Green Surgery NW)",1,{"$f":"IF(B1456=1,COUNTIF($B$61:$B1456,1),\"\")","v":1396},{"$f":"IFERROR(INDEX($A$61:$A$1687,MATCH(ROWS($C$61:$C1456),$C$61:$C$1687,0)),\"\")","v":"Hall Green Surgery NW)"}]
["The Allen Practice TV)",1,{"$f":"IF(B1457=1,COUNTIF($B$61:$B1457,1),\"\")","v":1397},{"$f":"IFERROR(INDEX($A$61:$A$1687,MATCH(ROWS($C$61:$C1457),$C$61:$C$1687,0)),\"\")","v":"The Allen Practice TV)"}]
["Park View Surgery NW)",1,{"$f":"IF(B1458=1,COUNTIF($B$61:$B1458,1),\"\")","v":1398},{"$f":"IFERROR(INDEX($A$61:$A$1687,MATCH(ROWS($C$61:$C1458),$C$61:$C$1687,0)),\"\")","v":"Park View Surgery NW)"}]
["Old Exchange Surgery EoE)",1,{"$f":"IF(B1459=1,COUNTIF($B$61:$B1459,1),\"\")","v":1399},{"$f":"IFERROR(INDEX($A$61:$A$1687,MATCH(ROWS($C$61:$C1459),$C$61:$C$1687,0)),\"\")","v":"Old Exchange Surgery EoE)"}]
["Peel Hall Medical Practice NW)",1,{"$f":"IF(B1460=1,COUNTIF($B$61:$B1460,1),\"\")","v":1400},{"$f":"IFERROR(INDEX($A$61:$A$1687,MATCH(ROWS($C$61:$C1460),$C$61:$C$1687,0)),\"\")","v":"Peel Hall Medical Practice NW)"}]
["Trinity Hospice LaSE)",1,{"$f":"IF(B1461=1,COUNTIF($B$61:$B1461,1),\"\")","v":1401},{"$f":"IFERROR(INDEX($A$61:$A$1687,MATCH(ROWS($C$61:$C1461),$C$61:$C$1687,0)),\"\")","v":"Trinity Hospice LaSE)"}]
["Chipping Norton Health Centre TV)",1,{"$f":"IF(B1462=1,COUNTIF($B$61:$B1462,1),\"\")","v":1402},{"$f":"IFERROR(INDEX($A$61:$A$1687,MATCH(ROWS($C$61:$C1462),$C$61:$C$1687,0)),\"\")","v":"Chipping Norton Health Centre TV)"}]
["Issa Medical Centre - Patel NW)",1,{"$f":"IF(B1463=1,COUNTIF($B$61:$B1463,1),\"\")","v":1403},{"$f":"IFERROR(INDEX($A$61:$A$1687,MATCH(ROWS($C$61:$C1463),$C$61:$C$1687,0)),\"\")","v":"Issa Medical Centre - Patel NW)"}]
["Riverside Surgery TV)",1,{"$f":"IF(B1464=1,COUNTIF($B$61:$B1464,1),\"\")","v":1404},{"$f":"IFERROR(INDEX($A$61:$A$1687,MATCH(ROWS($C$61:$C1464),$C$61:$C$1687,0)),\"\")","v":"Riverside Surgery TV)"}]
["The Royal Marsden NHS Foundation Trust LaSE)",1,{"$f":"IF(B1465=1,COUNTIF($B$61:$B1465,1),\"\")","v":1405},{"$f":"IFERROR(INDEX($A$61:$A$1687,MATCH(ROWS($C$61:$C1465),$C$61:$C$1687,0)),\"\")","v":"The Royal Marsden NHS Foundation Trust LaSE)"}]
["DIT Collaborative Bank",1,{"$f":"IF(B1466=1,COUNTIF($B$61:$B1466,1),\"\")","v":1406},{"$f":"IFERROR(INDEX($A$61:$A$1687,MATCH(ROWS($C$61:$C1466),$C$61:$C$1687,0)),\"\")","v":"DIT Collaborative Bank"}]
["Bartlemas Surgery TV)",1,{"$f":"IF(B1467=1,COUNTIF($B$61:$B1467,1),\"\")","v":1407},{"$f":"IFERROR(INDEX($A$61:$A$1687,MATCH(ROWS($C$61:$C1467),$C$61:$C$1687,0)),\"\")","v":"Bartlemas Surgery TV)"}]
["1/Monton Medical Practice NW)",1,{"$f":"IF(B1468=1,COUNTIF($B$61:$B1468,1),\"\")","v":1408},{"$f":"IFERROR(INDEX($A$61:$A$1687,MATCH(ROWS($C$61:$C1468),$C$61:$C$1687,0)),\"\")","v":"1/Monton Medical Practice NW)"}]
["Darwin Medical Centre WM)",1,{"$f":"IF(B1469=1,COUNTIF($B$61:$B1469,1),\"\")","v":1409},{"$f":"IFERROR(INDEX($A$61:$A$1687,MATCH(ROWS($C$61:$C1469),$C$61:$C$1687,0)),\"\")","v":"Darwin Medical Centre WM)"}]
["Southend Medical Centre EoE)",{"$f":"--ISNUMBER(SEARCH($F$15,A1470))","v":1},{"$f":"IF(B1470=1,COUNTIF($B$61:$B1470,1),\"\")","v":1410},{"$f":"IFERROR(INDEX($A$61:$A$1687,MATCH(ROWS($C$61:$C1470),$C$61:$C$1687,0)),\"\")","v":"Southend Medical Centre EoE)"}]
["Observatory Medical Practice TV)",1,{"$f":"IF(B1471=1,COUNTIF($B$61:$B1471,1),\"\")","v":1411},{"$f":"IFERROR(INDEX($A$61:$A$1687,MATCH(ROWS($C$61:$C1471),$C$61:$C$1687,0)),\"\")","v":"Observatory Medical Practice TV)"}]
["Marcham Road Family Health Centre TV)",1,{"$f":"IF(B1472=1,COUNTIF($B$61:$B1472,1),\"\")","v":1412},{"$f":"IFERROR(INDEX($A$61:$A$1687,MATCH(ROWS($C$61:$C1472),$C$61:$C$1687,0)),\"\")","v":"Marcham Road Family Health Centre TV)"}]
["Village Surgery NW)",1,{"$f":"IF(B1473=1,COUNTIF($B$61:$B1473,1),\"\")","v":1413},{"$f":"IFERROR(INDEX($A$61:$A$1687,MATCH(ROWS($C$61:$C1473),$C$61:$C$1687,0)),\"\")","v":"Village Surgery NW)"}]
["Cottage Lane Surgery NW)",1,{"$f":"IF(B1474=1,COUNTIF($B$61:$B1474,1),\"\")","v":1414},{"$f":"IFERROR(INDEX($A$61:$A$1687,MATCH(ROWS($C$61:$C1474),$C$61:$C$1687,0)),\"\")","v":"Cottage Lane Surgery NW)"}]
["Failsworth Group Practice NW)",1,{"$f":"IF(B1475=1,COUNTIF($B$61:$B1475,1),\"\")","v":1415},{"$f":"IFERROR(INDEX($A$61:$A$1687,MATCH(ROWS($C$61:$C1475),$C$61:$C$1687,0)),\"\")","v":"Failsworth Group Practice NW)"}]
["Laurie Pike Health Centre WM)",1,{"$f":"IF(B1476=1,COUNTIF($B$61:$B1476,1),\"\")","v":1416},{"$f":"IFERROR(INDEX($A$61:$A$1687,MATCH(ROWS($C$61:$C1476),$C$61:$C$1687,0)),\"\")","v":"Laurie Pike Health Centre WM)"}]
["Summertown Health Centre TV)",1,{"$f":"IF(B1477=1,COUNTIF($B$61:$B1477,1),\"\")","v":1417},{"$f":"IFERROR(INDEX($A$61:$A$1687,MATCH(ROWS($C$61:$C1477),$C$61:$C$1687,0)),\"\")","v":"Summertown Health Centre TV)"}]
["St. Clement's Surgery TV)",1,{"$f":"IF(B1478=1,COUNTIF($B$61:$B1478,1),\"\")","v":1418},{"$f":"IFERROR(INDEX($A$61:$A$1687,MATCH(ROWS($C$61:$C1478),$C$61:$C$1687,0)),\"\")","v":"St. Clement's Surgery TV)"}]
["Windrush Medical Practice TV)",1,{"$f":"IF(B1479=1,COUNTIF($B$61:$B1479,1),\"\")","v":1419},{"$f":"IFERROR(INDEX($A$61:$A$1687,MATCH(ROWS($C$61:$C1479),$C$61:$C$1687,0)),\"\")","v":"Windrush Medical Practice TV)"}]
["Central & NW London NHS Foundation Trust LaSE)",1,{"$f":"IF(B1480=1,COUNTIF($B$61:$B1480,1),\"\")","v":1420},{"$f":"IFERROR(INDEX($A$61:$A$1687,MATCH(ROWS($C$61:$C1480),$C$61:$C$1687,0)),\"\")","v":"Central & NW London NHS Foundation Trust LaSE)"}]
["Alexandra Practice NW)",1,{"$f":"IF(B1481=1,COUNTIF($B$61:$B1481,1),\"\")","v":1421},{"$f":"IFERROR(INDEX($A$61:$A$1687,MATCH(ROWS($C$61:$C1481),$C$61:$C$1687,0)),\"\")","v":"Alexandra Practice NW)"}]
["Gordon Street Medical Centre NW)",1,{"$f":"IF(B1482=1,COUNTIF($B$61:$B1482,1),\"\")","v":1422},{"$f":"IFERROR(INDEX($A$61:$A$1687,MATCH(ROWS($C$61:$C1482),$C$61:$C$1687,0)),\"\")","v":"Gordon Street Medical Centre NW)"}]
["Central Milton Keynes Medical Centre TV)",1,{"$f":"IF(B1483=1,COUNTIF($B$61:$B1483,1),\"\")","v":1423},{"$f":"IFERROR(INDEX($A$61:$A$1687,MATCH(ROWS($C$61:$C1483),$C$61:$C$1687,0)),\"\")","v":"Central Milton Keynes Medical Centre TV)"}]
["The Colne Practice EoE)",1,{"$f":"IF(B1484=1,COUNTIF($B$61:$B1484,1),\"\")","v":1424},{"$f":"IFERROR(INDEX($A$61:$A$1687,MATCH(ROWS($C$61:$C1484),$C$61:$C$1687,0)),\"\")","v":"The Colne Practice EoE)"}]
["Central Hertfordshire VTS",1,{"$f":"IF(B1485=1,COUNTIF($B$61:$B1485,1),\"\")","v":1425},{"$f":"IFERROR(INDEX($A$61:$A$1687,MATCH(ROWS($C$61:$C1485),$C$61:$C$1687,0)),\"\")","v":"Central Hertfordshire VTS"}]
["Bedford House Medical Centre NW)",1,{"$f":"IF(B1486=1,COUNTIF($B$61:$B1486,1),\"\")","v":1426},{"$f":"IFERROR(INDEX($A$61:$A$1687,MATCH(ROWS($C$61:$C1486),$C$61:$C$1687,0)),\"\")","v":"Bedford House Medical Centre NW)"}]
["Northern Moor Medical Practice NW)",1,{"$f":"IF(B1487=1,COUNTIF($B$61:$B1487,1),\"\")","v":1427},{"$f":"IFERROR(INDEX($A$61:$A$1687,MATCH(ROWS($C$61:$C1487),$C$61:$C$1687,0)),\"\")","v":"Northern Moor Medical Practice NW)"}]
["Lance Lane Medical Centre NW)",1,{"$f":"IF(B1488=1,COUNTIF($B$61:$B1488,1),\"\")","v":1428},{"$f":"IFERROR(INDEX($A$61:$A$1687,MATCH(ROWS($C$61:$C1488),$C$61:$C$1687,0)),\"\")","v":"Lance Lane Medical Centre NW)"}]
["Delamere Medical Practice NW)",1,{"$f":"IF(B1489=1,COUNTIF($B$61:$B1489,1),\"\")","v":1429},{"$f":"IFERROR(INDEX($A$61:$A$1687,MATCH(ROWS($C$61:$C1489),$C$61:$C$1687,0)),\"\")","v":"Delamere Medical Practice NW)"}]
["Gateacre Brow Surgery NW)",1,{"$f":"IF(B1490=1,COUNTIF($B$61:$B1490,1),\"\")","v":1430},{"$f":"IFERROR(INDEX($A$61:$A$1687,MATCH(ROWS($C$61:$C1490),$C$61:$C$1687,0)),\"\")","v":"Gateacre Brow Surgery NW)"}]
["Clayton Medical Centre NW)",1,{"$f":"IF(B1491=1,COUNTIF($B$61:$B1491,1),\"\")","v":1431},{"$f":"IFERROR(INDEX($A$61:$A$1687,MATCH(ROWS($C$61:$C1491),$C$61:$C$1687,0)),\"\")","v":"Clayton Medical Centre NW)"}]
["Irwell Medical Practice NW)",1,{"$f":"IF(B1492=1,COUNTIF($B$61:$B1492,1),\"\")","v":1432},{"$f":"IFERROR(INDEX($A$61:$A$1687,MATCH(ROWS($C$61:$C1492),$C$61:$C$1687,0)),\"\")","v":"Irwell Medical Practice NW)"}]
["Lunesdale Surgery NW)",1,{"$f":"IF(B1493=1,COUNTIF($B$61:$B1493,1),\"\")","v":1433},{"$f":"IFERROR(INDEX($A$61:$A$1687,MATCH(ROWS($C$61:$C1493),$C$61:$C$1687,0)),\"\")","v":"Lunesdale Surgery NW)"}]
["AVM HEE East Midlands",1,{"$f":"IF(B1494=1,COUNTIF($B$61:$B1494,1),\"\")","v":1434},{"$f":"IFERROR(INDEX($A$61:$A$1687,MATCH(ROWS($C$61:$C1494),$C$61:$C$1687,0)),\"\")","v":"AVM HEE East Midlands"}]
["Hedena Health TV)",1,{"$f":"IF(B1495=1,COUNTIF($B$61:$B1495,1),\"\")","v":1435},{"$f":"IFERROR(INDEX($A$61:$A$1687,MATCH(ROWS($C$61:$C1495),$C$61:$C$1687,0)),\"\")","v":"Hedena Health TV)"}]
["Hulme Hall Medical Group NW)",1,{"$f":"IF(B1496=1,COUNTIF($B$61:$B1496,1),\"\")","v":1436},{"$f":"IFERROR(INDEX($A$61:$A$1687,MATCH(ROWS($C$61:$C1496),$C$61:$C$1687,0)),\"\")","v":"Hulme Hall Medical Group NW)"}]
["The Red House Surgery TV)",1,{"$f":"IF(B1497=1,COUNTIF($B$61:$B1497,1),\"\")","v":1437},{"$f":"IFERROR(INDEX($A$61:$A$1687,MATCH(ROWS($C$61:$C1497),$C$61:$C$1687,0)),\"\")","v":"The Red House Surgery TV)"}]
["The Health Centre Holmes Chapel NW)",1,{"$f":"IF(B1498=1,COUNTIF($B$61:$B1498,1),\"\")","v":1438},{"$f":"IFERROR(INDEX($A$61:$A$1687,MATCH(ROWS($C$61:$C1498),$C$61:$C$1687,0)),\"\")","v":"The Health Centre Holmes Chapel NW)"}]
["Gosford Hill Medical Centre TV)",1,{"$f":"IF(B1499=1,COUNTIF($B$61:$B1499,1),\"\")","v":1439},{"$f":"IFERROR(INDEX($A$61:$A$1687,MATCH(ROWS($C$61:$C1499),$C$61:$C$1687,0)),\"\")","v":"Gosford Hill Medical Centre TV)"}]
["Lister Medical Centre EoE)",1,{"$f":"IF(B1500=1,COUNTIF($B$61:$B1500,1),\"\")","v":1440},{"$f":"IFERROR(INDEX($A$61:$A$1687,MATCH(ROWS($C$61:$C1500),$C$61:$C$1687,0)),\"\")","v":"Lister Medical Centre EoE)"}]
["Churchfields Surgery WM)",1,{"$f":"IF(B1501=1,COUNTIF($B$61:$B1501,1),\"\")","v":1441},{"$f":"IFERROR(INDEX($A$61:$A$1687,MATCH(ROWS($C$61:$C1501),$C$61:$C$1687,0)),\"\")","v":"Churchfields Surgery WM)"}]
["Eden Hall Hospice LaSE)",1,{"$f":"IF(B1502=1,COUNTIF($B$61:$B1502,1),\"\")","v":1442},{"$f":"IFERROR(INDEX($A$61:$A$1687,MATCH(ROWS($C$61:$C1502),$C$61:$C$1687,0)),\"\")","v":"Eden Hall Hospice LaSE)"}]
["Phyllis Tuckwell Hospice LaSE)",1,{"$f":"IF(B1503=1,COUNTIF($B$61:$B1503,1),\"\")","v":1443},{"$f":"IFERROR(INDEX($A$61:$A$1687,MATCH(ROWS($C$61:$C1503),$C$61:$C$1687,0)),\"\")","v":"Phyllis Tuckwell Hospice LaSE)"}]
["Pennygate Medical Centre NW)",1,{"$f":"IF(B1504=1,COUNTIF($B$61:$B1504,1),\"\")","v":1444},{"$f":"IFERROR(INDEX($A$61:$A$1687,MATCH(ROWS($C$61:$C1504),$C$61:$C$1687,0)),\"\")","v":"Pennygate Medical Centre NW)"}]
["Newton Community Hospital Practice NW)",1,{"$f":"IF(B1505=1,COUNTIF($B$61:$B1505,1),\"\")","v":1445},{"$f":"IFERROR(INDEX($A$61:$A$1687,MATCH(ROWS($C$61:$C1505),$C$61:$C$1687,0)),\"\")","v":"Newton Community Hospital Practice NW)"}]
["Trent Meadows WM)",1,{"$f":"IF(B1506=1,COUNTIF($B$61:$B1506,1),\"\")","v":1446},{"$f":"IFERROR(INDEX($A$61:$A$1687,MATCH(ROWS($C$61:$C1506),$C$61:$C$1687,0)),\"\")","v":"Trent Meadows WM)"}]
["The Ingham Practice EM)",1,{"$f":"IF(B1507=1,COUNTIF($B$61:$B1507,1),\"\")","v":1447},{"$f":"IFERROR(INDEX($A$61:$A$1687,MATCH(ROWS($C$61:$C1507),$C$61:$C$1687,0)),\"\")","v":"The Ingham Practice EM)"}]
["Hughenden Valley Surgery TV)",1,{"$f":"IF(B1508=1,COUNTIF($B$61:$B1508,1),\"\")","v":1448},{"$f":"IFERROR(INDEX($A$61:$A$1687,MATCH(ROWS($C$61:$C1508),$C$61:$C$1687,0)),\"\")","v":"Hughenden Valley Surgery TV)"}]
["Orford Lodge Surgery EoE)",1,{"$f":"IF(B1509=1,COUNTIF($B$61:$B1509,1),\"\")","v":1449},{"$f":"IFERROR(INDEX($A$61:$A$1687,MATCH(ROWS($C$61:$C1509),$C$61:$C$1687,0)),\"\")","v":"Orford Lodge Surgery EoE)"}]
["Fernbank Surgery NW)",1,{"$f":"IF(B1510=1,COUNTIF($B$61:$B1510,1),\"\")","v":1450},{"$f":"IFERROR(INDEX($A$61:$A$1687,MATCH(ROWS($C$61:$C1510),$C$61:$C$1687,0)),\"\")","v":"Fernbank Surgery NW)"}]
["Washway Road Medical Centre NW)",1,{"$f":"IF(B1511=1,COUNTIF($B$61:$B1511,1),\"\")","v":1451},{"$f":"IFERROR(INDEX($A$61:$A$1687,MATCH(ROWS($C$61:$C1511),$C$61:$C$1687,0)),\"\")","v":"Washway Road Medical Centre NW)"}]
["Boundary House Medical Centre NW)",1,{"$f":"IF(B1512=1,COUNTIF($B$61:$B1512,1),\"\")","v":1452},{"$f":"IFERROR(INDEX($A$61:$A$1687,MATCH(ROWS($C$61:$C1512),$C$61:$C$1687,0)),\"\")","v":"Boundary House Medical Centre NW)"}]
["Cheadle Hulme Health Centre NW)",1,{"$f":"IF(B1513=1,COUNTIF($B$61:$B1513,1),\"\")","v":1453},{"$f":"IFERROR(INDEX($A$61:$A$1687,MATCH(ROWS($C$61:$C1513),$C$61:$C$1687,0)),\"\")","v":"Cheadle Hulme Health Centre NW)"}]
["Haydock Medical Centre NW)",1,{"$f":"IF(B1514=1,COUNTIF($B$61:$B1514,1),\"\")","v":1454},{"$f":"IFERROR(INDEX($A$61:$A$1687,MATCH(ROWS($C$61:$C1514),$C$61:$C$1687,0)),\"\")","v":"Haydock Medical Centre NW)"}]
["Crocus Medical Practice EoE)",1,{"$f":"IF(B1515=1,COUNTIF($B$61:$B1515,1),\"\")","v":1455},{"$f":"IFERROR(INDEX($A$61:$A$1687,MATCH(ROWS($C$61:$C1515),$C$61:$C$1687,0)),\"\")","v":"Crocus Medical Practice EoE)"}]
["Walnut Tree Health Centre TV)",1,{"$f":"IF(B1516=1,COUNTIF($B$61:$B1516,1),\"\")","v":1456},{"$f":"IFERROR(INDEX($A$61:$A$1687,MATCH(ROWS($C$61:$C1516),$C$61:$C$1687,0)),\"\")","v":"Walnut Tree Health Centre TV)"}]
["Lambgates Health Centre NW)",1,{"$f":"IF(B1517=1,COUNTIF($B$61:$B1517,1),\"\")","v":1457},{"$f":"IFERROR(INDEX($A$61:$A$1687,MATCH(ROWS($C$61:$C1517),$C$61:$C$1687,0)),\"\")","v":"Lambgates Health Centre NW)"}]
["Dalton TM Chandler House NW)",1,{"$f":"IF(B1518=1,COUNTIF($B$61:$B1518,1),\"\")","v":1458},{"$f":"IFERROR(INDEX($A$61:$A$1687,MATCH(ROWS($C$61:$C1518),$C$61:$C$1687,0)),\"\")","v":"Dalton TM Chandler House NW)"}]
["Hall Street Medical Centre NW)",1,{"$f":"IF(B1519=1,COUNTIF($B$61:$B1519,1),\"\")","v":1459},{"$f":"IFERROR(INDEX($A$61:$A$1687,MATCH(ROWS($C$61:$C1519),$C$61:$C$1687,0)),\"\")","v":"Hall Street Medical Centre NW)"}]
["Burdwood Surgery TV)",1,{"$f":"IF(B1520=1,COUNTIF($B$61:$B1520,1),\"\")","v":1460},{"$f":"IFERROR(INDEX($A$61:$A$1687,MATCH(ROWS($C$61:$C1520),$C$61:$C$1687,0)),\"\")","v":"Burdwood Surgery TV)"}]
["Villa Medical Centre NW)",1,{"$f":"IF(B1521=1,COUNTIF($B$61:$B1521,1),\"\")","v":1461},{"$f":"IFERROR(INDEX($A$61:$A$1687,MATCH(ROWS($C$61:$C1521),$C$61:$C$1687,0)),\"\")","v":"Villa Medical Centre NW)"}]
["The Hall Practice TV)",1,{"$f":"IF(B1522=1,COUNTIF($B$61:$B1522,1),\"\")","v":1462},{"$f":"IFERROR(INDEX($A$61:$A$1687,MATCH(ROWS($C$61:$C1522),$C$61:$C$1687,0)),\"\")","v":"The Hall Practice TV)"}]
["Staveleigh Medical Centre NW)",1,{"$f":"IF(B1523=1,COUNTIF($B$61:$B1523,1),\"\")","v":1463},{"$f":"IFERROR(INDEX($A$61:$A$1687,MATCH(ROWS($C$61:$C1523),$C$61:$C$1687,0)),\"\")","v":"Staveleigh Medical Centre NW)"}]
["The New Hall Lane Practice NW)",1,{"$f":"IF(B1524=1,COUNTIF($B$61:$B1524,1),\"\")","v":1464},{"$f":"IFERROR(INDEX($A$61:$A$1687,MATCH(ROWS($C$61:$C1524),$C$61:$C$1687,0)),\"\")","v":"The New Hall Lane Practice NW)"}]
["Five Oaks Family Practice NW)",1,{"$f":"IF(B1525=1,COUNTIF($B$61:$B1525,1),\"\")","v":1465},{"$f":"IFERROR(INDEX($A$61:$A$1687,MATCH(ROWS($C$61:$C1525),$C$61:$C$1687,0)),\"\")","v":"Five Oaks Family Practice NW)"}]
["Guy's & St Thomas' NHS Foundation Trust LaSE)",1,{"$f":"IF(B1526=1,COUNTIF($B$61:$B1526,1),\"\")","v":1466},{"$f":"IFERROR(INDEX($A$61:$A$1687,MATCH(ROWS($C$61:$C1526),$C$61:$C$1687,0)),\"\")","v":"Guy's & St Thomas' NHS Foundation Trust LaSE)"}]
["Swallowfield Medical Practice TV)",1,{"$f":"IF(B1527=1,COUNTIF($B$61:$B1527,1),\"\")","v":1467},{"$f":"IFERROR(INDEX($A$61:$A$1687,MATCH(ROWS($C$61:$C1527),$C$61:$C$1687,0)),\"\")","v":"Swallowfield Medical Practice TV)"}]
["Chelsea & Westminister Hospital NHS Trust LaSE)",1,{"$f":"IF(B1528=1,COUNTIF($B$61:$B1528,1),\"\")","v":1468},{"$f":"IFERROR(INDEX($A$61:$A$1687,MATCH(ROWS($C$61:$C1528),$C$61:$C$1687,0)),\"\")","v":"Chelsea & Westminister Hospital NHS Trust LaSE)"}]
["St Johns Medical Centre NW)",1,{"$f":"IF(B1529=1,COUNTIF($B$61:$B1529,1),\"\")","v":1469},{"$f":"IFERROR(INDEX($A$61:$A$1687,MATCH(ROWS($C$61:$C1529),$C$61:$C$1687,0)),\"\")","v":"St Johns Medical Centre NW)"}]
["Dr JL Henderson & Partners TV)",1,{"$f":"IF(B1530=1,COUNTIF($B$61:$B1530,1),\"\")","v":1470},{"$f":"IFERROR(INDEX($A$61:$A$1687,MATCH(ROWS($C$61:$C1530),$C$61:$C$1687,0)),\"\")","v":"Dr JL Henderson & Partners TV)"}]
["Sam Beare Hospice LaSE)",1,{"$f":"IF(B1531=1,COUNTIF($B$61:$B1531,1),\"\")","v":1471},{"$f":"IFERROR(INDEX($A$61:$A$1687,MATCH(ROWS($C$61:$C1531),$C$61:$C$1687,0)),\"\")","v":"Sam Beare Hospice LaSE)"}]
["Wokingham Medical Centre TV)",1,{"$f":"IF(B1532=1,COUNTIF($B$61:$B1532,1),\"\")","v":1472},{"$f":"IFERROR(INDEX($A$61:$A$1687,MATCH(ROWS($C$61:$C1532),$C$61:$C$1687,0)),\"\")","v":"Wokingham Medical Centre TV)"}]
["Rotton Park Medical Centre WM)",1,{"$f":"IF(B1533=1,COUNTIF($B$61:$B1533,1),\"\")","v":1473},{"$f":"IFERROR(INDEX($A$61:$A$1687,MATCH(ROWS($C$61:$C1533),$C$61:$C$1687,0)),\"\")","v":"Rotton Park Medical Centre WM)"}]
["St George's University Hospitals NHS Trust LaSE)",{"$f":"--ISNUMBER(SEARCH($F$15,A1534))","v":1},{"$f":"IF(B1534=1,COUNTIF($B$61:$B1534,1),\"\")","v":1474},{"$f":"IFERROR(INDEX($A$61:$A$1687,MATCH(ROWS($C$61:$C1534),$C$61:$C$1687,0)),\"\")","v":"St George's University Hospitals NHS Trust LaSE)"}]
["Wilmslow Health Centre NW)",1,{"$f":"IF(B1535=1,COUNTIF($B$61:$B1535,1),\"\")","v":1475},{"$f":"IFERROR(INDEX($A$61:$A$1687,MATCH(ROWS($C$61:$C1535),$C$61:$C$1687,0)),\"\")","v":"Wilmslow Health Centre NW)"}]
["Rosegrove Surgery NW)",1,{"$f":"IF(B1536=1,COUNTIF($B$61:$B1536,1),\"\")","v":1476},{"$f":"IFERROR(INDEX($A$61:$A$1687,MATCH(ROWS($C$61:$C1536),$C$61:$C$1687,0)),\"\")","v":"Rosegrove Surgery NW)"}]
["Eastham Group Practice NW)",1,{"$f":"IF(B1537=1,COUNTIF($B$61:$B1537,1),\"\")","v":1477},{"$f":"IFERROR(INDEX($A$61:$A$1687,MATCH(ROWS($C$61:$C1537),$C$61:$C$1687,0)),\"\")","v":"Eastham Group Practice NW)"}]
["South Park Surgery NW)",1,{"$f":"IF(B1538=1,COUNTIF($B$61:$B1538,1),\"\")","v":1478},{"$f":"IFERROR(INDEX($A$61:$A$1687,MATCH(ROWS($C$61:$C1538),$C$61:$C$1687,0)),\"\")","v":"South Park Surgery NW)"}]
["New Road Surgery EoE)",1,{"$f":"IF(B1539=1,COUNTIF($B$61:$B1539,1),\"\")","v":1479},{"$f":"IFERROR(INDEX($A$61:$A$1687,MATCH(ROWS($C$61:$C1539),$C$61:$C$1687,0)),\"\")","v":"New Road Surgery EoE)"}]
["Bryn Cross Surgery NW)",1,{"$f":"IF(B1540=1,COUNTIF($B$61:$B1540,1),\"\")","v":1480},{"$f":"IFERROR(INDEX($A$61:$A$1687,MATCH(ROWS($C$61:$C1540),$C$61:$C$1687,0)),\"\")","v":"Bryn Cross Surgery NW)"}]
["Pendleside Medical Pract NW)",1,{"$f":"IF(B1541=1,COUNTIF($B$61:$B1541,1),\"\")","v":1481},{"$f":"IFERROR(INDEX($A$61:$A$1687,MATCH(ROWS($C$61:$C1541),$C$61:$C$1687,0)),\"\")","v":"Pendleside Medical Pract NW)"}]
["Heywood Health NW)",1,{"$f":"IF(B1542=1,COUNTIF($B$61:$B1542,1),\"\")","v":1482},{"$f":"IFERROR(INDEX($A$61:$A$1687,MATCH(ROWS($C$61:$C1542),$C$61:$C$1687,0)),\"\")","v":"Heywood Health NW)"}]
["Wargrave Surgery TV)",1,{"$f":"IF(B1543=1,COUNTIF($B$61:$B1543,1),\"\")","v":1483},{"$f":"IFERROR(INDEX($A$61:$A$1687,MATCH(ROWS($C$61:$C1543),$C$61:$C$1687,0)),\"\")","v":"Wargrave Surgery TV)"}]
["Roslea Surgery NW)",1,{"$f":"IF(B1544=1,COUNTIF($B$61:$B1544,1),\"\")","v":1484},{"$f":"IFERROR(INDEX($A$61:$A$1687,MATCH(ROWS($C$61:$C1544),$C$61:$C$1687,0)),\"\")","v":"Roslea Surgery NW)"}]
["Primrose Surgery NW)",1,{"$f":"IF(B1545=1,COUNTIF($B$61:$B1545,1),\"\")","v":1485},{"$f":"IFERROR(INDEX($A$61:$A$1687,MATCH(ROWS($C$61:$C1545),$C$61:$C$1687,0)),\"\")","v":"Primrose Surgery NW)"}]
["Readesmoor Medical Centre NW)",1,{"$f":"IF(B1546=1,COUNTIF($B$61:$B1546,1),\"\")","v":1486},{"$f":"IFERROR(INDEX($A$61:$A$1687,MATCH(ROWS($C$61:$C1546),$C$61:$C$1687,0)),\"\")","v":"Readesmoor Medical Centre NW)"}]
["Greenbank Medical Practice NW)",1,{"$f":"IF(B1547=1,COUNTIF($B$61:$B1547,1),\"\")","v":1487},{"$f":"IFERROR(INDEX($A$61:$A$1687,MATCH(ROWS($C$61:$C1547),$C$61:$C$1687,0)),\"\")","v":"Greenbank Medical Practice NW)"}]
["London North West Healthcare NHS Trust LaSE)",1,{"$f":"IF(B1548=1,COUNTIF($B$61:$B1548,1),\"\")","v":1488},{"$f":"IFERROR(INDEX($A$61:$A$1687,MATCH(ROWS($C$61:$C1548),$C$61:$C$1687,0)),\"\")","v":"London North West Healthcare NHS Trust LaSE)"}]
["Charlestown MD NW)",1,{"$f":"IF(B1549=1,COUNTIF($B$61:$B1549,1),\"\")","v":1489},{"$f":"IFERROR(INDEX($A$61:$A$1687,MATCH(ROWS($C$61:$C1549),$C$61:$C$1687,0)),\"\")","v":"Charlestown MD NW)"}]
["Benchill Medical Centre NW)",1,{"$f":"IF(B1550=1,COUNTIF($B$61:$B1550,1),\"\")","v":1490},{"$f":"IFERROR(INDEX($A$61:$A$1687,MATCH(ROWS($C$61:$C1550),$C$61:$C$1687,0)),\"\")","v":"Benchill Medical Centre NW)"}]
["Clarence Medical Centre TV)",1,{"$f":"IF(B1551=1,COUNTIF($B$61:$B1551,1),\"\")","v":1491},{"$f":"IFERROR(INDEX($A$61:$A$1687,MATCH(ROWS($C$61:$C1551),$C$61:$C$1687,0)),\"\")","v":"Clarence Medical Centre TV)"}]
["Waterhouse Surgery NW)",1,{"$f":"IF(B1552=1,COUNTIF($B$61:$B1552,1),\"\")","v":1492},{"$f":"IFERROR(INDEX($A$61:$A$1687,MATCH(ROWS($C$61:$C1552),$C$61:$C$1687,0)),\"\")","v":"Waterhouse Surgery NW)"}]
["The Manor Practice WM)",1,{"$f":"IF(B1553=1,COUNTIF($B$61:$B1553,1),\"\")","v":1493},{"$f":"IFERROR(INDEX($A$61:$A$1687,MATCH(ROWS($C$61:$C1553),$C$61:$C$1687,0)),\"\")","v":"The Manor Practice WM)"}]
["London & South East Deanery LaSE)",1,{"$f":"IF(B1554=1,COUNTIF($B$61:$B1554,1),\"\")","v":1494},{"$f":"IFERROR(INDEX($A$61:$A$1687,MATCH(ROWS($C$61:$C1554),$C$61:$C$1687,0)),\"\")","v":"London & South East Deanery LaSE)"}]
["Kings Corner Surgery TV)",1,{"$f":"IF(B1555=1,COUNTIF($B$61:$B1555,1),\"\")","v":1495},{"$f":"IFERROR(INDEX($A$61:$A$1687,MATCH(ROWS($C$61:$C1555),$C$61:$C$1687,0)),\"\")","v":"Kings Corner Surgery TV)"}]
["Captain French Lane Surgery NW)",1,{"$f":"IF(B1556=1,COUNTIF($B$61:$B1556,1),\"\")","v":1496},{"$f":"IFERROR(INDEX($A$61:$A$1687,MATCH(ROWS($C$61:$C1556),$C$61:$C$1687,0)),\"\")","v":"Captain French Lane Surgery NW)"}]
["Falkland Surgery TV)",1,{"$f":"IF(B1557=1,COUNTIF($B$61:$B1557,1),\"\")","v":1497},{"$f":"IFERROR(INDEX($A$61:$A$1687,MATCH(ROWS($C$61:$C1557),$C$61:$C$1687,0)),\"\")","v":"Falkland Surgery TV)"}]
["St. Bartholemew's Medical Centre TV)",1,{"$f":"IF(B1558=1,COUNTIF($B$61:$B1558,1),\"\")","v":1498},{"$f":"IFERROR(INDEX($A$61:$A$1687,MATCH(ROWS($C$61:$C1558),$C$61:$C$1687,0)),\"\")","v":"St. Bartholemew's Medical Centre TV)"}]
["Brookmill Medical Centre NW)",1,{"$f":"IF(B1559=1,COUNTIF($B$61:$B1559,1),\"\")","v":1499},{"$f":"IFERROR(INDEX($A$61:$A$1687,MATCH(ROWS($C$61:$C1559),$C$61:$C$1687,0)),\"\")","v":"Brookmill Medical Centre NW)"}]
["Pike View Medical Centre NW)",1,{"$f":"IF(B1560=1,COUNTIF($B$61:$B1560,1),\"\")","v":1500},{"$f":"IFERROR(INDEX($A$61:$A$1687,MATCH(ROWS($C$61:$C1560),$C$61:$C$1687,0)),\"\")","v":"Pike View Medical Centre NW)"}]
["Church View Surgery EoE)",1,{"$f":"IF(B1561=1,COUNTIF($B$61:$B1561,1),\"\")","v":1501},{"$f":"IFERROR(INDEX($A$61:$A$1687,MATCH(ROWS($C$61:$C1561),$C$61:$C$1687,0)),\"\")","v":"Church View Surgery EoE)"}]
["Bloomfield Medical Centre NW)",1,{"$f":"IF(B1562=1,COUNTIF($B$61:$B1562,1),\"\")","v":1502},{"$f":"IFERROR(INDEX($A$61:$A$1687,MATCH(ROWS($C$61:$C1562),$C$61:$C$1687,0)),\"\")","v":"Bloomfield Medical Centre NW)"}]
["Bentham Medical Practice NW)",1,{"$f":"IF(B1563=1,COUNTIF($B$61:$B1563,1),\"\")","v":1503},{"$f":"IFERROR(INDEX($A$61:$A$1687,MATCH(ROWS($C$61:$C1563),$C$61:$C$1687,0)),\"\")","v":"Bentham Medical Practice NW)"}]
["West Heath Surgery WM)",1,{"$f":"IF(B1564=1,COUNTIF($B$61:$B1564,1),\"\")","v":1504},{"$f":"IFERROR(INDEX($A$61:$A$1687,MATCH(ROWS($C$61:$C1564),$C$61:$C$1687,0)),\"\")","v":"West Heath Surgery WM)"}]
["The Pendle Medical Partnership NW)",1,{"$f":"IF(B1565=1,COUNTIF($B$61:$B1565,1),\"\")","v":1505},{"$f":"IFERROR(INDEX($A$61:$A$1687,MATCH(ROWS($C$61:$C1565),$C$61:$C$1687,0)),\"\")","v":"The Pendle Medical Partnership NW)"}]
["Miscellaneous Recharges HENW",1,{"$f":"IF(B1566=1,COUNTIF($B$61:$B1566,1),\"\")","v":1506},{"$f":"IFERROR(INDEX($A$61:$A$1687,MATCH(ROWS($C$61:$C1566),$C$61:$C$1687,0)),\"\")","v":"Miscellaneous Recharges HENW"}]
["Framfield Surgery EoE)",1,{"$f":"IF(B1567=1,COUNTIF($B$61:$B1567,1),\"\")","v":1507},{"$f":"IFERROR(INDEX($A$61:$A$1687,MATCH(ROWS($C$61:$C1567),$C$61:$C$1687,0)),\"\")","v":"Framfield Surgery EoE)"}]
["Barts Health NHS Trust LaSE)",1,{"$f":"IF(B1568=1,COUNTIF($B$61:$B1568,1),\"\")","v":1508},{"$f":"IFERROR(INDEX($A$61:$A$1687,MATCH(ROWS($C$61:$C1568),$C$61:$C$1687,0)),\"\")","v":"Barts Health NHS Trust LaSE)"}]
["Whalley Medical Centre NW)",1,{"$f":"IF(B1569=1,COUNTIF($B$61:$B1569,1),\"\")","v":1509},{"$f":"IFERROR(INDEX($A$61:$A$1687,MATCH(ROWS($C$61:$C1569),$C$61:$C$1687,0)),\"\")","v":"Whalley Medical Centre NW)"}]
["Alchester Medical Group TV)",1,{"$f":"IF(B1570=1,COUNTIF($B$61:$B1570,1),\"\")","v":1510},{"$f":"IFERROR(INDEX($A$61:$A$1687,MATCH(ROWS($C$61:$C1570),$C$61:$C$1687,0)),\"\")","v":"Alchester Medical Group TV)"}]
["Peel House Medical Practice NW)",1,{"$f":"IF(B1571=1,COUNTIF($B$61:$B1571,1),\"\")","v":1511},{"$f":"IFERROR(INDEX($A$61:$A$1687,MATCH(ROWS($C$61:$C1571),$C$61:$C$1687,0)),\"\")","v":"Peel House Medical Practice NW)"}]
["Ailsa Craig Medical Centre NW)",1,{"$f":"IF(B1572=1,COUNTIF($B$61:$B1572,1),\"\")","v":1512},{"$f":"IFERROR(INDEX($A$61:$A$1687,MATCH(ROWS($C$61:$C1572),$C$61:$C$1687,0)),\"\")","v":"Ailsa Craig Medical Centre NW)"}]
["Water Meadow Surgery TV)",1,{"$f":"IF(B1573=1,COUNTIF($B$61:$B1573,1),\"\")","v":1513},{"$f":"IFERROR(INDEX($A$61:$A$1687,MATCH(ROWS($C$61:$C1573),$C$61:$C$1687,0)),\"\")","v":"Water Meadow Surgery TV)"}]
["Albion Medical Practice NW)",1,{"$f":"IF(B1574=1,COUNTIF($B$61:$B1574,1),\"\")","v":1514},{"$f":"IFERROR(INDEX($A$61:$A$1687,MATCH(ROWS($C$61:$C1574),$C$61:$C$1687,0)),\"\")","v":"Albion Medical Practice NW)"}]
["BG Health WM)",1,{"$f":"IF(B1575=1,COUNTIF($B$61:$B1575,1),\"\")","v":1515},{"$f":"IFERROR(INDEX($A$61:$A$1687,MATCH(ROWS($C$61:$C1575),$C$61:$C$1687,0)),\"\")","v":"BG Health WM)"}]
["The Maltings Surgery EoE)",1,{"$f":"IF(B1576=1,COUNTIF($B$61:$B1576,1),\"\")","v":1516},{"$f":"IFERROR(INDEX($A$61:$A$1687,MATCH(ROWS($C$61:$C1576),$C$61:$C$1687,0)),\"\")","v":"The Maltings Surgery EoE)"}]
["Oxford Road Medical Centre NW)",1,{"$f":"IF(B1577=1,COUNTIF($B$61:$B1577,1),\"\")","v":1517},{"$f":"IFERROR(INDEX($A$61:$A$1687,MATCH(ROWS($C$61:$C1577),$C$61:$C$1687,0)),\"\")","v":"Oxford Road Medical Centre NW)"}]
["Ulverston Health Centre Murray NW)",1,{"$f":"IF(B1578=1,COUNTIF($B$61:$B1578,1),\"\")","v":1518},{"$f":"IFERROR(INDEX($A$61:$A$1687,MATCH(ROWS($C$61:$C1578),$C$61:$C$1687,0)),\"\")","v":"Ulverston Health Centre Murray NW)"}]
["Ash Trees Surgery NW)",1,{"$f":"IF(B1579=1,COUNTIF($B$61:$B1579,1),\"\")","v":1519},{"$f":"IFERROR(INDEX($A$61:$A$1687,MATCH(ROWS($C$61:$C1579),$C$61:$C$1687,0)),\"\")","v":"Ash Trees Surgery NW)"}]
["CH Medical Practice NW)",1,{"$f":"IF(B1580=1,COUNTIF($B$61:$B1580,1),\"\")","v":1520},{"$f":"IFERROR(INDEX($A$61:$A$1687,MATCH(ROWS($C$61:$C1580),$C$61:$C$1687,0)),\"\")","v":"CH Medical Practice NW)"}]
["Gade Sugery EoE)",1,{"$f":"IF(B1581=1,COUNTIF($B$61:$B1581,1),\"\")","v":1521},{"$f":"IFERROR(INDEX($A$61:$A$1687,MATCH(ROWS($C$61:$C1581),$C$61:$C$1687,0)),\"\")","v":"Gade Sugery EoE)"}]
["University Health Group TV)",1,{"$f":"IF(B1582=1,COUNTIF($B$61:$B1582,1),\"\")","v":1522},{"$f":"IFERROR(INDEX($A$61:$A$1687,MATCH(ROWS($C$61:$C1582),$C$61:$C$1687,0)),\"\")","v":"University Health Group TV)"}]
["The Thornton Practice NW)",1,{"$f":"IF(B1583=1,COUNTIF($B$61:$B1583,1),\"\")","v":1523},{"$f":"IFERROR(INDEX($A$61:$A$1687,MATCH(ROWS($C$61:$C1583),$C$61:$C$1687,0)),\"\")","v":"The Thornton Practice NW)"}]
["Islip Surgery TV)",1,{"$f":"IF(B1584=1,COUNTIF($B$61:$B1584,1),\"\")","v":1524},{"$f":"IFERROR(INDEX($A$61:$A$1687,MATCH(ROWS($C$61:$C1584),$C$61:$C$1687,0)),\"\")","v":"Islip Surgery TV)"}]
["Tilehurst Surgery Partnership TV)",1,{"$f":"IF(B1585=1,COUNTIF($B$61:$B1585,1),\"\")","v":1525},{"$f":"IFERROR(INDEX($A$61:$A$1687,MATCH(ROWS($C$61:$C1585),$C$61:$C$1687,0)),\"\")","v":"Tilehurst Surgery Partnership TV)"}]
["King's College Hospital NHS Foundation Trust LaSE)",1,{"$f":"IF(B1586=1,COUNTIF($B$61:$B1586,1),\"\")","v":1526},{"$f":"IFERROR(INDEX($A$61:$A$1687,MATCH(ROWS($C$61:$C1586),$C$61:$C$1687,0)),\"\")","v":"King's College Hospital NHS Foundation Trust LaSE)"}]
["Cartmel Surgery NW)",1,{"$f":"IF(B1587=1,COUNTIF($B$61:$B1587,1),\"\")","v":1527},{"$f":"IFERROR(INDEX($A$61:$A$1687,MATCH(ROWS($C$61:$C1587),$C$61:$C$1687,0)),\"\")","v":"Cartmel Surgery NW)"}]
["Orchard Surgery NW)",1,{"$f":"IF(B1588=1,COUNTIF($B$61:$B1588,1),\"\")","v":1528},{"$f":"IFERROR(INDEX($A$61:$A$1687,MATCH(ROWS($C$61:$C1588),$C$61:$C$1687,0)),\"\")","v":"Orchard Surgery NW)"}]
["Leighton Road Surgery TV)",1,{"$f":"IF(B1589=1,COUNTIF($B$61:$B1589,1),\"\")","v":1529},{"$f":"IFERROR(INDEX($A$61:$A$1687,MATCH(ROWS($C$61:$C1589),$C$61:$C$1687,0)),\"\")","v":"Leighton Road Surgery TV)"}]
["St Andrew's House Surgery NW)",1,{"$f":"IF(B1590=1,COUNTIF($B$61:$B1590,1),\"\")","v":1530},{"$f":"IFERROR(INDEX($A$61:$A$1687,MATCH(ROWS($C$61:$C1590),$C$61:$C$1687,0)),\"\")","v":"St Andrew's House Surgery NW)"}]
["Sutton Hill Medical Practice WM)",1,{"$f":"IF(B1591=1,COUNTIF($B$61:$B1591,1),\"\")","v":1531},{"$f":"IFERROR(INDEX($A$61:$A$1687,MATCH(ROWS($C$61:$C1591),$C$61:$C$1687,0)),\"\")","v":"Sutton Hill Medical Practice WM)"}]
["Clarendon Medical Practice NW)",1,{"$f":"IF(B1592=1,COUNTIF($B$61:$B1592,1),\"\")","v":1532},{"$f":"IFERROR(INDEX($A$61:$A$1687,MATCH(ROWS($C$61:$C1592),$C$61:$C$1687,0)),\"\")","v":"Clarendon Medical Practice NW)"}]
["The Hollies EoE)",1,{"$f":"IF(B1593=1,COUNTIF($B$61:$B1593,1),\"\")","v":1533},{"$f":"IFERROR(INDEX($A$61:$A$1687,MATCH(ROWS($C$61:$C1593),$C$61:$C$1687,0)),\"\")","v":"The Hollies EoE)"}]
["Halliwell Surgery 3 Dr Uddin & Anwar",1,{"$f":"IF(B1594=1,COUNTIF($B$61:$B1594,1),\"\")","v":1534},{"$f":"IFERROR(INDEX($A$61:$A$1687,MATCH(ROWS($C$61:$C1594),$C$61:$C$1687,0)),\"\")","v":"Halliwell Surgery 3 Dr Uddin & Anwar"}]
["Buxton Medical Practice NW)",1,{"$f":"IF(B1595=1,COUNTIF($B$61:$B1595,1),\"\")","v":1535},{"$f":"IFERROR(INDEX($A$61:$A$1687,MATCH(ROWS($C$61:$C1595),$C$61:$C$1687,0)),\"\")","v":"Buxton Medical Practice NW)"}]
["West Point Medical Centre NW)",1,{"$f":"IF(B1596=1,COUNTIF($B$61:$B1596,1),\"\")","v":1536},{"$f":"IFERROR(INDEX($A$61:$A$1687,MATCH(ROWS($C$61:$C1596),$C$61:$C$1687,0)),\"\")","v":"West Point Medical Centre NW)"}]
["The Schoolhouse Surgery NW)",1,{"$f":"IF(B1597=1,COUNTIF($B$61:$B1597,1),\"\")","v":1537},{"$f":"IFERROR(INDEX($A$61:$A$1687,MATCH(ROWS($C$61:$C1597),$C$61:$C$1687,0)),\"\")","v":"The Schoolhouse Surgery NW)"}]
["The Willows Medical Practice NW)",{"$f":"--ISNUMBER(SEARCH($F$15,A1598))","v":1},{"$f":"IF(B1598=1,COUNTIF($B$61:$B1598,1),\"\")","v":1538},{"$f":"IFERROR(INDEX($A$61:$A$1687,MATCH(ROWS($C$61:$C1598),$C$61:$C$1687,0)),\"\")","v":"The Willows Medical Practice NW)"}]
["Burnside Surgery NW)",1,{"$f":"IF(B1599=1,COUNTIF($B$61:$B1599,1),\"\")","v":1539},{"$f":"IFERROR(INDEX($A$61:$A$1687,MATCH(ROWS($C$61:$C1599),$C$61:$C$1687,0)),\"\")","v":"Burnside Surgery NW)"}]
["The Key Medical Practice TV)",1,{"$f":"IF(B1600=1,COUNTIF($B$61:$B1600,1),\"\")","v":1540},{"$f":"IFERROR(INDEX($A$61:$A$1687,MATCH(ROWS($C$61:$C1600),$C$61:$C$1687,0)),\"\")","v":"The Key Medical Practice TV)"}]
["Halliwell Surgery 1 Dr Hendy & Rizwan",1,{"$f":"IF(B1601=1,COUNTIF($B$61:$B1601,1),\"\")","v":1541},{"$f":"IFERROR(INDEX($A$61:$A$1687,MATCH(ROWS($C$61:$C1601),$C$61:$C$1687,0)),\"\")","v":"Halliwell Surgery 1 Dr Hendy & Rizwan"}]
["Woodley Practice TV)",1,{"$f":"IF(B1602=1,COUNTIF($B$61:$B1602,1),\"\")","v":1542},{"$f":"IFERROR(INDEX($A$61:$A$1687,MATCH(ROWS($C$61:$C1602),$C$61:$C$1687,0)),\"\")","v":"Woodley Practice TV)"}]
["Thatcham Health Centre TV)",1,{"$f":"IF(B1603=1,COUNTIF($B$61:$B1603,1),\"\")","v":1543},{"$f":"IFERROR(INDEX($A$61:$A$1687,MATCH(ROWS($C$61:$C1603),$C$61:$C$1687,0)),\"\")","v":"Thatcham Health Centre TV)"}]
["Mark Street Surgery NW)",1,{"$f":"IF(B1604=1,COUNTIF($B$61:$B1604,1),\"\")","v":1544},{"$f":"IFERROR(INDEX($A$61:$A$1687,MATCH(ROWS($C$61:$C1604),$C$61:$C$1687,0)),\"\")","v":"Mark Street Surgery NW)"}]
["Montgomery House Surgery TV)",1,{"$f":"IF(B1605=1,COUNTIF($B$61:$B1605,1),\"\")","v":1545},{"$f":"IFERROR(INDEX($A$61:$A$1687,MATCH(ROWS($C$61:$C1605),$C$61:$C$1687,0)),\"\")","v":"Montgomery House Surgery TV)"}]
["Donnington Medical Partnership TV)",1,{"$f":"IF(B1606=1,COUNTIF($B$61:$B1606,1),\"\")","v":1546},{"$f":"IFERROR(INDEX($A$61:$A$1687,MATCH(ROWS($C$61:$C1606),$C$61:$C$1687,0)),\"\")","v":"Donnington Medical Partnership TV)"}]
["Heald Green Health Centre 2 NW)",1,{"$f":"IF(B1607=1,COUNTIF($B$61:$B1607,1),\"\")","v":1547},{"$f":"IFERROR(INDEX($A$61:$A$1687,MATCH(ROWS($C$61:$C1607),$C$61:$C$1687,0)),\"\")","v":"Heald Green Health Centre 2 NW)"}]
["Tower Family Healthcare NW)",1,{"$f":"IF(B1608=1,COUNTIF($B$61:$B1608,1),\"\")","v":1548},{"$f":"IFERROR(INDEX($A$61:$A$1687,MATCH(ROWS($C$61:$C1608),$C$61:$C$1687,0)),\"\")","v":"Tower Family Healthcare NW)"}]
["The Downland Practice TV)",1,{"$f":"IF(B1609=1,COUNTIF($B$61:$B1609,1),\"\")","v":1549},{"$f":"IFERROR(INDEX($A$61:$A$1687,MATCH(ROWS($C$61:$C1609),$C$61:$C$1687,0)),\"\")","v":"The Downland Practice TV)"}]
["Rushgreen Medical Centre EoE)",1,{"$f":"IF(B1610=1,COUNTIF($B$61:$B1610,1),\"\")","v":1550},{"$f":"IFERROR(INDEX($A$61:$A$1687,MATCH(ROWS($C$61:$C1610),$C$61:$C$1687,0)),\"\")","v":"Rushgreen Medical Centre EoE)"}]
["Lister House Surgery EoE)",1,{"$f":"IF(B1611=1,COUNTIF($B$61:$B1611,1),\"\")","v":1551},{"$f":"IFERROR(INDEX($A$61:$A$1687,MATCH(ROWS($C$61:$C1611),$C$61:$C$1687,0)),\"\")","v":"Lister House Surgery EoE)"}]
["Kiddrow Medical Practice NW)",1,{"$f":"IF(B1612=1,COUNTIF($B$61:$B1612,1),\"\")","v":1552},{"$f":"IFERROR(INDEX($A$61:$A$1687,MATCH(ROWS($C$61:$C1612),$C$61:$C$1687,0)),\"\")","v":"Kiddrow Medical Practice NW)"}]
["Moorside Medical Practice NW)",1,{"$f":"IF(B1613=1,COUNTIF($B$61:$B1613,1),\"\")","v":1553},{"$f":"IFERROR(INDEX($A$61:$A$1687,MATCH(ROWS($C$61:$C1613),$C$61:$C$1687,0)),\"\")","v":"Moorside Medical Practice NW)"}]
["The Grey Road Surgery NW)",1,{"$f":"IF(B1614=1,COUNTIF($B$61:$B1614,1),\"\")","v":1554},{"$f":"IFERROR(INDEX($A$61:$A$1687,MATCH(ROWS($C$61:$C1614),$C$61:$C$1687,0)),\"\")","v":"The Grey Road Surgery NW)"}]
["The Village Surgery NW)",1,{"$f":"IF(B1615=1,COUNTIF($B$61:$B1615,1),\"\")","v":1555},{"$f":"IFERROR(INDEX($A$61:$A$1687,MATCH(ROWS($C$61:$C1615),$C$61:$C$1687,0)),\"\")","v":"The Village Surgery NW)"}]
["Northenden Group Practice NW)",1,{"$f":"IF(B1616=1,COUNTIF($B$61:$B1616,1),\"\")","v":1556},{"$f":"IFERROR(INDEX($A$61:$A$1687,MATCH(ROWS($C$61:$C1616),$C$61:$C$1687,0)),\"\")","v":"Northenden Group Practice NW)"}]
["Balsall Common and Meridan Group WM)",1,{"$f":"IF(B1617=1,COUNTIF($B$61:$B1617,1),\"\")","v":1557},{"$f":"IFERROR(INDEX($A$61:$A$1687,MATCH(ROWS($C$61:$C1617),$C$61:$C$1687,0)),\"\")","v":"Balsall Common and Meridan Group WM)"}]
["Unity Health TV)",1,{"$f":"IF(B1618=1,COUNTIF($B$61:$B1618,1),\"\")","v":1558},{"$f":"IFERROR(INDEX($A$61:$A$1687,MATCH(ROWS($C$61:$C1618),$C$61:$C$1687,0)),\"\")","v":"Unity Health TV)"}]
["Tarleton Group Practice NW)",1,{"$f":"IF(B1619=1,COUNTIF($B$61:$B1619,1),\"\")","v":1559},{"$f":"IFERROR(INDEX($A$61:$A$1687,MATCH(ROWS($C$61:$C1619),$C$61:$C$1687,0)),\"\")","v":"Tarleton Group Practice NW)"}]
["Longton Health Centre NW)",1,{"$f":"IF(B1620=1,COUNTIF($B$61:$B1620,1),\"\")","v":1560},{"$f":"IFERROR(INDEX($A$61:$A$1687,MATCH(ROWS($C$61:$C1620),$C$61:$C$1687,0)),\"\")","v":"Longton Health Centre NW)"}]
["The Village Practice NW)",1,{"$f":"IF(B1621=1,COUNTIF($B$61:$B1621,1),\"\")","v":1561},{"$f":"IFERROR(INDEX($A$61:$A$1687,MATCH(ROWS($C$61:$C1621),$C$61:$C$1687,0)),\"\")","v":"The Village Practice NW)"}]
["Claremont Practice TV)",1,{"$f":"IF(B1622=1,COUNTIF($B$61:$B1622,1),\"\")","v":1562},{"$f":"IFERROR(INDEX($A$61:$A$1687,MATCH(ROWS($C$61:$C1622),$C$61:$C$1687,0)),\"\")","v":"Claremont Practice TV)"}]
["Moss Side Medical Centre NW)",1,{"$f":"IF(B1623=1,COUNTIF($B$61:$B1623,1),\"\")","v":1563},{"$f":"IFERROR(INDEX($A$61:$A$1687,MATCH(ROWS($C$61:$C1623),$C$61:$C$1687,0)),\"\")","v":"Moss Side Medical Centre NW)"}]
["Peel Croft WM)",1,{"$f":"IF(B1624=1,COUNTIF($B$61:$B1624,1),\"\")","v":1564},{"$f":"IFERROR(INDEX($A$61:$A$1687,MATCH(ROWS($C$61:$C1624),$C$61:$C$1687,0)),\"\")","v":"Peel Croft WM)"}]
["Bentham Road Health Centre NW)",1,{"$f":"IF(B1625=1,COUNTIF($B$61:$B1625,1),\"\")","v":1565},{"$f":"IFERROR(INDEX($A$61:$A$1687,MATCH(ROWS($C$61:$C1625),$C$61:$C$1687,0)),\"\")","v":"Bentham Road Health Centre NW)"}]
["The Orchard Med Practice EM)",1,{"$f":"IF(B1626=1,COUNTIF($B$61:$B1626,1),\"\")","v":1566},{"$f":"IFERROR(INDEX($A$61:$A$1687,MATCH(ROWS($C$61:$C1626),$C$61:$C$1687,0)),\"\")","v":"The Orchard Med Practice EM)"}]
["Dr Wong & Partners NW)",1,{"$f":"IF(B1627=1,COUNTIF($B$61:$B1627,1),\"\")","v":1567},{"$f":"IFERROR(INDEX($A$61:$A$1687,MATCH(ROWS($C$61:$C1627),$C$61:$C$1687,0)),\"\")","v":"Dr Wong & Partners NW)"}]
["Burnley Wood Medical Centre NW)",1,{"$f":"IF(B1628=1,COUNTIF($B$61:$B1628,1),\"\")","v":1568},{"$f":"IFERROR(INDEX($A$61:$A$1687,MATCH(ROWS($C$61:$C1628),$C$61:$C$1687,0)),\"\")","v":"Burnley Wood Medical Centre NW)"}]
["The Simpson Centre TV)",1,{"$f":"IF(B1629=1,COUNTIF($B$61:$B1629,1),\"\")","v":1569},{"$f":"IFERROR(INDEX($A$61:$A$1687,MATCH(ROWS($C$61:$C1629),$C$61:$C$1687,0)),\"\")","v":"The Simpson Centre TV)"}]
["Sorrel Bank Medical Practice NW)",1,{"$f":"IF(B1630=1,COUNTIF($B$61:$B1630,1),\"\")","v":1570},{"$f":"IFERROR(INDEX($A$61:$A$1687,MATCH(ROWS($C$61:$C1630),$C$61:$C$1687,0)),\"\")","v":"Sorrel Bank Medical Practice NW)"}]
["Theale Medical Centre TV)",1,{"$f":"IF(B1631=1,COUNTIF($B$61:$B1631,1),\"\")","v":1571},{"$f":"IFERROR(INDEX($A$61:$A$1687,MATCH(ROWS($C$61:$C1631),$C$61:$C$1687,0)),\"\")","v":"Theale Medical Centre TV)"}]
["Datchet Health Centre TV)",1,{"$f":"IF(B1632=1,COUNTIF($B$61:$B1632,1),\"\")","v":1572},{"$f":"IFERROR(INDEX($A$61:$A$1687,MATCH(ROWS($C$61:$C1632),$C$61:$C$1687,0)),\"\")","v":"Datchet Health Centre TV)"}]
["Ladybarn Group Practice NW)",1,{"$f":"IF(B1633=1,COUNTIF($B$61:$B1633,1),\"\")","v":1573},{"$f":"IFERROR(INDEX($A$61:$A$1687,MATCH(ROWS($C$61:$C1633),$C$61:$C$1687,0)),\"\")","v":"Ladybarn Group Practice NW)"}]
["St Fillans Medical Centre NW)",1,{"$f":"IF(B1634=1,COUNTIF($B$61:$B1634,1),\"\")","v":1574},{"$f":"IFERROR(INDEX($A$61:$A$1687,MATCH(ROWS($C$61:$C1634),$C$61:$C$1687,0)),\"\")","v":"St Fillans Medical Centre NW)"}]
["Crompton View Surgery NW)",1,{"$f":"IF(B1635=1,COUNTIF($B$61:$B1635,1),\"\")","v":1575},{"$f":"IFERROR(INDEX($A$61:$A$1687,MATCH(ROWS($C$61:$C1635),$C$61:$C$1687,0)),\"\")","v":"Crompton View Surgery NW)"}]
["Hollinswood Surgery WM)",1,{"$f":"IF(B1636=1,COUNTIF($B$61:$B1636,1),\"\")","v":1576},{"$f":"IFERROR(INDEX($A$61:$A$1687,MATCH(ROWS($C$61:$C1636),$C$61:$C$1687,0)),\"\")","v":"Hollinswood Surgery WM)"}]
["Staploe Medical Centre EoE)",1,{"$f":"IF(B1637=1,COUNTIF($B$61:$B1637,1),\"\")","v":1577},{"$f":"IFERROR(INDEX($A$61:$A$1687,MATCH(ROWS($C$61:$C1637),$C$61:$C$1687,0)),\"\")","v":"Staploe Medical Centre EoE)"}]
["Darwen Healthcare NW)",1,{"$f":"IF(B1638=1,COUNTIF($B$61:$B1638,1),\"\")","v":1578},{"$f":"IFERROR(INDEX($A$61:$A$1687,MATCH(ROWS($C$61:$C1638),$C$61:$C$1687,0)),\"\")","v":"Darwen Healthcare NW)"}]
["Field Road surgery WM)",1,{"$f":"IF(B1639=1,COUNTIF($B$61:$B1639,1),\"\")","v":1579},{"$f":"IFERROR(INDEX($A$61:$A$1687,MATCH(ROWS($C$61:$C1639),$C$61:$C$1687,0)),\"\")","v":"Field Road surgery WM)"}]
["Mortimer Surgery TV)",1,{"$f":"IF(B1640=1,COUNTIF($B$61:$B1640,1),\"\")","v":1580},{"$f":"IFERROR(INDEX($A$61:$A$1687,MATCH(ROWS($C$61:$C1640),$C$61:$C$1687,0)),\"\")","v":"Mortimer Surgery TV)"}]
["Radcliffe Medical Practice NW)",1,{"$f":"IF(B1641=1,COUNTIF($B$61:$B1641,1),\"\")","v":1581},{"$f":"IFERROR(INDEX($A$61:$A$1687,MATCH(ROWS($C$61:$C1641),$C$61:$C$1687,0)),\"\")","v":"Radcliffe Medical Practice NW)"}]
["Waterfoot Health Centre NW)",1,{"$f":"IF(B1642=1,COUNTIF($B$61:$B1642,1),\"\")","v":1582},{"$f":"IFERROR(INDEX($A$61:$A$1687,MATCH(ROWS($C$61:$C1642),$C$61:$C$1687,0)),\"\")","v":"Waterfoot Health Centre NW)"}]
["Hospice in the Weald LaSE)",1,{"$f":"IF(B1643=1,COUNTIF($B$61:$B1643,1),\"\")","v":1583},{"$f":"IFERROR(INDEX($A$61:$A$1687,MATCH(ROWS($C$61:$C1643),$C$61:$C$1687,0)),\"\")","v":"Hospice in the Weald LaSE)"}]
["St Andrews Medical Centre NW)",1,{"$f":"IF(B1644=1,COUNTIF($B$61:$B1644,1),\"\")","v":1584},{"$f":"IFERROR(INDEX($A$61:$A$1687,MATCH(ROWS($C$61:$C1644),$C$61:$C$1687,0)),\"\")","v":"St Andrews Medical Centre NW)"}]
["Finchampstead Practice TV)",1,{"$f":"IF(B1645=1,COUNTIF($B$61:$B1645,1),\"\")","v":1585},{"$f":"IFERROR(INDEX($A$61:$A$1687,MATCH(ROWS($C$61:$C1645),$C$61:$C$1687,0)),\"\")","v":"Finchampstead Practice TV)"}]
["Brookside Group Practice TV)",1,{"$f":"IF(B1646=1,COUNTIF($B$61:$B1646,1),\"\")","v":1586},{"$f":"IFERROR(INDEX($A$61:$A$1687,MATCH(ROWS($C$61:$C1646),$C$61:$C$1687,0)),\"\")","v":"Brookside Group Practice TV)"}]
["Hightown Surgery TV)",1,{"$f":"IF(B1647=1,COUNTIF($B$61:$B1647,1),\"\")","v":1587},{"$f":"IFERROR(INDEX($A$61:$A$1687,MATCH(ROWS($C$61:$C1647),$C$61:$C$1687,0)),\"\")","v":"Hightown Surgery TV)"}]
["Garstang Medical Practice NW)",1,{"$f":"IF(B1648=1,COUNTIF($B$61:$B1648,1),\"\")","v":1588},{"$f":"IFERROR(INDEX($A$61:$A$1687,MATCH(ROWS($C$61:$C1648),$C$61:$C$1687,0)),\"\")","v":"Garstang Medical Practice NW)"}]
["The Abingdon Surgery TV)",1,{"$f":"IF(B1649=1,COUNTIF($B$61:$B1649,1),\"\")","v":1589},{"$f":"IFERROR(INDEX($A$61:$A$1687,MATCH(ROWS($C$61:$C1649),$C$61:$C$1687,0)),\"\")","v":"The Abingdon Surgery TV)"}]
["The Chandler Surgery NW)",1,{"$f":"IF(B1650=1,COUNTIF($B$61:$B1650,1),\"\")","v":1590},{"$f":"IFERROR(INDEX($A$61:$A$1687,MATCH(ROWS($C$61:$C1650),$C$61:$C$1687,0)),\"\")","v":"The Chandler Surgery NW)"}]
["Zaman Chandler House NW)",1,{"$f":"IF(B1651=1,COUNTIF($B$61:$B1651,1),\"\")","v":1591},{"$f":"IFERROR(INDEX($A$61:$A$1687,MATCH(ROWS($C$61:$C1651),$C$61:$C$1687,0)),\"\")","v":"Zaman Chandler House NW)"}]
["Sheet Street Surgery TV)",1,{"$f":"IF(B1652=1,COUNTIF($B$61:$B1652,1),\"\")","v":1592},{"$f":"IFERROR(INDEX($A$61:$A$1687,MATCH(ROWS($C$61:$C1652),$C$61:$C$1687,0)),\"\")","v":"Sheet Street Surgery TV)"}]
["The Orchard Surgery TV)",1,{"$f":"IF(B1653=1,COUNTIF($B$61:$B1653,1),\"\")","v":1593},{"$f":"IFERROR(INDEX($A$61:$A$1687,MATCH(ROWS($C$61:$C1653),$C$61:$C$1687,0)),\"\")","v":"The Orchard Surgery TV)"}]
["St Barnabas Hospice LaSE)",1,{"$f":"IF(B1654=1,COUNTIF($B$61:$B1654,1),\"\")","v":1594},{"$f":"IFERROR(INDEX($A$61:$A$1687,MATCH(ROWS($C$61:$C1654),$C$61:$C$1687,0)),\"\")","v":"St Barnabas Hospice LaSE)"}]
["Brackley Medical Centre TV)",1,{"$f":"IF(B1655=1,COUNTIF($B$61:$B1655,1),\"\")","v":1595},{"$f":"IFERROR(INDEX($A$61:$A$1687,MATCH(ROWS($C$61:$C1655),$C$61:$C$1687,0)),\"\")","v":"Brackley Medical Centre TV)"}]
["Fernville Surgery EoE)",1,{"$f":"IF(B1656=1,COUNTIF($B$61:$B1656,1),\"\")","v":1596},{"$f":"IFERROR(INDEX($A$61:$A$1687,MATCH(ROWS($C$61:$C1656),$C$61:$C$1687,0)),\"\")","v":"Fernville Surgery EoE)"}]
["Iver Medical Centre TV)",1,{"$f":"IF(B1657=1,COUNTIF($B$61:$B1657,1),\"\")","v":1597},{"$f":"IFERROR(INDEX($A$61:$A$1687,MATCH(ROWS($C$61:$C1657),$C$61:$C$1687,0)),\"\")","v":"Iver Medical Centre TV)"}]
["Elliott Street Surgery NW)",1,{"$f":"IF(B1658=1,COUNTIF($B$61:$B1658,1),\"\")","v":1598},{"$f":"IFERROR(INDEX($A$61:$A$1687,MATCH(ROWS($C$61:$C1658),$C$61:$C$1687,0)),\"\")","v":"Elliott Street Surgery NW)"}]
["Roe Lane Surgery NW)",1,{"$f":"IF(B1659=1,COUNTIF($B$61:$B1659,1),\"\")","v":1599},{"$f":"IFERROR(INDEX($A$61:$A$1687,MATCH(ROWS($C$61:$C1659),$C$61:$C$1687,0)),\"\")","v":"Roe Lane Surgery NW)"}]
["Barnoldswick Medical Centre NW)",1,{"$f":"IF(B1660=1,COUNTIF($B$61:$B1660,1),\"\")","v":1600},{"$f":"IFERROR(INDEX($A$61:$A$1687,MATCH(ROWS($C$61:$C1660),$C$61:$C$1687,0)),\"\")","v":"Barnoldswick Medical Centre NW)"}]
["Shevington Surgery NW)",1,{"$f":"IF(B1661=1,COUNTIF($B$61:$B1661,1),\"\")","v":1601},{"$f":"IFERROR(INDEX($A$61:$A$1687,MATCH(ROWS($C$61:$C1661),$C$61:$C$1687,0)),\"\")","v":"Shevington Surgery NW)"}]
["St John's Hospice Liverpool Recharge",{"$f":"--ISNUMBER(SEARCH($F$15,A1662))","v":1},{"$f":"IF(B1662=1,COUNTIF($B$61:$B1662,1),\"\")","v":1602},{"$f":"IFERROR(INDEX($A$61:$A$1687,MATCH(ROWS($C$61:$C1662),$C$61:$C$1687,0)),\"\")","v":"St John's Hospice Liverpool Recharge"}]
["Clarendon Medical Centre NW)",1,{"$f":"IF(B1663=1,COUNTIF($B$61:$B1663,1),\"\")","v":1603},{"$f":"IFERROR(INDEX($A$61:$A$1687,MATCH(ROWS($C$61:$C1663),$C$61:$C$1687,0)),\"\")","v":"Clarendon Medical Centre NW)"}]
["Oak Gables Medical Practice NW)",1,{"$f":"IF(B1664=1,COUNTIF($B$61:$B1664,1),\"\")","v":1604},{"$f":"IFERROR(INDEX($A$61:$A$1687,MATCH(ROWS($C$61:$C1664),$C$61:$C$1687,0)),\"\")","v":"Oak Gables Medical Practice NW)"}]
["Nuffield Health Centre TV)",1,{"$f":"IF(B1665=1,COUNTIF($B$61:$B1665,1),\"\")","v":1605},{"$f":"IFERROR(INDEX($A$61:$A$1687,MATCH(ROWS($C$61:$C1665),$C$61:$C$1687,0)),\"\")","v":"Nuffield Health Centre TV)"}]
["St Pauls Medical Centre NW)",1,{"$f":"IF(B1666=1,COUNTIF($B$61:$B1666,1),\"\")","v":1606},{"$f":"IFERROR(INDEX($A$61:$A$1687,MATCH(ROWS($C$61:$C1666),$C$61:$C$1687,0)),\"\")","v":"St Pauls Medical Centre NW)"}]
["Queensway Medical Centre NW)",1,{"$f":"IF(B1667=1,COUNTIF($B$61:$B1667,1),\"\")","v":1607},{"$f":"IFERROR(INDEX($A$61:$A$1687,MATCH(ROWS($C$61:$C1667),$C$61:$C$1687,0)),\"\")","v":"Queensway Medical Centre NW)"}]
["Whittaker Lane Medical Centre NW)",1,{"$f":"IF(B1668=1,COUNTIF($B$61:$B1668,1),\"\")","v":1608},{"$f":"IFERROR(INDEX($A$61:$A$1687,MATCH(ROWS($C$61:$C1668),$C$61:$C$1687,0)),\"\")","v":"Whittaker Lane Medical Centre NW)"}]
["Handforth Health Centre NW)",1,{"$f":"IF(B1669=1,COUNTIF($B$61:$B1669,1),\"\")","v":1609},{"$f":"IFERROR(INDEX($A$61:$A$1687,MATCH(ROWS($C$61:$C1669),$C$61:$C$1687,0)),\"\")","v":"Handforth Health Centre NW)"}]
["Somerville Medical Centre NW)",1,{"$f":"IF(B1670=1,COUNTIF($B$61:$B1670,1),\"\")","v":1610},{"$f":"IFERROR(INDEX($A$61:$A$1687,MATCH(ROWS($C$61:$C1670),$C$61:$C$1687,0)),\"\")","v":"Somerville Medical Centre NW)"}]
["Bridgegate Medical Centre NW)",1,{"$f":"IF(B1671=1,COUNTIF($B$61:$B1671,1),\"\")","v":1611},{"$f":"IFERROR(INDEX($A$61:$A$1687,MATCH(ROWS($C$61:$C1671),$C$61:$C$1687,0)),\"\")","v":"Bridgegate Medical Centre NW)"}]
["Springfield Surgery NW)",1,{"$f":"IF(B1672=1,COUNTIF($B$61:$B1672,1),\"\")","v":1612},{"$f":"IFERROR(INDEX($A$61:$A$1687,MATCH(ROWS($C$61:$C1672),$C$61:$C$1687,0)),\"\")","v":"Springfield Surgery NW)"}]
["Stony Medical Centre TV)",1,{"$f":"IF(B1673=1,COUNTIF($B$61:$B1673,1),\"\")","v":1613},{"$f":"IFERROR(INDEX($A$61:$A$1687,MATCH(ROWS($C$61:$C1673),$C$61:$C$1687,0)),\"\")","v":"Stony Medical Centre TV)"}]
["Lilford Park Surgery NW)",1,{"$f":"IF(B1674=1,COUNTIF($B$61:$B1674,1),\"\")","v":1614},{"$f":"IFERROR(INDEX($A$61:$A$1687,MATCH(ROWS($C$61:$C1674),$C$61:$C$1687,0)),\"\")","v":"Lilford Park Surgery NW)"}]
["The Boathouse Surgery TV)",1,{"$f":"IF(B1675=1,COUNTIF($B$61:$B1675,1),\"\")","v":1615},{"$f":"IFERROR(INDEX($A$61:$A$1687,MATCH(ROWS($C$61:$C1675),$C$61:$C$1687,0)),\"\")","v":"The Boathouse Surgery TV)"}]
["Davyhulme Medical Centre NW)",1,{"$f":"IF(B1676=1,COUNTIF($B$61:$B1676,1),\"\")","v":1616},{"$f":"IFERROR(INDEX($A$61:$A$1687,MATCH(ROWS($C$61:$C1676),$C$61:$C$1687,0)),\"\")","v":"Davyhulme Medical Centre NW)"}]
["Newton Drive Health Centre NW)",1,{"$f":"IF(B1677=1,COUNTIF($B$61:$B1677,1),\"\")","v":1617},{"$f":"IFERROR(INDEX($A$61:$A$1687,MATCH(ROWS($C$61:$C1677),$C$61:$C$1687,0)),\"\")","v":"Newton Drive Health Centre NW)"}]
["Parkside Medical Centre TV)",1,{"$f":"IF(B1678=1,COUNTIF($B$61:$B1678,1),\"\")","v":1618},{"$f":"IFERROR(INDEX($A$61:$A$1687,MATCH(ROWS($C$61:$C1678),$C$61:$C$1687,0)),\"\")","v":"Parkside Medical Centre TV)"}]
["Great Eccleston Hlth Ctr NW)",1,{"$f":"IF(B1679=1,COUNTIF($B$61:$B1679,1),\"\")","v":1619},{"$f":"IFERROR(INDEX($A$61:$A$1687,MATCH(ROWS($C$61:$C1679),$C$61:$C$1687,0)),\"\")","v":"Great Eccleston Hlth Ctr NW)"}]
["Devaney Medical Centre NW)",1,{"$f":"IF(B1680=1,COUNTIF($B$61:$B1680,1),\"\")","v":1620},{"$f":"IFERROR(INDEX($A$61:$A$1687,MATCH(ROWS($C$61:$C1680),$C$61:$C$1687,0)),\"\")","v":"Devaney Medical Centre NW)"}]
["Western Elms & Circuit Lane Surgeries TV)",1,{"$f":"IF(B1681=1,COUNTIF($B$61:$B1681,1),\"\")","v":1621},{"$f":"IFERROR(INDEX($A$61:$A$1687,MATCH(ROWS($C$61:$C1681),$C$61:$C$1687,0)),\"\")","v":"Western Elms & Circuit Lane Surgeries TV)"}]
["The Weavers Practice NW)",1,{"$f":"IF(B1682=1,COUNTIF($B$61:$B1682,1),\"\")","v":1622},{"$f":"IFERROR(INDEX($A$61:$A$1687,MATCH(ROWS($C$61:$C1682),$C$61:$C$1687,0)),\"\")","v":"The Weavers Practice NW)"}]
["Peace Hospice LaSE)",1,{"$f":"IF(B1683=1,COUNTIF($B$61:$B1683,1),\"\")","v":1623},{"$f":"IFERROR(INDEX($A$61:$A$1687,MATCH(ROWS($C$61:$C1683),$C$61:$C$1687,0)),\"\")","v":"Peace Hospice LaSE)"}]
["Hadfield Medical Centre NW)",1,{"$f":"IF(B1684=1,COUNTIF($B$61:$B1684,1),\"\")","v":1624},{"$f":"IFERROR(INDEX($A$61:$A$1687,MATCH(ROWS($C$61:$C1684),$C$61:$C$1687,0)),\"\")","v":"Hadfield Medical Centre NW)"}]
["Queen Square Medical Practice NW)",1,{"$f":"IF(B1685=1,COUNTIF($B$61:$B1685,1),\"\")","v":1625},{"$f":"IFERROR(INDEX($A$61:$A$1687,MATCH(ROWS($C$61:$C1685),$C$61:$C$1687,0)),\"\")","v":"Queen Square Medical Practice NW)"}]
["The Waterfield Practice TV)",1,{"$f":"IF(B1686=1,COUNTIF($B$61:$B1686,1),\"\")","v":1626},{"$f":"IFERROR(INDEX($A$61:$A$1687,MATCH(ROWS($C$61:$C1686),$C$61:$C$1687,0)),\"\")","v":"The Waterfield Practice TV)"}]
["Cornerstone Family Practice NW)",1,{"$f":"IF(B1687=1,COUNTIF($B$61:$B1687,1),\"\")","v":1627},{"$f":"IFERROR(INDEX($A$61:$A$1687,MATCH(ROWS($C$61:$C1687),$C$61:$C$1687,0)),\"\")","v":"Cornerstone Family Practice NW)"}]

{"sheet":"Host Org. Rep.","index":1,"n_rows":57,"n_cols":7,"rows_kept":57,"cut":false,"hidden":false,"merged":[[54,2,54,6],[55,1,55,6],[46,1,46,6],[45,1,45,2],[45,3,45,6],[53,1,53,6],[49,1,49,6],[50,1,50,5],[22,1,22,5],[23,1,23,5],[24,1,24,5],[48,1,48,6],[40,2,40,6],[41,2,41,6],[42,2,42,6],[43,1,43,6],[44,1,44,6],[10,5,10,6],[51,1,51,6],[31,1,31,5],[32,1,32,6],[34,1,34,6],[36,1,36,6],[37,1,37,6],[39,1,39,6],[13,1,13,3],[14,1,14,3],[15,1,15,3],[17,1,17,3],[13,4,17,5],[20,1,20,5],[16,1,16,3],[21,1,21,5],[56,1,56,3],[0,1,0,6],[6,1,6,6],[2,5,4,8],[9,1,9,6],[12,1,12,6],[19,1,19,6],[25,1,25,5],[26,1,26,5],[27,1,27,5],[28,1,28,5],[29,1,29,5],[30,1,30,5],[7,5,7,6],[7,1,7,4],[10,1,10,4]]}
[null,"COVID Risk Assessment for Staff - COVID 19"]
[]
[null,null,"Risk Score     ",{"$f":"SUM(Trainee!D44)","v":0},"If the trainee scored 8 or below they are LOW RISK"]
[null,null,"Risk Rating     ",{"$f":"IF(D3='Risk Rating '!A1,'Risk Rating '!B1,IF(D3='Risk Rating '!A2,'Risk Rating '!B2,IF(D3='Risk Rating '!A3,'Risk Rating '!B3,IF(D3='Risk Rating '!A4,'Risk Rating '!B4,IF(D3='Risk Rating '!A5,'Risk Rating '!B5,IF(D3='Risk Rating '!A6,'Risk Rating '!B6,IF(D3='Risk Rating '!A7,'Risk Rating '!B7,IF(D3='Risk Rating '!A8,'Risk Rating '!B8,IF(D3='Risk Rating '!A9,'Risk Rating '!B9,IF(D3='Risk Rating '!A10,'Risk Rating '!B10,IF(D3='Risk Rating '!A11,'Risk Rating '!B11,IF(D3='Risk Rating '!A12,'Risk Rating '!B12,IF(D3='Risk Rating '!A13,'Risk Rating '!B13,IF(D3='Risk Rating '!A14,'Risk Rating '!B14,IF(D3='Risk Rating '!A15,'Risk Rating '!B15,IF(D3='Risk Rating '!A16,'Risk Rating '!B16,IF(D3='Risk Rating '!A17,'Risk Rating '!B17,IF(D3='Risk Rating '!A18,'Risk Rating '!B18,IF(D3='Risk Rating '!A19,'Risk Rating '!B19,IF(D3='Risk Rating '!A20,'Risk Rating '!B20,IF(D3='Risk Rating '!A21,'Risk Rating '!B21,IF(D3='Risk Rating '!A22,'Risk Rating '!B22,IF(D3='Risk Rating '!A23,'Risk Rating '!B23,IF(D3='Risk Rating '!A24,'Risk Rating '!B24,IF(D3='Risk Rating '!A25,'Risk Rating '!B25,IF(D3='Risk Rating '!A26,'Risk Rating '!B26,IF(D3='Risk Rating '!A27,'Risk Rating '!B27,IF(D3='Risk Rating '!A28,'Risk Rating '!B28,IF(D3='Risk Rating '!A29,'Risk Rating '!B29,IF(D3='Risk Rating '!A30,'Risk Rating '!B30,IF(D3='Risk Rating '!A31,'Risk Rating '!B31,IF(D3='Risk Rating '!A32,'Risk Rating '!B32,IF(D3='Risk Rating '!A33,'Risk Rating '!B33,IF(D3='Risk Rating '!A34,'Risk Rating '!B34,IF(D3='Risk Rating '!A35,'Risk Rating '!B35,IF(D3='Risk Rating '!A36,'Risk Rating '!B36,IF(D3='Risk Rating '!A37,'Risk Rating '!B37,IF(D3='Risk Rating '!A38,'Risk Rating '!B38,IF(D3='Risk Rating '!A39,'Risk Rating '!B39,IF(D3='Risk Rating '!A40,'Risk Rating '!B40,IF(D3='Risk Rating '!A41,'Risk Rating '!B41,IF(D3='Risk Rating '!A42,'Risk Rating '!B42,IF(D3='Risk Rating '!A43,'Risk Rating '!B43,IF(D3='Risk Rating '!A44,'Risk Rating '!B44,IF(D3='Risk Rating '!A45,'Risk Rating '!B45,IF(D3='Risk Rating '!A46,'Risk Rating '!B46,IF(D3='Risk Rating '!A47,'Risk Rating '!B47,IF(D3='Risk Rating '!A48,'Risk Rating '!B48,IF(D3='Risk Rating '!A49,'Risk Rating '!B49,IF(D3='Risk Rating '!A50,'Risk Rating '!B50,IF(D3='Risk Rating '!A51,'Risk Rating '!B51,IF(D3='Risk Rating '!A52,'Risk Rating '!B52,IF(D3='Risk Rating '!A53,'Risk Rating '!B53,IF(D3='Risk Rating '!A54,'Risk Rating '!B54,IF(D3='Risk Rating '!A55,'Risk Rating '!B55,IF(D3='Risk Rating '!A56,'Risk Rating '!B56,IF(D3='Risk Rating '!A57,'Risk Rating '!B57,IF(D3='Risk Rating '!A58,'Risk Rating '!B58,IF(D3='Risk Rating '!A59,'Risk Rating '!B59,IF(D3='Risk Rating '!A60,'Risk Rating '!B60,IF(D3='Risk Rating '!A61,'Risk Rating '!B61)))))))))))))))))))))))))))))))))))))))))))))))))))))))))))))","v":"Low"},"If the trainee scored 9 - 15 they are MODERATE RISK"]
[null,null,null,null,"If the trainee scored 16 or over they are HIGH RISK"]
[]
[null,"Section 3: Advice for Line Host organisation representatives on Risk Ratings "]
[null,"Before continuing with the implementation of Control Measures and an Action Plan, designed to mitigate risk, you should read the guidance notes",null,null,null,"HERE"]
[]
[null,"PPE and Control Measures"]
[null,"The questions below are designed so you as the Host Organisation Representative can support the Trainee with an Action Plan and the implemenation of Control Measures to mitigate the risk.  For further guidance click:\n \n",null,null,null,"HERE"]
[]
[null,"Personal Protective Equipment (PPE) (MANDATORY)"]
[null,"1.  Trainee is trained to use appropriate PPE. *",null,null,null,null,"Select"]
[null,"2.  Trainee is confident and competent in using appropriate PPE? *",null,null,null,null,"Select"]
[null,"3.  The Trainee is fit-tested if required? *",null,null,null,null,"Select"]
[null,"4.  The Trainee able to tolerate wearing a mask?  *",null,null,null,null,"Select"]
[null,"5.  The appropriate PPE isa available at all times",null,null,null,null,"Select"]
[]
[null,"Control Measures"]
[null,"1. Has an environmental/work area risk assessment been conducted to ensure the environment is COVID-19 Secure? *\n\nhttps://www.hse.gov.uk/coronavirus/working-safely/index.htm \nhttps://www.gov.uk/guidance/working-safely-during-coronavirus-covid-19 ",null,null,null,null,"Select"]
[null,"2. Can public transport/rush hour be avoided through adjustment to working patterns should the trainee require this? *",null,null,null,null,"Select"]
[null,"3. Has the trainee been updated on workplace changes, signage and visual reminders of protocols? *",null,null,null,null,"Select"]
[null,"4. Discuss the time limit of close interaction with patients and advise the trainee of what they can do in advance to prepare away from patient.  (Only for patient facing Trainees). *",null,null,null,null,"Select"]
[null,"5. If possible maintain >2m distance from patient. *",null,null,null,null,"Select"]
[null,"6. Advise the trainee to ask the patient to wear mask for interactions. *",null,null,null,null,"Select"]
[null,"7. Provide surgical mask for Trainee for all interactions with patients/office colleagues where social distancing cannot be maintained or specimens. *",null,null,null,null,"Select"]
[null,"8. If applicable, where a trainee is undertaking their roles on suspected/confirmed COVID Ward /Patient they are to wear full PPE and an FFP3 mask when an AGP is performed. *",null,null,null,null,"Select"]
[null,"9. If returning from shielding, is a supported return to training required? *",null,null,null,null,"Select"]
[null,"10. Is there scope to introduce consolidated hours to reduce risk of exposure (work longer hours over fewer days)? *",null,null,null,null,"Select"]
[null,"11. Are breaks/lunch staggered to reduce the number of people in communal areas? *",null,null,null,null,"Select"]
[null,"12. Have you explained how Trainee will be supported by the Host Organisation. *",null,null,null,null,"Select"]
[null,"13. Other(s) - please specify below."]
[]
[null,"Section 4: Follow Up and Support (Dependant on Control Measures and Action Plan)"]
[]
[null,"Trainee Concerns "]
[null,"\nDespite the introduction of Control Measures and the provision of PPE to ensure that a Trainee can return to work in a COVID-19 Secure work environment,Redeploy to a Low Risk Area, Redeploy to Working From Home, the Trainee may still have concerns about returning to work;such concerns are to be recorded below. \n\n\n\n\n\n\n\n\n\n\n\n\n"]
[]
[null,"Request Support"]
[null,"Select","Refering the Trainee to Lead Employer Case Management Team: If the Trainee has been assessed as 'High Risk' please refer them to the Lead Employer Case Management Team for further advice and tick the Lead Employer Case Management Team box below. \n\nIf the Trainee has been assessed as 'High Risk' please refer them to the Lead Employer Case Management Team for further advice. \n\nIn all cases, it may be that the Trainee remains stressed or anxious and there may be a requirement for support from HR and Wellbeing Services. \n\n\n\n\n\n"]
[null,"Select","Referring to the Lead Employer Case Management Team for anything other than the Trainee having been assessed as 'High Risk' (i.e. Stress and Anxiety about working on a COVID Ward). "]
[null,"Select","Referring to the Lead Employer Health Work and Wellbeing Team"]
[null,"Request Support (MANDATORY)"]
[null,"Following consultation between the Host Organisation Representatives and the Trainee a Risk Outcome is to be selected from one of the options below.*"]
[null,"Risk Outcome",null,"Select from Drop-down"]
[]
[]
[null,"Section 5: Reasonable Adjustment"]
[null,"It may be that Reasonable Adjustments are required in order to allow a Trainee to work in an allocated work environment (e.g. if working from home; the provision of the correct IT equipment). \n Please make the most appropriate selection from the options below and add comment to reflect the required Reasonable Adjustments. "]
[null,"Have reasonable adjustments been made where required?",null,null,null,null,"Select"]
[null,"Insert Reasonable Adjustment Requireds (Freetext:"]
[]
[null,"Host Organisation Representative Statement (MANDATORY)"]
[null,"Select  ","I certify that in consultation with the Trainee I have considered all PPE and Control Measures to mitigate any risk andconfirm that the form is now complete.*"]
[null,"Before submitting please ensure you have completed all the mandatory fields marked with a * (asterisk). \nFailure to complete all mandatory fields will result in your Risk Assessment not being accepted and you will need to complete a new assessment."]
[null,"Once completed the  Host Organisation Representative is to ensure that this Risk Assessment is sent to the following email address:",null,null,"leademployer.casemanagement@sthk.nhs.uk"]

{"sheet":"Completion Guidance","index":2,"n_rows":12,"n_cols":1,"rows_kept":12,"cut":false,"hidden":false,"merged":[[6,0,7,0],[1,0,2,0]]}
["COVID Risk Assessment for Staff - COVID 19"]
["Purpose\n\nThis risk assessment has been designed to allow Host Organisation Representatives and Trainees to work together to ensure that the Trainee can work in a COVID Secure work environment, with adjustments if necessary.  Those adjustments could be (e.g. Redeployment to a Low Risk Area or Working from Home).  \n\nEach question and response has an associated score which will allocate the Trainee a risk rating of Low Risk, Moderate Risk or High Risk.  Whilst it highlights a number of known risk factors the score associated with those risks in this document are not clinical, therefore if in any doubt you should contact Lead Employer Health Work and Wellbeing for further advice and guidance. \n\nGuidance For Trainee and Host Organisation Representative\n\n1. This form is to identify if a Trainee is someone at potential risk of severe illness if they contract the Coronavirus (also known as COVID-19).  Such risks are heightened for Trainees dependant on parameters determined by the government including their Gender, Age, their Ethnicity (including BAME/White European), or an Underlying Health Condition.\n2. Trainees are to complete Section 1 and Section 2 of this risk assessment form either alone or in conjunction with their Host Organisation Representative.\n3. Once Section 1 and Section 2 are completed the form is to be sent to the Host Organisation Representative unless the form is being completed in collaboration with the Host Organsiation Representative. \n4. If the Trainee scores Low Risk then they are deemed safe to return to work and observe social distancing where possible; wearing the appropriate PPE for their area of work.\n5. If the Trainee scores Moderate Risk the Host Organisation Representative will make contact to discuss whether there is any further support required and if necessary an Action Plan will be drawn up and Control Measures implementated to support the Trainee.\n6. If the Host Organisation Representative is not in a position to support the Trainee, the support of Lead Employer Health Work and Wellbeing (HWWB) and/or Lead Employer Human Resources (HR) will be sought.\n7. If a Trainee scores High Risk then the risk assessment will be referred to a Lead Employer HR who will consult with HWWB, HR and the Host Organisation Representative as appropriate, for review and to discuss next steps.  \n\nGuidance on Completion\n\n1. Ensure you answer all questions to the best of your knowledge/ability.\n2. Ensure all mandatory questions that have a * are completed.\n3. Should you need any help completing the form contact your Host organisation representative in the first instance."]
[]
[]
["Section 3: Advice for Host Organisation Representatives on Risk Ratings "]
[]
["Low Risk Area advice for Host Organisation Representative: \n\n1.  If the trainee scores low then they are deemed safe to return to work and observe social distancing if possible and wear correct PPE for their area of work.\n2.  Where the hospital has a considerable number of COVID patients you may need to determine whether the trainee needs to wear enhanced PPE or be redeployed to a 'Low Risk Area'.\n \nModerate Risk Area advice for Host Organisation Representative:  \n\n1.  If the trainee scores as a Moderate Risk the Host Organisation Representative will make contact with the Trainee to discuss whether there is any further support required and if necessary appropriate Control Measures and an Action Plan will be implemented to support the Trainee.\n2.  The Host Organisation Representative can make reasonable adjustments to the Trainee's substantive role to reduce the risk factors associated with particular tasks.\n3.  Should the Host Organisation Representative feel that they are unable to support the Trainee appropriately, they can seek the support of Lead Employer Health Work and Wellbeing (HWWB) and/or Lead Employer Human Resources (HR).\n4.  Where the Host Organisation has a considerable number of COVID patients the Host Organisation Representative may need to determine whether the Trainee needs to wear enhanced PPE or be redeployed to a 'Low Risk Area'.\n5.  Even in 'Low Risk Areas' there is a risk of Coronavirus exposure, e.g. infected patients or an unknown diagnosis; this should be considered as part of the Action Plan and Control Measures.\n6.  Where there is uncertainty on the part of the Host Organisation Representative or stress and anxiety issues on the part of the Trainee they are to be referred to Lead Employer Health Work and Wellbeing (HWWB) and/or Lead Employer Human Resources (HR).\n \nHigh Risk Area advice for Host Organisation Representative: \n\n1.  With regard to a Trainee who scores as a High Risk on the risk assessment will be referred to Lead Employer HR who mayconsult with Lead Employer HWWB and Host Organisation Representative to review the circumstances before determining thenext steps.\n2.  If a trainee has a Risk Rating of 'High' then the Host Organisation Representative is to refer the Trainee to LeadEmployer HR by selecting the appropriate referral option below.\n \n\nPotential Risk Outcomes\n\n1.  Continue in COVID-19 Secure Work environment.\n2.  Continue to work in department with enhanced PPE.\n3.  Continue to Work from Home.\n4.  Redeploy to a Low Risk Area.\n5.  Redeploy to Working from Home\n\nIn each of the above outcomes there may be a requirement to consider some or all of the following:\n\n1.  Adjustments to current role e.g.  reduction or removal of particular tasks \n2.  Wear full PPE at all times\n3.  To wear enhanced PPE \n4.  Temporary employmentr in a non-clinical role (if applicable)\n5.  Work from home where possible\n\n\n"]
[]
[]
["PPE and Control Measures"]
[]
["Certain work environments and procedures convey a higher risk of transmission, and aerosol generating procedures(AGPs) present risk of aerosolised transmission. To ensure safe systems of working for all Trainees, relative totheir day-to-day working, Host Organisation Representatives are to consider each of the following questions andrespond ‘Yes’, ‘No’ or ‘N/A’ to ensure that the most appropriate PPE is provided and sufficient Control measuresare in place to mitigate any risk to the Trainee.\n\nWhere PPE cannot be provided or Control Measures are not feasible, the Trainee is to move to a COVID Securework environment, a Low Risk Area or Working from Home. \n "]

{"sheet":"Risk Rating ","index":3,"n_rows":151,"n_cols":2,"rows_kept":151,"cut":false,"hidden":true,"merged":[]}
[0,"Low"]
[1,"Low"]
[2,"Low"]
[3,"Low"]
[4,"Low"]
[5,"Low"]
[6,"Low"]
[7,"Low"]
[8,"Low"]
[9,"Moderate"]
[10,"Moderate"]
[11,"Moderate"]
[12,"Moderate"]
[13,"Moderate"]
[14,"Moderate"]
[15,"Moderate"]
[16,"High"]
[17,"High"]
[18,"High"]
[19,"High"]
[20,"High"]
[21,"High"]
[22,"High"]
[23,"High"]
[24,"High"]
[25,"High"]
[26,"High"]
[27,"High"]
[28,"High"]
[29,"High"]
[30,"High"]
[31,"High"]
[32,"High"]
[33,"High"]
[34,"High"]
[35,"High"]
[36,"High"]
[37,"High"]
[38,"High"]
[39,"High"]
[40,"High"]
[41,"High"]
[42,"High"]
[43,"High"]
[44,"High"]
[45,"High"]
[46,"High"]
[47,"High"]
[48,"High"]
[49,"High"]
[50,"High"]
[51,"High"]
[52,"High"]
[53,"High"]
[54,"High"]
[55,"High"]
[56,"High"]
[57,"High"]
[58,"High"]
[59,"High"]
[60,"High"]
[61,"High"]
[62,"High"]
[63,"High"]
[64,"High"]
[65,"High"]
[66,"High"]
[67,"High"]
[68,"High"]
[69,"High"]
[70,"High"]
[71,"High"]
[72,"High"]
[73,"High"]
[74,"High"]
[75,"High"]
[76,"High"]
[77,"High"]
[78,"High"]
[79,"High"]
[80,"High"]
[81,"High"]
[82,"High"]
[83,"High"]
[84,"High"]
[85,"High"]
[86,"High"]
[87,"High"]
[88,"High"]
[89,"High"]
[90,"High"]
[91,"High"]
[92,"High"]
[93,"High"]
[94,"High"]
[95,"High"]
[96,"High"]
[97,"High"]
[98,"High"]
[99,"High"]
[100,"High"]
[101,"High"]
[102,"High"]
[103,"High"]
[104,"High"]
[105,"High"]
[106,"High"]
[107,"High"]
[108,"High"]
[109,"High"]
[110,"High"]
[111,"High"]
[112,"High"]
[113,"High"]
[114,"High"]
[115,"High"]
[116,"High"]
[117,"High"]
[118,"High"]
[119,"High"]
[120,"High"]
[121,"High"]
[122,"High"]
[123,"High"]
[124,"High"]
[125,"High"]
[126,"High"]
[127,"High"]
[128,"High"]
[129,"High"]
[130,"High"]
[131,"High"]
[132,"High"]
[133,"High"]
[134,"High"]
[135,"High"]
[136,"High"]
[137,"High"]
[138,"High"]
[139,"High"]
[140,"High"]
[141,"High"]
[142,"High"]
[143,"High"]
[144,"High"]
[145,"High"]
[146,"High"]
[147,"High"]
[148,"High"]
[149,"High"]
[150,"High"]

{"sheet":"List","index":4,"n_rows":1858,"n_cols":10,"rows_kept":1858,"cut":false,"hidden":true,"merged":[]}
["Host Organisation","Region","Grade","Speciality",null,"Age",null,null,"Underlying Health Conditions"]
["Select from Drop-down","Select from Drop-down","Select from Drop-down","Select from Drop-down"]
["- City Campus","East Midlands Deanery","AfC","ACCS","North West Deanery","Select from Drop-down",null,null,"Select from Drop-down"]
["(Credas) Darley Dale Medical Centre","East Midlands Deanery","CT1","Acute Medicine","North West Deanery","Under 50yrs",1,null,"No",0]
["1/Monton Medical Practice","London and South East Deanery","CT2","Allergy","North West Deanery","55yrs to 64yrs",3,null,"CEV: Solid organ transplant recipients",16]
["42 Kingsway","North West Deanery","CT3","Anaesthetics Core","North West Deanery","65yrs to 69yrs",5,null,"CEV: People with cancer who are undergoing active chemotherapy",16]
["5 Boroughs Partnership","North West Deanery","DCT1","Anaesthetics ST","North West Deanery",null,null,null,"CEV: People with lung cancer who are undergoing radical radiotherapy",16]
["Abbey Field Medical Centre","East of England Deanery","DCT2","Audiovestibular Medicine","North West Deanery",null,null,null,"CEV: People with cancers of the blood or bone marrow such as leukaemia, lymphoma or myeloma who are at any stage of treatment",16]
["Abbey House Medical Practice","East Midlands Deanery","DCT3","Breast Oncoplastic Surgery","North West Deanery","Gender",null,null,"people having immunotherapy or other continuing antibody treatments for cancer",16]
["Abbey Medical Centre","West Midlands Deanery","GPST1","Cardiology","North West Deanery",null,null,null,"CEV: People having other targeted cancer treatments which can affect the immune system, such as protein kinase inhibitors or PARP inhibitors",16]
["Abbey Medical Centre (TGP)","West Midlands Deanery","GPST2","Cardiothoracic Surgery","North West Deanery","Select from Drop-down",null,null,"CEV: People who have had bone marrow or stem cell transplants in the last 6 months, or who are still taking immunosuppression drugs",16]
["Abbey Medical Group","East Midlands Deanery","GPST3","Chemical Pathology / Metabolic Medicine","North West Deanery","Female",0,null,"CEV: People with severe respiratory conditions including all cystic fibrosis, severe asthma and severe chronic obstructive pulmonary (COPD).",16]
["Abbey Medical Practice (Mannock)","East Midlands Deanery","ST1","Clinical Genetics","North West Deanery","Male",1,null,"CEV: People with rare diseases and inborn errors of metabolism that significantly increase the risk of infections (such as Severe combined immunodeficiency (SCID), homozygous sickle cell).",16]
["Abbottswood Medical Centre","West Midlands Deanery","ST2","Clinical Neurophysiology","North West Deanery","Prefer to self-describe - use space to add if desireable",0,null,"CEV: People on immunosuppression therapies sufficient to significantly increase risk of infection.",16]
["Abercromby Family Practice","North West Deanery","ST3","Clinical Oncology","North West Deanery",null,null,null,"CEV: Problems with your spleen, for example splenectomy (having your spleen removed)",16]
["Abingdon Community Hospital","Thames Valley Deanery","ST4","Clinical Pharmacology","North West Deanery","Ethnicity",null,null,"CEV: Adult patient with Down’s syndrome",16]
["Abington Medical Centre","East Midlands Deanery","ST5","Combined Infection Training","North West Deanery",null,null,null,"CV: Adult patient with kidney impairment (Stage 5 Chronic Kidney Disease)",16]
["Abington Park Surgery (Christchurch)","East Midlands Deanery","ST6","Community Sexual & Reproductive Health","North West Deanery","Select from Drop-Down",null,null,"CV: Aged 70 or older (regardless of medical conditions)",16]
["Acorn Surgery","East of England Deanery","ST7","Core Medicine Training","North West Deanery","A White - British",0,null,"CV: Chronic (long-term) respiratory diseases, such as asthma, chronic obstructive pulmonary disease (COPD), emphysema or bronchitis",16]
["Adcote House","North West Deanery","ST8","Core Surgery Training","North West Deanery","B White - Irish",3,null,"Chronic heart disease, such as heart failure",16]
["Addenbrooke's Hospital","East of England Deanery",null,"Dental Core Trainees","North West Deanery","C White - Any other White background",3,null,"CV: Chronic kidney disease",16]
["Addensbrookes Hospital","East of England Deanery",null,"Dental Public Health","North West Deanery","C3 White Unspecified",3,null,"CV: Chronic liver disease, such as hepatitis",16]
["Adelaide Street Family Practice","North West Deanery",null,"Dermatology","North West Deanery","CA White English",3,null,"CV: Chronic neurological conditions, such as Parkinson’s disease, motor neurone disease, multiple sclerosis (MS), a learning disability or cerebral palsy",16]
["Ailsa Craig Medical Centre","North West Deanery",null,"Diabetes and Endocrinology","North West Deanery","CG White Greek",3,null,"CV: Diabetes",16]
["Ainsdale Medical Centre","North West Deanery",null,"Emergency Medicine","North West Deanery","CH White Greek Cypriot",3,null,"CV: A weakened immune system caused by a medical condition or medications such as steroid tablets or chemotherapy",16]
["Ainsdale Village Surgery","North West Deanery",null,"Endodontics","North West Deanery","CX White Mixed",3,null,"CV: Seriously overweight (a BMI of 40 or above)",16]
["Aintree Park","North West Deanery",null,"ENT (Otolaryngology)","North West Deanery","CY White Other European",3,null,"CEV/CV: Those who are Pregnant less than 28 weeks gestation, normal pregnancy – no complications or risk factors",16]
["Aintree University Hospitals NHS Trust","North West Deanery",null,"Forensic Pathology","North West Deanery","D Mixed - White & Black Caribbean",3,null,"CEV/CV: Those who are Pregnant less than 28 weeks gestation, normal pregnancy – no complications or risk factors",16]
["Aintree University Hospitals NHS Trust","North West Deanery",null,"GP","North West Deanery","E Mixed - White & Black Africa",3,null,"CEV/CV: Those who are Pregnant with significant heart disease, congenital or acquired",16]
["Albany House Medical Centre","East Midlands Deanery",null,"Gastroenterology","North West Deanery","F Mixed - White & Asian",3,null,"CEV/CV: Those who are Pregnant greater than 28 weeks gestation ",16]
["Albany House Surgery","West Midlands Deanery",null,"General Internal Medicine","North West Deanery","G Mixed - Any other mixed background",3,null,"CEV/CV: Those who are Pregnant, High risk pregnancy (twins, triplets)",16]
["Albion Medical Centre","North West Deanery",null,"General Surgery","North West Deanery","GD Mixed - Chinese & White",3,null,"CEV/CV: Those who are Pregnant, Pregnancy with complications",16]
["Albion Surgery","North West Deanery",null,"Genito-Urinary Medicine","North West Deanery","H Asian or Asian British - Indian",3,null,"CEV/CV: Those who are Pregnant, with pregnancy associated medical conditions",16]
["Alchester Medical Group","Thames Valley Deanery",null,"Geriatric Medicine","North West Deanery","J Asian or Asian British - Pakistani",3,null,"CEV/CV: Those who are Pregnant, IVF pregnancy"]
["Alconbury Sugery","East of England Deanery",null,"Haematology","North West Deanery","K Asian or Asian British - Bangladeshi",3]
["Aldborough Surgery","East of England Deanery",null,"Histopathology","North West Deanery","L Asian or Asian British - Any orther Asian background",3]
["Alder Hey Children's NHS Trust","North West Deanery",null,"Immunology","North West Deanery","LE Asian Sri Lankan",3,null,"Work Environment"]
["Aldergate Medical Practice","West Midlands Deanery",null,"Infectious Diseases","North West Deanery","LF Asian Tamil",3]
["Alderley Edge Medical Practice","North West Deanery",null,"Intensive Care Medicine","North West Deanery","LK Asian Unspecified",3,null,"Select from Drop-down"]
["Alexandra & Crestview Surgeries","East of England Deanery",null,"Internal Medicine Training","North West Deanery","N Black or Black British - African",3,null,"Low likelihood of COVID encounters - Areas where patients with coronavirus are unlikely to be assessed or admitted. Or you work in a non-patient facing area.",1]
["Alexandra Hospital","West Midlands Deanery",null,"Medical Microbiology","North West Deanery","P Black or Black British - Any other Black background",3,null,"High likelihood of COVID encounters - Area where patients with coronavirus are expected to be assessed or admitted",5]
["Alexandra Practice","North West Deanery",null,"Medical Oncology","North West Deanery","PC Black Nigerian",3,null,"High likelihood of COVID encounters - Aerosol Generating Procedures on patients that are suspected / confirmed COVID",8]
["Allesley Park Medical Centre","West Midlands Deanery",null,"Medical Ophthalmology","North West Deanery","PD Black British",3]
["Allesley Village Surgery","West Midlands Deanery",null,"Neurology","North West Deanery","R Chinese",3,null,"Work Outside of Organisation"]
["Almond Road Surgery","East of England Deanery",null,"Neurosurgery","North West Deanery","S Any other Ethnic Group",3]
["Alpine House Surgery","East Midlands Deanery",null,"Nuclear Medicine","North West Deanery","SC Filipino",3,null,"Select from Drop-down"]
["Alrewas The Surgery","West Midlands Deanery",null,"Obstetrics & Gynaecology","North West Deanery","SE Othe Specified",3,null,"No",0]
["Altham Meadows","North West Deanery",null,"Occupational Medicine","North West Deanery",null,null,null,"Yes",2]
["Alton Street Surgery","West Midlands Deanery",null,"Ophthalmology","North West Deanery",false]
["Alwaqas Medical Practice","East Midlands Deanery",null,"Oral and Maxillofacial Surgery ","North West Deanery",null,null,null,"Shielding"]
["Amersham Health Centre","Thames Valley Deanery",null,"Oral Medicine","North West Deanery",null,null,null,"Select from Drop-down"]
["Amersham Hospital","Thames Valley Deanery",null,"Oral Pathology","North West Deanery","Risk Outcome",null,null,"I am not required to Shield"]
["Amwell Surgery","East of England Deanery",null,"Oral Surgery","North West Deanery",null,null,null,"Medical advice to continue shielding (CEV (Shielding) letter received in November 2020 any beyond"]
["Ancoats Urban Village Medical Practice","North West Deanery",null,"Orthodontics","North West Deanery","Select from Drop-down"]
["Ancora House","North West Deanery",null,"Paediatric Cardiology ","North West Deanery","COVID-19 Secure Work Environment",null,null,"Received Clinically Extremely Vulnerable (Shielding) Letter: *"]
["Andaman Surgery","East of England Deanery",null,"Paediatric Dentistry","North West Deanery","Working From Home (Agile Assessment required)"]
["Anfield Group Practice","North West Deanery",null,"Paediatric Histopathology","North West Deanery","Remain in current department with enhanced PPE",null,null,"Select from Drop-down"]
["Angel Hill Surgery","East of England Deanery",null,"Paediatric Surgery","North West Deanery","Redeploy to Low Risk Area",null,null,"No"]
["Angel Lane Surgery","East of England Deanery",null,"Paediatrics","North West Deanery","Redeploy to Home Working (Agile Assessment required)",null,null,"Yes"]
["Annandale Medical Centre","East of England Deanery",null,"Pain Management","North West Deanery","Medical Suspension"]
["Annandale Medical Centre","North West Deanery",null,"Palliative Medicine","North West Deanery",null,null,null,"Self-Isolating"]
["Ansdell Medical Centre","North West Deanery",null,"Periodontics","North West Deanery","Request Support"]
["Anson Road Unit","North West Deanery",null,"Physician Associate","North West Deanery",null,null,null,"Select from Drop-down"]
["Apollo Surgery","West Midlands Deanery",null,"Plastic Surgery","North West Deanery","Select",null,null,"No"]
["Appleton Village Surgery","North West Deanery",null,"Psychiatry Child and Adolescent","North West Deanery","Yes",null,null,"Yes - Test and Trace"]
["Appletree Medical Practice","East Midlands Deanery",null,"Psychiatry Core","North West Deanery","No",null,null,"Yes - Cohabitant"]
["Arbury Road Surgery","East of England Deanery",null,"Psychiatry Forensic","North West Deanery","N/A",null,null,"Yes - Child"]
["Arden Medical Centre","West Midlands Deanery",null,"Psychiatry General","North West Deanery"]
["Arnold Medical Centre","North West Deanery",null,"Psychiatry Learning Disabilities","North West Deanery",null,null,null,"Disability"]
["Arran Medical Centre","West Midlands Deanery",null,"Psychiatry Old Age","North West Deanery"]
["Arthur Medical Centre","East Midlands Deanery",null,"Psychotherapy","North West Deanery",null,null,null,"Select from Drop-down"]
["Arthur Rank Hospice","East of England Deanery",null,"Public Health ","North West Deanery",null,null,null,"No"]
["Ash Tree House Surgery","North West Deanery",null,"Radiology","North West Deanery",null,null,null,"Yes"]
["Ash Trees Surgery","North West Deanery",null,"Rehabilitation Medicine ","North West Deanery"]
["Ashbourne Medical Practice","East Midlands Deanery",null,"Renal Medicine","North West Deanery",null,null,null,"Childcare"]
["Ashcroft Surgery","North West Deanery",null,"Respiratory Medicine","North West Deanery"]
["Ashfield Surgery","West Midlands Deanery",null,"Reconstructive Surgery","North West Deanery",null,null,null,"Select from Drop-down"]
["Ashfields Primary Care Centre","North West Deanery",null,"Restorative Dentistry","North West Deanery",null,null,null,"No - I have no childcare concerns"]
["Ashley Surgery","West Midlands Deanery",null,"Rheumatology","North West Deanery",null,null,null,"Yes - I have childcare concerns (Discuss with manager)"]
["Ashville Surgery","North West Deanery",null,"Special Care Dentistry","North West Deanery",null,null,null,"Yes - No school/Nursery is available"]
["Ashwell Surgery","East of England Deanery",null,"Spinal Fellow","North West Deanery",null,null,null,"Yes - Family childcare is not available"]
["Ashworth Hospital","North West Deanery",null,"Sports & Exercise Medicine","North West Deanery"]
["Ashworth Street Surgery","North West Deanery",null,"Targeted GP Trainee","North West Deanery"]
["Asplands Medical Centre","Thames Valley Deanery",null,"Trauma & Orthopaedics","North West Deanery"]
["Atherleigh Park","North West Deanery",null,"Urology","North West Deanery"]
["Atkinson Health Centre","North West Deanery",null,"Vascular Surgery","North West Deanery"]
["Attenborough Surgery","East of England Deanery"]
["Audlem Medical Practice","North West Deanery"]
["Audley Health Centre","West Midlands Deanery",null,"GP","West Midlands Deanery"]
["Audley Mills Surgery","East of England Deanery",null,"Public Health","West Midlands Deanery"]
["Avonside Health Centre","West Midlands Deanery",null,"Histopathology","West Midlands Deanery"]
["AW Surgeries","West Midlands Deanery",null,"Sports & Exercise Medcine ","West Midlands Deanery"]
["Aylmer Lodge Surgery","West Midlands Deanery",null,"Targeted GP Trainee","West Midlands Deanery"]
["Bacon Road Medical Centre","East of England Deanery"]
["Baddeley Green Surgery","West Midlands Deanery"]
["Baddow Village Surgery","East of England Deanery",null,"GP","East Midlands Deanery"]
["Bakewell Medical Centre","East Midlands Deanery",null,"Public Health","East Midlands Deanery"]
["Baldwins Lane Surgery","East of England Deanery",null,"Targeted GP Trainee","East Midlands Deanery"]
["Ballasalla Medical Centre","North West Deanery"]
["Ballenden House","North West Deanery"]
["Balmore Park Surgery","Thames Valley Deanery",null,"GP","East of England Deanery"]
["Balsall Common and Meridan Group M89016","West Midlands Deanery",null,"Public Health","East of England Deanery"]
["Banbury Cross Health Centre","Thames Valley Deanery",null,"Targeted GP Trainee","East of England Deanery"]
["Barlow Medical Centre","North West Deanery"]
["Barnoldswick Medical Centre","North West Deanery"]
["Barrack Lane Medical Centre","East of England Deanery",null,"Targeted GP Trainee","Thames Valley Deanery"]
["Barrow Health Centre","East Midlands Deanery"]
["Bartlemas Surgery","Thames Valley Deanery"]
["Bartley Green Medical Practice Practice","West Midlands Deanery",null,"Pallative Medcine","London and South East Deanery"]
["Barton Family Practice","West Midlands Deanery",null,"Targeted GP Trainee","London and South East Deanery"]
["Barton Hills Medical Group","East of England Deanery"]
["Barts Health NHS Trust","London and South East Deanery"]
["Barts Health NHS Trust Trust","London and South East Deanery"]
["Barwell & Hollycroft Medical Centre","East Midlands Deanery"]
["Basildon & Thurrock Uni Hospitals Trust","East of England Deanery",null,"Region"]
["Bay Medical Group","North West Deanery"]
["Beacon Health Group-Danbury Medical Centre EOE","East of England Deanery",null,"East Midlands Deanery"]
["Beacon Medical Practice","East Midlands Deanery",null,"East of England Deanery"]
["Beacon Primary Care","North West Deanery",null,"London and South East Deanery"]
["Beauchamp House","East of England Deanery",null,"North West Deanery"]
["Beaumont Street Surgery","Thames Valley Deanery",null,"West Midlands Deanery"]
["Bedford Borough Council","East of England Deanery",null,"Thames Valley Deanery"]
["Bedford Borough Council","East of England Deanery"]
["Bedford Hospital NHS Trust","East of England Deanery"]
["Bedford House Medical Centre","North West Deanery"]
["Bedworth Health Centre","West Midlands Deanery"]
["Bee Fold Medical Centre","North West Deanery"]
["Beeches Medical Practice","West Midlands Deanery"]
["Beechfield Medical Centre","East Midlands Deanery"]
["Beechwood Surgery","East of England Deanery"]
["Belgrave Medical Centre","West Midlands Deanery"]
["Bell House Medical Centre","East of England Deanery"]
["Bellevue Medical Centre","West Midlands Deanery"]
["Belvoir Health Group","East Midlands Deanery"]
["Benchill Medical Centre","North West Deanery"]
["Bennetts End Surgery","East of England Deanery"]
["Bennfield Surgery","West Midlands Deanery"]
["Berinsfield Health Centre","Thames Valley Deanery"]
["Berry Lane Medical Centre","North West Deanery"]
["Berryfields Medical Centre","Thames Valley Deanery"]
["Betsi Cadwaladr - Glan Clwyd","North West Deanery"]
["Betsi Cadwaladr - Wrexham","North West Deanery"]
["Bevan Group Practice","North West Deanery"]
["Bevan House","North West Deanery"]
["BG Health","West Midlands Deanery"]
["Bicester Health Centre","Thames Valley Deanery"]
["Biddulph Doctors","West Midlands Deanery"]
["Biddulph Valley Surgery","West Midlands Deanery"]
["Bidford Health Centre","West Midlands Deanery"]
["Bilbrook Medical Centre","West Midlands Deanery"]
["Bilston Health Centre","West Midlands Deanery"]
["Bilston Urban Village Medical Practice","West Midlands Deanery"]
["Birch Hill Hospital","North West Deanery"]
["Birch Hill Hospital","North West Deanery"]
["Birches Head Medical Centre","West Midlands Deanery"]
["Birchills Health Centre","West Midlands Deanery"]
["Birchwood Medical Centre","North West Deanery"]
["Birchwood Medical Practice","East Midlands Deanery"]
["Birchwood Medical Practice","East of England Deanery"]
["Birmingham & Solihull Mental Health Found. Trust","West Midlands Deanery"]
["Birmingham Children's Hospital NHS Foundation NHS","West Midlands Deanery"]
["Birmingham Community Healthcare NHS Trust","West Midlands Deanery"]
["Birmingham Women's NHS Foundation Trust","West Midlands Deanery"]
["Black Country Partnership NHS Foundation","West Midlands Deanery"]
["Blackford House Medical Centre","North West Deanery"]
["Blackheath Medical Centre","North West Deanery"]
["Blackpool Victoria Hospital","North West Deanery"]
["Blackwood Health Centre","North West Deanery"]
["Blandford Medical Centre","East of England Deanery"]
["Bloomfield Medical Centre","North West Deanery"]
["Bloxwich Medical Practice Trust","West Midlands Deanery"]
["Blundellsands Surgery","North West Deanery"]
["Bodey Medical Practice","North West Deanery"]
["Bodmin Road Health Centre","North West Deanery"]
["Bolton Hospice","North West Deanery"]
["Bootle Village Surgery","North West Deanery"]
["Boroughbury Medical Centre","East of England Deanery"]
["Bosworth Medical Centre","West Midlands Deanery"]
["Botesdale Health Centre","East of England Deanery"]
["Bottisham Medical Practice","East of England Deanery"]
["Boultham Park Medical Practice","East Midlands Deanery"]
["Boundary House Medical Centre","North West Deanery"]
["Bourn Surgery","East of England Deanery"]
["Bowland Medical Practice","North West Deanery"]
["Bowmere Hospital","North West Deanery"]
["Brackley Medical Centre","Thames Valley Deanery"]
["Bracondale Medical Centre","North West Deanery"]
["Bramhall & Shaw Heath Medical","North West Deanery"]
["Bramhall Health Centre Group","North West Deanery"]
["Bretton Medical Practice","East of England Deanery"]
["Bridge Cottage Surgery","East of England Deanery"]
["Bridge House Medical Centre","West Midlands Deanery"]
["Bridge Road Surgery","East of England Deanery"]
["Bridge Road Surgery","North West Deanery"]
["Bridge Street Medical Centre","East of England Deanery"]
["Bridge Street Medical Practice","East Midlands Deanery"]
["Bridge Surgery","West Midlands Deanery"]
["Bridgegate Medical Centre","North West Deanery"]
["Bridgewater Family Medical Practice","West Midlands Deanery"]
["Bridgewater Surgeries","East of England Deanery"]
["Bridgnorth Medical Practice","West Midlands Deanery"]
["Bridport Medical Centre (TGP)","West Midlands Deanery"]
["Brierley Park Medical Centre","East Midlands Deanery"]
["Brinnington Health Centre","North West Deanery"]
["Broadway Medical Centre","North West Deanery"]
["Broken Cross Surgery","North West Deanery"]
["Broken Cross Surgery","North West Deanery"]
["Broken Cross Surgery","West Midlands Deanery"]
["Brooke Surgery","North West Deanery"]
["Brooker Centre","North West Deanery"]
["Brookfield Surgery","North West Deanery"]
["Brooklands Medical Practice","North West Deanery"]
["Brooklyn Medical Practice","East Midlands Deanery"]
["Brookmill Medical Centre","North West Deanery"]
["Brookside Practice","Thames Valley Deanery"]
["Brookside Surgery","West Midlands Deanery"]
["Brookvale Practice","North West Deanery"]
["Broomfield Hospital","East of England Deanery"]
["Broomfield Park Medical Centre","West Midlands Deanery"]
["Brownlow Group Practice","North West Deanery"]
["Bryn Cross Surgery","North West Deanery"]
["Bryn Street Surgery","North West Deanery"]
["Buckden Surgery","East of England Deanery"]
["Buckland End Lane Surgery","West Midlands Deanery"]
["Bugbrooke Medical Practice","East Midlands Deanery"]
["Bunbury Medical Practice","North West Deanery"]
["Bungay Medical Centre","East of England Deanery"]
["Burdwood Surgery","Thames Valley Deanery"]
["Burford Surgery","Thames Valley Deanery"]
["Burlington Road Surgery","East of England Deanery"]
["Burnham Health Centre","Thames Valley Deanery"]
["Burnham Surgery","East of England Deanery"]
["Burnley General Hospital","North West Deanery"]
["Burnley General Hospital","North West Deanery"]
["Burnley General Hospital (Psychiatry)","North West Deanery"]
["Burnley Wood Medical Centre","North West Deanery"]
["Burnside Surgery","North West Deanery"]
["Burton Hospital","West Midlands Deanery"]
["Burton Hospitals NHS Foundation Trust","West Midlands Deanery"]
["Burton Hospitals NHS Foundation Trust","West Midlands Deanery"]
["Burvill House Surgery","East of England Deanery"]
["Burwell House Surgery","East of England Deanery"]
["Bushey Fields Hospital","West Midlands Deanery"]
["Bushloe Surgery","East Midlands Deanery"]
["Bute House Medical Centre","East of England Deanery"]
["Buxton Medical Practice","North West Deanery"]
["Cambridge University Hospitals NHS Foundation","East of England Deanery"]
["Cambridgeshire and Peterborough CCG","East of England Deanery"]
["Cambridgeshire and Peterborough NHS Foundation Trust","East of England Deanery"]
["Cambridgeshire County Council","East of England Deanery"]
["CAMHS Team Knowsley","North West Deanery"]
["CAMHS Team Warrington","North West Deanery"]
["Campbell Centre Foundtion","Thames Valley Deanery"]
["Campingland Surgery Trust","East of England Deanery"]
["Cannock Chase Hospital Foundation","West Midlands Deanery"]
["Canon Street Surgery Dr Modi","East Midlands Deanery"]
["Cantilupe Surgery","West Midlands Deanery"]
["Cape Hill Medical Centre","West Midlands Deanery"]
["Captain French Lane Surgery","North West Deanery"]
["Caritas General Practice Partnership","North West Deanery"]
["Caritas General Practice Partnership Practice","West Midlands Deanery"]
["Carol Kendrick Unit","North West Deanery"]
["Carters Green Medical Centre","West Midlands Deanery"]
["Cartmel Surgery","North West Deanery"]
["Castle Donington Surgery","East Midlands Deanery"]
["Castle Healthcare Practice","East Midlands Deanery"]
["Castle Medical Centre","West Midlands Deanery"]
["Castle Medical Group","East Midlands Deanery"]
["Castle Medical Group","West Midlands Deanery"]
["Castle Partnership","East of England Deanery"]
["Castle Street Medical Centre","East Midlands Deanery"]
["Castlecroft Medical Practice","West Midlands Deanery"]
["Castlefields Health Centre","North West Deanery"]
["Castleton Health Centre","North West Deanery"]
["Causeway Medical Centre","North West Deanery"]
["Cavendish Medical Centre","North West Deanery"]
["Caythorpe & Ancaster Medical Practice","East Midlands Deanery"]
["Cedar House Surgery","East of England Deanery"]
["Central & London NHS Trust","London and South East Deanery"]
["Central & London NHS Trust (LaSE)","Thames Valley Deanery"]
["Central Bedfordshire Council","East of England Deanery"]
["Central Milton Keynes Medical Centre","Thames Valley Deanery"]
["Central Park Medical Centre","North West Deanery"]
["Central Surgery","West Midlands Deanery"]
["Central Surgery (EoE)","East of England Deanery"]
["CH Medical","North West Deanery"]
["Chapel Green Practice","West Midlands Deanery"]
["Chapman Barker Unit Impatient Team","North West Deanery"]
["Charles Road Surgery","West Midlands Deanery"]
["Charlestown MD","North West Deanery"]
["Charnwood Medical Group","East Midlands Deanery"]
["Cheadle Hulme Health Centre","North West Deanery"]
["Cheadle Medical Practice","North West Deanery"]
["Chelford Surgery","North West Deanery"]
["Chelsea & Westminister NHS Foundation Foundtion","London and South East Deanery"]
["Cheshire and Wirral Foundation Trust","North West Deanery"]
["Chesterfield Royal Hospital NHS Foundation","East Midlands Deanery"]
["Chet Valley Medical Practice","East of England Deanery"]
["Chilwell Valley & Meadow Practice Trust","East Midlands Deanery"]
["Chipping Norton Health Centre","Thames Valley Deanery"]
["Chorley & South Ribble","North West Deanery"]
["Chorley & South Ribble","North West Deanery"]
["Christie Hospital","North West Deanery"]
["Church Road Medical Practice","North West Deanery"]
["Church Road Medical Practice","West Midlands Deanery"]
["Church Street Partnership","East of England Deanery"]
["Church Street Partnership","East of England Deanery"]
["Church Street Practice","Thames Valley Deanery"]
["Church Stretton Medical Centre","West Midlands Deanery"]
["Church View Surgery","East of England Deanery"]
["Churchfields Medical Practice","East Midlands Deanery"]
["Churchfields Surgery","West Midlands Deanery"]
["Churchgate Surgery","North West Deanery"]
["Churchill Hospital","Thames Valley Deanery"]
["Churchill House","Thames Valley Deanery"]
["Churchside Medical Practice","East Midlands Deanery"]
["Churton House","North West Deanery"]
["City Hospital","West Midlands Deanery"]
["City Walls Medical Centre","North West Deanery"]
["Civic Medical Centre","North West Deanery"]
["Claire House","North West Deanery"]
["Claremont Bank Surgery","West Midlands Deanery"]
["Claremont Holyport Surgery","Thames Valley Deanery"]
["Clarence Medical Centre","Thames Valley Deanery"]
["Clarendon Lodge Medical Centre","West Midlands Deanery"]
["Clarendon Medical Centre","North West Deanery"]
["Clarendon Medical Practice","North West Deanery"]
["Clatterbridge Centre for Oncology","North West Deanery"]
["Clatterbridge Hospital Psychiatric Services","North West Deanery"]
["Claughton Medical Centre","North West Deanery"]
["Clayton Medical Centre","North West Deanery"]
["Cleobury Mortimer Surgery","West Midlands Deanery"]
["Clifton Medical Practice","East Midlands Deanery"]
["Clifton Road Surgery","West Midlands Deanery"]
["Clock View Hospital","North West Deanery"]
["Coalway Road Medical Practice","West Midlands Deanery"]
["Coastal Villages Practice","East of England Deanery"]
["Cobridge Community Centre","West Midlands Deanery"]
["Cobridge Surgery","West Midlands Deanery"]
["Cofton Medical Centre","West Midlands Deanery"]
["Colchester Hospital University NHS Foundation","East of England Deanery"]
["Colchester Medical Centre Trust","East of England Deanery"]
["College Street Medical Practice","East Midlands Deanery"]
["Collingham Medical Centre","East Midlands Deanery"]
["Colne Medical Centre","East of England Deanery"]
["Coltishall Surgery","East of England Deanery"]
["Comberton Surgery","East of England Deanery"]
["Conner & Partners","East of England Deanery"]
["Conway Medical PMS","East of England Deanery"]
["Cookham Medical Centre","Thames Valley Deanery"]
["Copsewood Medical Centre","West Midlands Deanery"]
["Copsewood Medical Centre","West Midlands Deanery"]
["Corbett Medical Practice","West Midlands Deanery"]
["Cornerstone Family Practice","North West Deanery"]
["Cornford House Surgery","East of England Deanery"]
["Cornhill Surgery","West Midlands Deanery"]
["Cornishway Group Practice","North West Deanery"]
["Cottage Lane Surgery","North West Deanery"]
["Countess of Chester","North West Deanery"]
["Countesthorpe Health Centre","East Midlands Deanery"]
["County Hospital NHS","West Midlands Deanery"]
["Coventry And Warwickshire Partnership NHS","West Midlands Deanery"]
["Coventry And Warwickshire Partnership NHS","West Midlands Deanery"]
["Coventry Road Medical Centre Trust","West Midlands Deanery"]
["Cowley Road Medical Practice","Thames Valley Deanery"]
["Cowplain Family Practice (TGP)","West Midlands Deanery"]
["Crankhall Lane Medical Centre","West Midlands Deanery"]
["Creffield Medical Group","East of England Deanery"]
["Crich Medical Practice","East Midlands Deanery"]
["Crocus Medical Practice","East of England Deanery"]
["Croft Medical Centre","West Midlands Deanery"]
["Cromer Group Practice","East of England Deanery"]
["Crompton View Surgery","North West Deanery"]
["Cromwell House Community Mental Health","North West Deanery"]
["Cromwell Place Surgery","East of England Deanery"]
["Crosby House Surgery","Thames Valley Deanery"]
["Cubbington Road Surgery","West Midlands Deanery"]
["Cumberland House Surgery","North West Deanery"]
["Cumberland House Surgery","North West Deanery"]
["Cumberland House Surgery","North West Deanery"]
["Cumbria and Lancashire PHE Centre","North West Deanery"]
["Cumbria Partnership FT","North West Deanery"]
["Daisyfield Business Centre","North West Deanery"]
["Dale Medical Practice","West Midlands Deanery"]
["Dalton Surgery","North West Deanery"]
["Dalton TM Chandler House","North West Deanery"]
["Dalton TM Chandler House","West Midlands Deanery"]
["Danebridge Medical Centre","North West Deanery"]
["Danes Camp Medical Centre","East Midlands Deanery"]
["Danetre Medical Practice","East Midlands Deanery"]
["Darlaston Family Practice","West Midlands Deanery"]
["Darwen Health Centre","North West Deanery"]
["Darwen Health Centre 1","North West Deanery"]
["Darwin Medical Centre","West Midlands Deanery"]
["Datchet Health Centre","Thames Valley Deanery"]
["Davenal House Surgery","West Midlands Deanery"]
["Davenal House Surgery","West Midlands Deanery"]
["Davenport House Surgery","East of England Deanery"]
["Davyhulme Medical Centre","North West Deanery"]
["Deal Tree Health Centre","East of England Deanery"]
["Debenham Group Practice","East of England Deanery"]
["Deddington Health Centre","Thames Valley Deanery"]
["Dedworth Medical Centre","Thames Valley Deanery"]
["Delamere Medical Practice (Stockport","North West Deanery"]
["Dell Medical Centre","East of England Deanery"]
["Dengie Medical Partnership","East of England Deanery"]
["Denton Medical Practice","North West Deanery"]
["Derby City Council","East Midlands Deanery"]
["Derby Road Health Centre","East Midlands Deanery"]
["Derbyshire County Council","East Midlands Deanery"]
["Derbyshire Healthcare NHS Foundation Trust","East Midlands Deanery"]
["Derry Court Medical Practice","West Midlands Deanery"]
["Devaney Medical Centre","North West Deanery"]
["Dicconson Group Practice","North West Deanery"]
["Dinas Lane Medical Centre","North West Deanery"]
["Dingle Park Practice","North West Deanery"]
["DNRC - Stanford Hall","East Midlands Deanery"]
["Doddington Medical Centre","East of England Deanery"]
["Dolphin House Surgery","East of England Deanery"]
["Donnington Medical Partnership","Thames Valley Deanery"]
["Donnington Medical Practice","West Midlands Deanery"]
["Dordon & Polesworth Group Practice","West Midlands Deanery"]
["Dorking Medical Practice (TGP)","West Midlands Deanery"]
["Dorridge Surgery","West Midlands Deanery"]
["Dove River Practice","West Midlands Deanery"]
["Dovecot Health Centre","North West Deanery"]
["Downing Drive Surgery","East Midlands Deanery"]
["Dr A Naeem & Partners New Surgery","East of England Deanery"]
["Dr Agha (Thorpe Bay Surgery) The","East of England Deanery"]
["Dr AS Coutts & Partners","West Midlands Deanery"]
["Dr Chawla's Practice Wingerworth Medical Medical","East Midlands Deanery"]
["Dr Hughes & Partners","East of England Deanery"]
["Dr Irlam & Partners (Central","East of England Deanery"]
["Dr JK Marsden's Practice Surgery)","East of England Deanery"]
["Dr JL Henderson & Partners","Thames Valley Deanery"]
["Dr Jude's Practice Riverside","North West Deanery"]
["Dr Khan & Partners Rushbottom Surgery","East of England Deanery"]
["Dr Kumar Studfall Medical Centre","East Midlands Deanery"]
["Dr M Goyal's Practice Lane","East of England Deanery"]
["Dr P Cravens Practice","West Midlands Deanery"]
["Dr R Khanchandani's Practice","East of England Deanery"]
["Dr Sinha & Partners The Centre","East Midlands Deanery"]
["Dr ST Pierre-Libberton","West Midlands Deanery"]
["Dr Walji & Colleagues","West Midlands Deanery"]
["Drayton Medical Practice","East of England Deanery"]
["Drayton Road Surgery","West Midlands Deanery"]
["Dronfield Medical Practice Cen","East Midlands Deanery"]
["Dudley & Walsall Mental Health NHS Trust","West Midlands Deanery"]
["Dukinfield Medical Practice","North West Deanery"]
["Duncan Street Primary Care Partnership Partnership","West Midlands Deanery"]
["Dunchurch Surgery","West Midlands Deanery"]
["Durnford Medical Centre","North West Deanery"]
["Durnford Medical Centre","West Midlands Deanery"]
["Earnswood Medical Centre","North West Deanery"]
["East and North Hertfordshire NHS","East of England Deanery"]
["East Barn","North West Deanery"]
["East Barnwell Health Centre Trust","East of England Deanery"]
["East Bridgford Medical Centre","East Midlands Deanery"]
["East Hill Surgery","East of England Deanery"]
["East Leake Medical Group","East Midlands Deanery"]
["East Leicester Medical Practice","East Midlands Deanery"]
["East London Foundation Trust","East of England Deanery"]
["East Norfolk Medical Practice","East of England Deanery"]
["East Norwich Medical Partnership","East of England Deanery"]
["East of England Deanery","East of England Deanery"]
["East of England Deanery HEE","East of England Deanery"]
["East of England Deanery HEE","East of England Deanery"]
["East of England Deanery HEE","East of England Deanery"]
["East of England Deanery HEE","East of England Deanery"]
["East of England Deanery HEE","East of England Deanery"]
["East of England Deanery HEE Foundation","East of England Deanery"]
["East Park Medical Practice","West Midlands Deanery"]
["Eastham Group Practice","North West Deanery"]
["Eastway House","North West Deanery"]
["Eastwood Primary Care Centre","East Midlands Deanery"]
["Eaton Socon Health Centre","East of England Deanery"]
["Eaton Wood Medical Centre","West Midlands Deanery"]
["Eden Court Medical Practice","West Midlands Deanery"]
["Edenfield Medium Secure Inpatient Services Services","North West Deanery"]
["Edge Hill Health Centre","North West Deanery"]
["Edge Hill University","North West Deanery"]
["Edge Hill University","North West Deanery"]
["Edlesborough Surgery","East of England Deanery"]
["Ejaz Medical Centre","West Midlands Deanery"]
["Elbury Moor Medical Centre","West Midlands Deanery"]
["Eleanor Cross Healthcare","East Midlands Deanery"]
["Elgar House","West Midlands Deanery"]
["Ellenbrook Medical Centre","North West Deanery"]
["Ellesmere Road Medical Centre","West Midlands Deanery"]
["Elliott Street Surgery","North West Deanery"]
["Elm House","North West Deanery"]
["Elmham Surgery","East of England Deanery"]
["Elmswood Surgery","East Midlands Deanery"]
["Elsenham Surgery","East of England Deanery"]
["Enderby Medical Centre","East Midlands Deanery"]
["Engleton House Surgery","West Midlands Deanery"]
["EoE Public Health Recharge Public","East of England Deanery"]
["Erdington Group Health & Wellbeing","West Midlands Deanery"]
["Erdington Medical Centre","West Midlands Deanery"]
["Eskdaill Medical Centre","East Midlands Deanery"]
["Essex County Council","East of England Deanery"]
["Eve Hill Medical Practice","West Midlands Deanery"]
["Evington Medical Centre","East Midlands Deanery"]
["Eynsham Medical Centre","Thames Valley Deanery"]
["Failsworth Group Practice","North West Deanery"]
["Fairfax Group Practice","North West Deanery"]
["Fairfax Group Practice","West Midlands Deanery"]
["Fairfield General Hospital","North West Deanery"]
["Fairfield Hospital","North West Deanery"]
["Fairfields Practice","East Midlands Deanery"]
["Fakenham Medical Practice","East of England Deanery"]
["Falkland Surgery","Thames Valley Deanery"]
["Family Medical Centre","East Midlands Deanery"]
["Family Surgery","North West Deanery"]
["Farnham Road Practice","Thames Valley Deanery"]
["Featherstone Family Health Centre","West Midlands Deanery"]
["Fegan & Partners","North West Deanery"]
["Feldon Lane Surgery","West Midlands Deanery"]
["Felixstowe Road Medical Practice","East of England Deanery"]
["Fernley Medical Centre","West Midlands Deanery"]
["Fernville Surgery","East of England Deanery"]
["Field Road Surgery","West Midlands Deanery"]
["Finchampstead Practice","Thames Valley Deanery"]
["Firdale Medical Centre","North West Deanery"]
["Firs House Surgery","East of England Deanery"]
["Firsway Health Centre","North West Deanery"]
["Firsway Health Centre","West Midlands Deanery"]
["Five Oaks Family Practice","North West Deanery"]
["Five Towns GP Surgery","West Midlands Deanery"]
["Fleetwood Surgery","North West Deanery"]
["Flitwick Surgery","East of England Deanery"]
["Flixton Road Medical Centre","North West Deanery"]
["Flixton Road Medical Centre","West Midlands Deanery"]
["Florence House Medical Practice","North West Deanery"]
["Florence House Medical Practice","West Midlands Deanery"]
["Folly Lane Medical Centre","North West Deanery"]
["Forest Health Group","Thames Valley Deanery"]
["Forest House Medical Centre","East Midlands Deanery"]
["Forest House Surgery","East Midlands Deanery"]
["Forest Medical","East Midlands Deanery"]
["Forrest Medical Centre","West Midlands Deanery"]
["Forum Health Centre","West Midlands Deanery"]
["Fountains Health Centre","North West Deanery"]
["Four Acre Health Centre","West Midlands Deanery"]
["Fownhope Medical Centre","West Midlands Deanery"]
["Framfeild House Surgery","East of England Deanery"]
["Freshwell Health Centre","East of England Deanery"]
["Fulwood Green Medical Centre","North West Deanery"]
["Furlong Medical Centre","West Midlands Deanery"]
["Furness General Hospital","North West Deanery"]
["Furness General Hospital","North West Deanery"]
["Galaxy House Mental Health Service","North West Deanery"]
["Gardner Unit Secure Inpatient Services","North West Deanery"]
["Garstang Medical Practice","North West Deanery"]
["Garston Medical Centre","East of England Deanery"]
["Garswood Surgery","North West Deanery"]
["Gaskell House","North West Deanery"]
["Gatley Health Centre","North West Deanery"]
["George Clare Surgery","East of England Deanery"]
["George Eliot Hospital NHS Trust","West Midlands Deanery"]
["Glebedale Medical Practice","West Midlands Deanery"]
["Glenfield Hospital RWEAE","East Midlands Deanery"]
["Glenroyd Medical Centre","North West Deanery"]
["Glenroyd Medical Centre","West Midlands Deanery"]
["Glovers Lane Surgery","North West Deanery"]
["Gnosall Surgery","West Midlands Deanery"]
["Goldenhill Medical Centre","West Midlands Deanery"]
["Goldenhill Medical Centre","West Midlands Deanery"]
["Goldington Avenue Surgery","East of England Deanery"]
["Good Hope Hospital","West Midlands Deanery"]
["Gordon Street Medical Centre","North West Deanery"]
["Gordon Street Surgery","West Midlands Deanery"]
["Goring & Woodcote Medical Practice","Thames Valley Deanery"]
["Goring & Woodcote Medical Practice","West Midlands Deanery"]
["Gosberton Medical Centre","East Midlands Deanery"]
["Gosford Hill Medical Centre","Thames Valley Deanery"]
["Gosforth Valley Medical Practice","East Midlands Deanery"]
["GPS Healthcare","West Midlands Deanery"]
["Grange Street Surgery","East of England Deanery"]
["Granta Medical Practices","East of England Deanery"]
["Granton Medical Centre","West Midlands Deanery"]
["Granville House Medical Centre","North West Deanery"]
["Granville House Medical Centre","North West Deanery"]
["Grassendale Medical Centre","North West Deanery"]
["Great Harwood Medical Group","North West Deanery"]
["Great Massingham Surgery","East of England Deanery"]
["Great Oakley Medical Centre","East Midlands Deanery"]
["Great Sutton Medical Centre","North West Deanery"]
["Great Witley Surgery","West Midlands Deanery"]
["Greater Manchester PHE Centre","North West Deanery"]
["Greater Manchester West Mental Health Green","North West Deanery"]
["Green Lane Medical Centre","North West Deanery"]
["Greenbank Medical Practice","North West Deanery"]
["Greenbank Surgery","North West Deanery"]
["Greendale Primary Care Centre","East Midlands Deanery"]
["Greenmount Medical Centre","North West Deanery"]
["Greenridge Surgery","West Midlands Deanery"]
["Greens Norton & Weedon Medical","East Midlands Deanery"]
["Greenview Surgery Practice","East Midlands Deanery"]
["Gresleydale Healthcare Centre","East Midlands Deanery"]
["Grey Gable Surgery","West Midlands Deanery"]
["Groby Road Medical Centre","East Midlands Deanery"]
["Grosvenor Medical Centre","North West Deanery"]
["Grove House Practice","North West Deanery"]
["Grove Medical Centre","East of England Deanery"]
["Grove Surgery","East of England Deanery"]
["Grove Surgery","West Midlands Deanery"]
["Grove Surgery","West Midlands Deanery"]
["Guardian Street Medical Centre","North West Deanery"]
["Guide Bridge Medical Practice","North West Deanery"]
["Guild Lodge","North West Deanery"]
["Guy's & St Thomas' NHS Trust","London and South East Deanery"]
["Haddenham Medical Centre","Thames Valley Deanery"]
["Hadfield Medical Centre","North West Deanery"]
["Hadleigh Boxford Group Practice","East of England Deanery"]
["Hailey View Surgery","East of England Deanery"]
["Halcyon Medical","West Midlands Deanery"]
["Haleacre Unit","Thames Valley Deanery"]
["Halesowen Medical Practice St Marys","West Midlands Deanery"]
["Hall Green Health","West Midlands Deanery"]
["Hall Green Health","West Midlands Deanery"]
["Hall Green Surgery","North West Deanery"]
["Hall Grove Group Practice","East of England Deanery"]
["Hall Grove Group Practice","West Midlands Deanery"]
["Hall Street Medical Centre","North West Deanery"]
["Hallam Street Hospital","West Midlands Deanery"]
["Halliwell Surgery 1","North West Deanery"]
["Halliwell Surgery 2","North West Deanery"]
["Halliwell Surgery 3","North West Deanery"]
["Halton General Hospital","North West Deanery"]
["Hampton Surgery","West Midlands Deanery"]
["Handbridge Medical Centre","North West Deanery"]
["Handforth Health Centre","North West Deanery"]
["Handsworth Wood Medical Centre","West Midlands Deanery"]
["Hanford Health Centre","West Midlands Deanery"]
["Hannage Brook Medical Centre","East Midlands Deanery"]
["Harborne Medical Practice","West Midlands Deanery"]
["Harborough Field Surgery","East Midlands Deanery"]
["Haresfield House Surgery","West Midlands Deanery"]
["Harley Street Medical Centre","West Midlands Deanery"]
["Hartshill Medical Centre","West Midlands Deanery"]
["Harvey Group Practice","East of England Deanery"]
["Hastings House Surgery","West Midlands Deanery"]
["Haughton Thornly (Vale) Medical Centre","North West Deanery"]
["Haven Health","East of England Deanery"]
["Hawthorn Medical Centre","North West Deanery"]
["Haydock Medical Centre","North West Deanery"]
["Hazeldene Medical Centre","North West Deanery"]
["Hazelmere Medical Centre","East Midlands Deanery"]
["Hazelwood Group Practice","West Midlands Deanery"]
["Heacham Group Practice","East of England Deanery"]
["Headlands Surgery","East Midlands Deanery"]
["Heady Hill Surgery","North West Deanery"]
["Heald Green Health Centre 1 Owen)","North West Deanery"]
["Healey Surgery","West Midlands Deanery"]
["Healey Surgery (Dr","North West Deanery"]
["Health Education England (East","East Midlands Deanery"]
["Heart Of England NHS Foundation","West Midlands Deanery"]
["Heartlands Hospital","West Midlands Deanery"]
["Heath Hayes Medical Centre Trust","West Midlands Deanery"]
["Heath Lane Surgery","East Midlands Deanery"]
["Heathcote Street Surgery","West Midlands Deanery"]
["Heatherbrook Surgery","East Midlands Deanery"]
["Heathgate Medical Practice","East of England Deanery"]
["Heaton Medical Centre","North West Deanery"]
["Heaton Mersey Med.Pract.","North West Deanery"]
["Heaton Moor Medical Centre","North West Deanery"]
["Hedena Health","Thames Valley Deanery"]
["Hellesdon Medical Practice","East of England Deanery"]
["Helsby Health Centre","North West Deanery"]
["Helsby Street Medical Centre","North West Deanery"]
["Henley-in-Arden Medical Centre","West Midlands Deanery"]
["Henwick Halt Medical Centre","West Midlands Deanery"]
["Hereford County Hospital","West Midlands Deanery"]
["Hereward Medical Centre","East of England Deanery"]
["Herschel Medical Centre","Thames Valley Deanery"]
["Hertfordshire County Council","East of England Deanery"]
["Hertfordshire Partnership NHS Foundation Trust","East of England Deanery"]
["Hesketh Centre","North West Deanery"]
["Heywood Heath","North West Deanery"]
["High Street Surgery","North West Deanery"]
["Higham Ferrers Surgery","East Midlands Deanery"]
["Highbury Hospital (RHANM)","East Midlands Deanery"]
["Highcroft Surgery","East Midlands Deanery"]
["Higherland Surgery","West Midlands Deanery"]
["Highfield Surgery","North West Deanery"]
["Highgate Medical Centre","West Midlands Deanery"]
["Highgate Medical Centre","West Midlands Deanery"]
["Highgreen Practice","East Midlands Deanery"]
["Hightown Surgery","Thames Valley Deanery"]
["Highview Medical Centre","East of England Deanery"]
["Hill Top Surgery","North West Deanery"]
["Hillfoot Health","North West Deanery"]
["Hillside Health Centre","North West Deanery"]
["Hilltops Medical Centre","Thames Valley Deanery"]
["Hinchingbrooke Health Care NHS Trust","East of England Deanery"]
["Hinchingbrooke Hospital","East of England Deanery"]
["Hindley Health Centre","North West Deanery"]
["Hockley Farm Medical Practice","East Midlands Deanery"]
["Hockley Medical Practice","West Midlands Deanery"]
["Holbrook Health Team","West Midlands Deanery"]
["Holland Park Surgery","West Midlands Deanery"]
["Hollies Practice","West Midlands Deanery"]
["Hollins Park","North West Deanery"]
["Hollinwood Medical Practice","North West Deanery"]
["Hollow Way Medical Centre","Thames Valley Deanery"]
["Hollybrook Medical Centre","East Midlands Deanery"]
["Hollymoor Medical Centre","West Midlands Deanery"]
["Hollywood Medical Centre","West Midlands Deanery"]
["Holmcroft Surgery","West Midlands Deanery"]
["Holt Medical Practice","East of England Deanery"]
["Hope Farm Medical Centre","North West Deanery"]
["Hopwood Medical Centre","North West Deanery"]
["Horncastle Medical Group","East Midlands Deanery"]
["Horsefair Practice","West Midlands Deanery"]
["Horseley Heath Surgery","West Midlands Deanery"]
["Horsmans Place Surgery (TGP)","West Midlands Deanery"]
["Horton General Hospital","Thames Valley Deanery"]
["Hospice in The Weald Foundation","London and South East Deanery"]
["Hospital of St John Elizabeth","London and South East Deanery"]
["Houghton Close Surgery","East of England Deanery"]
["Hoveton & Wroxham Medical Centre","East of England Deanery"]
["Howard House Surgery","East of England Deanery"]
["Hucknall Road Medical Centre","East Midlands Deanery"]
["Hugglescote Surgery","East Midlands Deanery"]
["Hugglescote Surgery","West Midlands Deanery"]
["Hughenden Valley Surgery","Thames Valley Deanery"]
["Hulme Hall Medical Group","North West Deanery"]
["Humberstone Medical Centre","East Midlands Deanery"]
["Hungerford Medical Centre","North West Deanery"]
["Huntingdon Road Surgery","East of England Deanery"]
["Ibstock House Surgery","East Midlands Deanery"]
["Ilex View Medical Practice","North West Deanery"]
["Ilkley & Wharfedale Medical Practice B83002","West Midlands Deanery"]
["Imperial College Healthcare NHS Trust St","London and South East Deanery"]
["Imperial Road Surgery","East Midlands Deanery"]
["Inspire Health","East Midlands Deanery"]
["Intrahealth Marsh Green","North West Deanery"]
["Ipswich Hospital NHS Trust","East of England Deanery"]
["Ironbridge Medical Practice","West Midlands Deanery"]
["Irwell Medical Practice","North West Deanery"]
["Isaac Maddox House","West Midlands Deanery"]
["Islip Surgery","Thames Valley Deanery"]
["Issa Medical Centre Patel","North West Deanery"]
["Iver Medical Centre","Thames Valley Deanery"]
["Ivry Street Medical Practice","East of England Deanery"]
["Jacey Health Centre","West Midlands Deanery"]
["James Cochrane Practice","North West Deanery"]
["James Medical Practice","East of England Deanery"]
["James Paget Univeristy Hospitals NHS","East of England Deanery"]
["James Street Family Practice","East Midlands Deanery"]
["Jessop Medical Practice","East Midlands Deanery"]
["Jocelyn Solly","North West Deanery"]
["John Radcliffe Hospital","Thames Valley Deanery"]
["John Street Medical Practice","North West Deanery"]
["John Tasker House Surgery FT","East of England Deanery"]
["Johnson Medical Practice","East Midlands Deanery"]
["Jubilee Healthcare","West Midlands Deanery"]
["Jubilee Medical Centre","North West Deanery"]
["Junction 17 Psychiatry Inpatient Services","North West Deanery"]
["Kapur Family Care","North West Deanery"]
["Karis Medical Centre","West Midlands Deanery"]
["Katharine House Hospice","Thames Valley Deanery"]
["Kearsley Medical Centre","North West Deanery"]
["Keats Grove Surgery","West Midlands Deanery"]
["Keelinge House Surgery","West Midlands Deanery"]
["Kelvingrove Medical Centre","East Midlands Deanery"]
["Kenmore Medical Centre","North West Deanery"]
["Kenyon Medical Practice","West Midlands Deanery"]
["Kettering General Hospital NHS Foundation","East Midlands Deanery"]
["Kidsgrove Medical Centre","West Midlands Deanery"]
["Kildonan House","North West Deanery"]
["Kimbolton Medical Centre","East of England Deanery"]
["King Edward Road Surgery Trust","East Midlands Deanery"]
["King George Surgery","East of England Deanery"]
["King Street Surgery","East of England Deanery"]
["King Street Surgery","North West Deanery"]
["King Street Surgery","West Midlands Deanery"]
["Kingfisher Practice","West Midlands Deanery"]
["Kingfisher Practice","West Midlands Deanery"]
["Kings College Hospitals NHS Foundation","London and South East Deanery"]
["Kings Corner Surgery","Thames Valley Deanery"]
["Kings Lane Medical Centre","North West Deanery"]
["Kings Langley Surgery","East of England Deanery"]
["Kings Medical Centre","East of England Deanery"]
["Kingsbridge Medical Centre","West Midlands Deanery"]
["Kingsbury Road Medical Centre","West Midlands Deanery"]
["Kingsfield Medical Centre","West Midlands Deanery"]
["Kingswinford Health Centre","West Midlands Deanery"]
["Kintbury & Woolton Hill Surgery","Thames Valley Deanery"]
["Kirby-Crompton Health Centre","North West Deanery"]
["Kirkholt Med Practice","North West Deanery"]
["Knockin Medical Centre","West Midlands Deanery"]
["Knowsley Resource & Recovery Centre","North West Deanery"]
["Labrunum Health Centre","West Midlands Deanery"]
["Lache Health Centre","North West Deanery"]
["Ladybarn Group Practice","North West Deanery"]
["Laindon Health Centre","East of England Deanery"]
["Lakeside","West Midlands Deanery"]
["Lakeside","West Midlands Deanery"]
["Lakeside Healthcare","East Midlands Deanery"]
["Lakeside HealthCare Stamford","East of England Deanery"]
["Lambgates Health Centre","North West Deanery"]
["Lancashire Care","North West Deanery"]
["Lancaster Medical Practice","North West Deanery"]
["Lance Lane Medical Centre","North West Deanery"]
["Lane Ends Surgery","North West Deanery"]
["Langdon Hills Medical Practice","East of England Deanery"]
["Langham Place Surgery","East Midlands Deanery"]
["Langley Health Centre","Thames Valley Deanery"]
["Langworthy Medical Centre","North West Deanery"]
["Larksfield Surgery Medical Partnership","East of England Deanery"]
["Latchford Medical Centre","North West Deanery"]
["Latham House Medical Practice","East Midlands Deanery"]
["Laureate House Services","North West Deanery"]
["Laurie Pike Health Centre","West Midlands Deanery"]
["Lawley Medical Practice","West Midlands Deanery"]
["Lawson Road Surgery","East of England Deanery"]
["Laxey & Village Walk Health","North West Deanery"]
["Lea Road Medical Practice","West Midlands Deanery"]
["Lea Vale Medical Practice","East of England Deanery"]
["Leach Heath Medical Centre","West Midlands Deanery"]
["Lee House Surgery","Thames Valley Deanery"]
["Leek Health Centre","West Midlands Deanery"]
["Leen View surgery","East Midlands Deanery"]
["Leicester City Assist Practice","East Midlands Deanery"]
["Leicester City Council","East Midlands Deanery"]
["Leicester Royal Infirmary Trust","East Midlands Deanery"]
["Leicester Terrace Health Care Centre","East Midlands Deanery"]
["Leicestershire & Rutland Hospice","East Midlands Deanery"]
["Leicestershire County Council Public Health","East Midlands Deanery"]
["Leicestershire County Council Public Health","East Midlands Deanery"]
["Leicestershire County Council Public Health","East Midlands Deanery"]
["Leicestershire County Council Public Health","East Midlands Deanery"]
["Leicestershire County Council Public Health","East of England Deanery"]
["Leicestershire Partnership NHS Trust","East Midlands Deanery"]
["Leigh Sports Village","North West Deanery"]
["Leighton Hospital","North West Deanery"]
["Leighton Road Surgery","Thames Valley Deanery"]
["Lensfield Medical Practice","East of England Deanery"]
["Levenshulme Medical Practice Centre","North West Deanery"]
["Lever Chambers 1","North West Deanery"]
["Ley Hill Surgery","West Midlands Deanery"]
["Leyland Surgery","North West Deanery"]
["Library House Surgery","North West Deanery"]
["Lichfield Street Surgery","West Midlands Deanery"]
["Lightwater Surgery","West Midlands Deanery"]
["Lilford Park Surgery","North West Deanery"]
["Limefield Surgery","North West Deanery"]
["Limes Medical Centre","East Midlands Deanery"]
["Lincoln County Hospital","East Midlands Deanery"]
["Lincolnshire Community Health Services","East Midlands Deanery"]
["Lincolnshire County Council Public Health","East Midlands Deanery"]
["Lincolnshire Partnership NHS Foundation Trust","East Midlands Deanery"]
["Linden Avenue Medical Centre","East Midlands Deanery"]
["Linden Hall Surgery","West Midlands Deanery"]
["Lindley House Health Centre","North West Deanery"]
["Links Medical Practice","West Midlands Deanery"]
["Lion Health","West Midlands Deanery"]
["Lister Hospital","East of England Deanery"]
["Lister House Surgery","East Midlands Deanery"]
["Lister Medical Centre","East of England Deanery"]
["Little Chalfont Surgery","Thames Valley Deanery"]
["Little Harwood Health Centre","North West Deanery"]
["Little London Surgery","West Midlands Deanery"]
["Little Waltham & Gt Notley","East of England Deanery"]
["Littleborough Group Practice","North West Deanery"]
["Littleborough Group Practice","West Midlands Deanery"]
["Littlewick Medical Centre","East Midlands Deanery"]
["Liverpool Dental Hospital","North West Deanery"]
["Liverpool Heart & Chest Hospital","North West Deanery"]
["Liverpool Women's NHS Foundation Trust","North West Deanery"]
["Lockfield Surgery","West Midlands Deanery"]
["Lockside Medical Centre","North West Deanery"]
["Lockstown Practice","West Midlands Deanery"]
["Lombard Medical Centre","East Midlands Deanery"]
["London & South East Deanery","London and South East Deanery"]
["London & South East Deanery Trust","London and South East Deanery"]
["London North West Healthcare NHS","London and South East Deanery"]
["London Road Health Centre Surgery","East of England Deanery"]
["London Transport","East of England Deanery"]
["Long Lane Medical Centre","North West Deanery"]
["Long Stratton Medical Partnership","East of England Deanery"]
["Longfield Medical Centre","East of England Deanery"]
["Longshore Surgeries","East of England Deanery"]
["Longsight Health Centre","North West Deanery"]
["Longton Health Centre","North West Deanery"]
["Loomer Road Surgery","West Midlands Deanery"]
["Lordswood House Medical Practice","West Midlands Deanery"]
["Lostock Medical Centre","North West Deanery"]
["Loughton Health Centre","East of England Deanery"]
["Lower Broughton Health Centre","North West Deanery"]
["Lower Gornal Medical Practice","West Midlands Deanery"]
["Lowry Unit Low Secure Inpatient","North West Deanery"]
["Lucie Wedgwood Health Centre","West Midlands Deanery"]
["Ludham and Stalham Green Surgeries","East of England Deanery"]
["Ludlow Portcullis","West Midlands Deanery"]
["Lunesdale Surgery","North West Deanery"]
["Luton & Dunstable University Hospital FT","East of England Deanery"]
["Lymebrook Surgery","West Midlands Deanery"]
["Lytham Hospital","North West Deanery"]
["Maccles DO NOT USE","North West Deanery"]
["Macclesfield District General Hospital","North West Deanery"]
["Macklin Street Surgery","East Midlands Deanery"]
["Madeley Practice","West Midlands Deanery"]
["Magdalen Medical Practice NHS","East of England Deanery"]
["Maglona House","North West Deanery"]
["Magnolia House Surgery","Thames Valley Deanery"]
["Major Oak Medical Practice","East Midlands Deanery"]
["Maltings Surgery","East of England Deanery"]
["Malvern Health Centre","West Midlands Deanery"]
["Manchester Childrens Hospital","North West Deanery"]
["Manchester Dental Hospital","North West Deanery"]
["Manchester Road Medical Centre","North West Deanery"]
["Manchester Royal Eye Hospital","North West Deanery"]
["Manchester Royal Infirmary","North West Deanery"]
["Manor Hospital","West Midlands Deanery"]
["Manor House Surgery","North West Deanery"]
["Manor Medical (Hillgate)","North West Deanery"]
["Manor Surgery","Thames Valley Deanery"]
["Mansion House Surgery","West Midlands Deanery"]
["Marcham Road Family Health Centre","Thames Valley Deanery"]
["Marden Medical Practice","West Midlands Deanery"]
["Marie Curie Centre Solihul Community Y03451","West Midlands Deanery"]
["Marie Curie Hospice Hampstead Trust","London and South East Deanery"]
["Marie Curie Hospice Liverpool","North West Deanery"]
["Marine Lake Medical Practice","North West Deanery"]
["Mark Street Surgery","North West Deanery"]
["Market Cross Surgery","East of England Deanery"]
["Market Drayton Medical Practice Team","West Midlands Deanery"]
["Market Harborough Medical Centre","East Midlands Deanery"]
["Market Quarter Medical Practice","West Midlands Deanery"]
["Market Rasen Surgery","East Midlands Deanery"]
["Market Square Surgery","East of England Deanery"]
["Market Surgery","East of England Deanery"]
["Marple Bridge Surgery","North West Deanery"]
["Marple Medical Practice","North West Deanery"]
["Marsden House","North West Deanery"]
["Marus Bridge Practice","North West Deanery"]
["Marysville Medical Practice","West Midlands Deanery"]
["Mather Avenue Surgery","North West Deanery"]
["Maynard Court Surgery","East of England Deanery"]
["Meadowbrook Mental Health Inpatient Services Services","North West Deanery"]
["Meadowcroft Surgery","Thames Valley Deanery"]
["Meanwood Health Centre","West Midlands Deanery"]
["Measham Medical Unit","East Midlands Deanery"]
["Medicentre","North West Deanery"]
["Melbourne Park Medical Centre","East Midlands Deanery"]
["Merepark Medical Centre","North West Deanery"]
["Mersey Care NHS Trust","North West Deanery"]
["Mersey Deanery","North West Deanery"]
["Mersey Deanery","North West Deanery"]
["Mersey Deanery","North West Deanery"]
["Mersey Deanery","North West Deanery"]
["Mid Cheshire Hospitals NHS Foundation","North West Deanery"]
["Mid Essex Hospital Services NHS","East of England Deanery"]
["Middlewood Partnership","North West Deanery"]
["Mile Lane Health Centre trust","North West Deanery"]
["Mill Road Surgery Trust","East of England Deanery"]
["Mill Stream Surgery","Thames Valley Deanery"]
["Mill Street Medical Centre","North West Deanery"]
["Millbarn Medical Centre","Thames Valley Deanery"]
["Millbrook Medical Centre","North West Deanery"]
["Millbrook Medical Practice","North West Deanery"]
["Millbrook Mental Health Unit","East Midlands Deanery"]
["Millbrook Unit","North West Deanery"]
["Millenium Medical Centre Foundation","West Midlands Deanery"]
["Millgate Healthcare Partnership","North West Deanery"]
["Millrise Medical Practice","West Midlands Deanery"]
["Millview Surgery","East Midlands Deanery"]
["Millwood Surgery","East of England Deanery"]
["Milton Keynes Hospital","Thames Valley Deanery"]
["Milton Keynes Hospital","Thames Valley Deanery"]
["Milton Keynes Village Surgery","Thames Valley Deanery"]
["Minden Family Practices Dr Norman","North West Deanery"]
["Minster Surgery","West Midlands Deanery"]
["Modality Enki Medical Practice","West Midlands Deanery"]
["Monkspath Surgery","West Midlands Deanery"]
["Montgomery House Surgery","Thames Valley Deanery"]
["Montgomery Medical Practice","West Midlands Deanery"]
["Moor Green Lane Medical Centre","West Midlands Deanery"]
["Moorfield House Surgery","West Midlands Deanery"]
["Moorgate Primary Care Centre","North West Deanery"]
["Moorlands Medical Centre","West Midlands Deanery"]
["Moorside Medical Practice","North West Deanery"]
["Moorside Unit Adult Inpatient MHS","North West Deanery"]
["Moorside Unit Adult Inpatient MHS NHSFT","North West Deanery"]
["Moreton Medical Centre","North West Deanery"]
["Mortimer Surgery","Thames Valley Deanery"]
["Moseley Avenue Surgery","West Midlands Deanery"]
["Moseley Hall Hospital Trust","West Midlands Deanery"]
["Moss Grove Surgery","West Midlands Deanery"]
["Moss Side Medical Centre","North West Deanery"]
["Mount Chambers Medical Practice","East of England Deanery"]
["Mount Farm Surgery","East of England Deanery"]
["Mountcroft Resource Centre","North West Deanery"]
["Munro Medical Centre","East Midlands Deanery"]
["Munro Medical Centre","West Midlands Deanery"]
["Mytton Oak Surgery","West Midlands Deanery"]
["National Institute for Health Excellence","North West Deanery"]
["Nene Valley Medical Practice","East of England Deanery"]
["Neston Surgery","North West Deanery"]
["Nettleham Medical Practice","East Midlands Deanery"]
["New Collegiate Medical Centre","North West Deanery"]
["New Cross Hospital","West Midlands Deanery"]
["New Dispensary Surgery","West Midlands Deanery"]
["New Hall Lane Practice","North West Deanery"]
["New Queen Street Surgery","East of England Deanery"]
["New Road Surgery","West Midlands Deanery"]
["Newbold Surgery","East Midlands Deanery"]
["Newbold Surgery","West Midlands Deanery"]
["Newbridge Surgery","West Midlands Deanery"]
["Newbridge Surgery TGP","West Midlands Deanery"]
["Newhall Surgery","East Midlands Deanery"]
["Newnham Walk Surgery","East of England Deanery"]
["Newport Pagnell Medical Centre","Thames Valley Deanery"]
["Newthorpe Medical Practice","East Midlands Deanery"]
["Newton Drive Health Centre","North West Deanery"]
["Nobles hospital (IOM)","North West Deanery"]
["Norden House Surgey","Thames Valley Deanery"]
["Norfolk & Norwich University Hospitals FT","East of England Deanery"]
["Norfolk and Suffolk NHS Foundation NHS","East of England Deanery"]
["Norfolk County Council","East of England Deanery"]
["Norfolk Street Surgery","West Midlands Deanery"]
["North Essex Partnership NHS Foundation Trust","East of England Deanery"]
["North London Hospice","London and South East Deanery"]
["North Manchester General","North West Deanery"]
["North Preston Med Practice(Broadway Surg)","North West Deanery"]
["North Shore Surgery","North West Deanery"]
["North Staffordshire Combined Healthcare NHS","West Midlands Deanery"]
["Northampton General Hospital","East Midlands Deanery"]
["Northamptonshire Healthcare NHS FT","East Midlands Deanery"]
["Northbrook Group Health Centre Trust","West Midlands Deanery"]
["Northenden Group Practice Hospitals","North West Deanery"]
["Northern Moor Medical Practice","North West Deanery"]
["Northfield Medical Centre","East Midlands Deanery"]
["Northgate Medical Centre","North West Deanery"]
["Northgate Medical Centre","West Midlands Deanery"]
["Northgate Village Surgery","North West Deanery"]
["Northway Medical Centre","West Midlands Deanery"]
["Norwood Medical Centre","North West Deanery"]
["Norwood Surgery","North West Deanery"]
["Nottingham City Council","East Midlands Deanery"]
["Nottingham University Hospitals NHS Trust","East Midlands Deanery"]
["Nottinghamshire Healthcare NHS Foundation Trust","East Midlands Deanery"]
["Nuffield Health Centre","Thames Valley Deanery"]
["Nuffield Orthopaedic Centre","Thames Valley Deanery"]
["Nuffield Road Medical Centre","East of England Deanery"]
["NUH - QMC Campus","East Midlands Deanery"]
["Nunwell Surgery","West Midlands Deanery"]
["Nutwood Medical Practice","North West Deanery"]
["NW Deanery Manchester","North West Deanery"]
["Oak Gables Medical Practice","North West Deanery"]
["Oak Street Medical Practice","East of England Deanery"]
["Oak Vale Medical Centre","North West Deanery"]
["Oakenhurst Medical Practice","North West Deanery"]
["Oakfield Surgery","Thames Valley Deanery"]
["Oakham Surgery","West Midlands Deanery"]
["Oaklands Medical Centre","North West Deanery"]
["Oakswell Health Centre","West Midlands Deanery"]
["Oakwood Surgery","East Midlands Deanery"]
["Observatory Medical Practice","Thames Valley Deanery"]
["Old Coulsdon Medical Practice","West Midlands Deanery"]
["Old Exchange Surgery","East of England Deanery"]
["Old Harlow Health Centre","East of England Deanery"]
["Old Mill Surgery","West Midlands Deanery"]
["Old Station Surgery","East Midlands Deanery"]
["Old Swan Health Centre","North West Deanery"]
["Oldbury Health Centre","West Midlands Deanery"]
["Ombersley Medical Centre","West Midlands Deanery"]
["Omnia Medical Practice","West Midlands Deanery"]
["Ongar Health Centre","East of England Deanery"]
["Orchard House Surgery","East of England Deanery"]
["Orchard Medical Practice","East Midlands Deanery"]
["Orchard Surgery","East Midlands Deanery"]
["Orchard Surgery","West Midlands Deanery"]
["Orchard Surgery (Dereham)","East of England Deanery"]
["Ordsall Health Surgery","North West Deanery"]
["Orford Lodge Surgery","East of England Deanery"]
["Orient Road Medical Practice","North West Deanery"]
["Ormskirk & District General Hospital","North West Deanery"]
["Orrell Park Medical Centre","North West Deanery"]
["Orsett Surgery","East of England Deanery"]
["Osmaston Surgery","East Midlands Deanery"]
["Oswald Medical Centre","North West Deanery"]
["Over Surgery","East of England Deanery"]
["Over Wyre Medical Centre","North West Deanery"]
["Owen Road Surgery","North West Deanery"]
["Oxford Drive Medical Centre","East of England Deanery"]
["Oxford Road Medical Centre","North West Deanery"]
["Padiham Group Practice","North West Deanery"]
["Palatine Group Practice","North West Deanery"]
["Papworth Surgery","East of England Deanery"]
["Paradise Medical Centre","West Midlands Deanery"]
["Parbold Surgery","North West Deanery"]
["Park Edge Practice","West Midlands Deanery"]
["Park End Surgery","East of England Deanery"]
["Park Farm Medical Centre","East Midlands Deanery"]
["Park House Services","North West Deanery"]
["Park Lane Surgery","North West Deanery"]
["Park Leys Medical Practice","West Midlands Deanery"]
["Park Medical Centre","North West Deanery"]
["Park Medical Centre","North West Deanery"]
["Park Medical Practice","North West Deanery"]
["Park Surgery","East Midlands Deanery"]
["Park Surgery","West Midlands Deanery"]
["Park View Surgery","East Midlands Deanery"]
["Park View Surgery","North West Deanery"]
["Parkbury House Surgery","East of England Deanery"]
["Parkfield Medical Centre","East of England Deanery"]
["Parkfield Medical Centre","West Midlands Deanery"]
["Parkside Medical Centre","East Midlands Deanery"]
["Parkside Medical Centre (TV)","Thames Valley Deanery"]
["Parkside Practice","Thames Valley Deanery"]
["Parkside Sugery","East Midlands Deanery"]
["Parkside Surgery","North West Deanery"]
["Parkwood Surgery","East of England Deanery"]
["Parsonage Surgery","East of England Deanery"]
["Partington Family Practice","North West Deanery"]
["Paston Surgery","East of England Deanery"]
["Pathways Mental Health Resource Centre","North West Deanery"]
["Patterdale Lodge Medical Centre","North West Deanery"]
["Peace Hospice","London and South East Deanery"]
["Pear Tree Surgery","West Midlands Deanery"]
["Peasley Cross Resource Centre","North West Deanery"]
["Peel Group Practice","North West Deanery"]
["Peel Hall Medical Practice","North West Deanery"]
["Pemberley Surgery","East of England Deanery"]
["Pemberley Surgery","West Midlands Deanery"]
["Pendle House","North West Deanery"]
["Pendle View Medical Centre","North West Deanery"]
["Pendleton Gateway","North West Deanery"]
["Pendleton Gateway","North West Deanery"]
["Pendleton Medical Centre","North West Deanery"]
["Penketh Health Centre","North West Deanery"]
["Penkridge Medical Practice","West Midlands Deanery"]
["Penkridge Medical Practice","West Midlands Deanery"]
["Penn Manor Medical Centre","West Midlands Deanery"]
["Penn Surgery","West Midlands Deanery"]
["Pennine Care NHS Trust","North West Deanery"]
["Penny Lane Surgery","North West Deanery"]
["Pennygate Medical Centre","North West Deanery"]
["Pershore Medical Practice","West Midlands Deanery"]
["Peter House Surgery","West Midlands Deanery"]
["Peterborough City Hospital Trust","East of England Deanery"]
["Peterloo Medical Centre","North West Deanery"]
["Petersfield Surgery","East of England Deanery"]
["PHE - Screening & Immunisation","North West Deanery"]
["PHE (Blackburn with Darwen Borough","North West Deanery"]
["PHE (Blackpool Borough Council (Unitary)) Council)","North West Deanery"]
["PHE (Bolton Metropolitan Borough Council)","North West Deanery"]
["PHE (Bury Metropolitan Borough Council)","North West Deanery"]
["PHE (Cheshire & Mersey)","North West Deanery"]
["PHE (Cheshire East Council)","North West Deanery"]
["PHE (Cheshire West & Chester","North West Deanery"]
["PHE (Cumbria County Council) Council)","North West Deanery"]
["PHE (Halton Borough Council (Unitary))","North West Deanery"]
["PHE (Knowsley Metropolitan Borough Council)","North West Deanery"]
["PHE (Lancashire County Council)","North West Deanery"]
["PHE (Liverpool City Council)","North West Deanery"]
["PHE (Manchester City Council)","North West Deanery"]
["PHE (Oldham Metropolitan Borough Council)","North West Deanery"]
["PHE (Rochdale Borough Council)","North West Deanery"]
["PHE (Sefton Metropolitan Borough Council)","North West Deanery"]
["PHE (Stockport Borough Council)","North West Deanery"]
["PHE (Tameside Metropolitan Borough Council)","North West Deanery"]
["PHE (Trafford Metropolitan Borough Council)","North West Deanery"]
["PHE (University of Liverpool)","North West Deanery"]
["PHE (University of Manchester)","North West Deanery"]
["PHE (Warrington Borough Council) Clinical","North West Deanery"]
["PHE (Wirral Council)","North West Deanery"]
["PHE Lancaster University","North West Deanery"]
["Phyllis Tuckwell Hospice","London and South East Deanery"]
["Pike View Medical Centre","North West Deanery"]
["Pilgrim Hospital (RWDLA)","East Midlands Deanery"]
["Pilgrims Hospice at Ashford","London and South East Deanery"]
["Pilgrims Hospice in East Kent","London and South East Deanery"]
["Pinfold Medical Practice","East Midlands Deanery"]
["Plas Ffynnon Medical Centre","West Midlands Deanery"]
["Pleck Health Centre","West Midlands Deanery"]
["Pontesbury Medical Practice","West Midlands Deanery"]
["Pool Medical Centre","West Midlands Deanery"]
["Poplar Grove Practice","Thames Valley Deanery"]
["Portland Medical Practice","East Midlands Deanery"]
["Portland Medical Practice","West Midlands Deanery"]
["Potterells Medical Centre","East of England Deanery"]
["Prescott House Community Mental Health","North West Deanery"]
["Prescott Surgery","West Midlands Deanery"]
["Prestbury Medical Practice","West Midlands Deanery"]
["Primrose Surgery","North West Deanery"]
["Princess Road Surgery","North West Deanery"]
["Priory Fields Surgery","East of England Deanery"]
["Priory Gate Practice","West Midlands Deanery"]
["Priory Medical Centre","West Midlands Deanery"]
["Priory Surgery","Thames Valley Deanery"]
["Ptarmigan House","West Midlands Deanery"]
["Public Health (Edge Hill University) Team","North West Deanery"]
["Public Health England","East Midlands Deanery"]
["Public Health England","East of England Deanery"]
["Public Health England","North West Deanery"]
["Public Health England","West Midlands Deanery"]
["Public Health England (Nottinghamshire)","East Midlands Deanery"]
["Public Health Health Protection","East Midlands Deanery"]
["Public Health Health Protection","East of England Deanery"]
["Public Health Health Protection","North West Deanery"]
["Public Health Health Protection","West Midlands Deanery"]
["Public Health Local Authourity","East Midlands Deanery"]
["Public Health Local Authourity","East of England Deanery"]
["Public Health Local Authourity","North West Deanery"]
["Public Health Local Authourity","West Midlands Deanery"]
["Public Health University","East Midlands Deanery"]
["Public Health University","East of England Deanery"]
["Public Health University","North West Deanery"]
["Public Health University","West Midlands Deanery"]
["Putnoe Medical Centre Partnership","East of England Deanery"]
["Quayside Medical Practice","North West Deanery"]
["Queen Elizabeth Hospital","West Midlands Deanery"]
["Queen Elizabeth Hospital Birmingham","West Midlands Deanery"]
["Queensway Medical Centre","East Midlands Deanery"]
["Queensway Medical Centre","North West Deanery"]
["Queensway Surgery","East of England Deanery"]
["Radbrook Green Surgery","West Midlands Deanery"]
["Radcliffe Medical Practice","North West Deanery"]
["Radcliffe-On-Trent. Health Centre","East Midlands Deanery"]
["Rainbow Medical Centre","North West Deanery"]
["Rainford Medical Centre","North West Deanery"]
["Ramsey Health Centre","East of England Deanery"]
["Ramsgate House Community Mental Health Team","North West Deanery"]
["Rawnsley Building Services","North West Deanery"]
["Rawnsley Building Services Team","North West Deanery"]
["Readesmoor Medical Centre","North West Deanery"]
["Red House Surgery","East of England Deanery"]
["Red Roofs Surgery","West Midlands Deanery"]
["Reedyford Health Care Group","North West Deanery"]
["Regal Chambers Surgery","East of England Deanery"]
["Regent House Surgery","North West Deanery"]
["Regis medical centre","West Midlands Deanery"]
["Revel Surgery","West Midlands Deanery"]
["Ribblesdale Medical Practice","North West Deanery"]
["Ribbleton Medical Centre","North West Deanery"]
["Ridgacre House Surgery","West Midlands Deanery"]
["Ripley Medical Centre","East Midlands Deanery"]
["Rise Park Surgery","East Midlands Deanery"]
["Rising Brook Surgery","West Midlands Deanery"]
["River Brook Medical Centre","West Midlands Deanery"]
["Rivermead Gate Medical Centre","East of England Deanery"]
["Riversdale Surgery","East Midlands Deanery"]
["Riverside Medical Practice","West Midlands Deanery"]
["Riverside Surgery","Thames Valley Deanery"]
["Riverside surgery","West Midlands Deanery"]
["Riversley Road Surgery","West Midlands Deanery"]
["Rivington Unit Inpatient Mental Health","North West Deanery"]
["Robert Darbishire Practice","North West Deanery"]
["Rochdale Infirmary","North West Deanery"]
["Rock Court Surgery","North West Deanery"]
["Roe Lane Surgery","North West Deanery"]
["Roman Road Health Centre","North West Deanery"]
["Rope Green Medical Centre","North West Deanery"]
["Rosedale Surgery","East of England Deanery"]
["Rosegrove Surgery","North West Deanery"]
["Rosemead Surgery","Thames Valley Deanery"]
["Rosemount","North West Deanery"]
["Rother House Medical Centre Hunt","West Midlands Deanery"]
["Rothschild House Surgery","Thames Valley Deanery"]
["Rothwell Medical Centre","East Midlands Deanery"]
["Rotton Park Medical Centre","West Midlands Deanery"]
["Rough Hay Surgery","West Midlands Deanery"]
["Roundwell Medical Centre","East of England Deanery"]
["Roundwood Park Medical Centre","West Midlands Deanery"]
["Roundwood Surgery","East Midlands Deanery"]
["Royal Albert Edward Infirmary","North West Deanery"]
["Royal Berkshire Hospital","Thames Valley Deanery"]
["Royal Blackburn Hospital","North West Deanery"]
["Royal Bolton Hospital","North West Deanery"]
["Royal Derby Hospital","East Midlands Deanery"]
["Royal Free London NHS Foundation","London and South East Deanery"]
["Royal Lancaster Infirmary","North West Deanery"]
["Royal Liverpool University Hosp","North West Deanery"]
["Royal Manchester Childrens Hospital","North West Deanery"]
["Royal Oldham Hospital","North West Deanery"]
["Royal Oldham Hospital","North West Deanery"]
["Royal Preston Hospital","North West Deanery"]
["Royal Preston Hospital","North West Deanery"]
["Royal Shrewsbury Hospital in","West Midlands Deanery"]
["Royal Stoke University Hospital","West Midlands Deanery"]
["Royal Surrey County Hospital Trust","London and South East Deanery"]
["Royton Medical Centre","North West Deanery"]
["Runnymede Medical Practice","Thames Valley Deanery"]
["Rushall Medical Centre","West Midlands Deanery"]
["Rushgreen Medical Centre","East of England Deanery"]
["Russells Hall Hospital","West Midlands Deanery"]
["Rutherford Medical Centre","North West Deanery"]
["Saddlebridge Recovery Centre","North West Deanery"]
["Saddleworth Medical Practice","North West Deanery"]
["Saffron Group Practice","East Midlands Deanery"]
["Saffron Health Partnership","East of England Deanery"]
["Salford Psychological Therapies Serives","North West Deanery"]
["Salford Royal NHS FT","North West Deanery"]
["Salters Meadow Health Centre","West Midlands Deanery"]
["Salters Medical Practice","West Midlands Deanery"]
["Sam Beare Hospice","London and South East Deanery"]
["Sandwell And West Birmingham Hospitals Trust","West Midlands Deanery"]
["Sandwell General Hospital","West Midlands Deanery"]
["Sandy Health Centre","East of England Deanery"]
["Sandy Lane Surgery","North West Deanery"]
["Saraf Medical Practice","North West Deanery"]
["Saxon Cross Surgery","East Midlands Deanery"]
["Saxon Spires Practice","East Midlands Deanery"]
["School Lane Surgery","East of England Deanery"]
["Schopwick Surgery","East of England Deanery"]
["Selly Park Surgery","West Midlands Deanery"]
["Selly Park Surgery NHS","West Midlands Deanery"]
["Sett Valley Medical Centre","North West Deanery"]
["Severn Fields Medical Practice","West Midlands Deanery"]
["Severn Hospice","West Midlands Deanery"]
["Shanklin House Surgery","West Midlands Deanery"]
["Shawbirch Medical Practice","West Midlands Deanery"]
["Shawbrook House","North West Deanery"]
["Sheepcot Medical Centre","East of England Deanery"]
["Sheet Street Surgery","Thames Valley Deanery"]
["Shefford Health Centre","East of England Deanery"]
["Shenley Green Surgery","West Midlands Deanery"]
["Shephall Health Centre Surgery","East of England Deanery"]
["Sherbourne Medical Centre","West Midlands Deanery"]
["Sheringham Medical Practice","East of England Deanery"]
["Sherwood Family Medical Centre (Kirkby)","East Midlands Deanery"]
["Sherwood Forest Hospitals NHS Foundation","East Midlands Deanery"]
["Sherwood House Medical Practice","West Midlands Deanery"]
["Sherwood Medical Partnership Trust","East Midlands Deanery"]
["Shevington Surgery","North West Deanery"]
["Shifa Surgery","North West Deanery"]
["Shipston Medical Centre","Thames Valley Deanery"]
["Shipston Medical Centre","West Midlands Deanery"]
["Shires Healthcare","East Midlands Deanery"]
["Shirley Medical Centre","West Midlands Deanery"]
["Showell Park Health and Walk Centre Y02736","West Midlands Deanery"]
["Shrewsbury And Telford Hospital NHS","West Midlands Deanery"]
["Silverdale Medical Centre Trust","West Midlands Deanery"]
["Sir Michael Sobell House","Thames Valley Deanery"]
["Sivakumar & Partner","North West Deanery"]
["Sky Blue Medical Practice","West Midlands Deanery"]
["Sleaford Medical Group","East Midlands Deanery"]
["Small Heath Medical Practice","West Midlands Deanery"]
["Soho Road Primary Care Centre","West Midlands Deanery"]
["Somercotes Medical Centre","East Midlands Deanery"]
["Somerville Medical Centre","North West Deanery"]
["Sonning Common Health Centre","Thames Valley Deanery"]
["Sorrel Bank Medical Practice","North West Deanery"]
["South Essex Partnership Uni NHS Trust","East of England Deanery"]
["South Hermitage Surgery","West Midlands Deanery"]
["South Park Surgery","North West Deanery"]
["South Street Surgery Foundation","East of England Deanery"]
["South Warwickshire NHS Foundation Trust Trust","West Midlands Deanery"]
["South West Hub 1 TGP","West Midlands Deanery"]
["South Wigston Health Centre","East Midlands Deanery"]
["Southam Surgery","West Midlands Deanery"]
["Southam Surgery","West Midlands Deanery"]
["Southend Unitary Authority","East of England Deanery"]
["Southend University Hospital NHS Foundation","East of England Deanery"]
["Southfield Way Surgery","West Midlands Deanery"]
["Southgates Medical Centre Trust","East of England Deanery"]
["Southmead Surgery","Thames Valley Deanery"]
["Southport & Formby District General","North West Deanery"]
["Southwell Medical Centre","East Midlands Deanery"]
["Spa Medical Practice","West Midlands Deanery"]
["Spilsby Surgery","East Midlands Deanery"]
["Spinney Brook Medical Centre","East Midlands Deanery"]
["Spinney Hill Medical Centre","East Midlands Deanery"]
["Spinney Surgery","East of England Deanery"]
["Spital Surgery","North West Deanery"]
["Spring Gardens Group Medical Practice","West Midlands Deanery"]
["Spring Hill Medical Centre","West Midlands Deanery"]
["Spring Hill Medical Centre","West Midlands Deanery"]
["Spring House Surgery","North West Deanery"]
["Springfield House","North West Deanery"]
["Springfield Medical Practice","West Midlands Deanery"]
["Springfield Medical Practice","West Midlands Deanery"]
["Springfield Surgery","East Midlands Deanery"]
["Springfield Surgery","North West Deanery"]
["Springfield Surgery","Thames Valley Deanery"]
["Springfields Medical Centre","North West Deanery"]
["Springs Health Centre","East Midlands Deanery"]
["St Andrew's House Surgery","North West Deanery"]
["St Andrews Medical Practice","North West Deanery"]
["St Ann's Hospice","North West Deanery"]
["St Barnabas Hospice","London and South East Deanery"]
["St Catherine's Hospice","London and South East Deanery"]
["St Catherine's Hospital","North West Deanery"]
["St Catherines Surgery","North West Deanery"]
["St Catherine's Surgery","West Midlands Deanery"]
["St Christophers Hospice","London and South East Deanery"]
["St Clements Surgery","West Midlands Deanery"]
["St David's Family Practice","West Midlands Deanery"]
["St Francis Hospice","London and South East Deanery"]
["St Georges Med Practice","East Midlands Deanery"]
["St George's Medical Centre","East of England Deanery"]
["St George's Medical Centre","North West Deanery"]
["St George's University Hospials NHS","London and South East Deanery"]
["St Helens & Knowsley Teaching NHS Trust","North West Deanery"]
["St Helens Road Practice","North West Deanery"]
["St Helier Medical Practice","West Midlands Deanery"]
["St Hilary Group Practice","North West Deanery"]
["St James' Medical Centre","North West Deanery"]
["St John's Hospice Liverpool Recharge","North West Deanery"]
["St Johns Medical Centre","North West Deanery"]
["St Johns Surgery","West Midlands Deanery"]
["St Joseph's Hospice Trust","London and South East Deanery"]
["St Luke's Hospice","London and South East Deanery"]
["St Lukes Surgery","West Midlands Deanery"]
["St Marks Medical Centre","North West Deanery"]
["St Martins Gate Surgery","West Midlands Deanery"]
["St Mary's Health Centre","North West Deanery"]
["St Mary's Hospice Birmingham","West Midlands Deanery"]
["St Marys Hospital","North West Deanery"]
["St Mary's Hospital (Kettering)","East Midlands Deanery"]
["St Mary's Surgery","East of England Deanery"]
["St Mary's Surgery","North West Deanery"]
["St Nicholas Group Practice","North West Deanery"]
["St Paul's Medical Centre","West Midlands Deanery"]
["St Peters Hill Surgery","East Midlands Deanery"]
["St Peter's Surgery","West Midlands Deanery"]
["St Saviours Surgery","West Midlands Deanery"]
["St Stephen's Gate Medical Partnership","East of England Deanery"]
["St Stephens Surgery","West Midlands Deanery"]
["St Stephens Surgery","West Midlands Deanery"]
["St. Bartholemew's Medical Centre","Thames Valley Deanery"]
["ST. CHADS COURT","West Midlands Deanery"]
["St.Mary's Health Centre","North West Deanery"]
["Staffa Health Centre","East Midlands Deanery"]
["Stafford Health & Wellbeing","West Midlands Deanery"]
["Stalham Staithe Surgery","East of England Deanery"]
["Standish Medical Practice","North West Deanery"]
["Stanhope Surgery","East of England Deanery"]
["Stanmore Medical Group","East of England Deanery"]
["Stapenhill Medical Centre","West Midlands Deanery"]
["Staploe Medical Centre","East of England Deanery"]
["Statham Grove Surgery","West Midlands Deanery"]
["Station Drive Surgery","West Midlands Deanery"]
["Station House Surgery","North West Deanery"]
["Station View Health Centre","East Midlands Deanery"]
["Staveleigh Medical Centre","North West Deanery"]
["Stein Centre","North West Deanery"]
["Stenhouse Medical Centre","East Midlands Deanery"]
["Stepping Hill Hospital","North West Deanery"]
["Stepping Hill Hospital","North West Deanery"]
["Sth Staffordshire & Shropshire NHS Trust","West Midlands Deanery"]
["Stifford Clays Health Centre","East of England Deanery"]
["Stirchley Medical Practice","West Midlands Deanery"]
["Stockbridge Village Health Centre","North West Deanery"]
["Stockport Medical Group","North West Deanery"]
["Stockton Heath Medical Centre","North West Deanery"]
["Stonebridge Surgery","North West Deanery"]
["Stonefield Street Surgery","North West Deanery"]
["Stonehill Medical Centre","North West Deanery"]
["Stony Medical Centre","Thames Valley Deanery"]
["Stopsley Village Practice","East of England Deanery"]
["Stourport Health Centre","West Midlands Deanery"]
["Stowhealth","East of England Deanery"]
["Strawberry Hill Medical","Thames Valley Deanery"]
["Stroud Practice","West Midlands Deanery"]
["Suffolk County Council","East of England Deanery"]
["Sullivan Way Surgery","North West Deanery"]
["Summertown Health Centre","Thames Valley Deanery"]
["Sundon Medical Centre","East of England Deanery"]
["Sunlight Group Practice","North West Deanery"]
["Sutton Coldfield Group Practice","West Midlands Deanery"]
["Sutton Hill Medical Practice","West Midlands Deanery"]
["Sutton Park Surgery","West Midlands Deanery"]
["Swadlincote Surgery","East Midlands Deanery"]
["Swan Surgery","East of England Deanery"]
["Swanlow Medical Centre","North West Deanery"]
["Swanwood Partnership","East of England Deanery"]
["Swanwood Partnership","West Midlands Deanery"]
["Swineshead Surgery","East Midlands Deanery"]
["Tameside General Hospital","North West Deanery"]
["Tameside General Hospital","North West Deanery"]
["Tameside General Hospital","West Midlands Deanery"]
["Tarleton Group Practice","North West Deanery"]
["Tean Surgery","West Midlands Deanery"]
["Tennyson House Surgery","East of England Deanery"]
["Thames Hospice","Thames Valley Deanery"]
["Thames Valley","Thames Valley Deanery"]
["Thatcham Health Centre","Thames Valley Deanery"]
["The Abingdon Surgery","Thames Valley Deanery"]
["The Allport Surgery","North West Deanery"]
["The Arch Medical Practice","North West Deanery"]
["The Ardleigh Surgery","East of England Deanery"]
["The Ash Surgery","North West Deanery"]
["The Atherstone Surgery","West Midlands Deanery"]
["The Avenue Medical Centre","North West Deanery"]
["The Baldock Surgery","East of England Deanery"]
["The Beeches Medical Centre","North West Deanery"]
["The Bell Surgery","Thames Valley Deanery"]
["The Billericay Medical Practice","East of England Deanery"]
["The Black Country Family Practice","West Midlands Deanery"]
["The Blythe Practice","West Midlands Deanery"]
["The Borchardt Medical Centre","North West Deanery"]
["The Bridge Surgery","West Midlands Deanery"]
["The Brimington Surgery","East Midlands Deanery"]
["The Burbage Surgery","East Midlands Deanery"]
["The Calverton Practice","East Midlands Deanery"]
["The Castle Medical Group","North West Deanery"]
["The Caxton Surgery","West Midlands Deanery"]
["The Cedars Medical Centre","North West Deanery"]
["The Cedars Surgery","Thames Valley Deanery"]
["The Central Surgery","East Midlands Deanery"]
["The Chandler Surgery","North West Deanery"]
["The Chandler Surgery","West Midlands Deanery"]
["The Chesterfield Drive Practice","East of England Deanery"]
["The Cheylesmore Surgery","West Midlands Deanery"]
["The Church Street Practice","West Midlands Deanery"]
["The Colliery Practice","West Midlands Deanery"]
["The Colne Practice","East of England Deanery"]
["The Community Health Centre","East Midlands Deanery"]
["The Cornerstone Practice","East of England Deanery"]
["The Cornerstone Practice","North West Deanery"]
["The County Practice","East Midlands Deanery"]
["The Croft Medical Centre","East Midlands Deanery"]
["The Cross Keys Practice","Thames Valley Deanery"]
["The De Parys Group","East of England Deanery"]
["The Deepings Health Centre","East Midlands Deanery"]
["The Deepings Practice","East of England Deanery"]
["The Derby Road Practice","East of England Deanery"]
["The Docs Surgey","North West Deanery"]
["The Doctors House, Marlow Medical K82023","Thames Valley Deanery"]
["The Dove Medical Practice","West Midlands Deanery"]
["The Dow Surgery","West Midlands Deanery"]
["The Dudley Group NHS Foundation","West Midlands Deanery"]
["The Dunstan Partnership","North West Deanery"]
["The Eden Surgeries","East of England Deanery"]
["The Elizabeth Courtauld Surgery","East of England Deanery"]
["The Elms Medical Centre","North West Deanery"]
["The Forest Practice","East Midlands Deanery"]
["The Glenfield Surgery","East Midlands Deanery"]
["The Glenside Country Practice","East Midlands Deanery"]
["The Gold Street Surgery","East of England Deanery"]
["The Golden Brook Practice","East Midlands Deanery"]
["The Grange Medical Centre Trust","West Midlands Deanery"]
["The Grange Surgery","North West Deanery"]
["The Greensward Surgery","East of England Deanery"]
["The Greet Medical Practice","West Midlands Deanery"]
["The Grey Road Surgery","North West Deanery"]
["The Guildhall & Barrow Surgery","East of England Deanery"]
["The Hall Practice Group","Thames Valley Deanery"]
["The Hamilton Practice","East of England Deanery"]
["The Harbour","North West Deanery"]
["The Harlequin Surgery","West Midlands Deanery"]
["The Hart Surgery","Thames Valley Deanery"]
["The Hart Surgery","West Midlands Deanery"]
["The Hawthorns Surgery","West Midlands Deanery"]
["The Health Centre Holmes Chapel","North West Deanery"]
["The Health Centre Practice","East of England Deanery"]
["The Healthcare Centre","North West Deanery"]
["The Healthcare Centre","North West Deanery"]
["The Hedges Medical Centre","East Midlands Deanery"]
["The Hicks Group Practice","East of England Deanery"]
["The High Street Surgery","West Midlands Deanery"]
["The Hill GP Practice","West Midlands Deanery"]
["The Hollies","East of England Deanery"]
["The Hollies Surgery","East of England Deanery"]
["The Jubilee Medical Practice","East Midlands Deanery"]
["The Key Medical Practice","Thames Valley Deanery"]
["The Kings Norton Surgery","West Midlands Deanery"]
["The Kingstanding Community Practice","West Midlands Deanery"]
["The Langton Medical Group","West Midlands Deanery"]
["The Laurels Surgery","East of England Deanery"]
["The Leys Health Centre","Thames Valley Deanery"]
["The Limes Medical Centre","East Midlands Deanery"]
["The Limes Medical Centre (Epping)","East of England Deanery"]
["The Linkway Medical Practice","West Midlands Deanery"]
["The Lodge Surgery","East of England Deanery"]
["The Long Buckby Practice","East Midlands Deanery"]
["The Long Melford Practice","East of England Deanery"]
["The Manor Practice","West Midlands Deanery"]
["The Manor Street Surgery","East of England Deanery"]
["The Manor Surgery","East Midlands Deanery"]
["The Maples","East of England Deanery"]
["The Maples Medical Centre","North West Deanery"]
["The Marches Surgery","West Midlands Deanery"]
["The Margaret Thompson Medical Centre","North West Deanery"]
["The Medici Medical Practice","East of England Deanery"]
["The Misbourne Sugery","Thames Valley Deanery"]
["The Moir Medical Centre","East Midlands Deanery"]
["The Moorcroft Medical Centre","West Midlands Deanery"]
["The New Springwells Practice","East Midlands Deanery"]
["The Nile Practice","West Midlands Deanery"]
["The Norwich Road Surgery","East of England Deanery"]
["The Orchard","North West Deanery"]
["The Orchard Surgery","North West Deanery"]
["The Orchard Surgery","Thames Valley Deanery"]
["The Pall Mall Surgery","East of England Deanery"]
["The Park Medical Practice","East Midlands Deanery"]
["The Park Medical Practice","North West Deanery"]
["The Park Surgery","East of England Deanery"]
["The Parks Medical Practice","East Midlands Deanery"]
["The Parks Medical Practice","Thames Valley Deanery"]
["The Peel Medical Centre","West Midlands Deanery"]
["The Pendle Medical Partnership","North West Deanery"]
["The Peninsula Practice","East of England Deanery"]
["The Portmill Surgery","East of England Deanery"]
["The Princess Alexandra Hospital NHS","East of England Deanery"]
["The Princess Alice Hospice","London and South East Deanery"]
["The Princess Royal Hospital","West Midlands Deanery"]
["The Puzey Family Practice Trust","East of England Deanery"]
["The Queen Elizabeth Hospital, King's NHS FT","East of England Deanery"]
["The Range Medical Centre","North West Deanery"]
["The Red House Surgery","Thames Valley Deanery"]
["The Richmond Hill Practice","North West Deanery"]
["The Ridgeway Surgery","West Midlands Deanery"]
["The Robert Jones & Agnes Orthopaedic Hospital","West Midlands Deanery"]
["The Rookery Medical Centre Lynn,","East of England Deanery"]
["The Royal Marsden NHS Foundation","London and South East Deanery"]
["The Royal Orthopaedic Hospital NHS Trust","West Midlands Deanery"]
["The Royal Wolverhampton NHS Trust","West Midlands Deanery"]
["The Royal Wolverhampton NHS Trust","West Midlands Deanery"]
["The Royton & Crompton Family P85013","North West Deanery"]
["The Royton & Crompton Family P85013","West Midlands Deanery"]
["The Ruddington Medical Centre","East Midlands Deanery"]
["The Ryan Medical Centre Practice","North West Deanery"]
["The Rycote Practice","Thames Valley Deanery"]
["The Schoolhouse Surgery","North West Deanery"]
["The Sides Medical Practice","North West Deanery"]
["The Simpson Centre","Thames Valley Deanery"]
["The South Lambeth Road Practice G85086","West Midlands Deanery"]
["The Spinney Medical Centre","North West Deanery"]
["The Stonedean Practice","Thames Valley Deanery"]
["The Strand Medical Centre","North West Deanery"]
["The Surgery","North West Deanery"]
["The Surgery","North West Deanery"]
["The Surgery","North West Deanery"]
["The Surgery - Dr Khatri Partners","North West Deanery"]
["The Surgery at Wheatbridge","East Midlands Deanery"]
["The Swan Medical Centre","West Midlands Deanery"]
["The Swan Practice","Thames Valley Deanery"]
["The Thornton Practice","North West Deanery"]
["The Uppingham Surgery","East Midlands Deanery"]
["The Valkyrie Surgery","East of England Deanery"]
["The Valley Medical","East Midlands Deanery"]
["The Valleys Medical","East Midlands Deanery"]
["The Village Medical Centre","North West Deanery"]
["The Village Surgery","North West Deanery"]
["The Village Surgery","West Midlands Deanery"]
["The Village Surgery Formby","North West Deanery"]
["The Vine Medical Centre","West Midlands Deanery"]
["The Wand Medical Centre","West Midlands Deanery"]
["The Wand Medical Centre","West Midlands Deanery"]
["The Waterfield Practice","Thames Valley Deanery"]
["The Weavers Practice","North West Deanery"]
["The Wellspring Surgery","East Midlands Deanery"]
["The Westgate Practice","West Midlands Deanery"]
["The Willows Medical Practice","North West Deanery"]
["The Windmill Practice","East Midlands Deanery"]
["The Wolverhampton Road Surgery","West Midlands Deanery"]
["The Wycliffe Medical Practice","East Midlands Deanery"]
["Theale Medical Centre","Thames Valley Deanery"]
["Thistlemoor Medical Centre","East of England Deanery"]
["Thomas Walker Surgery","East of England Deanery"]
["Thorn Road Clinic","North West Deanery"]
["Thornbrook Surgery","North West Deanery"]
["Thornley Street medical Practice","West Midlands Deanery"]
["Three villages Medical Practice","West Midlands Deanery"]
["Threeways Surgery","Thames Valley Deanery"]
["Thursby Surgery","North West Deanery"]
["Tile House Surgery","East of England Deanery"]
["Tilehurst Surgery Partnership","Thames Valley Deanery"]
["Toft Road Surgery","North West Deanery"]
["Tollgate Health Centre","East of England Deanery"]
["Torkard Hill Medical Centre","East Midlands Deanery"]
["Towcester Medical Centre","East Midlands Deanery"]
["Tower Family Healthcare","North West Deanery"]
["Tower House Practice","North West Deanery"]
["Tower House Surgery","Thames Valley Deanery"]
["Trafford General Hospital","North West Deanery"]
["Treganna Group Practice","North West Deanery"]
["Trent Meadows","West Midlands Deanery"]
["Trent Vale Medical Practice","West Midlands Deanery"]
["Trentside Medical Group","East Midlands Deanery"]
["Tri Links Medical Practice","West Midlands Deanery"]
["Trinity & Bowthorpe Medical Practice","East of England Deanery"]
["Trinity Hospice Trust","London and South East Deanery"]
["Trinity Surgery","East of England Deanery"]
["Trumpington Street Medical Practice","East of England Deanery"]
["Tudor Medical Centre","West Midlands Deanery"]
["Tunstall Primary Care Centre","West Midlands Deanery"]
["Tutbury Health Centre","West Midlands Deanery"]
["Two Rivers Medical Centre","East of England Deanery"]
["Two Shires Surgery","East Midlands Deanery"]
["Ulverston Health Centre Murray","North West Deanery"]
["United Lincolnshire Hospitals NHS Trust","East Midlands Deanery"]
["Unity Health","Thames Valley Deanery"]
["University Health Group","Thames Valley Deanery"]
["University Hospital (Coventry)","West Midlands Deanery"]
["University Hospital (Coventry) Trust","West Midlands Deanery"]
["University Hospital Birmingham NHS Foundation","West Midlands Deanery"]
["University Hospitals Coventry & Warwickshire","West Midlands Deanery"]
["University Hospitals of Leicester NHS","East Midlands Deanery"]
["University Hospitals of North Midlands Trust","West Midlands Deanery"]
["University Medical Practice NHS","West Midlands Deanery"]
["University of Cambridge, Institute of Health","East of England Deanery"]
["Unsworth Group Practice","North West Deanery"]
["Upton Group Practice","North West Deanery"]
["Upton Hospital","Thames Valley Deanery"]
["Upton Lea Resource Centre","North West Deanery"]
["Upton Surgery","West Midlands Deanery"]
["Upton Village Surgery","North West Deanery"]
["Vale House Resource Centre","North West Deanery"]
["Vale of Red Horse","Thames Valley Deanery"]
["Vale Of Red Horse","West Midlands Deanery"]
["Vallance Centre","North West Deanery"]
["Valley Medical Centre","North West Deanery"]
["Vauxhall Health Centre","North West Deanery"]
["Vernon Street Medical Centre","East Midlands Deanery"]
["Victoria and Mapperley Practice","East Midlands Deanery"]
["Victoria Park Health Centre","East Midlands Deanery"]
["Victoria Road Medical Centre","West Midlands Deanery"]
["Victoria Road Surgery","East of England Deanery"]
["Victoria Surgery","East of England Deanery"]
["Vida Healthcare","East of England Deanery"]
["Villa Medical Centre","North West Deanery"]
["Village Practice","North West Deanery"]
["Village Surgery","East Midlands Deanery"]
["Village Surgery","East of England Deanery"]
["Village Surgery","North West Deanery"]
["Vista Road Surgery","North West Deanery"]
["Wake Green Surgery","West Midlands Deanery"]
["Wakefield House","North West Deanery"]
["Wallace House Surgery","East of England Deanery"]
["Wallingford Medical Practice","Thames Valley Deanery"]
["Walnut Tree Health Centre","Thames Valley Deanery"]
["Walton Centre for Neurology","North West Deanery"]
["Walton Medical Centre","North West Deanery"]
["Wansford Surgery","East of England Deanery"]
["Ward End Medical Centre","West Midlands Deanery"]
["Warden Lodge Medical Practice","East of England Deanery"]
["Wargrave Surgery","Thames Valley Deanery"]
["Warley Medical Centre","West Midlands Deanery"]
["Warrington General Hospital","North West Deanery"]
["Warwick Myton Hospice","West Midlands Deanery"]
["Washingborough Surgery","East Midlands Deanery"]
["Washway Road Medical Centre","North West Deanery"]
["Waterfoot Health Centre","North West Deanery"]
["Waterhouses Medical Practice","West Midlands Deanery"]
["Waterloo House Surgery","North West Deanery"]
["Waterloo Medical Centre","North West Deanery"]
["Watford General Hospital","East of England Deanery"]
["Watling Street Medical Centre","North West Deanery"]
["Weaver Vale Practice","North West Deanery"]
["Weavers Medical","East Midlands Deanery"]
["Weeping Cross Health Centre","West Midlands Deanery"]
["Welbeck Road Health Centre","East Midlands Deanery"]
["Well Street Medical Centre","West Midlands Deanery"]
["Well Street Surgery","West Midlands Deanery"]
["Wellfield Health Centre","North West Deanery"]
["Wellfield Health Centre","North West Deanery"]
["Wellington House Surgery","Thames Valley Deanery"]
["Wellington Medical Practice","West Midlands Deanery"]
["Wellington Road Surgery","West Midlands Deanery"]
["Wellside Surgery","East of England Deanery"]
["Wem and Prees Medical Practice","West Midlands Deanery"]
["Weobley & Staunton-on-Wye Surgeries","West Midlands Deanery"]
["Weoley Park Surgery","West Midlands Deanery"]
["Werrington Village Surgery","West Midlands Deanery"]
["West Derby Medical Centre","North West Deanery"]
["West Gorton Medical Centre","North West Deanery"]
["West Heath Surgery","West Midlands Deanery"]
["West Hertfordshire Hospitals NHS Trust","East of England Deanery"]
["West Mersea Surgery EOE","East of England Deanery"]
["West Midlands","West Midlands Deanery"]
["West Midlands","West Midlands Deanery"]
["West Midlands","West Midlands Deanery"]
["West Midlands","West Midlands Deanery"]
["West Point Medical Centre","North West Deanery"]
["West Strand Business Park","North West Deanery"]
["West Suffolk NHS Foundation Trust","East of England Deanery"]
["West Wirral Group Practice","North West Deanery"]
["Westdale Lane Surgery","East Midlands Deanery"]
["Western Elms & Circuit Lane K81062","Thames Valley Deanery"]
["Western Road Surgery","East of England Deanery"]
["Westminster Medical Centre","North West Deanery"]
["Westmoreland GP Centre","North West Deanery"]
["Westongrove Partenership Surgeries","Thames Valley Deanery"]
["Westside Medical Centre","West Midlands Deanery"]
["Westway Medical Centre","North West Deanery"]
["Wetmore Road Surgery","West Midlands Deanery"]
["Wexham Park Hospital","Thames Valley Deanery"]
["Whaddon Medical centre","Thames Valley Deanery"]
["Whalley Medical Centre","North West Deanery"]
["Wheatfield Surgery","East of England Deanery"]
["Whiston Hospital","North West Deanery"]
["Whiston Hospital","North West Deanery"]
["Whiston Hospital","North West Deanery"]
["White Horse Medical Practice","Thames Valley Deanery"]
["Whiteacres Medical Centre","West Midlands Deanery"]
["Whitehall Medical Practice","West Midlands Deanery"]
["Whitemoor Medical Centre","East Midlands Deanery"]
["Whitley House Surgery","East of England Deanery"]
["Whitnash Medical Centre","West Midlands Deanery"]
["Whittaker Lane Medical Centre","North West Deanery"]
["Whittaker Lane Medical Centre","West Midlands Deanery"]
["Whittington Moor Surgery","East Midlands Deanery"]
["Wickhambrook Surgery","East of England Deanery"]
["Wigston Central Surgery","East Midlands Deanery"]
["Willen Hospice","Thames Valley Deanery"]
["Willenhall Oak Medical Centre","West Midlands Deanery"]
["Willington Surgery","East Midlands Deanery"]
["Willowbrook Medical Centre","East Midlands Deanery"]
["Willowbrook Medical Practice","East Midlands Deanery"]
["Wilmslow Health Centre","North West Deanery"]
["Wilson Street Surgery","East Midlands Deanery"]
["Windrush Medical Practice","Thames Valley Deanery"]
["Winnicott Centre","North West Deanery"]
["Winyates Health Centre","West Midlands Deanery"]
["Wirral University (Arrowe Park)","North West Deanery"]
["Withington Community Hospital","North West Deanery"]
["Witney Community Hospital","Thames Valley Deanery"]
["Witton Street Surgery","North West Deanery"]
["Woden Road Surgery","West Midlands Deanery"]
["Wokingham Medical Centre","Thames Valley Deanery"]
["Wollaston and Bozeat Surgeries","East Midlands Deanery"]
["Wollaton Park Medical Centre","East Midlands Deanery"]
["Wolstanton Medical Centre","West Midlands Deanery"]
["Wolston Surgery","West Midlands Deanery"]
["Wood End Health Centre","West Midlands Deanery"]
["Woodbrook Medical Centre","East Midlands Deanery"]
["Woodcock Road Surgery","East of England Deanery"]
["Woodgate Valley Health Centre","West Midlands Deanery"]
["Woodland Road Surgery","West Midlands Deanery"]
["Woodlands Medical Practice","East Midlands Deanery"]
["Woodlands Medical Practice","North West Deanery"]
["Woodlands Older Adult Inpatient Service","North West Deanery"]
["Woodlands Surgery","East of England Deanery"]
["Woodley Practice","Thames Valley Deanery"]
["Woodsend Medical Centre","East Midlands Deanery"]
["Woodside Medical Centre","West Midlands Deanery"]
["Woodview Medical Centre","East Midlands Deanery"]
["Woolpit Health Centre","East of England Deanery"]
["Woolton House Medical Centre","North West Deanery"]
["Worcestershire Acute Hospitals NHS Trust","West Midlands Deanery"]
["Worcestershire Health and Care NHS","West Midlands Deanery"]
["Worcestershire Royal Hospital","West Midlands Deanery"]
["Wordsley Green Health Centre Trust","West Midlands Deanery"]
["Wrafton House Surgery","East of England Deanery"]
["Wrightington, Wigan & Leigh NHS","North West Deanery"]
["Wychall Lane Surgery","West Midlands Deanery"]
["Wychbury Medical Centre","West Midlands Deanery"]
["Wychwood Surgery","Thames Valley Deanery"]
["Wycombe General Hospital","Thames Valley Deanery"]
["Wye Valley NHS Trust","West Midlands Deanery"]
["Wythenshawe Hospital","North West Deanery"]
["Wythenshawe Hospital","North West Deanery"]
["Yardley Green Medical Centre","West Midlands Deanery"]
["Yardley Wood Health Centre","West Midlands Deanery"]
["Yaxley Group Practice (Lakeside Healthcare)","East of England Deanery"]
["Yew Tree Medical Centre","West Midlands Deanery"]
["York House Medical Centre","West Midlands Deanery"]
["York Road Group Practice FT","North West Deanery"]
["York Street Medical Practice","East of England Deanery"]
["Zaman Chandler House","North West Deanery"]

{"sheet":"Trimings","index":5,"n_rows":1858,"n_cols":16,"rows_kept":1858,"cut":false,"hidden":true,"merged":[[0,4,0,12],[1,4,1,12]]}
[null,null,null,null,"TEXT TO COLUMNS WORK",null,null,null,null,null,null,null,null,"TRIM WORK ","Host Organisation","Region"]
[null,null,null,null,null,null,null,null,null,null,null,null,null,null,"Select from Drop-down","Select from Drop-down"]
[null,null,null,null,"(Credas)","Darley","Dale","Medical","Centre",null,null,null,null,{"$f":"E3&\" \"&F3&\" \"&G3&\" \"&H3&\" \"&I3&\" \"&J2&\" \"&K3&\" \"&L3&\" \"&M3&\" \"","v":"(Credas) Darley Dale Medical Centre     "},{"$f":"TRIM(N3)","v":"(Credas) Darley Dale Medical Centre"},"East Midlands Deanery"]
[null,null,null,null,"Public Health","England",null,null,null,null,null,null,null,{"$f":"E4&\" \"&F4&\" \"&G4&\" \"&H4&\" \"&I4&\" \"&J3&\" \"&K4&\" \"&L4&\" \"&M4&\" \"","v":"Public Health England        "},{"$f":"TRIM(N4)","v":"Public Health England"},"East Midlands Deanery"]
[null,null,null,null,"Public Health","Health","Protection",null,null,null,null,null,null,{"$f":"E5&\" \"&F5&\" \"&G5&\" \"&H5&\" \"&I5&\" \"&J4&\" \"&K5&\" \"&L5&\" \"&M5&\" \"","v":"Public Health Health Protection       "},{"$f":"TRIM(N5)","v":"Public Health Health Protection"},"East Midlands Deanery"]
[null,null,null,null,"Public Health","Local","Authourity",null,null,null,null,null,null,"Public Health Local Authourity       ","Public Health Local Authourity","East Midlands Deanery"]
[null,null,null,null,"Public Health","University",null,null,null,null,null,null,null,"Public Health University        ","Public Health University","East Midlands Deanery"]
[null,null,null,null,"Abbey","House","Medical","Practice",null,null,null,null,null,"Abbey House Medical Practice      ","Abbey House Medical Practice","East Midlands Deanery"]
[null,null,null,null,"Abbey","Medical","Group",null,null,null,null,null,null,"Abbey Medical Group       ","Abbey Medical Group","East Midlands Deanery"]
[null,null,null,null,"Abbey","Medical","Practice","(Mannock)",null,null,null,null,null,"Abbey Medical Practice (Mannock)      ","Abbey Medical Practice (Mannock)","East Midlands Deanery"]
[null,null,null,null,"Abington","Medical","Centre",null,null,null,null,null,null,"Abington Medical Centre       ","Abington Medical Centre","East Midlands Deanery"]
[null,null,null,null,"Abington","Park","Surgery","(Christchurch)",null,null,null,null,null,"Abington Park Surgery (Christchurch)      ","Abington Park Surgery (Christchurch)","East Midlands Deanery"]
[null,null,null,null,"Albany","House","Medical","Centre",null,null,null,null,null,"Albany House Medical Centre      ","Albany House Medical Centre","East Midlands Deanery"]
[null,null,null,null,"Alpine","House","Surgery",null,null,null,null,null,null,"Alpine House Surgery       ","Alpine House Surgery","East Midlands Deanery"]
[null,null,null,null,"Alwaqas","Medical","Practice",null,null,null,null,null,null,"Alwaqas Medical Practice       ","Alwaqas Medical Practice","East Midlands Deanery"]
[null,null,null,null,"Appletree","Medical","Practice",null,null,null,null,null,null,"Appletree Medical Practice       ","Appletree Medical Practice","East Midlands Deanery"]
[null,null,null,null,"Arthur","Medical","Centre",null,null,null,null,null,null,"Arthur Medical Centre       ","Arthur Medical Centre","East Midlands Deanery"]
[null,null,null,null,"Ashbourne","Medical","Practice",null,null,null,null,null,null,"Ashbourne Medical Practice       ","Ashbourne Medical Practice","East Midlands Deanery"]
[null,null,null,null,"Health","Education","England","(East",null,null,null,null,null,"Health Education England (East      ","Health Education England (East","East Midlands Deanery"]
[null,null,null,null,"Bakewell","Medical","Centre",null,null,null,null,null,null,"Bakewell Medical Centre       ","Bakewell Medical Centre","East Midlands Deanery"]
[null,null,null,null,"Barrow","Health","Centre",null,null,null,null,null,null,"Barrow Health Centre       ","Barrow Health Centre","East Midlands Deanery"]
[null,null,null,null,"Barwell","&","Hollycroft","Medical","Centre",null,null,null,null,"Barwell & Hollycroft Medical Centre     ","Barwell & Hollycroft Medical Centre","East Midlands Deanery"]
[null,null,null,null,"Beacon","Medical","Practice",null,null,null,null,null,null,"Beacon Medical Practice       ","Beacon Medical Practice","East Midlands Deanery"]
[null,null,null,null,"Beechfield","Medical","Centre",null,null,null,null,null,null,"Beechfield Medical Centre       ","Beechfield Medical Centre","East Midlands Deanery"]
[null,null,null,null,"Belvoir","Health","Group",null,null,null,null,null,null,"Belvoir Health Group       ","Belvoir Health Group","East Midlands Deanery"]
[null,null,null,null,"Birchwood","Medical","Practice",null,null,null,null,null,null,"Birchwood Medical Practice       ","Birchwood Medical Practice","East Midlands Deanery"]
[null,null,null,null,"Boultham","Park","Medical","Practice",null,null,null,null,null,"Boultham Park Medical Practice      ","Boultham Park Medical Practice","East Midlands Deanery"]
[null,null,null,null,"Bridge","Street","Medical","Practice",null,null,null,null,null,"Bridge Street Medical Practice      ","Bridge Street Medical Practice","East Midlands Deanery"]
[null,null,null,null,"Brierley","Park","Medical","Centre",null,null,null,null,null,"Brierley Park Medical Centre      ","Brierley Park Medical Centre","East Midlands Deanery"]
[null,null,null,null,"Brooklyn","Medical","Practice",null,null,null,null,null,null,"Brooklyn Medical Practice       ","Brooklyn Medical Practice","East Midlands Deanery"]
[null,null,null,null,"Bugbrooke","Medical","Practice",null,null,null,null,null,null,"Bugbrooke Medical Practice       ","Bugbrooke Medical Practice","East Midlands Deanery"]
[null,null,null,null,"Bushloe","Surgery",null,null,null,null,null,null,null,"Bushloe Surgery        ","Bushloe Surgery","East Midlands Deanery"]
[null,null,null,null,"Canon","Street","Surgery","Dr","Modi",null,null,null,null,"Canon Street Surgery Dr Modi     ","Canon Street Surgery Dr Modi","East Midlands Deanery"]
[null,null,null,null,"Castle","Donington","Surgery",null,null,null,null,null,null,"Castle Donington Surgery       ","Castle Donington Surgery","East Midlands Deanery"]
[null,null,null,null,"Castle","Healthcare","Practice",null,null,null,null,null,null,"Castle Healthcare Practice       ","Castle Healthcare Practice","East Midlands Deanery"]
[null,null,null,null,"Castle","Medical","Group",null,null,null,null,null,null,"Castle Medical Group       ","Castle Medical Group","East Midlands Deanery"]
[null,null,null,null,"Castle","Street","Medical","Centre",null,null,null,null,null,"Castle Street Medical Centre      ","Castle Street Medical Centre","East Midlands Deanery"]
[null,null,null,null,"Caythorpe","&","Ancaster","Medical","Practice",null,null,null,null,"Caythorpe & Ancaster Medical Practice     ","Caythorpe & Ancaster Medical Practice","East Midlands Deanery"]
[null,null,null,null,"Charnwood","Medical","Group",null,null,null,null,null,null,"Charnwood Medical Group       ","Charnwood Medical Group","East Midlands Deanery"]
[null,null,null,null,"Chesterfield","Royal","Hospital","NHS","Foundation","Trust",null,null,null,"Chesterfield Royal Hospital NHS Foundation     ","Chesterfield Royal Hospital NHS Foundation","East Midlands Deanery"]
[null,null,null,null,"Chilwell","Valley","&","Meadow","Practice",null,null,null,null,"Chilwell Valley & Meadow Practice Trust    ","Chilwell Valley & Meadow Practice Trust","East Midlands Deanery"]
[null,null,null,null,"Churchfields","Medical","Practice",null,null,null,null,null,null,"Churchfields Medical Practice       ","Churchfields Medical Practice","East Midlands Deanery"]
[null,null,null,null,"Churchside","Medical","Practice",null,null,null,null,null,null,"Churchside Medical Practice       ","Churchside Medical Practice","East Midlands Deanery"]
[null,null,null,null,"Clifton","Medical","Practice",null,null,null,null,null,null,"Clifton Medical Practice       ","Clifton Medical Practice","East Midlands Deanery"]
[null,null,null,null,"College","Street","Medical","Practice",null,null,null,null,null,"College Street Medical Practice      ","College Street Medical Practice","East Midlands Deanery"]
[null,null,null,null,"Collingham","Medical","Centre",null,null,null,null,null,null,"Collingham Medical Centre       ","Collingham Medical Centre","East Midlands Deanery"]
[null,null,null,null,"Countesthorpe","Health","Centre",null,null,null,null,null,null,"Countesthorpe Health Centre       ","Countesthorpe Health Centre","East Midlands Deanery"]
[null,null,null,null,"Crich","Medical","Practice",null,null,null,null,null,null,"Crich Medical Practice       ","Crich Medical Practice","East Midlands Deanery"]
[null,null,null,null,"Danes","Camp","Medical","Centre",null,null,null,null,null,"Danes Camp Medical Centre      ","Danes Camp Medical Centre","East Midlands Deanery"]
[null,null,null,null,"Danetre","Medical","Practice",null,null,null,null,null,null,"Danetre Medical Practice       ","Danetre Medical Practice","East Midlands Deanery"]
[null,null,null,null,"Royal","Derby","Hospital",null,null,null,null,null,null,"Royal Derby Hospital       ","Royal Derby Hospital","East Midlands Deanery"]
[null,null,null,null,"Derby","Road","Health","Centre",null,null,null,null,null,"Derby Road Health Centre      ","Derby Road Health Centre","East Midlands Deanery"]
[null,null,null,null,"Derbyshire","Healthcare","NHS","Foundation","Trust",null,null,null,null,"Derbyshire Healthcare NHS Foundation Trust     ","Derbyshire Healthcare NHS Foundation Trust","East Midlands Deanery"]
[null,null,null,null,"DNRC","-","Stanford","Hall",null,null,null,null,null,"DNRC - Stanford Hall      ","DNRC - Stanford Hall","East Midlands Deanery"]
[null,null,null,null,"Downing","Drive","Surgery",null,null,null,null,null,null,"Downing Drive Surgery       ","Downing Drive Surgery","East Midlands Deanery"]
[null,null,null,null,"Dr","Kumar","Studfall","Medical","Centre",null,null,null,null,"Dr Kumar Studfall Medical Centre     ","Dr Kumar Studfall Medical Centre","East Midlands Deanery"]
[null,null,null,null,"Dr","Sinha","&","Partners","The","Medical","Centre",null,null,"Dr Sinha & Partners The  Centre   ","Dr Sinha & Partners The Centre","East Midlands Deanery"]
[null,null,null,null,"Dr","Chawla's","Practice","Wingerworth","Medical","Cen",null,null,null,"Dr Chawla's Practice Wingerworth Medical Medical    ","Dr Chawla's Practice Wingerworth Medical Medical","East Midlands Deanery"]
[null,null,null,null,"Dronfield","Medical","Practice",null,null,null,null,null,null,"Dronfield Medical Practice   Cen    ","Dronfield Medical Practice Cen","East Midlands Deanery"]
[null,null,null,null,"East","Bridgford","Medical","Centre",null,null,null,null,null,"East Bridgford Medical Centre      ","East Bridgford Medical Centre","East Midlands Deanery"]
[null,null,null,null,"East","Leake","Medical","Group",null,null,null,null,null,"East Leake Medical Group      ","East Leake Medical Group","East Midlands Deanery"]
[null,null,null,null,"East","Leicester","Medical","Practice",null,null,null,null,null,"East Leicester Medical Practice      ","East Leicester Medical Practice","East Midlands Deanery"]
[null,null,null,null,"Nottingham","City","Council",null,null,null,null,null,null,"Nottingham City Council       ","Nottingham City Council","East Midlands Deanery"]
[null,null,null,null,"Leicestershire","County","Council","Public","Health",null,null,null,null,"Leicestershire County Council Public Health     ","Leicestershire County Council Public Health","East Midlands Deanery"]
[null,null,null,null,"Lincolnshire","County","Council","Public","Health",null,null,null,null,"Lincolnshire County Council Public Health     ","Lincolnshire County Council Public Health","East Midlands Deanery"]
[null,null,null,null,"Derby","City","Council",null,null,null,null,null,null,"Derby City Council       ","Derby City Council","East Midlands Deanery"]
[null,null,null,null,"Derbyshire","County","Council",null,null,null,null,null,null,"Derbyshire County Council       ","Derbyshire County Council","East Midlands Deanery"]
[null,null,null,null,"Leicester","City","Council",null,null,null,null,null,null,{"$f":"E68&\" \"&F68&\" \"&G68&\" \"&H68&\" \"&I68&\" \"&J67&\" \"&K68&\" \"&L68&\" \"&M68&\" \"","v":"Leicester City Council       "},{"$f":"TRIM(N68)","v":"Leicester City Council"},"East Midlands Deanery"]
[null,null,null,null,"Public","Health","England","(Nottinghamshire)",null,null,null,null,null,"Public Health England (Nottinghamshire)      ","Public Health England (Nottinghamshire)","East Midlands Deanery"]
[null,null,null,null,"Eastwood","Primary","Care","Centre",null,null,null,null,null,"Eastwood Primary Care Centre      ","Eastwood Primary Care Centre","East Midlands Deanery"]
[null,null,null,null,"Eleanor","Cross","Healthcare",null,null,null,null,null,null,"Eleanor Cross Healthcare       ","Eleanor Cross Healthcare","East Midlands Deanery"]
[null,null,null,null,"Elmswood","Surgery",null,null,null,null,null,null,null,"Elmswood Surgery        ","Elmswood Surgery","East Midlands Deanery"]
[null,null,null,null,"Leicestershire","County","Council","Public","Health",null,null,null,null,"Leicestershire County Council Public Health     ","Leicestershire County Council Public Health","East Midlands Deanery"]
[null,null,null,null,"Leicestershire","County","Council","Public","Health",null,null,null,null,"Leicestershire County Council Public Health     ","Leicestershire County Council Public Health","East Midlands Deanery"]
[null,null,null,null,"Enderby","Medical","Centre",null,null,null,null,null,null,"Enderby Medical Centre       ","Enderby Medical Centre","East Midlands Deanery"]
[null,null,null,null,"Eskdaill","Medical","Centre",null,null,null,null,null,null,"Eskdaill Medical Centre       ","Eskdaill Medical Centre","East Midlands Deanery"]
[null,null,null,null,"Evington","Medical","Centre",null,null,null,null,null,null,"Evington Medical Centre       ","Evington Medical Centre","East Midlands Deanery"]
[null,null,null,null,"Fairfields","Practice",null,null,null,null,null,null,null,"Fairfields Practice        ","Fairfields Practice","East Midlands Deanery"]
[null,null,null,null,"Family","Medical","Centre",null,null,null,null,null,null,"Family Medical Centre       ","Family Medical Centre","East Midlands Deanery"]
[null,null,null,null,"Forest","House","Medical","Centre",null,null,null,null,null,"Forest House Medical Centre      ","Forest House Medical Centre","East Midlands Deanery"]
[null,null,null,null,"Forest","House","Surgery",null,null,null,null,null,null,"Forest House Surgery       ","Forest House Surgery","East Midlands Deanery"]
[null,null,null,null,"Forest","Medical",null,null,null,null,null,null,null,"Forest Medical        ","Forest Medical","East Midlands Deanery"]
[null,null,null,null,"Gosberton","Medical","Centre",null,null,null,null,null,null,"Gosberton Medical Centre       ","Gosberton Medical Centre","East Midlands Deanery"]
[null,null,null,null,"Gosforth","Valley","Medical","Practice",null,null,null,null,null,"Gosforth Valley Medical Practice      ","Gosforth Valley Medical Practice","East Midlands Deanery"]
[null,null,null,null,"Great","Oakley","Medical","Centre",null,null,null,null,null,"Great Oakley Medical Centre      ","Great Oakley Medical Centre","East Midlands Deanery"]
[null,null,null,null,"Greendale","Primary","Care","Centre",null,null,null,null,null,"Greendale Primary Care Centre      ","Greendale Primary Care Centre","East Midlands Deanery"]
[null,null,null,null,"Greens","Norton","&","Weedon","Medical","Practice",null,null,null,"Greens Norton & Weedon Medical     ","Greens Norton & Weedon Medical","East Midlands Deanery"]
[null,null,null,null,"Greenview","Surgery",null,null,null,null,null,null,null,"Greenview Surgery    Practice    ","Greenview Surgery Practice","East Midlands Deanery"]
[null,null,null,null,"Gresleydale","Healthcare","Centre",null,null,null,null,null,null,"Gresleydale Healthcare Centre       ","Gresleydale Healthcare Centre","East Midlands Deanery"]
[null,null,null,null,"Groby","Road","Medical","Centre",null,null,null,null,null,"Groby Road Medical Centre      ","Groby Road Medical Centre","East Midlands Deanery"]
[null,null,null,null,"Hannage","Brook","Medical","Centre",null,null,null,null,null,"Hannage Brook Medical Centre      ","Hannage Brook Medical Centre","East Midlands Deanery"]
[null,null,null,null,"Harborough","Field","Surgery",null,null,null,null,null,null,"Harborough Field Surgery       ","Harborough Field Surgery","East Midlands Deanery"]
[null,null,null,null,"Hazelmere","Medical","Centre",null,null,null,null,null,null,"Hazelmere Medical Centre       ","Hazelmere Medical Centre","East Midlands Deanery"]
[null,null,null,null,"Headlands","Surgery",null,null,null,null,null,null,null,"Headlands Surgery        ","Headlands Surgery","East Midlands Deanery"]
[null,null,null,null,"Heath","Lane","Surgery",null,null,null,null,null,null,"Heath Lane Surgery       ","Heath Lane Surgery","East Midlands Deanery"]
[null,null,null,null,"Heatherbrook","Surgery",null,null,null,null,null,null,null,"Heatherbrook Surgery        ","Heatherbrook Surgery","East Midlands Deanery"]
[null,null,null,null,"Higham","Ferrers","Surgery",null,null,null,null,null,null,"Higham Ferrers Surgery       ","Higham Ferrers Surgery","East Midlands Deanery"]
[null,null,null,null,"Highcroft","Surgery",null,null,null,null,null,null,null,"Highcroft Surgery        ","Highcroft Surgery","East Midlands Deanery"]
[null,null,null,null,"Highgreen","Practice",null,null,null,null,null,null,null,"Highgreen Practice        ","Highgreen Practice","East Midlands Deanery"]
[null,null,null,null,"Hockley","Farm","Medical","Practice",null,null,null,null,null,"Hockley Farm Medical Practice      ","Hockley Farm Medical Practice","East Midlands Deanery"]
[null,null,null,null,"Hollybrook","Medical","Centre",null,null,null,null,null,null,"Hollybrook Medical Centre       ","Hollybrook Medical Centre","East Midlands Deanery"]
[null,null,null,null,"Horncastle","Medical","Group",null,null,null,null,null,null,"Horncastle Medical Group       ","Horncastle Medical Group","East Midlands Deanery"]
[null,null,null,null,"Hucknall","Road","Medical","Centre",null,null,null,null,null,"Hucknall Road Medical Centre      ","Hucknall Road Medical Centre","East Midlands Deanery"]
[null,null,null,null,"Hugglescote","Surgery",null,null,null,null,null,null,null,"Hugglescote Surgery        ","Hugglescote Surgery","East Midlands Deanery"]
[null,null,null,null,"Humberstone","Medical","Centre",null,null,null,null,null,null,"Humberstone Medical Centre       ","Humberstone Medical Centre","East Midlands Deanery"]
[null,null,null,null,"Ibstock","House","Surgery",null,null,null,null,null,null,"Ibstock House Surgery       ","Ibstock House Surgery","East Midlands Deanery"]
[null,null,null,null,"Imperial","Road","Surgery",null,null,null,null,null,null,"Imperial Road Surgery       ","Imperial Road Surgery","East Midlands Deanery"]
[null,null,null,null,"Inspire","Health",null,null,null,null,null,null,null,"Inspire Health        ","Inspire Health","East Midlands Deanery"]
[null,null,null,null,"James","Street","Family","Practice",null,null,null,null,null,"James Street Family Practice      ","James Street Family Practice","East Midlands Deanery"]
[null,null,null,null,"Jessop","Medical","Practice",null,null,null,null,null,null,"Jessop Medical Practice       ","Jessop Medical Practice","East Midlands Deanery"]
[null,null,null,null,"Johnson","Medical","Practice",null,null,null,null,null,null,"Johnson Medical Practice       ","Johnson Medical Practice","East Midlands Deanery"]
[null,null,null,null,"Kelvingrove","Medical","Centre",null,null,null,null,null,null,"Kelvingrove Medical Centre       ","Kelvingrove Medical Centre","East Midlands Deanery"]
[null,null,null,null,"Kettering","General","Hospital","NHS","Foundation","Trust",null,null,null,"Kettering General Hospital NHS Foundation     ","Kettering General Hospital NHS Foundation","East Midlands Deanery"]
[null,null,null,null,"King","Edward","Road","Surgery",null,null,null,null,null,"King Edward Road Surgery  Trust    ","King Edward Road Surgery Trust","East Midlands Deanery"]
[null,null,null,null,"Lakeside","Healthcare",null,null,null,null,null,null,null,"Lakeside Healthcare        ","Lakeside Healthcare","East Midlands Deanery"]
[null,null,null,null,"Langham","Place","Surgery",null,null,null,null,null,null,"Langham Place Surgery       ","Langham Place Surgery","East Midlands Deanery"]
[null,null,null,null,"Latham","House","Medical","Practice",null,null,null,null,null,"Latham House Medical Practice      ","Latham House Medical Practice","East Midlands Deanery"]
[null,null,null,null,"Leen","View","surgery",null,null,null,null,null,null,"Leen View surgery       ","Leen View surgery","East Midlands Deanery"]
[null,null,null,null,"Leicester","City","Assist","Practice",null,null,null,null,null,"Leicester City Assist Practice      ","Leicester City Assist Practice","East Midlands Deanery"]
[null,null,null,null,"Leicester","Terrace","Health","Care","Centre",null,null,null,null,"Leicester Terrace Health Care Centre     ","Leicester Terrace Health Care Centre","East Midlands Deanery"]
[null,null,null,null,"Leicestershire","&","Rutland","Hospice",null,null,null,null,null,"Leicestershire & Rutland Hospice      ","Leicestershire & Rutland Hospice","East Midlands Deanery"]
[null,null,null,null,"Leicestershire","County","Council","Public","Health",null,null,null,null,"Leicestershire County Council Public Health     ","Leicestershire County Council Public Health","East Midlands Deanery"]
[null,null,null,null,"Leicestershire","Partnership","NHS","Trust",null,null,null,null,null,"Leicestershire Partnership NHS Trust      ","Leicestershire Partnership NHS Trust","East Midlands Deanery"]
[null,null,null,null,"Limes","Medical","Centre",null,null,null,null,null,null,"Limes Medical Centre       ","Limes Medical Centre","East Midlands Deanery"]
[null,null,null,null,"Lincolnshire","Community","Health","Services",null,null,null,null,null,"Lincolnshire Community Health Services      ","Lincolnshire Community Health Services","East Midlands Deanery"]
[null,null,null,null,"Lincolnshire","Partnership","NHS","Foundation","Trust",null,null,null,null,"Lincolnshire Partnership NHS Foundation Trust     ","Lincolnshire Partnership NHS Foundation Trust","East Midlands Deanery"]
[null,null,null,null,"Linden","Avenue","Medical","Centre",null,null,null,null,null,"Linden Avenue Medical Centre      ","Linden Avenue Medical Centre","East Midlands Deanery"]
[null,null,null,null,"Lister","House","Surgery",null,null,null,null,null,null,"Lister House Surgery       ","Lister House Surgery","East Midlands Deanery"]
[null,null,null,null,"Littlewick","Medical","Centre",null,null,null,null,null,null,"Littlewick Medical Centre       ","Littlewick Medical Centre","East Midlands Deanery"]
[null,null,null,null,"Lombard","Medical","Centre",null,null,null,null,null,null,"Lombard Medical Centre       ","Lombard Medical Centre","East Midlands Deanery"]
[null,null,null,null,"Macklin","Street","Surgery",null,null,null,null,null,null,"Macklin Street Surgery       ","Macklin Street Surgery","East Midlands Deanery"]
[null,null,null,null,"Major","Oak","Medical","Practice",null,null,null,null,null,{"$f":"E132&\" \"&F132&\" \"&G132&\" \"&H132&\" \"&I132&\" \"&J131&\" \"&K132&\" \"&L132&\" \"&M132&\" \"","v":"Major Oak Medical Practice      "},{"$f":"TRIM(N132)","v":"Major Oak Medical Practice"},"East Midlands Deanery"]
[null,null,null,null,"Market","Harborough","Medical","Centre",null,null,null,null,null,"Market Harborough Medical Centre      ","Market Harborough Medical Centre","East Midlands Deanery"]
[null,null,null,null,"Market","Rasen","Surgery",null,null,null,null,null,null,"Market Rasen Surgery       ","Market Rasen Surgery","East Midlands Deanery"]
[null,null,null,null,"Measham","Medical","Unit",null,null,null,null,null,null,"Measham Medical Unit       ","Measham Medical Unit","East Midlands Deanery"]
[null,null,null,null,"Melbourne","Park","Medical","Centre",null,null,null,null,null,"Melbourne Park Medical Centre      ","Melbourne Park Medical Centre","East Midlands Deanery"]
[null,null,null,null,"Millview","Surgery",null,null,null,null,null,null,null,"Millview Surgery        ","Millview Surgery","East Midlands Deanery"]
[null,null,null,null,"Munro","Medical","Centre",null,null,null,null,null,null,"Munro Medical Centre       ","Munro Medical Centre","East Midlands Deanery"]
[null,null,null,null,"Nettleham","Medical","Practice",null,null,null,null,null,null,"Nettleham Medical Practice       ","Nettleham Medical Practice","East Midlands Deanery"]
[null,null,null,null,"Newbold","Surgery",null,null,null,null,null,null,null,"Newbold Surgery        ","Newbold Surgery","East Midlands Deanery"]
[null,null,null,null,"Newhall","Surgery",null,null,null,null,null,null,null,"Newhall Surgery        ","Newhall Surgery","East Midlands Deanery"]
[null,null,null,null,"Newthorpe","Medical","Practice",null,null,null,null,null,null,"Newthorpe Medical Practice       ","Newthorpe Medical Practice","East Midlands Deanery"]
[null,null,null,null,"Northampton","General","Hospital",null,null,null,null,null,null,"Northampton General Hospital       ","Northampton General Hospital","East Midlands Deanery"]
[null,null,null,null,"Northamptonshire","Healthcare","NHS","FT",null,null,null,null,null,"Northamptonshire Healthcare NHS FT      ","Northamptonshire Healthcare NHS FT","East Midlands Deanery"]
[null,null,null,null,"St Mary's","Hospital","(Kettering)",null,null,null,null,null,null,"St Mary's Hospital (Kettering)       ","St Mary's Hospital (Kettering)","East Midlands Deanery"]
[null,null,null,null,"Northfield","Medical","Centre",null,null,null,null,null,null,"Northfield Medical Centre       ","Northfield Medical Centre","East Midlands Deanery"]
[null,null,null,null,"Nottingham","University","Hospitals","NHS","Trust",null,null,null,null,"Nottingham University Hospitals NHS Trust     ","Nottingham University Hospitals NHS Trust","East Midlands Deanery"]
[null,null,null,null,"NUH","-","QMC","Campus",null,null,null,null,null,"NUH - QMC Campus      ","NUH - QMC Campus","East Midlands Deanery"]
[null,null,null,null,"-","City","Campus",null,null,null,null,null,null,"- City Campus       ","- City Campus","East Midlands Deanery"]
[null,null,null,null,"Nottinghamshire","Healthcare","NHS","Foundation","Trust",null,null,null,null,"Nottinghamshire Healthcare NHS Foundation Trust     ","Nottinghamshire Healthcare NHS Foundation Trust","East Midlands Deanery"]
[null,null,null,null,"Highbury","Hospital","(RHANM)",null,null,null,null,null,null,"Highbury Hospital (RHANM)       ","Highbury Hospital (RHANM)","East Midlands Deanery"]
[null,null,null,null,"Millbrook","Mental","Health","Unit",null,null,null,null,null,"Millbrook Mental Health Unit      ","Millbrook Mental Health Unit","East Midlands Deanery"]
[null,null,null,null,"Oakwood","Surgery",null,null,null,null,null,null,null,"Oakwood Surgery        ","Oakwood Surgery","East Midlands Deanery"]
[null,null,null,null,"Old","Station","Surgery",null,null,null,null,null,null,"Old Station Surgery       ","Old Station Surgery","East Midlands Deanery"]
[null,null,null,null,"Orchard","Medical","Practice",null,null,null,null,null,null,"Orchard Medical Practice       ","Orchard Medical Practice","East Midlands Deanery"]
[null,null,null,null,"Orchard","Surgery",null,null,null,null,null,null,null,"Orchard Surgery        ","Orchard Surgery","East Midlands Deanery"]
[null,null,null,null,"Osmaston","Surgery",null,null,null,null,null,null,null,"Osmaston Surgery        ","Osmaston Surgery","East Midlands Deanery"]
[null,null,null,null,"Park","Farm","Medical","Centre",null,null,null,null,null,"Park Farm Medical Centre      ","Park Farm Medical Centre","East Midlands Deanery"]
[null,null,null,null,"Park","Surgery",null,null,null,null,null,null,null,"Park Surgery        ","Park Surgery","East Midlands Deanery"]
[null,null,null,null,"Park","View","Surgery",null,null,null,null,null,null,"Park View Surgery       ","Park View Surgery","East Midlands Deanery"]
[null,null,null,null,"Parkside","Medical","Centre",null,null,null,null,null,null,"Parkside Medical Centre       ","Parkside Medical Centre","East Midlands Deanery"]
[null,null,null,null,"Parkside","Sugery",null,null,null,null,null,null,null,"Parkside Sugery        ","Parkside Sugery","East Midlands Deanery"]
[null,null,null,null,"Pinfold","Medical","Practice",null,null,null,null,null,null,"Pinfold Medical Practice       ","Pinfold Medical Practice","East Midlands Deanery"]
[null,null,null,null,"Portland","Medical","Practice",null,null,null,null,null,null,"Portland Medical Practice       ","Portland Medical Practice","East Midlands Deanery"]
[null,null,null,null,"Queensway","Medical","Centre",null,null,null,null,null,null,"Queensway Medical Centre       ","Queensway Medical Centre","East Midlands Deanery"]
[null,null,null,null,"Radcliffe-On-Trent.","Health","Centre",null,null,null,null,null,null,"Radcliffe-On-Trent. Health Centre       ","Radcliffe-On-Trent. Health Centre","East Midlands Deanery"]
[null,null,null,null,"Ripley","Medical","Centre",null,null,null,null,null,null,"Ripley Medical Centre       ","Ripley Medical Centre","East Midlands Deanery"]
[null,null,null,null,"Rise","Park","Surgery",null,null,null,null,null,null,"Rise Park Surgery       ","Rise Park Surgery","East Midlands Deanery"]
[null,null,null,null,"Riversdale","Surgery",null,null,null,null,null,null,null,"Riversdale Surgery        ","Riversdale Surgery","East Midlands Deanery"]
[null,null,null,null,"Rothwell","Medical","Centre",null,null,null,null,null,null,"Rothwell Medical Centre       ","Rothwell Medical Centre","East Midlands Deanery"]
[null,null,null,null,"Roundwood","Surgery",null,null,null,null,null,null,null,"Roundwood Surgery        ","Roundwood Surgery","East Midlands Deanery"]
[null,null,null,null,"Saffron","Group","Practice",null,null,null,null,null,null,"Saffron Group Practice       ","Saffron Group Practice","East Midlands Deanery"]
[null,null,null,null,"Saxon","Cross","Surgery",null,null,null,null,null,null,"Saxon Cross Surgery       ","Saxon Cross Surgery","East Midlands Deanery"]
[null,null,null,null,"Saxon","Spires","Practice",null,null,null,null,null,null,"Saxon Spires Practice       ","Saxon Spires Practice","East Midlands Deanery"]
[null,null,null,null,"Sherwood","Family","Medical","Centre","(Kirkby)",null,null,null,null,"Sherwood Family Medical Centre (Kirkby)     ","Sherwood Family Medical Centre (Kirkby)","East Midlands Deanery"]
[null,null,null,null,"Sherwood","Forest","Hospitals","NHS","Foundation","Trust",null,null,null,"Sherwood Forest Hospitals NHS Foundation     ","Sherwood Forest Hospitals NHS Foundation","East Midlands Deanery"]
[null,null,null,null,"Sherwood","Medical","Partnership",null,null,null,null,null,null,"Sherwood Medical Partnership   Trust    ","Sherwood Medical Partnership Trust","East Midlands Deanery"]
[null,null,null,null,"Shires","Healthcare",null,null,null,null,null,null,null,"Shires Healthcare        ","Shires Healthcare","East Midlands Deanery"]
[null,null,null,null,"Sleaford","Medical","Group",null,null,null,null,null,null,"Sleaford Medical Group       ","Sleaford Medical Group","East Midlands Deanery"]
[null,null,null,null,"Somercotes","Medical","Centre",null,null,null,null,null,null,"Somercotes Medical Centre       ","Somercotes Medical Centre","East Midlands Deanery"]
[null,null,null,null,"South","Wigston","Health","Centre",null,null,null,null,null,"South Wigston Health Centre      ","South Wigston Health Centre","East Midlands Deanery"]
[null,null,null,null,"Southwell","Medical","Centre",null,null,null,null,null,null,"Southwell Medical Centre       ","Southwell Medical Centre","East Midlands Deanery"]
[null,null,null,null,"Spilsby","Surgery",null,null,null,null,null,null,null,"Spilsby Surgery        ","Spilsby Surgery","East Midlands Deanery"]
[null,null,null,null,"Spinney","Brook","Medical","Centre",null,null,null,null,null,"Spinney Brook Medical Centre      ","Spinney Brook Medical Centre","East Midlands Deanery"]
[null,null,null,null,"Spinney","Hill","Medical","Centre",null,null,null,null,null,"Spinney Hill Medical Centre      ","Spinney Hill Medical Centre","East Midlands Deanery"]
[null,null,null,null,"Springfield","Surgery",null,null,null,null,null,null,null,"Springfield Surgery        ","Springfield Surgery","East Midlands Deanery"]
[null,null,null,null,"Springs","Health","Centre",null,null,null,null,null,null,"Springs Health Centre       ","Springs Health Centre","East Midlands Deanery"]
[null,null,null,null,"St","Georges","Med","Practice",null,null,null,null,null,"St Georges Med Practice      ","St Georges Med Practice","East Midlands Deanery"]
[null,null,null,null,"St","Peters","Hill","Surgery",null,null,null,null,null,"St Peters Hill Surgery      ","St Peters Hill Surgery","East Midlands Deanery"]
[null,null,null,null,"Staffa","Health","Centre",null,null,null,null,null,null,"Staffa Health Centre       ","Staffa Health Centre","East Midlands Deanery"]
[null,null,null,null,"Station","View","Health","Centre",null,null,null,null,null,"Station View Health Centre      ","Station View Health Centre","East Midlands Deanery"]
[null,null,null,null,"Stenhouse","Medical","Centre",null,null,null,null,null,null,"Stenhouse Medical Centre       ","Stenhouse Medical Centre","East Midlands Deanery"]
[null,null,null,null,"Swadlincote","Surgery",null,null,null,null,null,null,null,"Swadlincote Surgery        ","Swadlincote Surgery","East Midlands Deanery"]
[null,null,null,null,"Swineshead","Surgery",null,null,null,null,null,null,null,"Swineshead Surgery        ","Swineshead Surgery","East Midlands Deanery"]
[null,null,null,null,"The","Brimington","Surgery",null,null,null,null,null,null,"The Brimington Surgery       ","The Brimington Surgery","East Midlands Deanery"]
[null,null,null,null,"The","Burbage","Surgery",null,null,null,null,null,null,{"$f":"E196&\" \"&F196&\" \"&G196&\" \"&H196&\" \"&I196&\" \"&J195&\" \"&K196&\" \"&L196&\" \"&M196&\" \"","v":"The Burbage Surgery       "},{"$f":"TRIM(N196)","v":"The Burbage Surgery"},"East Midlands Deanery"]
[null,null,null,null,"The","Calverton","Practice",null,null,null,null,null,null,"The Calverton Practice       ","The Calverton Practice","East Midlands Deanery"]
[null,null,null,null,"The","Central","Surgery",null,null,null,null,null,null,"The Central Surgery       ","The Central Surgery","East Midlands Deanery"]
[null,null,null,null,"The","Community","Health","Centre",null,null,null,null,null,"The Community Health Centre      ","The Community Health Centre","East Midlands Deanery"]
[null,null,null,null,"The","County","Practice",null,null,null,null,null,null,"The County Practice       ","The County Practice","East Midlands Deanery"]
[null,null,null,null,"The","Croft","Medical","Centre",null,null,null,null,null,"The Croft Medical Centre      ","The Croft Medical Centre","East Midlands Deanery"]
[null,null,null,null,"The","Deepings","Health","Centre",null,null,null,null,null,"The Deepings Health Centre      ","The Deepings Health Centre","East Midlands Deanery"]
[null,null,null,null,"The","Forest","Practice",null,null,null,null,null,null,"The Forest Practice       ","The Forest Practice","East Midlands Deanery"]
[null,null,null,null,"The","Glenfield","Surgery",null,null,null,null,null,null,"The Glenfield Surgery       ","The Glenfield Surgery","East Midlands Deanery"]
[null,null,null,null,"The","Glenside","Country","Practice",null,null,null,null,null,"The Glenside Country Practice      ","The Glenside Country Practice","East Midlands Deanery"]
[null,null,null,null,"The","Golden","Brook","Practice",null,null,null,null,null,"The Golden Brook Practice      ","The Golden Brook Practice","East Midlands Deanery"]
[null,null,null,null,"The","Hedges","Medical","Centre",null,null,null,null,null,"The Hedges Medical Centre      ","The Hedges Medical Centre","East Midlands Deanery"]
[null,null,null,null,"The","Jubilee","Medical","Practice",null,null,null,null,null,"The Jubilee Medical Practice      ","The Jubilee Medical Practice","East Midlands Deanery"]
[null,null,null,null,"The","Limes","Medical","Centre",null,null,null,null,null,"The Limes Medical Centre      ","The Limes Medical Centre","East Midlands Deanery"]
[null,null,null,null,"The","Long","Buckby","Practice",null,null,null,null,null,"The Long Buckby Practice      ","The Long Buckby Practice","East Midlands Deanery"]
[null,null,null,null,"The","Manor","Surgery",null,null,null,null,null,null,"The Manor Surgery       ","The Manor Surgery","East Midlands Deanery"]
[null,null,null,null,"The","Moir","Medical","Centre",null,null,null,null,null,"The Moir Medical Centre      ","The Moir Medical Centre","East Midlands Deanery"]
[null,null,null,null,"The","New","Springwells","Practice",null,null,null,null,null,"The New Springwells Practice      ","The New Springwells Practice","East Midlands Deanery"]
[null,null,null,null,"The","Park","Medical","Practice",null,null,null,null,null,"The Park Medical Practice      ","The Park Medical Practice","East Midlands Deanery"]
[null,null,null,null,"The","Parks","Medical","Practice",null,null,null,null,null,"The Parks Medical Practice      ","The Parks Medical Practice","East Midlands Deanery"]
[null,null,null,null,"The","Ruddington","Medical","Centre",null,null,null,null,null,"The Ruddington Medical Centre      ","The Ruddington Medical Centre","East Midlands Deanery"]
[null,null,null,null,"The","Surgery","at","Wheatbridge",null,null,null,null,null,"The Surgery at Wheatbridge      ","The Surgery at Wheatbridge","East Midlands Deanery"]
[null,null,null,null,"The","Uppingham","Surgery",null,null,null,null,null,null,"The Uppingham Surgery       ","The Uppingham Surgery","East Midlands Deanery"]
[null,null,null,null,"The","Valley","Medical",null,null,null,null,null,null,"The Valley Medical       ","The Valley Medical","East Midlands Deanery"]
[null,null,null,null,"The","Valleys","Medical",null,null,null,null,null,null,"The Valleys Medical       ","The Valleys Medical","East Midlands Deanery"]
[null,null,null,null,"The","Wellspring","Surgery",null,null,null,null,null,null,"The Wellspring Surgery       ","The Wellspring Surgery","East Midlands Deanery"]
[null,null,null,null,"The","Windmill","Practice",null,null,null,null,null,null,"The Windmill Practice       ","The Windmill Practice","East Midlands Deanery"]
[null,null,null,null,"The","Wycliffe","Medical","Practice",null,null,null,null,null,"The Wycliffe Medical Practice      ","The Wycliffe Medical Practice","East Midlands Deanery"]
[null,null,null,null,"Torkard","Hill","Medical","Centre",null,null,null,null,null,"Torkard Hill Medical Centre      ","Torkard Hill Medical Centre","East Midlands Deanery"]
[null,null,null,null,"Towcester","Medical","Centre",null,null,null,null,null,null,"Towcester Medical Centre       ","Towcester Medical Centre","East Midlands Deanery"]
[null,null,null,null,"Trentside","Medical","Group",null,null,null,null,null,null,"Trentside Medical Group       ","Trentside Medical Group","East Midlands Deanery"]
[null,null,null,null,"Two","Shires","Surgery",null,null,null,null,null,null,"Two Shires Surgery       ","Two Shires Surgery","East Midlands Deanery"]
[null,null,null,null,"United","Lincolnshire","Hospitals","NHS","Trust",null,null,null,null,"United Lincolnshire Hospitals NHS Trust     ","United Lincolnshire Hospitals NHS Trust","East Midlands Deanery"]
[null,null,null,null,"Pilgrim","Hospital","(RWDLA)",null,null,null,null,null,null,"Pilgrim Hospital (RWDLA)       ","Pilgrim Hospital (RWDLA)","East Midlands Deanery"]
[null,null,null,null,"Lincoln","County","Hospital",null,null,null,null,null,null,"Lincoln County Hospital       ","Lincoln County Hospital","East Midlands Deanery"]
[null,null,null,null,"University","Hospitals","of","Leicester","NHS","Trust",null,null,null,"University Hospitals of Leicester NHS     ","University Hospitals of Leicester NHS","East Midlands Deanery"]
[null,null,null,null,"Leicester","Royal","Infirmary",null,null,null,null,null,null,"Leicester Royal Infirmary   Trust    ","Leicester Royal Infirmary Trust","East Midlands Deanery"]
[null,null,null,null,"Glenfield","Hospital","RWEAE",null,null,null,null,null,null,"Glenfield Hospital RWEAE       ","Glenfield Hospital RWEAE","East Midlands Deanery"]
[null,null,null,null,"Vernon","Street","Medical","Centre",null,null,null,null,null,"Vernon Street Medical Centre      ","Vernon Street Medical Centre","East Midlands Deanery"]
[null,null,null,null,"Victoria","and","Mapperley","Practice",null,null,null,null,null,"Victoria and Mapperley Practice      ","Victoria and Mapperley Practice","East Midlands Deanery"]
[null,null,null,null,"Victoria","Park","Health","Centre",null,null,null,null,null,"Victoria Park Health Centre      ","Victoria Park Health Centre","East Midlands Deanery"]
[null,null,null,null,"Village","Surgery",null,null,null,null,null,null,null,"Village Surgery        ","Village Surgery","East Midlands Deanery"]
[null,null,null,null,"Washingborough","Surgery",null,null,null,null,null,null,null,"Washingborough Surgery        ","Washingborough Surgery","East Midlands Deanery"]
[null,null,null,null,"Weavers","Medical",null,null,null,null,null,null,null,"Weavers Medical        ","Weavers Medical","East Midlands Deanery"]
[null,null,null,null,"Welbeck","Road","Health","Centre",null,null,null,null,null,"Welbeck Road Health Centre      ","Welbeck Road Health Centre","East Midlands Deanery"]
[null,null,null,null,"Westdale","Lane","Surgery",null,null,null,null,null,null,"Westdale Lane Surgery       ","Westdale Lane Surgery","East Midlands Deanery"]
[null,null,null,null,"Whitemoor","Medical","Centre",null,null,null,null,null,null,"Whitemoor Medical Centre       ","Whitemoor Medical Centre","East Midlands Deanery"]
[null,null,null,null,"Whittington","Moor","Surgery",null,null,null,null,null,null,"Whittington Moor Surgery       ","Whittington Moor Surgery","East Midlands Deanery"]
[null,null,null,null,"Wigston","Central","Surgery",null,null,null,null,null,null,"Wigston Central Surgery       ","Wigston Central Surgery","East Midlands Deanery"]
[null,null,null,null,"Willington","Surgery",null,null,null,null,null,null,null,"Willington Surgery        ","Willington Surgery","East Midlands Deanery"]
[null,null,null,null,"Willowbrook","Medical","Centre",null,null,null,null,null,null,"Willowbrook Medical Centre       ","Willowbrook Medical Centre","East Midlands Deanery"]
[null,null,null,null,"Willowbrook","Medical","Practice",null,null,null,null,null,null,"Willowbrook Medical Practice       ","Willowbrook Medical Practice","East Midlands Deanery"]
[null,null,null,null,"Wilson","Street","Surgery",null,null,null,null,null,null,"Wilson Street Surgery       ","Wilson Street Surgery","East Midlands Deanery"]
[null,null,null,null,"Wollaston","and","Bozeat","Surgeries",null,null,null,null,null,"Wollaston and Bozeat Surgeries      ","Wollaston and Bozeat Surgeries","East Midlands Deanery"]
[null,null,null,null,"Wollaton","Park","Medical","Centre",null,null,null,null,null,"Wollaton Park Medical Centre      ","Wollaton Park Medical Centre","East Midlands Deanery"]
[null,null,null,null,"Woodbrook","Medical","Centre",null,null,null,null,null,null,"Woodbrook Medical Centre       ","Woodbrook Medical Centre","East Midlands Deanery"]
[null,null,null,null,"Woodlands","Medical","Practice",null,null,null,null,null,null,"Woodlands Medical Practice       ","Woodlands Medical Practice","East Midlands Deanery"]
[null,null,null,null,"Woodsend","Medical","Centre",null,null,null,null,null,null,"Woodsend Medical Centre       ","Woodsend Medical Centre","East Midlands Deanery"]
[null,null,null,null,"Woodview","Medical","Centre",null,null,null,null,null,null,"Woodview Medical Centre       ","Woodview Medical Centre","East Midlands Deanery"]
[null,null,null,null,"Abbey","Field","Medical","Centre",null,null,null,null,null,"Abbey Field Medical Centre      ","Abbey Field Medical Centre","East of England Deanery"]
[null,null,null,null,"Public Health","England",null,null,null,null,null,null,null,"Public Health England        ","Public Health England","East of England Deanery"]
[null,null,null,null,"Public Health","Health","Protection",null,null,null,null,null,null,"Public Health Health Protection       ","Public Health Health Protection","East of England Deanery"]
[null,null,null,null,"Public Health","Local","Authourity",null,null,null,null,null,null,"Public Health Local Authourity       ","Public Health Local Authourity","East of England Deanery"]
[null,null,null,null,"Public Health","University",null,null,null,null,null,null,null,"Public Health University        ","Public Health University","East of England Deanery"]
[null,null,null,null,"Acorn","Surgery",null,null,null,null,null,null,null,{"$f":"E260&\" \"&F260&\" \"&G260&\" \"&H260&\" \"&I260&\" \"&J259&\" \"&K260&\" \"&L260&\" \"&M260&\" \"","v":"Acorn Surgery        "},{"$f":"TRIM(N260)","v":"Acorn Surgery"},"East of England Deanery"]
[null,null,null,null,"Alconbury","Sugery",null,null,null,null,null,null,null,"Alconbury Sugery        ","Alconbury Sugery","East of England Deanery"]
[null,null,null,null,"Aldborough","Surgery",null,null,null,null,null,null,null,"Aldborough Surgery        ","Aldborough Surgery","East of England Deanery"]
[null,null,null,null,"Alexandra","&","Crestview","Surgeries",null,null,null,null,null,"Alexandra & Crestview Surgeries      ","Alexandra & Crestview Surgeries","East of England Deanery"]
[null,null,null,null,"Almond","Road","Surgery",null,null,null,null,null,null,"Almond Road Surgery       ","Almond Road Surgery","East of England Deanery"]
[null,null,null,null,"Amwell","Surgery",null,null,null,null,null,null,null,"Amwell Surgery        ","Amwell Surgery","East of England Deanery"]
[null,null,null,null,"Andaman","Surgery",null,null,null,null,null,null,null,"Andaman Surgery        ","Andaman Surgery","East of England Deanery"]
[null,null,null,null,"Angel","Hill","Surgery",null,null,null,null,null,null,"Angel Hill Surgery       ","Angel Hill Surgery","East of England Deanery"]
[null,null,null,null,"Angel","Lane","Surgery",null,null,null,null,null,null,"Angel Lane Surgery       ","Angel Lane Surgery","East of England Deanery"]
[null,null,null,null,"Annandale","Medical","Centre",null,null,null,null,null,null,"Annandale Medical Centre       ","Annandale Medical Centre","East of England Deanery"]
[null,null,null,null,"Arbury","Road","Surgery",null,null,null,null,null,null,"Arbury Road Surgery       ","Arbury Road Surgery","East of England Deanery"]
[null,null,null,null,"Arthur","Rank","Hospice",null,null,null,null,null,null,"Arthur Rank Hospice       ","Arthur Rank Hospice","East of England Deanery"]
[null,null,null,null,"Ashwell","Surgery",null,null,null,null,null,null,null,"Ashwell Surgery        ","Ashwell Surgery","East of England Deanery"]
[null,null,null,null,"Attenborough","Surgery",null,null,null,null,null,null,null,"Attenborough Surgery        ","Attenborough Surgery","East of England Deanery"]
[null,null,null,null,"Audley","Mills","Surgery",null,null,null,null,null,null,"Audley Mills Surgery       ","Audley Mills Surgery","East of England Deanery"]
[null,null,null,null,"Bacon","Road","Medical","Centre",null,null,null,null,null,"Bacon Road Medical Centre      ","Bacon Road Medical Centre","East of England Deanery"]
[null,null,null,null,"Baddow","Village","Surgery",null,null,null,null,null,null,"Baddow Village Surgery       ","Baddow Village Surgery","East of England Deanery"]
[null,null,null,null,"Baldwins","Lane","Surgery",null,null,null,null,null,null,"Baldwins Lane Surgery       ","Baldwins Lane Surgery","East of England Deanery"]
[null,null,null,null,"Barrack","Lane","Medical","Centre",null,null,null,null,null,"Barrack Lane Medical Centre      ","Barrack Lane Medical Centre","East of England Deanery"]
[null,null,null,null,"Barton","Hills","Medical","Group",null,null,null,null,null,"Barton Hills Medical Group      ","Barton Hills Medical Group","East of England Deanery"]
[null,null,null,null,"Basildon","&","Thurrock","Uni","Hospitals","Foundation","Trust",null,null,"Basildon & Thurrock Uni Hospitals  Trust   ","Basildon & Thurrock Uni Hospitals Trust","East of England Deanery"]
[null,null,null,null,"East","of","England","Deanery","HEE","EOE",null,null,null,"East of England Deanery HEE Foundation    ","East of England Deanery HEE Foundation","East of England Deanery"]
[null,null,null,null,"Beacon","Health","Group-Danbury","Medical","Centre",null,null,null,null,"Beacon Health Group-Danbury Medical Centre EOE    ","Beacon Health Group-Danbury Medical Centre EOE","East of England Deanery"]
[null,null,null,null,"Beauchamp","House",null,null,null,null,null,null,null,"Beauchamp House        ","Beauchamp House","East of England Deanery"]
[null,null,null,null,"Bedford","Hospital","NHS","Trust",null,null,null,null,null,"Bedford Hospital NHS Trust      ","Bedford Hospital NHS Trust","East of England Deanery"]
[null,null,null,null,"Beechwood","Surgery",null,null,null,null,null,null,null,"Beechwood Surgery        ","Beechwood Surgery","East of England Deanery"]
[null,null,null,null,"Bell","House","Medical","Centre",null,null,null,null,null,"Bell House Medical Centre      ","Bell House Medical Centre","East of England Deanery"]
[null,null,null,null,"Bennetts","End","Surgery",null,null,null,null,null,null,"Bennetts End Surgery       ","Bennetts End Surgery","East of England Deanery"]
[null,null,null,null,"Birchwood","Medical","Practice",null,null,null,null,null,null,"Birchwood Medical Practice       ","Birchwood Medical Practice","East of England Deanery"]
[null,null,null,null,"Blandford","Medical","Centre",null,null,null,null,null,null,"Blandford Medical Centre       ","Blandford Medical Centre","East of England Deanery"]
[null,null,null,null,"Boroughbury","Medical","Centre",null,null,null,null,null,null,"Boroughbury Medical Centre       ","Boroughbury Medical Centre","East of England Deanery"]
[null,null,null,null,"Botesdale","Health","Centre",null,null,null,null,null,null,"Botesdale Health Centre       ","Botesdale Health Centre","East of England Deanery"]
[null,null,null,null,"Bottisham","Medical","Practice",null,null,null,null,null,null,"Bottisham Medical Practice       ","Bottisham Medical Practice","East of England Deanery"]
[null,null,null,null,"Bourn","Surgery",null,null,null,null,null,null,null,"Bourn Surgery        ","Bourn Surgery","East of England Deanery"]
[null,null,null,null,"Bretton","Medical","Practice",null,null,null,null,null,null,"Bretton Medical Practice       ","Bretton Medical Practice","East of England Deanery"]
[null,null,null,null,"Bridge","Cottage","Surgery",null,null,null,null,null,null,"Bridge Cottage Surgery       ","Bridge Cottage Surgery","East of England Deanery"]
[null,null,null,null,"Bridge","Road","Surgery",null,null,null,null,null,null,"Bridge Road Surgery       ","Bridge Road Surgery","East of England Deanery"]
[null,null,null,null,"Bridge","Street","Medical","Centre",null,null,null,null,null,"Bridge Street Medical Centre      ","Bridge Street Medical Centre","East of England Deanery"]
[null,null,null,null,"Bridgewater","Surgeries",null,null,null,null,null,null,null,"Bridgewater Surgeries        ","Bridgewater Surgeries","East of England Deanery"]
[null,null,null,null,"Buckden","Surgery",null,null,null,null,null,null,null,"Buckden Surgery        ","Buckden Surgery","East of England Deanery"]
[null,null,null,null,"Bungay","Medical","Centre",null,null,null,null,null,null,"Bungay Medical Centre       ","Bungay Medical Centre","East of England Deanery"]
[null,null,null,null,"Burlington","Road","Surgery",null,null,null,null,null,null,"Burlington Road Surgery       ","Burlington Road Surgery","East of England Deanery"]
[null,null,null,null,"Burnham","Surgery",null,null,null,null,null,null,null,"Burnham Surgery        ","Burnham Surgery","East of England Deanery"]
[null,null,null,null,"Burvill","House","Surgery",null,null,null,null,null,null,"Burvill House Surgery       ","Burvill House Surgery","East of England Deanery"]
[null,null,null,null,"Burwell","House","Surgery",null,null,null,null,null,null,"Burwell House Surgery       ","Burwell House Surgery","East of England Deanery"]
[null,null,null,null,"Bute","House","Medical","Centre",null,null,null,null,null,"Bute House Medical Centre      ","Bute House Medical Centre","East of England Deanery"]
[null,null,null,null,"Cambridge","University","Hospitals","NHS","Foundation","Trust",null,null,null,"Cambridge University Hospitals NHS Foundation     ","Cambridge University Hospitals NHS Foundation","East of England Deanery"]
[null,null,null,null,"Cambridgeshire","and","Peterborough","NHS","Foundation","Trust",null,null,null,"Cambridgeshire and Peterborough NHS Foundation Trust    ","Cambridgeshire and Peterborough NHS Foundation Trust","East of England Deanery"]
[null,null,null,null,"Campingland","Surgery",null,null,null,null,null,null,null,"Campingland Surgery    Trust    ","Campingland Surgery Trust","East of England Deanery"]
[null,null,null,null,"Castle","Partnership",null,null,null,null,null,null,null,"Castle Partnership        ","Castle Partnership","East of England Deanery"]
[null,null,null,null,"Cedar","House","Surgery",null,null,null,null,null,null,"Cedar House Surgery       ","Cedar House Surgery","East of England Deanery"]
[null,null,null,null,"Leicestershire","County","Council","Public","Health",null,null,null,null,"Leicestershire County Council Public Health     ","Leicestershire County Council Public Health","East of England Deanery"]
[null,null,null,null,"Central","Surgery","(EoE)",null,null,null,null,null,null,"Central Surgery (EoE)       ","Central Surgery (EoE)","East of England Deanery"]
[null,null,null,null,"Chet","Valley","Medical","Practice",null,null,null,null,null,"Chet Valley Medical Practice      ","Chet Valley Medical Practice","East of England Deanery"]
[null,null,null,null,"Church","Street","Partnership",null,null,null,null,null,null,"Church Street Partnership       ","Church Street Partnership","East of England Deanery"]
[null,null,null,null,"Church","View","Surgery",null,null,null,null,null,null,"Church View Surgery       ","Church View Surgery","East of England Deanery"]
[null,null,null,null,"Coastal","Villages","Practice",null,null,null,null,null,null,"Coastal Villages Practice       ","Coastal Villages Practice","East of England Deanery"]
[null,null,null,null,"Colchester","Hospital","University","NHS","Foundation","Trust",null,null,null,"Colchester Hospital University NHS Foundation     ","Colchester Hospital University NHS Foundation","East of England Deanery"]
[null,null,null,null,"Colchester","Medical","Centre",null,null,null,null,null,null,"Colchester Medical Centre   Trust    ","Colchester Medical Centre Trust","East of England Deanery"]
[null,null,null,null,"East","of","England","Deanery",null,null,null,null,null,"East of England Deanery      ","East of England Deanery","East of England Deanery"]
[null,null,null,null,"Colne","Medical","Centre",null,null,null,null,null,null,"Colne Medical Centre       ","Colne Medical Centre","East of England Deanery"]
[null,null,null,null,"Coltishall","Surgery",null,null,null,null,null,null,null,"Coltishall Surgery        ","Coltishall Surgery","East of England Deanery"]
[null,null,null,null,"Comberton","Surgery",null,null,null,null,null,null,null,"Comberton Surgery        ","Comberton Surgery","East of England Deanery"]
[null,null,null,null,"Conner","&","Partners",null,null,null,null,null,null,"Conner & Partners       ","Conner & Partners","East of England Deanery"]
[null,null,null,null,"Conway","Medical","PMS",null,null,null,null,null,null,{"$f":"E324&\" \"&F324&\" \"&G324&\" \"&H324&\" \"&I324&\" \"&J323&\" \"&K324&\" \"&L324&\" \"&M324&\" \"","v":"Conway Medical PMS       "},{"$f":"TRIM(N324)","v":"Conway Medical PMS"},"East of England Deanery"]
[null,null,null,null,"Cornford","House","Surgery",null,null,null,null,null,null,"Cornford House Surgery       ","Cornford House Surgery","East of England Deanery"]
[null,null,null,null,"Creffield","Medical","Group",null,null,null,null,null,null,"Creffield Medical Group       ","Creffield Medical Group","East of England Deanery"]
[null,null,null,null,"Crocus","Medical","Practice",null,null,null,null,null,null,"Crocus Medical Practice       ","Crocus Medical Practice","East of England Deanery"]
[null,null,null,null,"Cromer","Group","Practice",null,null,null,null,null,null,"Cromer Group Practice       ","Cromer Group Practice","East of England Deanery"]
[null,null,null,null,"Cromwell","Place","Surgery",null,null,null,null,null,null,"Cromwell Place Surgery       ","Cromwell Place Surgery","East of England Deanery"]
[null,null,null,null,"Davenport","House","Surgery",null,null,null,null,null,null,"Davenport House Surgery       ","Davenport House Surgery","East of England Deanery"]
[null,null,null,null,"Deal","Tree","Health","Centre",null,null,null,null,null,"Deal Tree Health Centre      ","Deal Tree Health Centre","East of England Deanery"]
[null,null,null,null,"Debenham","Group","Practice",null,null,null,null,null,null,"Debenham Group Practice       ","Debenham Group Practice","East of England Deanery"]
[null,null,null,null,"Dell","Medical","Centre",null,null,null,null,null,null,"Dell Medical Centre       ","Dell Medical Centre","East of England Deanery"]
[null,null,null,null,"Dengie","Medical","Partnership",null,null,null,null,null,null,"Dengie Medical Partnership       ","Dengie Medical Partnership","East of England Deanery"]
[null,null,null,null,"Doddington","Medical","Centre",null,null,null,null,null,null,"Doddington Medical Centre       ","Doddington Medical Centre","East of England Deanery"]
[null,null,null,null,"Dolphin","House","Surgery",null,null,null,null,null,null,"Dolphin House Surgery       ","Dolphin House Surgery","East of England Deanery"]
[null,null,null,null,"Dr","A","Naeem","&","Partners","The","New","Surgery",null,"Dr A Naeem & Partners  New Surgery  ","Dr A Naeem & Partners New Surgery","East of England Deanery"]
[null,null,null,null,"Dr","Agha","(Thorpe","Bay","Surgery)",null,null,null,null,"Dr Agha (Thorpe Bay Surgery) The    ","Dr Agha (Thorpe Bay Surgery) The","East of England Deanery"]
[null,null,null,null,"Dr","Hughes","&","Partners",null,null,null,null,null,"Dr Hughes & Partners      ","Dr Hughes & Partners","East of England Deanery"]
[null,null,null,null,"Dr","Irlam","&","Partners","(Central","Surgery)",null,null,null,"Dr Irlam & Partners (Central     ","Dr Irlam & Partners (Central","East of England Deanery"]
[null,null,null,null,"Dr","JK","Marsden's","Practice",null,null,null,null,null,"Dr JK Marsden's Practice  Surgery)    ","Dr JK Marsden's Practice Surgery)","East of England Deanery"]
[null,null,null,null,"Dr","Khan","&","Partners","Rushbottom","Lane","Surgery",null,null,"Dr Khan & Partners Rushbottom  Surgery   ","Dr Khan & Partners Rushbottom Surgery","East of England Deanery"]
[null,null,null,null,"Dr","M","Goyal's","Practice",null,null,null,null,null,"Dr M Goyal's Practice  Lane    ","Dr M Goyal's Practice Lane","East of England Deanery"]
[null,null,null,null,"Dr","R","Khanchandani's","Practice",null,null,null,null,null,"Dr R Khanchandani's Practice      ","Dr R Khanchandani's Practice","East of England Deanery"]
[null,null,null,null,"Drayton","Medical","Practice",null,null,null,null,null,null,"Drayton Medical Practice       ","Drayton Medical Practice","East of England Deanery"]
[null,null,null,null,"Lister","Hospital",null,null,null,null,null,null,null,"Lister Hospital        ","Lister Hospital","East of England Deanery"]
[null,null,null,null,"East","and","North","Hertfordshire","NHS","Trust",null,null,null,"East and North Hertfordshire NHS     ","East and North Hertfordshire NHS","East of England Deanery"]
[null,null,null,null,"East","Barnwell","Health","Centre",null,null,null,null,null,"East Barnwell Health Centre  Trust    ","East Barnwell Health Centre Trust","East of England Deanery"]
[null,null,null,null,"East","Hill","Surgery",null,null,null,null,null,null,"East Hill Surgery       ","East Hill Surgery","East of England Deanery"]
[null,null,null,null,"East","London","Foundation","Trust",null,null,null,null,null,"East London Foundation Trust      ","East London Foundation Trust","East of England Deanery"]
[null,null,null,null,"East","Norfolk","Medical","Practice",null,null,null,null,null,"East Norfolk Medical Practice      ","East Norfolk Medical Practice","East of England Deanery"]
[null,null,null,null,"East","Norwich","Medical","Partnership",null,null,null,null,null,"East Norwich Medical Partnership      ","East Norwich Medical Partnership","East of England Deanery"]
[null,null,null,null,"Eaton","Socon","Health","Centre",null,null,null,null,null,"Eaton Socon Health Centre      ","Eaton Socon Health Centre","East of England Deanery"]
[null,null,null,null,"Edlesborough","Surgery",null,null,null,null,null,null,null,"Edlesborough Surgery        ","Edlesborough Surgery","East of England Deanery"]
[null,null,null,null,"Elmham","Surgery",null,null,null,null,null,null,null,"Elmham Surgery        ","Elmham Surgery","East of England Deanery"]
[null,null,null,null,"Elsenham","Surgery",null,null,null,null,null,null,null,"Elsenham Surgery        ","Elsenham Surgery","East of England Deanery"]
[null,null,null,null,"Church","Street","Partnership",null,null,null,null,null,null,"Church Street Partnership       ","Church Street Partnership","East of England Deanery"]
[null,null,null,null,"East","of","England","Deanery","HEE",null,null,null,null,"East of England Deanery HEE     ","East of England Deanery HEE","East of England Deanery"]
[null,null,null,null,"East","of","England","Deanery","HEE",null,null,null,null,"East of England Deanery HEE     ","East of England Deanery HEE","East of England Deanery"]
[null,null,null,null,"Addensbrookes","Hospital",null,null,null,null,null,null,null,"Addensbrookes Hospital        ","Addensbrookes Hospital","East of England Deanery"]
[null,null,null,null,"Bedford","Borough","Council",null,null,null,null,null,null,"Bedford Borough Council       ","Bedford Borough Council","East of England Deanery"]
[null,null,null,null,"Hertfordshire","County","Council",null,null,null,null,null,null,"Hertfordshire County Council       ","Hertfordshire County Council","East of England Deanery"]
[null,null,null,null,"Southend","Unitary","Authority",null,null,null,null,null,null,"Southend Unitary Authority       ","Southend Unitary Authority","East of England Deanery"]
[null,null,null,null,"Central","Bedfordshire","Council",null,null,null,null,null,null,"Central Bedfordshire Council       ","Central Bedfordshire Council","East of England Deanery"]
[null,null,null,null,"Bedford","Borough","Council",null,null,null,null,null,null,"Bedford Borough Council       ","Bedford Borough Council","East of England Deanery"]
[null,null,null,null,"Suffolk","County","Council",null,null,null,null,null,null,"Suffolk County Council       ","Suffolk County Council","East of England Deanery"]
[null,null,null,null,"Addenbrooke's","Hospital",null,null,null,null,null,null,null,"Addenbrooke's Hospital        ","Addenbrooke's Hospital","East of England Deanery"]
[null,null,null,null,"Essex","County","Council",null,null,null,null,null,null,"Essex County Council       ","Essex County Council","East of England Deanery"]
[null,null,null,null,"Norfolk","County","Council",null,null,null,null,null,null,"Norfolk County Council       ","Norfolk County Council","East of England Deanery"]
[null,null,null,null,"Cambridgeshire","County","Council",null,null,null,null,null,null,"Cambridgeshire County Council       ","Cambridgeshire County Council","East of England Deanery"]
[null,null,null,null,"Cambridgeshire","and","Peterborough","CCG",null,null,null,null,null,"Cambridgeshire and Peterborough CCG      ","Cambridgeshire and Peterborough CCG","East of England Deanery"]
[null,null,null,null,"London","Transport",null,null,null,null,null,null,null,"London Transport        ","London Transport","East of England Deanery"]
[null,null,null,null,"University","of","Cambridge,","Institute","of","Public","Health",null,null,"University of Cambridge, Institute of  Health   ","University of Cambridge, Institute of Health","East of England Deanery"]
[null,null,null,null,"EoE","Public","Health","Recharge",null,null,null,null,null,"EoE Public Health Recharge  Public    ","EoE Public Health Recharge Public","East of England Deanery"]
[null,null,null,null,"Fakenham","Medical","Practice",null,null,null,null,null,null,"Fakenham Medical Practice       ","Fakenham Medical Practice","East of England Deanery"]
[null,null,null,null,"Felixstowe","Road","Medical","Practice",null,null,null,null,null,"Felixstowe Road Medical Practice      ","Felixstowe Road Medical Practice","East of England Deanery"]
[null,null,null,null,"Fernville","Surgery",null,null,null,null,null,null,null,"Fernville Surgery        ","Fernville Surgery","East of England Deanery"]
[null,null,null,null,"Firs","House","Surgery",null,null,null,null,null,null,"Firs House Surgery       ","Firs House Surgery","East of England Deanery"]
[null,null,null,null,"Flitwick","Surgery",null,null,null,null,null,null,null,"Flitwick Surgery        ","Flitwick Surgery","East of England Deanery"]
[null,null,null,null,"Framfeild","House","Surgery",null,null,null,null,null,null,"Framfeild House Surgery       ","Framfeild House Surgery","East of England Deanery"]
[null,null,null,null,"Freshwell","Health","Centre",null,null,null,null,null,null,"Freshwell Health Centre       ","Freshwell Health Centre","East of England Deanery"]
[null,null,null,null,"Garston","Medical","Centre",null,null,null,null,null,null,"Garston Medical Centre       ","Garston Medical Centre","East of England Deanery"]
[null,null,null,null,"George","Clare","Surgery",null,null,null,null,null,null,"George Clare Surgery       ","George Clare Surgery","East of England Deanery"]
[null,null,null,null,"Goldington","Avenue","Surgery",null,null,null,null,null,null,"Goldington Avenue Surgery       ","Goldington Avenue Surgery","East of England Deanery"]
[null,null,null,null,"Grange","Street","Surgery",null,null,null,null,null,null,"Grange Street Surgery       ","Grange Street Surgery","East of England Deanery"]
[null,null,null,null,"Granta","Medical","Practices",null,null,null,null,null,null,"Granta Medical Practices       ","Granta Medical Practices","East of England Deanery"]
[null,null,null,null,"Great","Massingham","Surgery",null,null,null,null,null,null,"Great Massingham Surgery       ","Great Massingham Surgery","East of England Deanery"]
[null,null,null,null,"Grove","Medical","Centre",null,null,null,null,null,null,{"$f":"E388&\" \"&F388&\" \"&G388&\" \"&H388&\" \"&I388&\" \"&J387&\" \"&K388&\" \"&L388&\" \"&M388&\" \"","v":"Grove Medical Centre       "},{"$f":"TRIM(N388)","v":"Grove Medical Centre"},"East of England Deanery"]
[null,null,null,null,"Grove","Surgery",null,null,null,null,null,null,null,"Grove Surgery        ","Grove Surgery","East of England Deanery"]
[null,null,null,null,"Hadleigh","Boxford","Group","Practice",null,null,null,null,null,"Hadleigh Boxford Group Practice      ","Hadleigh Boxford Group Practice","East of England Deanery"]
[null,null,null,null,"Hailey","View","Surgery",null,null,null,null,null,null,"Hailey View Surgery       ","Hailey View Surgery","East of England Deanery"]
[null,null,null,null,"Hall","Grove","Group","Practice",null,null,null,null,null,"Hall Grove Group Practice      ","Hall Grove Group Practice","East of England Deanery"]
[null,null,null,null,"Harvey","Group","Practice",null,null,null,null,null,null,"Harvey Group Practice       ","Harvey Group Practice","East of England Deanery"]
[null,null,null,null,"Haven","Health",null,null,null,null,null,null,null,"Haven Health        ","Haven Health","East of England Deanery"]
[null,null,null,null,"Heacham","Group","Practice",null,null,null,null,null,null,"Heacham Group Practice       ","Heacham Group Practice","East of England Deanery"]
[null,null,null,null,"Heathgate","Medical","Practice",null,null,null,null,null,null,"Heathgate Medical Practice       ","Heathgate Medical Practice","East of England Deanery"]
[null,null,null,null,"Hellesdon","Medical","Practice",null,null,null,null,null,null,"Hellesdon Medical Practice       ","Hellesdon Medical Practice","East of England Deanery"]
[null,null,null,null,"Hereward","Medical","Centre",null,null,null,null,null,null,"Hereward Medical Centre       ","Hereward Medical Centre","East of England Deanery"]
[null,null,null,null,"Hertfordshire","Partnership","NHS","Foundation","Trust",null,null,null,null,"Hertfordshire Partnership NHS Foundation Trust     ","Hertfordshire Partnership NHS Foundation Trust","East of England Deanery"]
[null,null,null,null,"Highview","Medical","Centre",null,null,null,null,null,null,"Highview Medical Centre       ","Highview Medical Centre","East of England Deanery"]
[null,null,null,null,"Hinchingbrooke","Hospital",null,null,null,null,null,null,null,"Hinchingbrooke Hospital        ","Hinchingbrooke Hospital","East of England Deanery"]
[null,null,null,null,"Hinchingbrooke","Health","Care","NHS","Trust",null,null,null,null,"Hinchingbrooke Health Care NHS Trust     ","Hinchingbrooke Health Care NHS Trust","East of England Deanery"]
[null,null,null,null,"Holt","Medical","Practice",null,null,null,null,null,null,"Holt Medical Practice       ","Holt Medical Practice","East of England Deanery"]
[null,null,null,null,"Houghton","Close","Surgery",null,null,null,null,null,null,"Houghton Close Surgery       ","Houghton Close Surgery","East of England Deanery"]
[null,null,null,null,"Hoveton","&","Wroxham","Medical","Centre",null,null,null,null,"Hoveton & Wroxham Medical Centre     ","Hoveton & Wroxham Medical Centre","East of England Deanery"]
[null,null,null,null,"Howard","House","Surgery",null,null,null,null,null,null,"Howard House Surgery       ","Howard House Surgery","East of England Deanery"]
[null,null,null,null,"Huntingdon","Road","Surgery",null,null,null,null,null,null,"Huntingdon Road Surgery       ","Huntingdon Road Surgery","East of England Deanery"]
[null,null,null,null,"Ipswich","Hospital","NHS","Trust",null,null,null,null,null,"Ipswich Hospital NHS Trust      ","Ipswich Hospital NHS Trust","East of England Deanery"]
[null,null,null,null,"Ivry","Street","Medical","Practice",null,null,null,null,null,"Ivry Street Medical Practice      ","Ivry Street Medical Practice","East of England Deanery"]
[null,null,null,null,"James","Paget","Univeristy","Hospitals","NHS","FT",null,null,null,"James Paget Univeristy Hospitals NHS     ","James Paget Univeristy Hospitals NHS","East of England Deanery"]
[null,null,null,null,"John","Tasker","House","Surgery",null,null,null,null,null,"John Tasker House Surgery  FT    ","John Tasker House Surgery FT","East of England Deanery"]
[null,null,null,null,"Kimbolton","Medical","Centre",null,null,null,null,null,null,"Kimbolton Medical Centre       ","Kimbolton Medical Centre","East of England Deanery"]
[null,null,null,null,"King","George","Surgery",null,null,null,null,null,null,"King George Surgery       ","King George Surgery","East of England Deanery"]
[null,null,null,null,"King","Street","Surgery",null,null,null,null,null,null,"King Street Surgery       ","King Street Surgery","East of England Deanery"]
[null,null,null,null,"Kings","Langley","Surgery",null,null,null,null,null,null,"Kings Langley Surgery       ","Kings Langley Surgery","East of England Deanery"]
[null,null,null,null,"Kings","Medical","Centre",null,null,null,null,null,null,"Kings Medical Centre       ","Kings Medical Centre","East of England Deanery"]
[null,null,null,null,"Laindon","Health","Centre",null,null,null,null,null,null,"Laindon Health Centre       ","Laindon Health Centre","East of England Deanery"]
[null,null,null,null,"Lakeside","HealthCare","Stamford",null,null,null,null,null,null,"Lakeside HealthCare Stamford       ","Lakeside HealthCare Stamford","East of England Deanery"]
[null,null,null,null,"Langdon","Hills","Medical","Practice",null,null,null,null,null,"Langdon Hills Medical Practice      ","Langdon Hills Medical Practice","East of England Deanery"]
[null,null,null,null,"Larksfield","Surgery","Medical","Partnership",null,null,null,null,null,"Larksfield Surgery Medical Partnership      ","Larksfield Surgery Medical Partnership","East of England Deanery"]
[null,null,null,null,"Lawson","Road","Surgery",null,null,null,null,null,null,"Lawson Road Surgery       ","Lawson Road Surgery","East of England Deanery"]
[null,null,null,null,"Lea","Vale","Medical","Practice",null,null,null,null,null,"Lea Vale Medical Practice      ","Lea Vale Medical Practice","East of England Deanery"]
[null,null,null,null,"Lensfield","Medical","Practice",null,null,null,null,null,null,"Lensfield Medical Practice       ","Lensfield Medical Practice","East of England Deanery"]
[null,null,null,null,"Lister","Medical","Centre",null,null,null,null,null,null,"Lister Medical Centre       ","Lister Medical Centre","East of England Deanery"]
[null,null,null,null,"Little","Waltham","&","Gt","Notley","Surgery",null,null,null,"Little Waltham & Gt Notley     ","Little Waltham & Gt Notley","East of England Deanery"]
[null,null,null,null,"London","Road","Health","Centre",null,null,null,null,null,"London Road Health Centre  Surgery    ","London Road Health Centre Surgery","East of England Deanery"]
[null,null,null,null,"Long","Stratton","Medical","Partnership",null,null,null,null,null,"Long Stratton Medical Partnership      ","Long Stratton Medical Partnership","East of England Deanery"]
[null,null,null,null,"Longfield","Medical","Centre",null,null,null,null,null,null,"Longfield Medical Centre       ","Longfield Medical Centre","East of England Deanery"]
[null,null,null,null,"Longshore","Surgeries",null,null,null,null,null,null,null,"Longshore Surgeries        ","Longshore Surgeries","East of England Deanery"]
[null,null,null,null,"Loughton","Health","Centre",null,null,null,null,null,null,"Loughton Health Centre       ","Loughton Health Centre","East of England Deanery"]
[null,null,null,null,"Ludham","and","Stalham","Green","Surgeries",null,null,null,null,"Ludham and Stalham Green Surgeries     ","Ludham and Stalham Green Surgeries","East of England Deanery"]
[null,null,null,null,"Luton","&","Dunstable","University","Hospital","NHS","FT",null,null,"Luton & Dunstable University Hospital  FT   ","Luton & Dunstable University Hospital FT","East of England Deanery"]
[null,null,null,null,"Magdalen","Medical","Practice",null,null,null,null,null,null,"Magdalen Medical Practice   NHS    ","Magdalen Medical Practice NHS","East of England Deanery"]
[null,null,null,null,"Maltings","Surgery",null,null,null,null,null,null,null,"Maltings Surgery        ","Maltings Surgery","East of England Deanery"]
[null,null,null,null,"Market","Cross","Surgery",null,null,null,null,null,null,"Market Cross Surgery       ","Market Cross Surgery","East of England Deanery"]
[null,null,null,null,"Market","Square","Surgery",null,null,null,null,null,null,"Market Square Surgery       ","Market Square Surgery","East of England Deanery"]
[null,null,null,null,"Market","Surgery",null,null,null,null,null,null,null,"Market Surgery        ","Market Surgery","East of England Deanery"]
[null,null,null,null,"Maynard","Court","Surgery",null,null,null,null,null,null,"Maynard Court Surgery       ","Maynard Court Surgery","East of England Deanery"]
[null,null,null,null,"Broomfield","Hospital",null,null,null,null,null,null,null,"Broomfield Hospital        ","Broomfield Hospital","East of England Deanery"]
[null,null,null,null,"Mid","Essex","Hospital","Services","NHS","Trust",null,null,null,"Mid Essex Hospital Services NHS     ","Mid Essex Hospital Services NHS","East of England Deanery"]
[null,null,null,null,"Mill","Road","Surgery",null,null,null,null,null,null,"Mill Road Surgery   Trust    ","Mill Road Surgery Trust","East of England Deanery"]
[null,null,null,null,"Millwood","Surgery",null,null,null,null,null,null,null,"Millwood Surgery        ","Millwood Surgery","East of England Deanery"]
[null,null,null,null,"Mount","Chambers","Medical","Practice",null,null,null,null,null,"Mount Chambers Medical Practice      ","Mount Chambers Medical Practice","East of England Deanery"]
[null,null,null,null,"Mount","Farm","Surgery",null,null,null,null,null,null,"Mount Farm Surgery       ","Mount Farm Surgery","East of England Deanery"]
[null,null,null,null,"Nene","Valley","Medical","Practice",null,null,null,null,null,"Nene Valley Medical Practice      ","Nene Valley Medical Practice","East of England Deanery"]
[null,null,null,null,"New","Queen","Street","Surgery",null,null,null,null,null,"New Queen Street Surgery      ","New Queen Street Surgery","East of England Deanery"]
[null,null,null,null,"Newnham","Walk","Surgery",null,null,null,null,null,null,"Newnham Walk Surgery       ","Newnham Walk Surgery","East of England Deanery"]
[null,null,null,null,"Norfolk","&","Norwich","University","Hospitals","NHS","FT",null,null,"Norfolk & Norwich University Hospitals  FT   ","Norfolk & Norwich University Hospitals FT","East of England Deanery"]
[null,null,null,null,"Norfolk","and","Suffolk","NHS","Foundation","Trust",null,null,null,"Norfolk and Suffolk NHS Foundation NHS    ","Norfolk and Suffolk NHS Foundation NHS","East of England Deanery"]
[null,null,null,null,"North","Essex","Partnership","NHS","Foundation","Trust",null,null,null,"North Essex Partnership NHS Foundation Trust    ","North Essex Partnership NHS Foundation Trust","East of England Deanery"]
[null,null,null,null,"Peterborough","City","Hospital",null,null,null,null,null,null,"Peterborough City Hospital   Trust    ","Peterborough City Hospital Trust","East of England Deanery"]
[null,null,null,null,"Nuffield","Road","Medical","Centre",null,null,null,null,null,{"$f":"E452&\" \"&F452&\" \"&G452&\" \"&H452&\" \"&I452&\" \"&J451&\" \"&K452&\" \"&L452&\" \"&M452&\" \"","v":"Nuffield Road Medical Centre      "},{"$f":"TRIM(N452)","v":"Nuffield Road Medical Centre"},"East of England Deanery"]
[null,null,null,null,"Oak","Street","Medical","Practice",null,null,null,null,null,"Oak Street Medical Practice      ","Oak Street Medical Practice","East of England Deanery"]
[null,null,null,null,"Old","Exchange","Surgery",null,null,null,null,null,null,"Old Exchange Surgery       ","Old Exchange Surgery","East of England Deanery"]
[null,null,null,null,"Old","Harlow","Health","Centre",null,null,null,null,null,"Old Harlow Health Centre      ","Old Harlow Health Centre","East of England Deanery"]
[null,null,null,null,"Ongar","Health","Centre",null,null,null,null,null,null,"Ongar Health Centre       ","Ongar Health Centre","East of England Deanery"]
[null,null,null,null,"Orchard","House","Surgery",null,null,null,null,null,null,"Orchard House Surgery       ","Orchard House Surgery","East of England Deanery"]
[null,null,null,null,"Orchard","Surgery","(Dereham)",null,null,null,null,null,null,"Orchard Surgery (Dereham)       ","Orchard Surgery (Dereham)","East of England Deanery"]
[null,null,null,null,"Orford","Lodge","Surgery",null,null,null,null,null,null,"Orford Lodge Surgery       ","Orford Lodge Surgery","East of England Deanery"]
[null,null,null,null,"Orsett","Surgery",null,null,null,null,null,null,null,"Orsett Surgery        ","Orsett Surgery","East of England Deanery"]
[null,null,null,null,"Over","Surgery",null,null,null,null,null,null,null,"Over Surgery        ","Over Surgery","East of England Deanery"]
[null,null,null,null,"Oxford","Drive","Medical","Centre",null,null,null,null,null,"Oxford Drive Medical Centre      ","Oxford Drive Medical Centre","East of England Deanery"]
[null,null,null,null,"Papworth","Surgery",null,null,null,null,null,null,null,"Papworth Surgery        ","Papworth Surgery","East of England Deanery"]
[null,null,null,null,"Park","End","Surgery",null,null,null,null,null,null,"Park End Surgery       ","Park End Surgery","East of England Deanery"]
[null,null,null,null,"Parkbury","House","Surgery",null,null,null,null,null,null,"Parkbury House Surgery       ","Parkbury House Surgery","East of England Deanery"]
[null,null,null,null,"Parkfield","Medical","Centre",null,null,null,null,null,null,"Parkfield Medical Centre       ","Parkfield Medical Centre","East of England Deanery"]
[null,null,null,null,"Parkwood","Surgery",null,null,null,null,null,null,null,"Parkwood Surgery        ","Parkwood Surgery","East of England Deanery"]
[null,null,null,null,"Parsonage","Surgery",null,null,null,null,null,null,null,"Parsonage Surgery        ","Parsonage Surgery","East of England Deanery"]
[null,null,null,null,"Paston","Surgery",null,null,null,null,null,null,null,"Paston Surgery        ","Paston Surgery","East of England Deanery"]
[null,null,null,null,"Pemberley","Surgery",null,null,null,null,null,null,null,"Pemberley Surgery        ","Pemberley Surgery","East of England Deanery"]
[null,null,null,null,"East","of","England","Deanery","HEE",null,null,null,null,"East of England Deanery HEE     ","East of England Deanery HEE","East of England Deanery"]
[null,null,null,null,"Petersfield","Surgery",null,null,null,null,null,null,null,"Petersfield Surgery        ","Petersfield Surgery","East of England Deanery"]
[null,null,null,null,"Potterells","Medical","Centre",null,null,null,null,null,null,"Potterells Medical Centre       ","Potterells Medical Centre","East of England Deanery"]
[null,null,null,null,"Priory","Fields","Surgery",null,null,null,null,null,null,"Priory Fields Surgery       ","Priory Fields Surgery","East of England Deanery"]
[null,null,null,null,"Putnoe","Medical","Centre","Partnership",null,null,null,null,null,"Putnoe Medical Centre Partnership      ","Putnoe Medical Centre Partnership","East of England Deanery"]
[null,null,null,null,"Queensway","Surgery",null,null,null,null,null,null,null,"Queensway Surgery        ","Queensway Surgery","East of England Deanery"]
[null,null,null,null,"Ramsey","Health","Centre",null,null,null,null,null,null,"Ramsey Health Centre       ","Ramsey Health Centre","East of England Deanery"]
[null,null,null,null,"Red","House","Surgery",null,null,null,null,null,null,"Red House Surgery       ","Red House Surgery","East of England Deanery"]
[null,null,null,null,"Regal","Chambers","Surgery",null,null,null,null,null,null,"Regal Chambers Surgery       ","Regal Chambers Surgery","East of England Deanery"]
[null,null,null,null,"Rivermead","Gate","Medical","Centre",null,null,null,null,null,"Rivermead Gate Medical Centre      ","Rivermead Gate Medical Centre","East of England Deanery"]
[null,null,null,null,"Rosedale","Surgery",null,null,null,null,null,null,null,"Rosedale Surgery        ","Rosedale Surgery","East of England Deanery"]
[null,null,null,null,"Roundwell","Medical","Centre",null,null,null,null,null,null,"Roundwell Medical Centre       ","Roundwell Medical Centre","East of England Deanery"]
[null,null,null,null,"Rushgreen","Medical","Centre",null,null,null,null,null,null,"Rushgreen Medical Centre       ","Rushgreen Medical Centre","East of England Deanery"]
[null,null,null,null,"Saffron","Health","Partnership",null,null,null,null,null,null,"Saffron Health Partnership       ","Saffron Health Partnership","East of England Deanery"]
[null,null,null,null,"Sandy","Health","Centre",null,null,null,null,null,null,"Sandy Health Centre       ","Sandy Health Centre","East of England Deanery"]
[null,null,null,null,"School","Lane","Surgery",null,null,null,null,null,null,"School Lane Surgery       ","School Lane Surgery","East of England Deanery"]
[null,null,null,null,"Schopwick","Surgery",null,null,null,null,null,null,null,"Schopwick Surgery        ","Schopwick Surgery","East of England Deanery"]
[null,null,null,null,"Sheepcot","Medical","Centre",null,null,null,null,null,null,"Sheepcot Medical Centre       ","Sheepcot Medical Centre","East of England Deanery"]
[null,null,null,null,"Shefford","Health","Centre",null,null,null,null,null,null,"Shefford Health Centre       ","Shefford Health Centre","East of England Deanery"]
[null,null,null,null,"Shephall","Health","Centre","Surgery",null,null,null,null,null,"Shephall Health Centre Surgery      ","Shephall Health Centre Surgery","East of England Deanery"]
[null,null,null,null,"Sheringham","Medical","Practice",null,null,null,null,null,null,"Sheringham Medical Practice       ","Sheringham Medical Practice","East of England Deanery"]
[null,null,null,null,"South","Essex","Partnership","Uni","NHS","Foundation","Trust",null,null,"South Essex Partnership Uni NHS  Trust   ","South Essex Partnership Uni NHS Trust","East of England Deanery"]
[null,null,null,null,"South","Street","Surgery",null,null,null,null,null,null,"South Street Surgery   Foundation    ","South Street Surgery Foundation","East of England Deanery"]
[null,null,null,null,"Southend","University","Hospital","NHS","Foundation","Trust",null,null,null,"Southend University Hospital NHS Foundation     ","Southend University Hospital NHS Foundation","East of England Deanery"]
[null,null,null,null,"Southgates","Medical","Centre",null,null,null,null,null,null,"Southgates Medical Centre   Trust    ","Southgates Medical Centre Trust","East of England Deanery"]
[null,null,null,null,"Spinney","Surgery",null,null,null,null,null,null,null,"Spinney Surgery        ","Spinney Surgery","East of England Deanery"]
[null,null,null,null,"St","George's","Medical","Centre",null,null,null,null,null,"St George's Medical Centre      ","St George's Medical Centre","East of England Deanery"]
[null,null,null,null,"James","Medical","Practice",null,null,null,null,null,null,"James Medical Practice       ","James Medical Practice","East of England Deanery"]
[null,null,null,null,"St","Mary's","Surgery",null,null,null,null,null,null,"St Mary's Surgery       ","St Mary's Surgery","East of England Deanery"]
[null,null,null,null,"St","Stephen's","Gate","Medical","Partnership",null,null,null,null,"St Stephen's Gate Medical Partnership     ","St Stephen's Gate Medical Partnership","East of England Deanery"]
[null,null,null,null,"Stalham","Staithe","Surgery",null,null,null,null,null,null,"Stalham Staithe Surgery       ","Stalham Staithe Surgery","East of England Deanery"]
[null,null,null,null,"Stanhope","Surgery",null,null,null,null,null,null,null,"Stanhope Surgery        ","Stanhope Surgery","East of England Deanery"]
[null,null,null,null,"Stanmore","Medical","Group",null,null,null,null,null,null,"Stanmore Medical Group       ","Stanmore Medical Group","East of England Deanery"]
[null,null,null,null,"Staploe","Medical","Centre",null,null,null,null,null,null,"Staploe Medical Centre       ","Staploe Medical Centre","East of England Deanery"]
[null,null,null,null,"East","of","England","Deanery","HEE",null,null,null,null,"East of England Deanery HEE     ","East of England Deanery HEE","East of England Deanery"]
[null,null,null,null,"Stifford","Clays","Health","Centre",null,null,null,null,null,"Stifford Clays Health Centre      ","Stifford Clays Health Centre","East of England Deanery"]
[null,null,null,null,"Stopsley","Village","Practice",null,null,null,null,null,null,"Stopsley Village Practice       ","Stopsley Village Practice","East of England Deanery"]
[null,null,null,null,"Stowhealth",null,null,null,null,null,null,null,null,"Stowhealth         ","Stowhealth","East of England Deanery"]
[null,null,null,null,"Sundon","Medical","Centre",null,null,null,null,null,null,"Sundon Medical Centre       ","Sundon Medical Centre","East of England Deanery"]
[null,null,null,null,"Swan","Surgery",null,null,null,null,null,null,null,"Swan Surgery        ","Swan Surgery","East of England Deanery"]
[null,null,null,null,"Swanwood","Partnership",null,null,null,null,null,null,null,"Swanwood Partnership        ","Swanwood Partnership","East of England Deanery"]
[null,null,null,null,"Tennyson","House","Surgery",null,null,null,null,null,null,"Tennyson House Surgery       ","Tennyson House Surgery","East of England Deanery"]
[null,null,null,null,"The","Ardleigh","Surgery",null,null,null,null,null,null,"The Ardleigh Surgery       ","The Ardleigh Surgery","East of England Deanery"]
[null,null,null,null,"The","Baldock","Surgery",null,null,null,null,null,null,"The Baldock Surgery       ","The Baldock Surgery","East of England Deanery"]
[null,null,null,null,"The","Billericay","Medical","Practice",null,null,null,null,null,"The Billericay Medical Practice      ","The Billericay Medical Practice","East of England Deanery"]
[null,null,null,null,"The","Chesterfield","Drive","Practice",null,null,null,null,null,{"$f":"E516&\" \"&F516&\" \"&G516&\" \"&H516&\" \"&I516&\" \"&J515&\" \"&K516&\" \"&L516&\" \"&M516&\" \"","v":"The Chesterfield Drive Practice      "},{"$f":"TRIM(N516)","v":"The Chesterfield Drive Practice"},"East of England Deanery"]
[null,null,null,null,"The","Colne","Practice",null,null,null,null,null,null,"The Colne Practice       ","The Colne Practice","East of England Deanery"]
[null,null,null,null,"The","Cornerstone","Practice",null,null,null,null,null,null,"The Cornerstone Practice       ","The Cornerstone Practice","East of England Deanery"]
[null,null,null,null,"The","De","Parys","Group",null,null,null,null,null,"The De Parys Group      ","The De Parys Group","East of England Deanery"]
[null,null,null,null,"The","Deepings","Practice",null,null,null,null,null,null,"The Deepings Practice       ","The Deepings Practice","East of England Deanery"]
[null,null,null,null,"The","Derby","Road","Practice",null,null,null,null,null,"The Derby Road Practice      ","The Derby Road Practice","East of England Deanery"]
[null,null,null,null,"The","Eden","Surgeries",null,null,null,null,null,null,"The Eden Surgeries       ","The Eden Surgeries","East of England Deanery"]
[null,null,null,null,"The","Elizabeth","Courtauld","Surgery",null,null,null,null,null,"The Elizabeth Courtauld Surgery      ","The Elizabeth Courtauld Surgery","East of England Deanery"]
[null,null,null,null,"The","Gold","Street","Surgery",null,null,null,null,null,"The Gold Street Surgery      ","The Gold Street Surgery","East of England Deanery"]
[null,null,null,null,"The","Greensward","Surgery",null,null,null,null,null,null,"The Greensward Surgery       ","The Greensward Surgery","East of England Deanery"]
[null,null,null,null,"The","Guildhall","&","Barrow","Surgery",null,null,null,null,"The Guildhall & Barrow Surgery     ","The Guildhall & Barrow Surgery","East of England Deanery"]
[null,null,null,null,"The","Hamilton","Practice",null,null,null,null,null,null,"The Hamilton Practice       ","The Hamilton Practice","East of England Deanery"]
[null,null,null,null,"The","Health","Centre","Practice",null,null,null,null,null,"The Health Centre Practice      ","The Health Centre Practice","East of England Deanery"]
[null,null,null,null,"The","Hicks","Group","Practice",null,null,null,null,null,"The Hicks Group Practice      ","The Hicks Group Practice","East of England Deanery"]
[null,null,null,null,"The","Hollies",null,null,null,null,null,null,null,"The Hollies        ","The Hollies","East of England Deanery"]
[null,null,null,null,"The","Hollies","Surgery",null,null,null,null,null,null,"The Hollies Surgery       ","The Hollies Surgery","East of England Deanery"]
[null,null,null,null,"The","Laurels","Surgery",null,null,null,null,null,null,"The Laurels Surgery       ","The Laurels Surgery","East of England Deanery"]
[null,null,null,null,"The","Limes","Medical","Centre","(Epping)",null,null,null,null,"The Limes Medical Centre (Epping)     ","The Limes Medical Centre (Epping)","East of England Deanery"]
[null,null,null,null,"The","Lodge","Surgery",null,null,null,null,null,null,"The Lodge Surgery       ","The Lodge Surgery","East of England Deanery"]
[null,null,null,null,"The","Long","Melford","Practice",null,null,null,null,null,"The Long Melford Practice      ","The Long Melford Practice","East of England Deanery"]
[null,null,null,null,"The","Manor","Street","Surgery",null,null,null,null,null,"The Manor Street Surgery      ","The Manor Street Surgery","East of England Deanery"]
[null,null,null,null,"The","Maples",null,null,null,null,null,null,null,"The Maples        ","The Maples","East of England Deanery"]
[null,null,null,null,"The","Medici","Medical","Practice",null,null,null,null,null,"The Medici Medical Practice      ","The Medici Medical Practice","East of England Deanery"]
[null,null,null,null,"The","Norwich","Road","Surgery",null,null,null,null,null,"The Norwich Road Surgery      ","The Norwich Road Surgery","East of England Deanery"]
[null,null,null,null,"The","Pall","Mall","Surgery",null,null,null,null,null,"The Pall Mall Surgery      ","The Pall Mall Surgery","East of England Deanery"]
[null,null,null,null,"The","Park","Surgery",null,null,null,null,null,null,"The Park Surgery       ","The Park Surgery","East of England Deanery"]
[null,null,null,null,"The","Peninsula","Practice",null,null,null,null,null,null,"The Peninsula Practice       ","The Peninsula Practice","East of England Deanery"]
[null,null,null,null,"The","Portmill","Surgery",null,null,null,null,null,null,"The Portmill Surgery       ","The Portmill Surgery","East of England Deanery"]
[null,null,null,null,"The","Princess","Alexandra","Hospital","NHS","Trust",null,null,null,"The Princess Alexandra Hospital NHS     ","The Princess Alexandra Hospital NHS","East of England Deanery"]
[null,null,null,null,"The","Puzey","Family","Practice",null,null,null,null,null,"The Puzey Family Practice  Trust    ","The Puzey Family Practice Trust","East of England Deanery"]
[null,null,null,null,"The","Queen","Elizabeth","Hospital,","King's","Lynn,","NHS","FT",null,"The Queen Elizabeth Hospital, King's  NHS FT  ","The Queen Elizabeth Hospital, King's NHS FT","East of England Deanery"]
[null,null,null,null,"The","Rookery","Medical","Centre",null,null,null,null,null,"The Rookery Medical Centre  Lynn,    ","The Rookery Medical Centre Lynn,","East of England Deanery"]
[null,null,null,null,"The","Valkyrie","Surgery",null,null,null,null,null,null,"The Valkyrie Surgery       ","The Valkyrie Surgery","East of England Deanery"]
[null,null,null,null,"Thistlemoor","Medical","Centre",null,null,null,null,null,null,"Thistlemoor Medical Centre       ","Thistlemoor Medical Centre","East of England Deanery"]
[null,null,null,null,"Thomas","Walker","Surgery",null,null,null,null,null,null,"Thomas Walker Surgery       ","Thomas Walker Surgery","East of England Deanery"]
[null,null,null,null,"Tile","House","Surgery",null,null,null,null,null,null,"Tile House Surgery       ","Tile House Surgery","East of England Deanery"]
[null,null,null,null,"Tollgate","Health","Centre",null,null,null,null,null,null,"Tollgate Health Centre       ","Tollgate Health Centre","East of England Deanery"]
[null,null,null,null,"Trinity","&","Bowthorpe","Medical","Practice",null,null,null,null,"Trinity & Bowthorpe Medical Practice     ","Trinity & Bowthorpe Medical Practice","East of England Deanery"]
[null,null,null,null,"Trinity","Surgery",null,null,null,null,null,null,null,"Trinity Surgery        ","Trinity Surgery","East of England Deanery"]
[null,null,null,null,"Trumpington","Street","Medical","Practice",null,null,null,null,null,"Trumpington Street Medical Practice      ","Trumpington Street Medical Practice","East of England Deanery"]
[null,null,null,null,"Two","Rivers","Medical","Centre",null,null,null,null,null,"Two Rivers Medical Centre      ","Two Rivers Medical Centre","East of England Deanery"]
[null,null,null,null,"Victoria","Road","Surgery",null,null,null,null,null,null,"Victoria Road Surgery       ","Victoria Road Surgery","East of England Deanery"]
[null,null,null,null,"Victoria","Surgery",null,null,null,null,null,null,null,"Victoria Surgery        ","Victoria Surgery","East of England Deanery"]
[null,null,null,null,"Vida","Healthcare",null,null,null,null,null,null,null,"Vida Healthcare        ","Vida Healthcare","East of England Deanery"]
[null,null,null,null,"Village","Surgery",null,null,null,null,null,null,null,"Village Surgery        ","Village Surgery","East of England Deanery"]
[null,null,null,null,"Wallace","House","Surgery",null,null,null,null,null,null,"Wallace House Surgery       ","Wallace House Surgery","East of England Deanery"]
[null,null,null,null,"Wansford","Surgery",null,null,null,null,null,null,null,"Wansford Surgery        ","Wansford Surgery","East of England Deanery"]
[null,null,null,null,"Warden","Lodge","Medical","Practice",null,null,null,null,null,"Warden Lodge Medical Practice      ","Warden Lodge Medical Practice","East of England Deanery"]
[null,null,null,null,"Wellside","Surgery",null,null,null,null,null,null,null,"Wellside Surgery        ","Wellside Surgery","East of England Deanery"]
[null,null,null,null,"Watford","General","Hospital",null,null,null,null,null,null,"Watford General Hospital       ","Watford General Hospital","East of England Deanery"]
[null,null,null,null,"West","Hertfordshire","Hospitals","NHS","Trust",null,null,null,null,"West Hertfordshire Hospitals NHS Trust     ","West Hertfordshire Hospitals NHS Trust","East of England Deanery"]
[null,null,null,null,"East","of","England","Deanery","HEE","EOE",null,null,null,"East of England Deanery HEE     ","East of England Deanery HEE","East of England Deanery"]
[null,null,null,null,"West","Mersea","Surgery",null,null,null,null,null,null,"West Mersea Surgery   EOE    ","West Mersea Surgery EOE","East of England Deanery"]
[null,null,null,null,"West","Suffolk","NHS","Foundation","Trust",null,null,null,null,"West Suffolk NHS Foundation Trust     ","West Suffolk NHS Foundation Trust","East of England Deanery"]
[null,null,null,null,"Western","Road","Surgery",null,null,null,null,null,null,"Western Road Surgery       ","Western Road Surgery","East of England Deanery"]
[null,null,null,null,"Wheatfield","Surgery",null,null,null,null,null,null,null,"Wheatfield Surgery        ","Wheatfield Surgery","East of England Deanery"]
[null,null,null,null,"Whitley","House","Surgery",null,null,null,null,null,null,"Whitley House Surgery       ","Whitley House Surgery","East of England Deanery"]
[null,null,null,null,"Wickhambrook","Surgery",null,null,null,null,null,null,null,"Wickhambrook Surgery        ","Wickhambrook Surgery","East of England Deanery"]
[null,null,null,null,"Woodcock","Road","Surgery",null,null,null,null,null,null,"Woodcock Road Surgery       ","Woodcock Road Surgery","East of England Deanery"]
[null,null,null,null,"Woodlands","Surgery",null,null,null,null,null,null,null,"Woodlands Surgery        ","Woodlands Surgery","East of England Deanery"]
[null,null,null,null,"Woolpit","Health","Centre",null,null,null,null,null,null,"Woolpit Health Centre       ","Woolpit Health Centre","East of England Deanery"]
[null,null,null,null,"Wrafton","House","Surgery",null,null,null,null,null,null,"Wrafton House Surgery       ","Wrafton House Surgery","East of England Deanery"]
[null,null,null,null,"Yaxley","Group","Practice","(Lakeside","Healthcare)",null,null,null,null,"Yaxley Group Practice (Lakeside Healthcare)     ","Yaxley Group Practice (Lakeside Healthcare)","East of England Deanery"]
[null,null,null,null,"York","Street","Medical","Practice",null,null,null,null,null,"York Street Medical Practice      ","York Street Medical Practice","East of England Deanery"]
[null,null,null,null,"Barts","Health","NHS","Trust",null,null,null,null,null,{"$f":"E580&\" \"&F580&\" \"&G580&\" \"&H580&\" \"&I580&\" \"&J579&\" \"&K580&\" \"&L580&\" \"&M580&\" \"","v":"Barts Health NHS Trust      "},{"$f":"TRIM(N580)","v":"Barts Health NHS Trust"},"London and South East Deanery"]
[null,null,null,null,"Central","&",null,"London","NHS","Foundtion","Trust",null,null,"Central &  London NHS  Trust   ","Central & London NHS Trust","London and South East Deanery"]
[null,null,null,null,"Chelsea","&","Westminister","NHS","Foundation","Trust",null,null,null,"Chelsea & Westminister NHS Foundation Foundtion    ","Chelsea & Westminister NHS Foundation Foundtion","London and South East Deanery"]
[null,null,null,null,"Barts","Health","NHS","Trust",null,null,null,null,null,"Barts Health NHS Trust  Trust    ","Barts Health NHS Trust Trust","London and South East Deanery"]
[null,null,null,null,"Guy's","&","St","Thomas'","NHS","Foundation","Trust",null,null,"Guy's & St Thomas' NHS  Trust   ","Guy's & St Thomas' NHS Trust","London and South East Deanery"]
[null,null,null,null,"Hospice","in","The","Weald",null,null,null,null,null,"Hospice in The Weald  Foundation    ","Hospice in The Weald Foundation","London and South East Deanery"]
[null,null,null,null,"Hospital","of","St","John",null,"St","Elizabeth",null,null,"Hospital of St John   Elizabeth   ","Hospital of St John Elizabeth","London and South East Deanery"]
[null,null,null,null,"Imperial","College","Healthcare","NHS","Trust",null,null,null,null,"Imperial College Healthcare NHS Trust St    ","Imperial College Healthcare NHS Trust St","London and South East Deanery"]
[null,null,null,null,"Kings","College","Hospitals","NHS","Foundation","Trust",null,null,null,"Kings College Hospitals NHS Foundation     ","Kings College Hospitals NHS Foundation","London and South East Deanery"]
[null,null,null,null,"London","&","South","East","Deanery",null,null,null,null,"London & South East Deanery Trust    ","London & South East Deanery Trust","London and South East Deanery"]
[null,null,null,null,"London","North","West","Healthcare","NHS","Trust",null,null,null,"London North West Healthcare NHS     ","London North West Healthcare NHS","London and South East Deanery"]
[null,null,null,null,"Marie","Curie","Hospice",null,"Hampstead",null,null,null,null,"Marie Curie Hospice  Hampstead Trust    ","Marie Curie Hospice Hampstead Trust","London and South East Deanery"]
[null,null,null,null,"North","London","Hospice",null,null,null,null,null,null,"North London Hospice       ","North London Hospice","London and South East Deanery"]
[null,null,null,null,"London","&","South","East","Deanery",null,null,null,null,"London & South East Deanery     ","London & South East Deanery","London and South East Deanery"]
[null,null,null,null,"Peace","Hospice",null,null,null,null,null,null,null,"Peace Hospice        ","Peace Hospice","London and South East Deanery"]
[null,null,null,null,"Phyllis","Tuckwell","Hospice",null,null,null,null,null,null,"Phyllis Tuckwell Hospice       ","Phyllis Tuckwell Hospice","London and South East Deanery"]
[null,null,null,null,"Pilgrims","Hospice","at","Ashford",null,null,null,null,null,"Pilgrims Hospice at Ashford      ","Pilgrims Hospice at Ashford","London and South East Deanery"]
[null,null,null,null,"Pilgrims","Hospice","in","East","Kent",null,null,null,null,"Pilgrims Hospice in East Kent     ","Pilgrims Hospice in East Kent","London and South East Deanery"]
[null,null,null,null,"Royal","Free","London","NHS","Foundation","Trust",null,null,null,"Royal Free London NHS Foundation     ","Royal Free London NHS Foundation","London and South East Deanery"]
[null,null,null,null,"Royal","Surrey","County","Hospital",null,null,null,null,null,"Royal Surrey County Hospital  Trust    ","Royal Surrey County Hospital Trust","London and South East Deanery"]
[null,null,null,null,"Sam","Beare","Hospice",null,null,null,null,null,null,"Sam Beare Hospice       ","Sam Beare Hospice","London and South East Deanery"]
[null,null,null,null,"St","Barnabas","Hospice",null,null,null,null,null,null,"St Barnabas Hospice       ","St Barnabas Hospice","London and South East Deanery"]
[null,null,null,null,"St","Catherine's","Hospice",null,null,null,null,null,null,"St Catherine's Hospice       ","St Catherine's Hospice","London and South East Deanery"]
[null,null,null,null,"St","Christophers","Hospice",null,null,null,null,null,null,"St Christophers Hospice       ","St Christophers Hospice","London and South East Deanery"]
[null,null,null,null,"St","Francis","Hospice",null,null,null,null,null,null,"St Francis Hospice       ","St Francis Hospice","London and South East Deanery"]
[null,null,null,null,"St","George's","University","Hospials","NHS","Trust",null,null,null,"St George's University Hospials NHS     ","St George's University Hospials NHS","London and South East Deanery"]
[null,null,null,null,"St","Joseph's","Hospice",null,null,null,null,null,null,"St Joseph's Hospice   Trust    ","St Joseph's Hospice Trust","London and South East Deanery"]
[null,null,null,null,"St","Luke's","Hospice",null,null,null,null,null,null,"St Luke's Hospice       ","St Luke's Hospice","London and South East Deanery"]
[null,null,null,null,"The","Princess","Alice","Hospice",null,null,null,null,null,"The Princess Alice Hospice      ","The Princess Alice Hospice","London and South East Deanery"]
[null,null,null,null,"The","Royal","Marsden","NHS","Foundation","Trust",null,null,null,"The Royal Marsden NHS Foundation     ","The Royal Marsden NHS Foundation","London and South East Deanery"]
[null,null,null,null,"Trinity","Hospice",null,null,null,null,null,null,null,"Trinity Hospice    Trust    ","Trinity Hospice Trust","London and South East Deanery"]
[null,null,null,null,"1/Monton","Medical","Practice",null,null,null,null,null,null,"1/Monton Medical Practice       ","1/Monton Medical Practice","London and South East Deanery"]
[null,null,null,null,"Public Health","England",null,null,null,null,null,null,null,"Public Health England        ","Public Health England","North West Deanery"]
[null,null,null,null,"Public Health","Health","Protection",null,null,null,null,null,null,"Public Health Health Protection       ","Public Health Health Protection","North West Deanery"]
[null,null,null,null,"Public Health","Local","Authourity",null,null,null,null,null,null,"Public Health Local Authourity       ","Public Health Local Authourity","North West Deanery"]
[null,null,null,null,"Public Health","University",null,null,null,null,null,null,null,"Public Health University        ","Public Health University","North West Deanery"]
[null,null,null,null,"St Andrews","Medical","Practice",null,null,null,null,null,null,"St Andrews Medical Practice       ","St Andrews Medical Practice","North West Deanery"]
[null,null,null,null,42,"Kingsway",null,null,null,null,null,null,null,"42 Kingsway        ","42 Kingsway","North West Deanery"]
[null,null,null,null,"Abercromby","Family","Practice",null,null,null,null,null,null,"Abercromby Family Practice       ","Abercromby Family Practice","North West Deanery"]
[null,null,null,null,"Adelaide","Street","Family","Practice",null,null,null,null,null,"Adelaide Street Family Practice      ","Adelaide Street Family Practice","North West Deanery"]
[null,null,null,null,"NW","Deanery","Manchester",null,null,null,null,null,null,"NW Deanery Manchester       ","NW Deanery Manchester","North West Deanery"]
[null,null,null,null,"Ailsa","Craig","Medical","Centre",null,null,null,null,null,"Ailsa Craig Medical Centre      ","Ailsa Craig Medical Centre","North West Deanery"]
[null,null,null,null,"Ainsdale","Medical","Centre",null,null,null,null,null,null,"Ainsdale Medical Centre       ","Ainsdale Medical Centre","North West Deanery"]
[null,null,null,null,"Ainsdale","Village","Surgery",null,null,null,null,null,null,"Ainsdale Village Surgery       ","Ainsdale Village Surgery","North West Deanery"]
[null,null,null,null,"Aintree","University","Hospitals","NHS","Trust",null,null,null,null,"Aintree University Hospitals NHS Trust     ","Aintree University Hospitals NHS Trust","North West Deanery"]
[null,null,null,null,"Aintree","Park",null,null,null,null,null,null,null,"Aintree Park        ","Aintree Park","North West Deanery"]
[null,null,null,null,"Albion","Medical","Centre",null,null,null,null,null,null,"Albion Medical Centre       ","Albion Medical Centre","North West Deanery"]
[null,null,null,null,"Albion","Surgery",null,null,null,null,null,null,null,"Albion Surgery        ","Albion Surgery","North West Deanery"]
[null,null,null,null,"Alder","Hey","Children's","NHS","Trust",null,null,null,null,"Alder Hey Children's NHS Trust     ","Alder Hey Children's NHS Trust","North West Deanery"]
[null,null,null,null,"Alderley","Edge","Medical","Practice",null,null,null,null,null,"Alderley Edge Medical Practice      ","Alderley Edge Medical Practice","North West Deanery"]
[null,null,null,null,"Alexandra","Practice",null,null,null,null,null,null,null,"Alexandra Practice        ","Alexandra Practice","North West Deanery"]
[null,null,null,null,"The","Allport","Surgery",null,null,null,null,null,null,"The Allport Surgery       ","The Allport Surgery","North West Deanery"]
[null,null,null,null,"Ancoats","Urban","Village","Medical","Practice",null,null,null,null,"Ancoats Urban Village Medical Practice     ","Ancoats Urban Village Medical Practice","North West Deanery"]
[null,null,null,null,"Anfield","Group","Practice",null,null,null,null,null,null,"Anfield Group Practice       ","Anfield Group Practice","North West Deanery"]
[null,null,null,null,"Annandale","Medical","Centre",null,null,null,null,null,null,"Annandale Medical Centre       ","Annandale Medical Centre","North West Deanery"]
[null,null,null,null,"Ansdell","Medical","Centre",null,null,null,null,null,null,"Ansdell Medical Centre       ","Ansdell Medical Centre","North West Deanery"]
[null,null,null,null,"Appleton","Village","Surgery",null,null,null,null,null,null,"Appleton Village Surgery       ","Appleton Village Surgery","North West Deanery"]
[null,null,null,null,"Arnold","Medical","Centre",null,null,null,null,null,null,"Arnold Medical Centre       ","Arnold Medical Centre","North West Deanery"]
[null,null,null,null,"Ash","Tree","House","Surgery",null,null,null,null,null,"Ash Tree House Surgery      ","Ash Tree House Surgery","North West Deanery"]
[null,null,null,null,"Ash","Trees","Surgery",null,null,null,null,null,null,"Ash Trees Surgery       ","Ash Trees Surgery","North West Deanery"]
[null,null,null,null,"Ashcroft","Surgery",null,null,null,null,null,null,null,"Ashcroft Surgery        ","Ashcroft Surgery","North West Deanery"]
[null,null,null,null,"Ashfields","Primary","Care","Centre",null,null,null,null,null,"Ashfields Primary Care Centre      ","Ashfields Primary Care Centre","North West Deanery"]
[null,null,null,null,"Ashville","Surgery",null,null,null,null,null,null,null,"Ashville Surgery        ","Ashville Surgery","North West Deanery"]
[null,null,null,null,"Ashworth","Street","Surgery",null,null,null,null,null,null,"Ashworth Street Surgery       ","Ashworth Street Surgery","North West Deanery"]
[null,null,null,null,"Atkinson","Health","Centre",null,null,null,null,null,null,{"$f":"E644&\" \"&F644&\" \"&G644&\" \"&H644&\" \"&I644&\" \"&J643&\" \"&K644&\" \"&L644&\" \"&M644&\" \"","v":"Atkinson Health Centre       "},{"$f":"TRIM(N644)","v":"Atkinson Health Centre"},"North West Deanery"]
[null,null,null,null,"Audlem","Medical","Practice",null,null,null,null,null,null,"Audlem Medical Practice       ","Audlem Medical Practice","North West Deanery"]
[null,null,null,null,"Ballasalla","Medical","Centre",null,null,null,null,null,null,"Ballasalla Medical Centre       ","Ballasalla Medical Centre","North West Deanery"]
[null,null,null,null,"Barlow","Medical","Centre",null,null,null,null,null,null,"Barlow Medical Centre       ","Barlow Medical Centre","North West Deanery"]
[null,null,null,null,"Barnoldswick","Medical","Centre",null,null,null,null,null,null,"Barnoldswick Medical Centre       ","Barnoldswick Medical Centre","North West Deanery"]
[null,null,null,null,"Bay","Medical","Group",null,null,null,null,null,null,"Bay Medical Group       ","Bay Medical Group","North West Deanery"]
[null,null,null,null,"Beacon","Primary","Care",null,null,null,null,null,null,"Beacon Primary Care       ","Beacon Primary Care","North West Deanery"]
[null,null,null,null,"Bedford","House","Medical","Centre",null,null,null,null,null,"Bedford House Medical Centre      ","Bedford House Medical Centre","North West Deanery"]
[null,null,null,null,"Bee","Fold","Medical","Centre",null,null,null,null,null,"Bee Fold Medical Centre      ","Bee Fold Medical Centre","North West Deanery"]
[null,null,null,null,"Benchill","Medical","Centre",null,null,null,null,null,null,"Benchill Medical Centre       ","Benchill Medical Centre","North West Deanery"]
[null,null,null,null,"Berry","Lane","Medical","Centre",null,null,null,null,null,"Berry Lane Medical Centre      ","Berry Lane Medical Centre","North West Deanery"]
[null,null,null,null,"Betsi","Cadwaladr","-","Glan","Clwyd",null,null,null,null,"Betsi Cadwaladr - Glan Clwyd     ","Betsi Cadwaladr - Glan Clwyd","North West Deanery"]
[null,null,null,null,"Betsi","Cadwaladr","-","Wrexham",null,null,null,null,null,"Betsi Cadwaladr - Wrexham      ","Betsi Cadwaladr - Wrexham","North West Deanery"]
[null,null,null,null,"Bevan","Group","Practice",null,null,null,null,null,null,"Bevan Group Practice       ","Bevan Group Practice","North West Deanery"]
[null,null,null,null,"Birchwood","Medical","Centre",null,null,null,null,null,null,"Birchwood Medical Centre       ","Birchwood Medical Centre","North West Deanery"]
[null,null,null,null,"Blackford","House","Medical","Centre",null,null,null,null,null,"Blackford House Medical Centre      ","Blackford House Medical Centre","North West Deanery"]
[null,null,null,null,"Blackheath","Medical","Centre",null,null,null,null,null,null,"Blackheath Medical Centre       ","Blackheath Medical Centre","North West Deanery"]
[null,null,null,null,"Blackwood","Health","Centre",null,null,null,null,null,null,"Blackwood Health Centre       ","Blackwood Health Centre","North West Deanery"]
[null,null,null,null,"Blackpool","Victoria","Hospital",null,null,null,null,null,null,"Blackpool Victoria Hospital       ","Blackpool Victoria Hospital","North West Deanery"]
[null,null,null,null,"Bloomfield","Medical","Centre",null,null,null,null,null,null,"Bloomfield Medical Centre       ","Bloomfield Medical Centre","North West Deanery"]
[null,null,null,null,"Blundellsands","Surgery",null,null,null,null,null,null,null,"Blundellsands Surgery        ","Blundellsands Surgery","North West Deanery"]
[null,null,null,null,"Bodey","Medical","Practice",null,null,null,null,null,null,"Bodey Medical Practice       ","Bodey Medical Practice","North West Deanery"]
[null,null,null,null,"Bodmin","Road","Health","Centre",null,null,null,null,null,"Bodmin Road Health Centre      ","Bodmin Road Health Centre","North West Deanery"]
[null,null,null,null,"Bolton","Hospice",null,null,null,null,null,null,null,"Bolton Hospice        ","Bolton Hospice","North West Deanery"]
[null,null,null,null,"Royal","Bolton","Hospital",null,null,null,null,null,null,"Royal Bolton Hospital       ","Royal Bolton Hospital","North West Deanery"]
[null,null,null,null,"Bootle","Village","Surgery",null,null,null,null,null,null,"Bootle Village Surgery       ","Bootle Village Surgery","North West Deanery"]
[null,null,null,null,"Boundary","House","Medical","Centre",null,null,null,null,null,"Boundary House Medical Centre      ","Boundary House Medical Centre","North West Deanery"]
[null,null,null,null,"Bowland","Medical","Practice",null,null,null,null,null,null,"Bowland Medical Practice       ","Bowland Medical Practice","North West Deanery"]
[null,null,null,null,"Bracondale","Medical","Centre",null,null,null,null,null,null,"Bracondale Medical Centre       ","Bracondale Medical Centre","North West Deanery"]
[null,null,null,null,"Bramhall","&","Shaw","Heath","Medical","Group",null,null,null,"Bramhall & Shaw Heath Medical     ","Bramhall & Shaw Heath Medical","North West Deanery"]
[null,null,null,null,"Bramhall","Health","Centre",null,null,null,null,null,null,"Bramhall Health Centre   Group    ","Bramhall Health Centre Group","North West Deanery"]
[null,null,null,null,"Bridge","Road","Surgery",null,null,null,null,null,null,"Bridge Road Surgery       ","Bridge Road Surgery","North West Deanery"]
[null,null,null,null,"Bridgegate","Medical","Centre",null,null,null,null,null,null,"Bridgegate Medical Centre       ","Bridgegate Medical Centre","North West Deanery"]
[null,null,null,null,"Bevan","House",null,null,null,null,null,null,null,"Bevan House        ","Bevan House","North West Deanery"]
[null,null,null,null,"Brinnington","Health","Centre",null,null,null,null,null,null,"Brinnington Health Centre       ","Brinnington Health Centre","North West Deanery"]
[null,null,null,null,"Broadway","Medical","Centre",null,null,null,null,null,null,"Broadway Medical Centre       ","Broadway Medical Centre","North West Deanery"]
[null,null,null,null,"Broken","Cross","Surgery",null,null,null,null,null,null,"Broken Cross Surgery       ","Broken Cross Surgery","North West Deanery"]
[null,null,null,null,"Broken","Cross","Surgery",null,null,null,null,null,null,"Broken Cross Surgery       ","Broken Cross Surgery","North West Deanery"]
[null,null,null,null,"Brookfield","Surgery",null,null,null,null,null,null,null,"Brookfield Surgery        ","Brookfield Surgery","North West Deanery"]
[null,null,null,null,"Brooklands","Medical","Practice",null,null,null,null,null,null,"Brooklands Medical Practice       ","Brooklands Medical Practice","North West Deanery"]
[null,null,null,null,"Brookmill","Medical","Centre",null,null,null,null,null,null,"Brookmill Medical Centre       ","Brookmill Medical Centre","North West Deanery"]
[null,null,null,null,"Brookvale","Practice",null,null,null,null,null,null,null,"Brookvale Practice        ","Brookvale Practice","North West Deanery"]
[null,null,null,null,"Brownlow","Group","Practice",null,null,null,null,null,null,"Brownlow Group Practice       ","Brownlow Group Practice","North West Deanery"]
[null,null,null,null,"Bryn","Cross","Surgery",null,null,null,null,null,null,"Bryn Cross Surgery       ","Bryn Cross Surgery","North West Deanery"]
[null,null,null,null,"Bunbury","Medical","Practice",null,null,null,null,null,null,"Bunbury Medical Practice       ","Bunbury Medical Practice","North West Deanery"]
[null,null,null,null,"Burnley","Wood","Medical","Centre",null,null,null,null,null,"Burnley Wood Medical Centre      ","Burnley Wood Medical Centre","North West Deanery"]
[null,null,null,null,"Burnside","Surgery",null,null,null,null,null,null,null,"Burnside Surgery        ","Burnside Surgery","North West Deanery"]
[null,null,null,null,"Buxton","Medical","Practice",null,null,null,null,null,null,"Buxton Medical Practice       ","Buxton Medical Practice","North West Deanery"]
[null,null,null,null,"Captain","French","Lane","Surgery",null,null,null,null,null,"Captain French Lane Surgery      ","Captain French Lane Surgery","North West Deanery"]
[null,null,null,null,"Caritas","General","Practice","Partnership",null,null,null,null,null,"Caritas General Practice Partnership      ","Caritas General Practice Partnership","North West Deanery"]
[null,null,null,null,"Cartmel","Surgery",null,null,null,null,null,null,null,"Cartmel Surgery        ","Cartmel Surgery","North West Deanery"]
[null,null,null,null,"Castlefields","Health","Centre",null,null,null,null,null,null,"Castlefields Health Centre       ","Castlefields Health Centre","North West Deanery"]
[null,null,null,null,"Castleton","Health","Centre",null,null,null,null,null,null,"Castleton Health Centre       ","Castleton Health Centre","North West Deanery"]
[null,null,null,null,"Causeway","Medical","Centre",null,null,null,null,null,null,"Causeway Medical Centre       ","Causeway Medical Centre","North West Deanery"]
[null,null,null,null,"Cavendish","Medical","Centre",null,null,null,null,null,null,"Cavendish Medical Centre       ","Cavendish Medical Centre","North West Deanery"]
[null,null,null,null,"Central","Park","Medical","Centre",null,null,null,null,null,"Central Park Medical Centre      ","Central Park Medical Centre","North West Deanery"]
[null,null,null,null,"CH","Medical",null,null,null,null,null,null,null,"CH Medical        ","CH Medical","North West Deanery"]
[null,null,null,null,"Charlestown","MD",null,null,null,null,null,null,null,"Charlestown MD        ","Charlestown MD","North West Deanery"]
[null,null,null,null,"Cheadle","Hulme","Health","Centre",null,null,null,null,null,"Cheadle Hulme Health Centre      ","Cheadle Hulme Health Centre","North West Deanery"]
[null,null,null,null,"Cheadle","Medical","Practice",null,null,null,null,null,null,"Cheadle Medical Practice       ","Cheadle Medical Practice","North West Deanery"]
[null,null,null,null,"Chelford","Surgery",null,null,null,null,null,null,null,"Chelford Surgery        ","Chelford Surgery","North West Deanery"]
[null,null,null,null,"Cheshire","and","Wirral","Foundation","Trust",null,null,null,null,"Cheshire and Wirral Foundation Trust     ","Cheshire and Wirral Foundation Trust","North West Deanery"]
[null,null,null,null,"St","Catherine's","Hospital",null,null,null,null,null,null,"St Catherine's Hospital       ","St Catherine's Hospital","North West Deanery"]
[null,null,null,null,"Bowmere","Hospital",null,null,null,null,null,null,null,"Bowmere Hospital        ","Bowmere Hospital","North West Deanery"]
[null,null,null,null,"Adcote","House",null,null,null,null,null,null,null,{"$f":"E708&\" \"&F708&\" \"&G708&\" \"&H708&\" \"&I708&\" \"&J707&\" \"&K708&\" \"&L708&\" \"&M708&\" \"","v":"Adcote House        "},{"$f":"TRIM(N708)","v":"Adcote House"},"North West Deanery"]
[null,null,null,null,"Ancora","House",null,null,null,null,null,null,null,"Ancora House        ","Ancora House","North West Deanery"]
[null,null,null,null,"Churton","House",null,null,null,null,null,null,null,"Churton House        ","Churton House","North West Deanery"]
[null,null,null,null,"Clatterbridge","Hospital","Psychiatric","Services",null,null,null,null,null,"Clatterbridge Hospital Psychiatric Services      ","Clatterbridge Hospital Psychiatric Services","North West Deanery"]
[null,null,null,null,"Eastway","House",null,null,null,null,null,null,null,"Eastway House        ","Eastway House","North West Deanery"]
[null,null,null,null,"Elm","House",null,null,null,null,null,null,null,"Elm House        ","Elm House","North West Deanery"]
[null,null,null,null,"Jocelyn","Solly",null,null,null,null,null,null,null,"Jocelyn Solly        ","Jocelyn Solly","North West Deanery"]
[null,null,null,null,"Marsden","House",null,null,null,null,null,null,null,"Marsden House        ","Marsden House","North West Deanery"]
[null,null,null,null,"Millbrook","Unit",null,null,null,null,null,null,null,"Millbrook Unit        ","Millbrook Unit","North West Deanery"]
[null,null,null,null,"Stein","Centre",null,null,null,null,null,null,null,"Stein Centre        ","Stein Centre","North West Deanery"]
[null,null,null,null,"Upton","Lea","Resource","Centre",null,null,null,null,null,"Upton Lea Resource Centre      ","Upton Lea Resource Centre","North West Deanery"]
[null,null,null,null,"Vale","House","Resource","Centre",null,null,null,null,null,"Vale House Resource Centre      ","Vale House Resource Centre","North West Deanery"]
[null,null,null,null,"Rosemount",null,null,null,null,null,null,null,null,"Rosemount         ","Rosemount","North West Deanery"]
[null,null,null,null,"Saddlebridge","Recovery","Centre",null,null,null,null,null,null,"Saddlebridge Recovery Centre       ","Saddlebridge Recovery Centre","North West Deanery"]
[null,null,null,null,"St","Ann's","Hospice",null,null,null,null,null,null,"St Ann's Hospice       ","St Ann's Hospice","North West Deanery"]
[null,null,null,null,"Christie","Hospital",null,null,null,null,null,null,null,"Christie Hospital        ","Christie Hospital","North West Deanery"]
[null,null,null,null,"Church","Road","Medical","Practice",null,null,null,null,null,"Church Road Medical Practice      ","Church Road Medical Practice","North West Deanery"]
[null,null,null,null,"Churchgate","Surgery",null,null,null,null,null,null,null,"Churchgate Surgery        ","Churchgate Surgery","North West Deanery"]
[null,null,null,null,"City","Walls","Medical","Centre",null,null,null,null,null,"City Walls Medical Centre      ","City Walls Medical Centre","North West Deanery"]
[null,null,null,null,"Civic","Medical","Centre",null,null,null,null,null,null,"Civic Medical Centre       ","Civic Medical Centre","North West Deanery"]
[null,null,null,null,"Clarendon","Medical","Centre",null,null,null,null,null,null,"Clarendon Medical Centre       ","Clarendon Medical Centre","North West Deanery"]
[null,null,null,null,"Clarendon","Medical","Practice",null,null,null,null,null,null,"Clarendon Medical Practice       ","Clarendon Medical Practice","North West Deanery"]
[null,null,null,null,"Clatterbridge","Centre","for","Oncology",null,null,null,null,null,"Clatterbridge Centre for Oncology      ","Clatterbridge Centre for Oncology","North West Deanery"]
[null,null,null,null,"Claughton","Medical","Centre",null,null,null,null,null,null,"Claughton Medical Centre       ","Claughton Medical Centre","North West Deanery"]
[null,null,null,null,"Clayton","Medical","Centre",null,null,null,null,null,null,"Clayton Medical Centre       ","Clayton Medical Centre","North West Deanery"]
[null,null,null,null,"Cornerstone","Family","Practice",null,null,null,null,null,null,"Cornerstone Family Practice       ","Cornerstone Family Practice","North West Deanery"]
[null,null,null,null,"Cornishway","Group","Practice",null,null,null,null,null,null,"Cornishway Group Practice       ","Cornishway Group Practice","North West Deanery"]
[null,null,null,null,"Cottage","Lane","Surgery",null,null,null,null,null,null,"Cottage Lane Surgery       ","Cottage Lane Surgery","North West Deanery"]
[null,null,null,null,"Countess","of","Chester",null,null,null,null,null,null,"Countess of Chester       ","Countess of Chester","North West Deanery"]
[null,null,null,null,"Crompton","View","Surgery",null,null,null,null,null,null,"Crompton View Surgery       ","Crompton View Surgery","North West Deanery"]
[null,null,null,null,"Cumberland","House","Surgery",null,null,null,null,null,null,"Cumberland House Surgery       ","Cumberland House Surgery","North West Deanery"]
[null,null,null,null,"Cumberland","House","Surgery",null,null,null,null,null,null,"Cumberland House Surgery       ","Cumberland House Surgery","North West Deanery"]
[null,null,null,null,"Cumberland","House","Surgery",null,null,null,null,null,null,"Cumberland House Surgery       ","Cumberland House Surgery","North West Deanery"]
[null,null,null,null,"Dalton","Surgery",null,null,null,null,null,null,null,"Dalton Surgery        ","Dalton Surgery","North West Deanery"]
[null,null,null,null,"Dalton","TM","Chandler","House",null,null,null,null,null,"Dalton TM Chandler House      ","Dalton TM Chandler House","North West Deanery"]
[null,null,null,null,"Danebridge","Medical","Centre",null,null,null,null,null,null,"Danebridge Medical Centre       ","Danebridge Medical Centre","North West Deanery"]
[null,null,null,null,"Darwen","Health","Centre",null,null,null,null,null,null,"Darwen Health Centre       ","Darwen Health Centre","North West Deanery"]
[null,null,null,null,"Darwen","Health","Centre",1,null,null,null,null,null,"Darwen Health Centre 1      ","Darwen Health Centre 1","North West Deanery"]
[null,null,null,null,"Davyhulme","Medical","Centre",null,null,null,null,null,null,"Davyhulme Medical Centre       ","Davyhulme Medical Centre","North West Deanery"]
[null,null,null,null,"Delamere","Medical","Practice","(Stockport",null,null,null,null,null,"Delamere Medical Practice (Stockport      ","Delamere Medical Practice (Stockport","North West Deanery"]
[null,null,null,null,"Denton","Medical","Practice",null,null,null,null,null,null,"Denton Medical Practice       ","Denton Medical Practice","North West Deanery"]
[null,null,null,null,"Devaney","Medical","Centre",null,null,null,null,null,null,"Devaney Medical Centre       ","Devaney Medical Centre","North West Deanery"]
[null,null,null,null,"Dinas","Lane","Medical","Centre",null,null,null,null,null,"Dinas Lane Medical Centre      ","Dinas Lane Medical Centre","North West Deanery"]
[null,null,null,null,"Dingle","Park","Practice",null,null,null,null,null,null,"Dingle Park Practice       ","Dingle Park Practice","North West Deanery"]
[null,null,null,null,"Dovecot","Health","Centre",null,null,null,null,null,null,"Dovecot Health Centre       ","Dovecot Health Centre","North West Deanery"]
[null,null,null,null,"Bryn","Street","Surgery",null,null,null,null,null,null,"Bryn Street Surgery       ","Bryn Street Surgery","North West Deanery"]
[null,null,null,null,"Dr","Jude's","Practice",null,"Riverside",null,null,null,null,"Dr Jude's Practice  Riverside     ","Dr Jude's Practice Riverside","North West Deanery"]
[null,null,null,null,"Dukinfield","Medical","Practice",null,null,null,null,null,null,"Dukinfield Medical Practice       ","Dukinfield Medical Practice","North West Deanery"]
[null,null,null,null,"Durnford","Medical","Centre",null,null,null,null,null,null,"Durnford Medical Centre       ","Durnford Medical Centre","North West Deanery"]
[null,null,null,null,"Earnswood","Medical","Centre",null,null,null,null,null,null,"Earnswood Medical Centre       ","Earnswood Medical Centre","North West Deanery"]
[null,null,null,null,"Fountains","Health","Centre",null,null,null,null,null,null,"Fountains Health Centre       ","Fountains Health Centre","North West Deanery"]
[null,null,null,null,"Maccles","DO","NOT","USE",null,null,null,null,null,"Maccles DO NOT USE      ","Maccles DO NOT USE","North West Deanery"]
[null,null,null,null,"Macclesfield","District","General","Hospital",null,null,null,null,null,"Macclesfield District General Hospital      ","Macclesfield District General Hospital","North West Deanery"]
[null,null,null,null,"Royal","Blackburn","Hospital",null,null,null,null,null,null,"Royal Blackburn Hospital       ","Royal Blackburn Hospital","North West Deanery"]
[null,null,null,null,"Burnley","General","Hospital",null,null,null,null,null,null,"Burnley General Hospital       ","Burnley General Hospital","North West Deanery"]
[null,null,null,null,"Eastham","Group","Practice",null,null,null,null,null,null,"Eastham Group Practice       ","Eastham Group Practice","North West Deanery"]
[null,null,null,null,"Edge","Hill","Health","Centre",null,null,null,null,null,"Edge Hill Health Centre      ","Edge Hill Health Centre","North West Deanery"]
[null,null,null,null,"Ellenbrook","Medical","Centre",null,null,null,null,null,null,"Ellenbrook Medical Centre       ","Ellenbrook Medical Centre","North West Deanery"]
[null,null,null,null,"Elliott","Street","Surgery",null,null,null,null,null,null,"Elliott Street Surgery       ","Elliott Street Surgery","North West Deanery"]
[null,null,null,null,"Failsworth","Group","Practice",null,null,null,null,null,null,"Failsworth Group Practice       ","Failsworth Group Practice","North West Deanery"]
[null,null,null,null,"Fairfax","Group","Practice",null,null,null,null,null,null,"Fairfax Group Practice       ","Fairfax Group Practice","North West Deanery"]
[null,null,null,null,"Fegan","&","Partners",null,null,null,null,null,null,"Fegan & Partners       ","Fegan & Partners","North West Deanery"]
[null,null,null,null,"Firdale","Medical","Centre",null,null,null,null,null,null,"Firdale Medical Centre       ","Firdale Medical Centre","North West Deanery"]
[null,null,null,null,"Firsway","Health","Centre",null,null,null,null,null,null,"Firsway Health Centre       ","Firsway Health Centre","North West Deanery"]
[null,null,null,null,"Five","Oaks","Family","Practice",null,null,null,null,null,{"$f":"E772&\" \"&F772&\" \"&G772&\" \"&H772&\" \"&I772&\" \"&J771&\" \"&K772&\" \"&L772&\" \"&M772&\" \"","v":"Five Oaks Family Practice      "},{"$f":"TRIM(N772)","v":"Five Oaks Family Practice"},"North West Deanery"]
[null,null,null,null,"Fleetwood","Surgery",null,null,null,null,null,null,null,"Fleetwood Surgery        ","Fleetwood Surgery","North West Deanery"]
[null,null,null,null,"Flixton","Road","Medical","Centre",null,null,null,null,null,"Flixton Road Medical Centre      ","Flixton Road Medical Centre","North West Deanery"]
[null,null,null,null,"Folly","Lane","Medical","Centre",null,null,null,null,null,"Folly Lane Medical Centre      ","Folly Lane Medical Centre","North West Deanery"]
[null,null,null,null,"Fulwood","Green","Medical","Centre",null,null,null,null,null,"Fulwood Green Medical Centre      ","Fulwood Green Medical Centre","North West Deanery"]
[null,null,null,null,"Garstang","Medical","Practice",null,null,null,null,null,null,"Garstang Medical Practice       ","Garstang Medical Practice","North West Deanery"]
[null,null,null,null,"The","Healthcare","Centre",null,null,null,null,null,null,"The Healthcare Centre       ","The Healthcare Centre","North West Deanery"]
[null,null,null,null,"Garswood","Surgery",null,null,null,null,null,null,null,"Garswood Surgery        ","Garswood Surgery","North West Deanery"]
[null,null,null,null,"Gatley","Health","Centre",null,null,null,null,null,null,"Gatley Health Centre       ","Gatley Health Centre","North West Deanery"]
[null,null,null,null,"Glenroyd","Medical","Centre",null,null,null,null,null,null,"Glenroyd Medical Centre       ","Glenroyd Medical Centre","North West Deanery"]
[null,null,null,null,"Glovers","Lane","Surgery",null,null,null,null,null,null,"Glovers Lane Surgery       ","Glovers Lane Surgery","North West Deanery"]
[null,null,null,null,"Gordon","Street","Medical","Centre",null,null,null,null,null,"Gordon Street Medical Centre      ","Gordon Street Medical Centre","North West Deanery"]
[null,null,null,null,"Florence","House","Medical","Practice",null,null,null,null,null,"Florence House Medical Practice      ","Florence House Medical Practice","North West Deanery"]
[null,null,null,null,"Granville","House","Medical","Centre",null,null,null,null,null,"Granville House Medical Centre      ","Granville House Medical Centre","North West Deanery"]
[null,null,null,null,"Grassendale","Medical","Centre",null,null,null,null,null,null,"Grassendale Medical Centre       ","Grassendale Medical Centre","North West Deanery"]
[null,null,null,null,"Great","Harwood","Medical","Group",null,null,null,null,null,"Great Harwood Medical Group      ","Great Harwood Medical Group","North West Deanery"]
[null,null,null,null,"Great","Sutton","Medical","Centre",null,"Green",null,null,null,"Great Sutton Medical Centre      ","Great Sutton Medical Centre","North West Deanery"]
[null,null,null,null,"Greater","Manchester","West","Mental","Health","NHSFT",null,null,null,"Greater Manchester West Mental Health Green    ","Greater Manchester West Mental Health Green","North West Deanery"]
[null,null,null,null,"Moorside","Unit","Adult","Inpatient","MHS",null,null,null,null,"Moorside Unit Adult Inpatient MHS NHSFT    ","Moorside Unit Adult Inpatient MHS NHSFT","North West Deanery"]
[null,null,null,null,"Park","House","Services",null,null,null,null,null,null,"Park House Services       ","Park House Services","North West Deanery"]
[null,null,null,null,"Rivington","Unit","Inpatient","Mental","Health",null,null,null,null,"Rivington Unit Inpatient Mental Health     ","Rivington Unit Inpatient Mental Health","North West Deanery"]
[null,null,null,null,"Woodlands","Older","Adult","Inpatient","Service",null,null,null,null,"Woodlands Older Adult Inpatient Service     ","Woodlands Older Adult Inpatient Service","North West Deanery"]
[null,null,null,null,"Wythenshawe","Hospital",null,null,null,null,null,null,null,"Wythenshawe Hospital        ","Wythenshawe Hospital","North West Deanery"]
[null,null,null,null,"Laureate","House","Services",null,null,null,null,null,null,"Laureate House Services       ","Laureate House Services","North West Deanery"]
[null,null,null,null,"Cromwell","House","Community","Mental","Health","Team",null,null,null,"Cromwell House Community Mental Health     ","Cromwell House Community Mental Health","North West Deanery"]
[null,null,null,null,"Rawnsley","Building","Services",null,null,null,null,null,null,"Rawnsley Building Services   Team    ","Rawnsley Building Services Team","North West Deanery"]
[null,null,null,null,"Prescott","House","Community","Mental","Health","Team",null,null,null,"Prescott House Community Mental Health     ","Prescott House Community Mental Health","North West Deanery"]
[null,null,null,null,"Chapman","Barker","Unit",null,"Impatient","Services",null,null,null,"Chapman Barker Unit  Impatient Team    ","Chapman Barker Unit Impatient Team","North West Deanery"]
[null,null,null,null,"Edenfield","Medium","Secure","Inpatient","Services",null,null,null,null,"Edenfield Medium Secure Inpatient Services Services    ","Edenfield Medium Secure Inpatient Services Services","North West Deanery"]
[null,null,null,null,"Lowry","Unit","Low","Secure","Inpatient","Services",null,null,null,"Lowry Unit Low Secure Inpatient     ","Lowry Unit Low Secure Inpatient","North West Deanery"]
[null,null,null,null,"Meadowbrook","Mental","Health","Inpatient","Services",null,null,null,null,"Meadowbrook Mental Health Inpatient Services Services    ","Meadowbrook Mental Health Inpatient Services Services","North West Deanery"]
[null,null,null,null,"Gardner","Unit","Secure","Inpatient","Services",null,null,null,null,"Gardner Unit Secure Inpatient Services     ","Gardner Unit Secure Inpatient Services","North West Deanery"]
[null,null,null,null,"Salford","Psychological","Therapies","Serives",null,null,null,null,null,"Salford Psychological Therapies Serives      ","Salford Psychological Therapies Serives","North West Deanery"]
[null,null,null,null,"Junction",17,"Psychiatry","Inpatient","Services",null,null,null,null,"Junction 17 Psychiatry Inpatient Services     ","Junction 17 Psychiatry Inpatient Services","North West Deanery"]
[null,null,null,null,"Anson","Road","Unit",null,null,null,null,null,null,"Anson Road Unit       ","Anson Road Unit","North West Deanery"]
[null,null,null,null,"Gaskell","House",null,null,null,null,null,null,null,"Gaskell House        ","Gaskell House","North West Deanery"]
[null,null,null,null,"Pendleton Gateway",null,null,null,null,null,null,null,null,"Pendleton Gateway         ","Pendleton Gateway","North West Deanery"]
[null,null,null,null,"Ramsgate House","Community","Mental","Health","Team",null,null,null,null,"Ramsgate House Community Mental Health Team     ","Ramsgate House Community Mental Health Team","North West Deanery"]
[null,null,null,null,"Green","Lane","Medical","Centre",null,null,null,null,null,"Green Lane Medical Centre      ","Green Lane Medical Centre","North West Deanery"]
[null,null,null,null,"Greenbank","Medical","Practice",null,null,null,null,null,null,"Greenbank Medical Practice       ","Greenbank Medical Practice","North West Deanery"]
[null,null,null,null,"Greenbank","Surgery",null,null,null,null,null,null,null,"Greenbank Surgery        ","Greenbank Surgery","North West Deanery"]
[null,null,null,null,"Greenmount","Medical","Centre",null,null,null,null,null,null,"Greenmount Medical Centre       ","Greenmount Medical Centre","North West Deanery"]
[null,null,null,null,"Grosvenor","Medical","Centre",null,null,null,null,null,null,"Grosvenor Medical Centre       ","Grosvenor Medical Centre","North West Deanery"]
[null,null,null,null,"Grove","House","Practice",null,null,null,null,null,null,"Grove House Practice       ","Grove House Practice","North West Deanery"]
[null,null,null,null,"Guardian","Street","Medical","Centre",null,null,null,null,null,"Guardian Street Medical Centre      ","Guardian Street Medical Centre","North West Deanery"]
[null,null,null,null,"Guide","Bridge","Medical","Practice",null,null,null,null,null,"Guide Bridge Medical Practice      ","Guide Bridge Medical Practice","North West Deanery"]
[null,null,null,null,"Hadfield","Medical","Centre",null,null,null,null,null,null,"Hadfield Medical Centre       ","Hadfield Medical Centre","North West Deanery"]
[null,null,null,null,"Hall","Green","Surgery",null,null,null,null,null,null,"Hall Green Surgery       ","Hall Green Surgery","North West Deanery"]
[null,null,null,null,"Hall","Street","Medical","Centre",null,null,null,null,null,"Hall Street Medical Centre      ","Hall Street Medical Centre","North West Deanery"]
[null,null,null,null,"Halliwell","Surgery",1,null,null,null,null,null,null,"Halliwell Surgery 1       ","Halliwell Surgery 1","North West Deanery"]
[null,null,null,null,"Halliwell","Surgery",2,null,null,null,null,null,null,"Halliwell Surgery 2       ","Halliwell Surgery 2","North West Deanery"]
[null,null,null,null,"Halliwell","Surgery",3,null,null,null,null,null,null,"Halliwell Surgery 3       ","Halliwell Surgery 3","North West Deanery"]
[null,null,null,null,"Handbridge","Medical","Centre",null,null,null,null,null,null,"Handbridge Medical Centre       ","Handbridge Medical Centre","North West Deanery"]
[null,null,null,null,"Handforth","Health","Centre",null,null,null,null,null,null,"Handforth Health Centre       ","Handforth Health Centre","North West Deanery"]
[null,null,null,null,"Haughton","Thornly","(Vale)","Medical","Centre",null,null,null,null,"Haughton Thornly (Vale) Medical Centre     ","Haughton Thornly (Vale) Medical Centre","North West Deanery"]
[null,null,null,null,"Hawthorn","Medical","Centre",null,null,null,null,null,null,"Hawthorn Medical Centre       ","Hawthorn Medical Centre","North West Deanery"]
[null,null,null,null,"Haydock","Medical","Centre",null,null,null,null,null,null,"Haydock Medical Centre       ","Haydock Medical Centre","North West Deanery"]
[null,null,null,null,"Hazeldene","Medical","Centre",null,null,null,null,null,null,"Hazeldene Medical Centre       ","Hazeldene Medical Centre","North West Deanery"]
[null,null,null,null,"Heady","Hill","Surgery",null,null,null,null,null,null,"Heady Hill Surgery       ","Heady Hill Surgery","North West Deanery"]
[null,null,null,null,"Heald","Green","Health","Centre",1,"(Dr","Owen)",null,null,"Heald Green Health Centre 1  Owen)   ","Heald Green Health Centre 1 Owen)","North West Deanery"]
[null,null,null,null,"Healey","Surgery",null,null,null,null,null,null,null,"Healey Surgery    (Dr    ","Healey Surgery (Dr","North West Deanery"]
[null,null,null,null,"Heaton","Medical","Centre",null,null,null,null,null,null,"Heaton Medical Centre       ","Heaton Medical Centre","North West Deanery"]
[null,null,null,null,"Heaton","Mersey","Med.Pract.",null,null,null,null,null,null,"Heaton Mersey Med.Pract.       ","Heaton Mersey Med.Pract.","North West Deanery"]
[null,null,null,null,"Heaton","Moor","Medical","Centre",null,null,null,null,null,"Heaton Moor Medical Centre      ","Heaton Moor Medical Centre","North West Deanery"]
[null,null,null,null,"Mersey","Deanery",null,null,null,null,null,null,null,{"$f":"E836&\" \"&F836&\" \"&G836&\" \"&H836&\" \"&I836&\" \"&J835&\" \"&K836&\" \"&L836&\" \"&M836&\" \"","v":"Mersey Deanery        "},{"$f":"TRIM(N836)","v":"Mersey Deanery"},"North West Deanery"]
[null,null,null,null,"Helsby","Health","Centre",null,null,null,null,null,null,"Helsby Health Centre       ","Helsby Health Centre","North West Deanery"]
[null,null,null,null,"Helsby","Street","Medical","Centre",null,null,null,null,null,"Helsby Street Medical Centre      ","Helsby Street Medical Centre","North West Deanery"]
[null,null,null,null,"Heywood","Heath",null,null,null,null,null,null,null,"Heywood Heath        ","Heywood Heath","North West Deanery"]
[null,null,null,null,"High","Street","Surgery",null,null,null,null,null,null,"High Street Surgery       ","High Street Surgery","North West Deanery"]
[null,null,null,null,"Highfield","Surgery",null,null,null,null,null,null,null,"Highfield Surgery        ","Highfield Surgery","North West Deanery"]
[null,null,null,null,"Hill","Top","Surgery",null,null,null,null,null,null,"Hill Top Surgery       ","Hill Top Surgery","North West Deanery"]
[null,null,null,null,"Hillfoot","Health",null,null,null,null,null,null,null,"Hillfoot Health        ","Hillfoot Health","North West Deanery"]
[null,null,null,null,"Hindley","Health","Centre",null,null,null,null,null,null,"Hindley Health Centre       ","Hindley Health Centre","North West Deanery"]
[null,null,null,null,"Hollinwood","Medical","Practice",null,null,null,null,null,null,"Hollinwood Medical Practice       ","Hollinwood Medical Practice","North West Deanery"]
[null,null,null,null,"Hope","Farm","Medical","Centre",null,null,null,null,null,"Hope Farm Medical Centre      ","Hope Farm Medical Centre","North West Deanery"]
[null,null,null,null,"Hopwood","Medical","Centre",null,null,null,null,null,null,"Hopwood Medical Centre       ","Hopwood Medical Centre","North West Deanery"]
[null,null,null,null,"Hulme","Hall","Medical","Group",null,null,null,null,null,"Hulme Hall Medical Group      ","Hulme Hall Medical Group","North West Deanery"]
[null,null,null,null,"Hungerford","Medical","Centre",null,null,null,null,null,null,"Hungerford Medical Centre       ","Hungerford Medical Centre","North West Deanery"]
[null,null,null,null,"Ilex","View","Medical","Practice",null,null,null,null,null,"Ilex View Medical Practice      ","Ilex View Medical Practice","North West Deanery"]
[null,null,null,null,"Intrahealth","Marsh","Green",null,null,null,null,null,null,"Intrahealth Marsh Green       ","Intrahealth Marsh Green","North West Deanery"]
[null,null,null,null,"Irwell","Medical","Practice",null,null,null,null,null,null,"Irwell Medical Practice       ","Irwell Medical Practice","North West Deanery"]
[null,null,null,null,"Issa","Medical","Centre",null,"Patel",null,null,null,null,"Issa Medical Centre  Patel     ","Issa Medical Centre Patel","North West Deanery"]
[null,null,null,null,"James","Cochrane","Practice",null,null,null,null,null,null,"James Cochrane Practice       ","James Cochrane Practice","North West Deanery"]
[null,null,null,null,"John","Street","Medical","Practice",null,null,null,null,null,"John Street Medical Practice      ","John Street Medical Practice","North West Deanery"]
[null,null,null,null,"Jubilee","Medical","Centre",null,null,null,null,null,null,"Jubilee Medical Centre       ","Jubilee Medical Centre","North West Deanery"]
[null,null,null,null,"Whiston","Hospital",null,null,null,null,null,null,null,"Whiston Hospital        ","Whiston Hospital","North West Deanery"]
[null,null,null,null,"Kapur","Family","Care",null,null,null,null,null,null,"Kapur Family Care       ","Kapur Family Care","North West Deanery"]
[null,null,null,null,"Kearsley","Medical","Centre",null,null,null,null,null,null,"Kearsley Medical Centre       ","Kearsley Medical Centre","North West Deanery"]
[null,null,null,null,"Kenmore","Medical","Centre",null,null,null,null,null,null,"Kenmore Medical Centre       ","Kenmore Medical Centre","North West Deanery"]
[null,null,null,null,"Kildonan","House",null,null,null,null,null,null,null,"Kildonan House        ","Kildonan House","North West Deanery"]
[null,null,null,null,"King","Street","Surgery",null,null,null,null,null,null,"King Street Surgery       ","King Street Surgery","North West Deanery"]
[null,null,null,null,"Kings","Lane","Medical","Centre",null,null,null,null,null,"Kings Lane Medical Centre      ","Kings Lane Medical Centre","North West Deanery"]
[null,null,null,null,"Kirby-Crompton","Health","Centre",null,null,null,null,null,null,"Kirby-Crompton Health Centre       ","Kirby-Crompton Health Centre","North West Deanery"]
[null,null,null,null,"Kirkholt","Med","Practice",null,null,null,null,null,null,"Kirkholt Med Practice       ","Kirkholt Med Practice","North West Deanery"]
[null,null,null,null,"Lache","Health","Centre",null,null,null,null,null,null,"Lache Health Centre       ","Lache Health Centre","North West Deanery"]
[null,null,null,null,"Ladybarn","Group","Practice",null,null,null,null,null,null,"Ladybarn Group Practice       ","Ladybarn Group Practice","North West Deanery"]
[null,null,null,null,"Lambgates","Health","Centre",null,null,null,null,null,null,"Lambgates Health Centre       ","Lambgates Health Centre","North West Deanery"]
[null,null,null,null,"Furness","General","Hospital",null,null,null,null,null,null,"Furness General Hospital       ","Furness General Hospital","North West Deanery"]
[null,null,null,null,"Burnley","General","Hospital",null,null,null,null,null,null,"Burnley General Hospital       ","Burnley General Hospital","North West Deanery"]
[null,null,null,null,"Chorley","&","South","Ribble",null,null,null,null,null,"Chorley & South Ribble      ","Chorley & South Ribble","North West Deanery"]
[null,null,null,null,"Cumbria","Partnership","FT",null,null,null,null,null,null,"Cumbria Partnership FT       ","Cumbria Partnership FT","North West Deanery"]
[null,null,null,null,"Guild","Lodge",null,null,null,null,null,null,null,"Guild Lodge        ","Guild Lodge","North West Deanery"]
[null,null,null,null,"Lancashire","Care",null,null,null,null,null,null,null,"Lancashire Care        ","Lancashire Care","North West Deanery"]
[null,null,null,null,"Maglona","House",null,null,null,null,null,null,null,"Maglona House        ","Maglona House","North West Deanery"]
[null,null,null,null,"Pendle","House",null,null,null,null,null,null,null,"Pendle House        ","Pendle House","North West Deanery"]
[null,null,null,null,"Royal","Preston","Hospital",null,null,null,null,null,null,"Royal Preston Hospital       ","Royal Preston Hospital","North West Deanery"]
[null,null,null,null,"The","Harbour",null,null,null,null,null,null,null,"The Harbour        ","The Harbour","North West Deanery"]
[null,null,null,null,"Ballenden","House",null,null,null,null,null,null,null,"Ballenden House        ","Ballenden House","North West Deanery"]
[null,null,null,null,"East","Barn",null,null,null,null,null,null,null,"East Barn        ","East Barn","North West Deanery"]
[null,null,null,null,"Mountcroft","Resource","Centre",null,null,null,null,null,null,"Mountcroft Resource Centre       ","Mountcroft Resource Centre","North West Deanery"]
[null,null,null,null,"Shawbrook","House",null,null,null,null,null,null,null,"Shawbrook House        ","Shawbrook House","North West Deanery"]
[null,null,null,null,"Pathways","Mental","Health","Resource","Centre",null,null,null,null,"Pathways Mental Health Resource Centre     ","Pathways Mental Health Resource Centre","North West Deanery"]
[null,null,null,null,"Altham","Meadows",null,null,null,null,null,null,null,"Altham Meadows        ","Altham Meadows","North West Deanery"]
[null,null,null,null,"Daisyfield","Business","Centre",null,null,null,null,null,null,"Daisyfield Business Centre       ","Daisyfield Business Centre","North West Deanery"]
[null,null,null,null,"Hillside","Health","Centre",null,null,null,null,null,null,"Hillside Health Centre       ","Hillside Health Centre","North West Deanery"]
[null,null,null,null,"Burnley General","Hospital","(Psychiatry)",null,null,null,null,null,null,"Burnley General Hospital (Psychiatry)       ","Burnley General Hospital (Psychiatry)","North West Deanery"]
[null,null,null,null,"Lytham Hospital",null,null,null,null,null,null,null,null,"Lytham Hospital         ","Lytham Hospital","North West Deanery"]
[null,null,null,null,"The Orchard",null,null,null,null,null,null,null,null,"The Orchard         ","The Orchard","North West Deanery"]
[null,null,null,null,"West Strand","Business","Park",null,null,null,null,null,null,"West Strand Business Park       ","West Strand Business Park","North West Deanery"]
[null,null,null,null,"Granville","House","Medical","Centre",null,null,null,null,null,"Granville House Medical Centre      ","Granville House Medical Centre","North West Deanery"]
[null,null,null,null,"Chorley","&","South","Ribble",null,null,null,null,null,"Chorley & South Ribble      ","Chorley & South Ribble","North West Deanery"]
[null,null,null,null,"Royal","Preston","Hospital",null,null,null,null,null,null,"Royal Preston Hospital       ","Royal Preston Hospital","North West Deanery"]
[null,null,null,null,"Lancaster","Medical","Practice",null,null,null,null,null,null,"Lancaster Medical Practice       ","Lancaster Medical Practice","North West Deanery"]
[null,null,null,null,"Lance","Lane","Medical","Centre",null,null,null,null,null,"Lance Lane Medical Centre      ","Lance Lane Medical Centre","North West Deanery"]
[null,null,null,null,"Lane","Ends","Surgery",null,null,null,null,null,null,"Lane Ends Surgery       ","Lane Ends Surgery","North West Deanery"]
[null,null,null,null,"Langworthy","Medical","Centre",null,null,null,null,null,null,"Langworthy Medical Centre       ","Langworthy Medical Centre","North West Deanery"]
[null,null,null,null,"Latchford","Medical","Centre",null,null,null,null,null,null,"Latchford Medical Centre       ","Latchford Medical Centre","North West Deanery"]
[null,null,null,null,"Laxey","&","Village","Walk","Health","Centre",null,null,null,"Laxey & Village Walk Health     ","Laxey & Village Walk Health","North West Deanery"]
[null,null,null,null,"Levenshulme","Medical","Practice",null,null,null,null,null,null,{"$f":"E900&\" \"&F900&\" \"&G900&\" \"&H900&\" \"&I900&\" \"&J899&\" \"&K900&\" \"&L900&\" \"&M900&\" \"","v":"Levenshulme Medical Practice   Centre    "},{"$f":"TRIM(N900)","v":"Levenshulme Medical Practice Centre"},"North West Deanery"]
[null,null,null,null,"Lever","Chambers",1,null,null,null,null,null,null,"Lever Chambers 1       ","Lever Chambers 1","North West Deanery"]
[null,null,null,null,"Leyland","Surgery",null,null,null,null,null,null,null,"Leyland Surgery        ","Leyland Surgery","North West Deanery"]
[null,null,null,null,"Library","House","Surgery",null,null,null,null,null,null,"Library House Surgery       ","Library House Surgery","North West Deanery"]
[null,null,null,null,"Lilford","Park","Surgery",null,null,null,null,null,null,"Lilford Park Surgery       ","Lilford Park Surgery","North West Deanery"]
[null,null,null,null,"Limefield","Surgery",null,null,null,null,null,null,null,"Limefield Surgery        ","Limefield Surgery","North West Deanery"]
[null,null,null,null,"Lindley","House","Health","Centre",null,null,null,null,null,"Lindley House Health Centre      ","Lindley House Health Centre","North West Deanery"]
[null,null,null,null,"Little","Harwood","Health","Centre",null,null,null,null,null,"Little Harwood Health Centre      ","Little Harwood Health Centre","North West Deanery"]
[null,null,null,null,"Littleborough","Group","Practice",null,null,null,null,null,null,"Littleborough Group Practice       ","Littleborough Group Practice","North West Deanery"]
[null,null,null,null,"Liverpool","Dental","Hospital",null,null,null,null,null,null,"Liverpool Dental Hospital       ","Liverpool Dental Hospital","North West Deanery"]
[null,null,null,null,"Liverpool","Heart","&","Chest","Hospital",null,null,null,null,"Liverpool Heart & Chest Hospital     ","Liverpool Heart & Chest Hospital","North West Deanery"]
[null,null,null,null,"Liverpool","Women's","NHS","Foundation","Trust",null,null,null,null,"Liverpool Women's NHS Foundation Trust     ","Liverpool Women's NHS Foundation Trust","North West Deanery"]
[null,null,null,null,"Lockside","Medical","Centre",null,null,null,null,null,null,"Lockside Medical Centre       ","Lockside Medical Centre","North West Deanery"]
[null,null,null,null,"Long","Lane","Medical","Centre",null,null,null,null,null,"Long Lane Medical Centre      ","Long Lane Medical Centre","North West Deanery"]
[null,null,null,null,"Longton","Health","Centre",null,null,null,null,null,null,"Longton Health Centre       ","Longton Health Centre","North West Deanery"]
[null,null,null,null,"Lostock","Medical","Centre",null,null,null,null,null,null,"Lostock Medical Centre       ","Lostock Medical Centre","North West Deanery"]
[null,null,null,null,"Lower","Broughton","Health","Centre",null,null,null,null,null,"Lower Broughton Health Centre      ","Lower Broughton Health Centre","North West Deanery"]
[null,null,null,null,"Lunesdale","Surgery",null,null,null,null,null,null,null,"Lunesdale Surgery        ","Lunesdale Surgery","North West Deanery"]
[null,null,null,null,"Manchester","Road","Medical","Centre",null,null,null,null,null,"Manchester Road Medical Centre      ","Manchester Road Medical Centre","North West Deanery"]
[null,null,null,null,"Longsight","Health","Centre",null,null,null,null,null,null,"Longsight Health Centre       ","Longsight Health Centre","North West Deanery"]
[null,null,null,null,"Withington","Community","Hospital",null,null,null,null,null,null,"Withington Community Hospital       ","Withington Community Hospital","North West Deanery"]
[null,null,null,null,"Manchester","Childrens","Hospital",null,null,null,null,null,null,"Manchester Childrens Hospital       ","Manchester Childrens Hospital","North West Deanery"]
[null,null,null,null,"Manchester","Royal","Eye","Hospital",null,null,null,null,null,"Manchester Royal Eye Hospital      ","Manchester Royal Eye Hospital","North West Deanery"]
[null,null,null,null,"St","Marys","Hospital",null,null,null,null,null,null,"St Marys Hospital       ","St Marys Hospital","North West Deanery"]
[null,null,null,null,"Trafford","General","Hospital",null,null,null,null,null,null,"Trafford General Hospital       ","Trafford General Hospital","North West Deanery"]
[null,null,null,null,"Wythenshawe","Hospital",null,null,null,null,null,null,null,"Wythenshawe Hospital        ","Wythenshawe Hospital","North West Deanery"]
[null,null,null,null,"Rawnsley","Building","Services",null,null,null,null,null,null,"Rawnsley Building Services       ","Rawnsley Building Services","North West Deanery"]
[null,null,null,null,"Galaxy","House","Mental","Health","Service",null,null,null,null,"Galaxy House Mental Health Service     ","Galaxy House Mental Health Service","North West Deanery"]
[null,null,null,null,"Carol","Kendrick","Unit",null,null,null,null,null,null,"Carol Kendrick Unit       ","Carol Kendrick Unit","North West Deanery"]
[null,null,null,null,"Manchester Dental","Hospital",null,null,null,null,null,null,null,"Manchester Dental Hospital        ","Manchester Dental Hospital","North West Deanery"]
[null,null,null,null,"Manchester Royal","Infirmary",null,null,null,null,null,null,null,"Manchester Royal Infirmary        ","Manchester Royal Infirmary","North West Deanery"]
[null,null,null,null,"Pendleton Gateway",null,null,null,null,null,null,null,null,"Pendleton Gateway         ","Pendleton Gateway","North West Deanery"]
[null,null,null,null,"Royal Manchester","Childrens","Hospital",null,null,null,null,null,null,"Royal Manchester Childrens Hospital       ","Royal Manchester Childrens Hospital","North West Deanery"]
[null,null,null,null,"Winnicott Centre",null,null,null,null,null,null,null,null,"Winnicott Centre         ","Winnicott Centre","North West Deanery"]
[null,null,null,null,"Manor","House","Surgery",null,null,null,null,null,null,"Manor House Surgery       ","Manor House Surgery","North West Deanery"]
[null,null,null,null,"Manor","Medical","(Hillgate)",null,null,null,null,null,null,"Manor Medical (Hillgate)       ","Manor Medical (Hillgate)","North West Deanery"]
[null,null,null,null,"Marie","Curie","Hospice","Liverpool",null,null,null,null,null,"Marie Curie Hospice Liverpool      ","Marie Curie Hospice Liverpool","North West Deanery"]
[null,null,null,null,"Marine","Lake","Medical","Practice",null,null,null,null,null,"Marine Lake Medical Practice      ","Marine Lake Medical Practice","North West Deanery"]
[null,null,null,null,"Mark","Street","Surgery",null,null,null,null,null,null,"Mark Street Surgery       ","Mark Street Surgery","North West Deanery"]
[null,null,null,null,"Marple","Bridge","Surgery",null,null,null,null,null,null,"Marple Bridge Surgery       ","Marple Bridge Surgery","North West Deanery"]
[null,null,null,null,"Family","Surgery",null,null,null,null,null,null,null,"Family Surgery        ","Family Surgery","North West Deanery"]
[null,null,null,null,"Marple","Medical","Practice",null,null,null,null,null,null,"Marple Medical Practice       ","Marple Medical Practice","North West Deanery"]
[null,null,null,null,"Marus","Bridge","Practice",null,null,null,null,null,null,"Marus Bridge Practice       ","Marus Bridge Practice","North West Deanery"]
[null,null,null,null,"Mather","Avenue","Surgery",null,null,null,null,null,null,"Mather Avenue Surgery       ","Mather Avenue Surgery","North West Deanery"]
[null,null,null,null,"Medicentre",null,null,null,null,null,null,null,null,"Medicentre         ","Medicentre","North West Deanery"]
[null,null,null,null,"Merepark","Medical","Centre",null,null,null,null,null,null,"Merepark Medical Centre       ","Merepark Medical Centre","North West Deanery"]
[null,null,null,null,"Aintree","University","Hospitals","NHS","Trust",null,null,null,null,"Aintree University Hospitals NHS Trust     ","Aintree University Hospitals NHS Trust","North West Deanery"]
[null,null,null,null,"Ashworth","Hospital",null,null,null,null,null,null,null,"Ashworth Hospital        ","Ashworth Hospital","North West Deanery"]
[null,null,null,null,"Clock","View","Hospital",null,null,null,null,null,null,"Clock View Hospital       ","Clock View Hospital","North West Deanery"]
[null,null,null,null,"Hesketh","Centre",null,null,null,null,null,null,null,"Hesketh Centre        ","Hesketh Centre","North West Deanery"]
[null,null,null,null,"Mersey","Care","NHS","Trust",null,null,null,null,null,"Mersey Care NHS Trust      ","Mersey Care NHS Trust","North West Deanery"]
[null,null,null,null,"Leighton","Hospital",null,null,null,null,null,null,null,"Leighton Hospital        ","Leighton Hospital","North West Deanery"]
[null,null,null,null,"Mid","Cheshire","Hospitals","NHS","Foundation","trust",null,null,null,"Mid Cheshire Hospitals NHS Foundation     ","Mid Cheshire Hospitals NHS Foundation","North West Deanery"]
[null,null,null,null,"Mile","Lane","Health","Centre",null,null,null,null,null,"Mile Lane Health Centre  trust    ","Mile Lane Health Centre trust","North West Deanery"]
[null,null,null,null,"Mill","Street","Medical","Centre",null,null,null,null,null,"Mill Street Medical Centre      ","Mill Street Medical Centre","North West Deanery"]
[null,null,null,null,"Millbrook","Medical","Centre",null,null,null,null,null,null,"Millbrook Medical Centre       ","Millbrook Medical Centre","North West Deanery"]
[null,null,null,null,"Millbrook","Medical","Practice",null,null,null,null,null,null,"Millbrook Medical Practice       ","Millbrook Medical Practice","North West Deanery"]
[null,null,null,null,"Millgate","Healthcare","Partnership",null,null,null,null,null,null,"Millgate Healthcare Partnership       ","Millgate Healthcare Partnership","North West Deanery"]
[null,null,null,null,"Minden","Family","Practices","Dr","Norman",null,null,null,null,"Minden Family Practices Dr Norman     ","Minden Family Practices Dr Norman","North West Deanery"]
[null,null,null,null,"Mersey","Deanery",null,null,null,null,null,null,null,"Mersey Deanery        ","Mersey Deanery","North West Deanery"]
[null,null,null,null,"Moorside","Medical","Practice",null,null,null,null,null,null,"Moorside Medical Practice       ","Moorside Medical Practice","North West Deanery"]
[null,null,null,null,"Royal","Lancaster","Infirmary",null,null,null,null,null,null,"Royal Lancaster Infirmary       ","Royal Lancaster Infirmary","North West Deanery"]
[null,null,null,null,"Furness","General","Hospital",null,null,null,null,null,null,"Furness General Hospital       ","Furness General Hospital","North West Deanery"]
[null,null,null,null,"Moreton","Medical","Centre",null,null,null,null,null,null,"Moreton Medical Centre       ","Moreton Medical Centre","North West Deanery"]
[null,null,null,null,"Moss","Side","Medical","Centre",null,null,null,null,null,{"$f":"E964&\" \"&F964&\" \"&G964&\" \"&H964&\" \"&I964&\" \"&J963&\" \"&K964&\" \"&L964&\" \"&M964&\" \"","v":"Moss Side Medical Centre      "},{"$f":"TRIM(N964)","v":"Moss Side Medical Centre"},"North West Deanery"]
[null,null,null,null,"Neston","Surgery",null,null,null,null,null,null,null,"Neston Surgery        ","Neston Surgery","North West Deanery"]
[null,null,null,null,"New","Collegiate","Medical","Centre",null,null,null,null,null,"New Collegiate Medical Centre      ","New Collegiate Medical Centre","North West Deanery"]
[null,null,null,null,"Newton","Drive","Health","Centre",null,null,null,null,null,"Newton Drive Health Centre      ","Newton Drive Health Centre","North West Deanery"]
[null,null,null,null,"Nobles","hospital","(IOM)",null,null,null,null,null,null,"Nobles hospital (IOM)       ","Nobles hospital (IOM)","North West Deanery"]
[null,null,null,null,"North","Preston","Med","Practice(Broadway","Surg)",null,null,null,null,"North Preston Med Practice(Broadway Surg)     ","North Preston Med Practice(Broadway Surg)","North West Deanery"]
[null,null,null,null,"North","Shore","Surgery",null,null,null,null,null,null,"North Shore Surgery       ","North Shore Surgery","North West Deanery"]
[null,null,null,null,"Whiston","Hospital",null,null,null,null,null,null,null,"Whiston Hospital        ","Whiston Hospital","North West Deanery"]
[null,null,null,null,5,"Boroughs","Partnership",null,null,null,null,null,null,"5 Boroughs Partnership       ","5 Boroughs Partnership","North West Deanery"]
[null,null,null,null,"Halton","General","Hospital",null,null,null,null,null,null,"Halton General Hospital       ","Halton General Hospital","North West Deanery"]
[null,null,null,null,"Atherleigh","Park",null,null,null,null,null,null,null,"Atherleigh Park        ","Atherleigh Park","North West Deanery"]
[null,null,null,null,"Brooker","Centre",null,null,null,null,null,null,null,"Brooker Centre        ","Brooker Centre","North West Deanery"]
[null,null,null,null,"Hollins","Park",null,null,null,null,null,null,null,"Hollins Park        ","Hollins Park","North West Deanery"]
[null,null,null,null,"Peasley","Cross","Resource","Centre",null,null,null,null,null,"Peasley Cross Resource Centre      ","Peasley Cross Resource Centre","North West Deanery"]
[null,null,null,null,"Claire","House",null,null,null,null,null,null,null,"Claire House        ","Claire House","North West Deanery"]
[null,null,null,null,"CAMHS","Team","Knowsley",null,null,null,null,null,null,"CAMHS Team Knowsley       ","CAMHS Team Knowsley","North West Deanery"]
[null,null,null,null,"Thorn","Road","Clinic",null,null,null,null,null,null,"Thorn Road Clinic       ","Thorn Road Clinic","North West Deanery"]
[null,null,null,null,"Knowsley","Resource","&","Recovery","Centre",null,null,null,null,"Knowsley Resource & Recovery Centre     ","Knowsley Resource & Recovery Centre","North West Deanery"]
[null,null,null,null,"CAMHS","Team","Warrington",null,null,null,null,null,null,"CAMHS Team Warrington       ","CAMHS Team Warrington","North West Deanery"]
[null,null,null,null,"Wakefield","House",null,null,null,null,null,null,null,"Wakefield House        ","Wakefield House","North West Deanery"]
[null,null,null,null,"Leigh","Sports","Village",null,null,null,null,null,null,"Leigh Sports Village       ","Leigh Sports Village","North West Deanery"]
[null,null,null,null,"St","Helens","&","Knowsley","Teaching","Hospitals","NHS","Trust",null,"St Helens & Knowsley Teaching  NHS Trust  ","St Helens & Knowsley Teaching NHS Trust","North West Deanery"]
[null,null,null,null,"Northenden","Group","Practice",null,null,null,null,null,null,"Northenden Group Practice   Hospitals    ","Northenden Group Practice Hospitals","North West Deanery"]
[null,null,null,null,"Northern","Moor","Medical","Practice",null,null,null,null,null,"Northern Moor Medical Practice      ","Northern Moor Medical Practice","North West Deanery"]
[null,null,null,null,"Northgate","Medical","Centre",null,null,null,null,null,null,"Northgate Medical Centre       ","Northgate Medical Centre","North West Deanery"]
[null,null,null,null,"Northgate","Village","Surgery",null,null,null,null,null,null,"Northgate Village Surgery       ","Northgate Village Surgery","North West Deanery"]
[null,null,null,null,"Norwood","Medical","Centre",null,null,null,null,null,null,"Norwood Medical Centre       ","Norwood Medical Centre","North West Deanery"]
[null,null,null,null,"Norwood","Surgery",null,null,null,null,null,null,null,"Norwood Surgery        ","Norwood Surgery","North West Deanery"]
[null,null,null,null,"Nutwood","Medical","Practice",null,null,null,null,null,null,"Nutwood Medical Practice       ","Nutwood Medical Practice","North West Deanery"]
[null,null,null,null,"Oak","Gables","Medical","Practice",null,null,null,null,null,"Oak Gables Medical Practice      ","Oak Gables Medical Practice","North West Deanery"]
[null,null,null,null,"Oakenhurst","Medical","Practice",null,null,null,null,null,null,"Oakenhurst Medical Practice       ","Oakenhurst Medical Practice","North West Deanery"]
[null,null,null,null,"Oaklands","Medical","Centre",null,null,null,null,null,null,"Oaklands Medical Centre       ","Oaklands Medical Centre","North West Deanery"]
[null,null,null,null,"Oak","Vale","Medical","Centre",null,null,null,null,null,"Oak Vale Medical Centre      ","Oak Vale Medical Centre","North West Deanery"]
[null,null,null,null,"Old","Swan","Health","Centre",null,null,null,null,null,"Old Swan Health Centre      ","Old Swan Health Centre","North West Deanery"]
[null,null,null,null,"The","Orchard","Surgery",null,null,null,null,null,null,"The Orchard Surgery       ","The Orchard Surgery","North West Deanery"]
[null,null,null,null,"Ordsall","Health","Surgery",null,null,null,null,null,null,"Ordsall Health Surgery       ","Ordsall Health Surgery","North West Deanery"]
[null,null,null,null,"Orient","Road","Medical","Practice",null,null,null,null,null,"Orient Road Medical Practice      ","Orient Road Medical Practice","North West Deanery"]
[null,null,null,null,"Orrell","Park","Medical","Centre",null,null,null,null,null,"Orrell Park Medical Centre      ","Orrell Park Medical Centre","North West Deanery"]
[null,null,null,null,"Oswald","Medical","Centre",null,null,null,null,null,null,"Oswald Medical Centre       ","Oswald Medical Centre","North West Deanery"]
[null,null,null,null,"Mersey","Deanery",null,null,null,null,null,null,null,"Mersey Deanery        ","Mersey Deanery","North West Deanery"]
[null,null,null,null,"Owen","Road","Surgery",null,null,null,null,null,null,"Owen Road Surgery       ","Owen Road Surgery","North West Deanery"]
[null,null,null,null,"Oxford","Road","Medical","Centre",null,null,null,null,null,"Oxford Road Medical Centre      ","Oxford Road Medical Centre","North West Deanery"]
[null,null,null,null,"Padiham","Group","Practice",null,null,null,null,null,null,"Padiham Group Practice       ","Padiham Group Practice","North West Deanery"]
[null,null,null,null,"Palatine","Group","Practice",null,null,null,null,null,null,"Palatine Group Practice       ","Palatine Group Practice","North West Deanery"]
[null,null,null,null,"Parbold","Surgery",null,null,null,null,null,null,null,"Parbold Surgery        ","Parbold Surgery","North West Deanery"]
[null,null,null,null,"Park","Lane","Surgery",null,null,null,null,null,null,"Park Lane Surgery       ","Park Lane Surgery","North West Deanery"]
[null,null,null,null,"Park","Medical","Centre",null,null,null,null,null,null,"Park Medical Centre       ","Park Medical Centre","North West Deanery"]
[null,null,null,null,"Park","Medical","Practice",null,null,null,null,null,null,"Park Medical Practice       ","Park Medical Practice","North West Deanery"]
[null,null,null,null,"Park","Medical","Centre",null,null,null,null,null,null,"Park Medical Centre       ","Park Medical Centre","North West Deanery"]
[null,null,null,null,"Park","View","Surgery",null,null,null,null,null,null,"Park View Surgery       ","Park View Surgery","North West Deanery"]
[null,null,null,null,"Parkside","Surgery",null,null,null,null,null,null,null,"Parkside Surgery        ","Parkside Surgery","North West Deanery"]
[null,null,null,null,"Partington","Family","Practice",null,null,null,null,null,null,"Partington Family Practice       ","Partington Family Practice","North West Deanery"]
[null,null,null,null,"Patterdale","Lodge","Medical","Centre",null,null,null,null,null,"Patterdale Lodge Medical Centre      ","Patterdale Lodge Medical Centre","North West Deanery"]
[null,null,null,null,"Peel","Group","Practice",null,null,null,null,null,null,"Peel Group Practice       ","Peel Group Practice","North West Deanery"]
[null,null,null,null,"Peel","Hall","Medical","Practice",null,null,null,null,null,"Peel Hall Medical Practice      ","Peel Hall Medical Practice","North West Deanery"]
[null,null,null,null,"Pendle","View","Medical","Centre",null,null,null,null,null,"Pendle View Medical Centre      ","Pendle View Medical Centre","North West Deanery"]
[null,null,null,null,"Pendleton","Medical","Centre",null,null,null,null,null,null,"Pendleton Medical Centre       ","Pendleton Medical Centre","North West Deanery"]
[null,null,null,null,"Penketh","Health","Centre",null,null,null,null,null,null,"Penketh Health Centre       ","Penketh Health Centre","North West Deanery"]
[null,null,null,null,"Birch","Hill","Hospital",null,null,null,null,null,null,"Birch Hill Hospital       ","Birch Hill Hospital","North West Deanery"]
[null,null,null,null,"North","Manchester","General",null,null,null,null,null,null,"North Manchester General       ","North Manchester General","North West Deanery"]
[null,null,null,null,"Royal","Oldham","Hospital",null,null,null,null,null,null,"Royal Oldham Hospital       ","Royal Oldham Hospital","North West Deanery"]
[null,null,null,null,"Fairfield","Hospital",null,null,null,null,null,null,null,"Fairfield Hospital        ","Fairfield Hospital","North West Deanery"]
[null,null,null,null,"Rochdale Infirmary",null,null,null,null,null,null,null,null,"Rochdale Infirmary         ","Rochdale Infirmary","North West Deanery"]
[null,null,null,null,"Fairfield","General","Hospital",null,null,null,null,null,null,"Fairfield General Hospital       ","Fairfield General Hospital","North West Deanery"]
[null,null,null,null,"Moorgate","Primary","Care","Centre",null,null,null,null,null,{"$f":"E1028&\" \"&F1028&\" \"&G1028&\" \"&H1028&\" \"&I1028&\" \"&J1027&\" \"&K1028&\" \"&L1028&\" \"&M1028&\" \"","v":"Moorgate Primary Care Centre      "},{"$f":"TRIM(N1028)","v":"Moorgate Primary Care Centre"},"North West Deanery"]
[null,null,null,null,"Birch","Hill","Hospital",null,null,null,null,null,null,"Birch Hill Hospital       ","Birch Hill Hospital","North West Deanery"]
[null,null,null,null,"Moorside","Unit","Adult","Inpatient","MHS",null,null,null,null,"Moorside Unit Adult Inpatient MHS     ","Moorside Unit Adult Inpatient MHS","North West Deanery"]
[null,null,null,null,"Pennine","Care","NHS","Trust",null,null,null,null,null,"Pennine Care NHS Trust      ","Pennine Care NHS Trust","North West Deanery"]
[null,null,null,null,"Royal","Oldham","Hospital",null,null,null,null,null,null,"Royal Oldham Hospital       ","Royal Oldham Hospital","North West Deanery"]
[null,null,null,null,"Stepping","Hill","Hospital",null,null,null,null,null,null,"Stepping Hill Hospital       ","Stepping Hill Hospital","North West Deanery"]
[null,null,null,null,"Tameside","General","Hospital",null,null,null,null,null,null,"Tameside General Hospital       ","Tameside General Hospital","North West Deanery"]
[null,null,null,null,"Penny","Lane","Surgery",null,null,null,null,null,null,"Penny Lane Surgery       ","Penny Lane Surgery","North West Deanery"]
[null,null,null,null,"Pennygate","Medical","Centre",null,null,null,null,null,null,"Pennygate Medical Centre       ","Pennygate Medical Centre","North West Deanery"]
[null,null,null,null,"Peterloo","Medical","Centre",null,null,null,null,null,null,"Peterloo Medical Centre       ","Peterloo Medical Centre","North West Deanery"]
[null,null,null,null,"Pike","View","Medical","Centre",null,null,null,null,null,"Pike View Medical Centre      ","Pike View Medical Centre","North West Deanery"]
[null,null,null,null,"Primrose","Surgery",null,null,null,null,null,null,null,"Primrose Surgery        ","Primrose Surgery","North West Deanery"]
[null,null,null,null,"Princess","Road","Surgery",null,null,null,null,null,null,"Princess Road Surgery       ","Princess Road Surgery","North West Deanery"]
[null,null,null,null,"Mersey","Deanery",null,null,null,null,null,null,null,"Mersey Deanery        ","Mersey Deanery","North West Deanery"]
[null,null,null,null,"Cumbria","and","Lancashire","PHE","Centre",null,null,null,null,"Cumbria and Lancashire PHE Centre     ","Cumbria and Lancashire PHE Centre","North West Deanery"]
[null,null,null,null,"Greater","Manchester","PHE","Centre",null,null,null,null,null,"Greater Manchester PHE Centre      ","Greater Manchester PHE Centre","North West Deanery"]
[null,null,null,null,"PHE","-","Screening","&","Immunisation","Team",null,null,null,"PHE - Screening & Immunisation     ","PHE - Screening & Immunisation","North West Deanery"]
[null,null,null,null,"Public","Health","(Edge","Hill","University)",null,null,null,null,"Public Health (Edge Hill University) Team    ","Public Health (Edge Hill University) Team","North West Deanery"]
[null,null,null,null,"PHE","(Blackburn","with","Darwen","Borough","Council)",null,null,null,"PHE (Blackburn with Darwen Borough     ","PHE (Blackburn with Darwen Borough","North West Deanery"]
[null,null,null,null,"PHE","(Blackpool","Borough","Council","(Unitary))",null,null,null,null,"PHE (Blackpool Borough Council (Unitary)) Council)    ","PHE (Blackpool Borough Council (Unitary)) Council)","North West Deanery"]
[null,null,null,null,"PHE","(Bolton","Metropolitan","Borough","Council)",null,null,null,null,"PHE (Bolton Metropolitan Borough Council)     ","PHE (Bolton Metropolitan Borough Council)","North West Deanery"]
[null,null,null,null,"PHE","(Bury","Metropolitan","Borough","Council)",null,null,null,null,"PHE (Bury Metropolitan Borough Council)     ","PHE (Bury Metropolitan Borough Council)","North West Deanery"]
[null,null,null,null,"PHE","(Cheshire","&","Mersey)",null,null,null,null,null,"PHE (Cheshire & Mersey)      ","PHE (Cheshire & Mersey)","North West Deanery"]
[null,null,null,null,"PHE","(Cheshire","East","Council)",null,null,null,null,null,"PHE (Cheshire East Council)      ","PHE (Cheshire East Council)","North West Deanery"]
[null,null,null,null,"PHE","(Cheshire","West","&","Chester","Council)",null,null,null,"PHE (Cheshire West & Chester     ","PHE (Cheshire West & Chester","North West Deanery"]
[null,null,null,null,"PHE","(Cumbria","County","Council)",null,null,null,null,null,"PHE (Cumbria County Council)  Council)    ","PHE (Cumbria County Council) Council)","North West Deanery"]
[null,null,null,null,"PHE","(Halton","Borough","Council","(Unitary))",null,null,null,null,"PHE (Halton Borough Council (Unitary))     ","PHE (Halton Borough Council (Unitary))","North West Deanery"]
[null,null,null,null,"PHE","(Knowsley","Metropolitan","Borough","Council)",null,null,null,null,"PHE (Knowsley Metropolitan Borough Council)     ","PHE (Knowsley Metropolitan Borough Council)","North West Deanery"]
[null,null,null,null,"PHE","(Lancashire","County","Council)",null,null,null,null,null,"PHE (Lancashire County Council)      ","PHE (Lancashire County Council)","North West Deanery"]
[null,null,null,null,"PHE","(Liverpool","City","Council)",null,null,null,null,null,"PHE (Liverpool City Council)      ","PHE (Liverpool City Council)","North West Deanery"]
[null,null,null,null,"PHE","(Manchester","City","Council)",null,null,null,null,null,"PHE (Manchester City Council)      ","PHE (Manchester City Council)","North West Deanery"]
[null,null,null,null,"PHE","(Oldham","Metropolitan","Borough","Council)",null,null,null,null,"PHE (Oldham Metropolitan Borough Council)     ","PHE (Oldham Metropolitan Borough Council)","North West Deanery"]
[null,null,null,null,"PHE","(Rochdale","Borough","Council)",null,null,null,null,null,"PHE (Rochdale Borough Council)      ","PHE (Rochdale Borough Council)","North West Deanery"]
[null,null,null,null,"PHE","(Sefton","Metropolitan","Borough","Council)",null,null,null,null,"PHE (Sefton Metropolitan Borough Council)     ","PHE (Sefton Metropolitan Borough Council)","North West Deanery"]
[null,null,null,null,"PHE","(Tameside","Metropolitan","Borough","Council)",null,null,null,null,"PHE (Tameside Metropolitan Borough Council)     ","PHE (Tameside Metropolitan Borough Council)","North West Deanery"]
[null,null,null,null,"PHE","(Trafford","Metropolitan","Borough","Council)",null,null,null,null,"PHE (Trafford Metropolitan Borough Council)     ","PHE (Trafford Metropolitan Borough Council)","North West Deanery"]
[null,null,null,null,"PHE","(University","of","Liverpool)",null,null,null,null,null,"PHE (University of Liverpool)      ","PHE (University of Liverpool)","North West Deanery"]
[null,null,null,null,"PHE","(University","of","Manchester)",null,null,null,null,null,"PHE (University of Manchester)      ","PHE (University of Manchester)","North West Deanery"]
[null,null,null,null,"PHE","(Wirral","Council)",null,null,null,null,null,null,"PHE (Wirral Council)       ","PHE (Wirral Council)","North West Deanery"]
[null,null,null,null,"PHE","Lancaster","University",null,null,null,null,null,null,"PHE Lancaster University       ","PHE Lancaster University","North West Deanery"]
[null,null,null,null,"National","Institute","for","Health",null,"Clinical","Excellence",null,null,"National Institute for Health   Excellence   ","National Institute for Health Excellence","North West Deanery"]
[null,null,null,null,"PHE","(Warrington","Borough","Council)",null,null,null,null,null,"PHE (Warrington Borough Council)  Clinical    ","PHE (Warrington Borough Council) Clinical","North West Deanery"]
[null,null,null,null,"PHE","(Stockport","Borough","Council)",null,null,null,null,null,"PHE (Stockport Borough Council)      ","PHE (Stockport Borough Council)","North West Deanery"]
[null,null,null,null,"Quayside","Medical","Practice",null,null,null,null,null,null,"Quayside Medical Practice       ","Quayside Medical Practice","North West Deanery"]
[null,null,null,null,"Queensway","Medical","Centre",null,null,null,null,null,null,"Queensway Medical Centre       ","Queensway Medical Centre","North West Deanery"]
[null,null,null,null,"Radcliffe","Medical","Practice",null,null,null,null,null,null,"Radcliffe Medical Practice       ","Radcliffe Medical Practice","North West Deanery"]
[null,null,null,null,"Edge","Hill","University",null,null,null,null,null,null,"Edge Hill University       ","Edge Hill University","North West Deanery"]
[null,null,null,null,"Rainbow","Medical","Centre",null,null,null,null,null,null,"Rainbow Medical Centre       ","Rainbow Medical Centre","North West Deanery"]
[null,null,null,null,"Rainford","Medical","Centre",null,null,null,null,null,null,"Rainford Medical Centre       ","Rainford Medical Centre","North West Deanery"]
[null,null,null,null,"Readesmoor","Medical","Centre",null,null,null,null,null,null,"Readesmoor Medical Centre       ","Readesmoor Medical Centre","North West Deanery"]
[null,null,null,null,"Reedyford","Health","Care","Group",null,null,null,null,null,"Reedyford Health Care Group      ","Reedyford Health Care Group","North West Deanery"]
[null,null,null,null,"Regent","House","Surgery",null,null,null,null,null,null,"Regent House Surgery       ","Regent House Surgery","North West Deanery"]
[null,null,null,null,"Ribblesdale","Medical","Practice",null,null,null,null,null,null,"Ribblesdale Medical Practice       ","Ribblesdale Medical Practice","North West Deanery"]
[null,null,null,null,"Ribbleton","Medical","Centre",null,null,null,null,null,null,"Ribbleton Medical Centre       ","Ribbleton Medical Centre","North West Deanery"]
[null,null,null,null,"Robert","Darbishire","Practice",null,null,null,null,null,null,"Robert Darbishire Practice       ","Robert Darbishire Practice","North West Deanery"]
[null,null,null,null,"Rock","Court","Surgery",null,null,null,null,null,null,"Rock Court Surgery       ","Rock Court Surgery","North West Deanery"]
[null,null,null,null,"Roe","Lane","Surgery",null,null,null,null,null,null,"Roe Lane Surgery       ","Roe Lane Surgery","North West Deanery"]
[null,null,null,null,"Roman","Road","Health","Centre",null,null,null,null,null,"Roman Road Health Centre      ","Roman Road Health Centre","North West Deanery"]
[null,null,null,null,"Rope","Green","Medical","Centre",null,null,null,null,null,"Rope Green Medical Centre      ","Rope Green Medical Centre","North West Deanery"]
[null,null,null,null,"Rosegrove","Surgery",null,null,null,null,null,null,null,"Rosegrove Surgery        ","Rosegrove Surgery","North West Deanery"]
[null,null,null,null,"Royal","Liverpool","University","Hosp",null,null,null,null,null,"Royal Liverpool University Hosp      ","Royal Liverpool University Hosp","North West Deanery"]
[null,null,null,null,"Royton","Medical","Centre",null,null,null,null,null,null,"Royton Medical Centre       ","Royton Medical Centre","North West Deanery"]
[null,null,null,null,"Rutherford","Medical","Centre",null,null,null,null,null,null,"Rutherford Medical Centre       ","Rutherford Medical Centre","North West Deanery"]
[null,null,null,null,"Saddleworth","Medical","Practice",null,null,null,null,null,null,"Saddleworth Medical Practice       ","Saddleworth Medical Practice","North West Deanery"]
[null,null,null,null,"Salford","Royal","NHS","FT",null,null,null,null,null,{"$f":"E1092&\" \"&F1092&\" \"&G1092&\" \"&H1092&\" \"&I1092&\" \"&J1091&\" \"&K1092&\" \"&L1092&\" \"&M1092&\" \"","v":"Salford Royal NHS FT      "},{"$f":"TRIM(N1092)","v":"Salford Royal NHS FT"},"North West Deanery"]
[null,null,null,null,"Sandy","Lane","Surgery",null,null,null,null,null,null,"Sandy Lane Surgery       ","Sandy Lane Surgery","North West Deanery"]
[null,null,null,null,"Saraf","Medical","Practice",null,null,null,null,null,null,"Saraf Medical Practice       ","Saraf Medical Practice","North West Deanery"]
[null,null,null,null,"Sett","Valley","Medical","Centre",null,null,null,null,null,"Sett Valley Medical Centre      ","Sett Valley Medical Centre","North West Deanery"]
[null,null,null,null,"Shevington","Surgery",null,null,null,null,null,null,null,"Shevington Surgery        ","Shevington Surgery","North West Deanery"]
[null,null,null,null,"Shifa","Surgery",null,null,null,null,null,null,null,"Shifa Surgery        ","Shifa Surgery","North West Deanery"]
[null,null,null,null,"Sivakumar","&","Partner",null,null,null,null,null,null,"Sivakumar & Partner       ","Sivakumar & Partner","North West Deanery"]
[null,null,null,null,"Somerville","Medical","Centre",null,null,null,null,null,null,"Somerville Medical Centre       ","Somerville Medical Centre","North West Deanery"]
[null,null,null,null,"Sorrel","Bank","Medical","Practice",null,null,null,null,null,"Sorrel Bank Medical Practice      ","Sorrel Bank Medical Practice","North West Deanery"]
[null,null,null,null,"South","Park","Surgery",null,null,null,null,null,null,"South Park Surgery       ","South Park Surgery","North West Deanery"]
[null,null,null,null,"Ormskirk","&","District","General","Hospital",null,null,null,null,"Ormskirk & District General Hospital     ","Ormskirk & District General Hospital","North West Deanery"]
[null,null,null,null,"Southport","&","Formby","District","General",null,null,null,null,"Southport & Formby District General     ","Southport & Formby District General","North West Deanery"]
[null,null,null,null,"Spital","Surgery",null,null,null,null,null,null,null,"Spital Surgery        ","Spital Surgery","North West Deanery"]
[null,null,null,null,"Spring","House","Surgery",null,null,null,null,null,null,"Spring House Surgery       ","Spring House Surgery","North West Deanery"]
[null,null,null,null,"Springfield","House",null,null,null,null,null,null,null,"Springfield House        ","Springfield House","North West Deanery"]
[null,null,null,null,"Springfield","Surgery",null,null,null,null,null,null,null,"Springfield Surgery        ","Springfield Surgery","North West Deanery"]
[null,null,null,null,"Springfields","Medical","Centre",null,null,null,null,null,null,"Springfields Medical Centre       ","Springfields Medical Centre","North West Deanery"]
[null,null,null,null,"St","Andrew's","House","Surgery",null,null,null,null,null,"St Andrew's House Surgery      ","St Andrew's House Surgery","North West Deanery"]
[null,null,null,null,"St","Catherines","Surgery",null,null,null,null,null,null,"St Catherines Surgery       ","St Catherines Surgery","North West Deanery"]
[null,null,null,null,"St","George's","Medical","Centre",null,null,null,null,null,"St George's Medical Centre      ","St George's Medical Centre","North West Deanery"]
[null,null,null,null,"Whiston","Hospital",null,null,null,null,null,null,null,"Whiston Hospital        ","Whiston Hospital","North West Deanery"]
[null,null,null,null,"St","Helens","Road","Practice",null,null,null,null,null,"St Helens Road Practice      ","St Helens Road Practice","North West Deanery"]
[null,null,null,null,"St","Hilary","Group","Practice",null,null,null,null,null,"St Hilary Group Practice      ","St Hilary Group Practice","North West Deanery"]
[null,null,null,null,"St","James'","Medical","Centre",null,null,null,null,null,"St James' Medical Centre      ","St James' Medical Centre","North West Deanery"]
[null,null,null,null,"St","John's","Hospice","Liverpool","Recharge",null,null,null,null,"St John's Hospice Liverpool Recharge     ","St John's Hospice Liverpool Recharge","North West Deanery"]
[null,null,null,null,"St","Johns","Medical","Centre",null,null,null,null,null,"St Johns Medical Centre      ","St Johns Medical Centre","North West Deanery"]
[null,null,null,null,"St","Marks","Medical","Centre",null,null,null,null,null,"St Marks Medical Centre      ","St Marks Medical Centre","North West Deanery"]
[null,null,null,null,"St","Mary's","Health","Centre",null,null,null,null,null,"St Mary's Health Centre      ","St Mary's Health Centre","North West Deanery"]
[null,null,null,null,"St","Mary's","Surgery",null,null,null,null,null,null,"St Mary's Surgery       ","St Mary's Surgery","North West Deanery"]
[null,null,null,null,"St","Nicholas","Group","Practice",null,null,null,null,null,"St Nicholas Group Practice      ","St Nicholas Group Practice","North West Deanery"]
[null,null,null,null,"St.Mary's","Health","Centre",null,null,null,null,null,null,"St.Mary's Health Centre       ","St.Mary's Health Centre","North West Deanery"]
[null,null,null,null,"Standish","Medical","Practice",null,null,null,null,null,null,"Standish Medical Practice       ","Standish Medical Practice","North West Deanery"]
[null,null,null,null,"Station","House","Surgery",null,null,null,null,null,null,"Station House Surgery       ","Station House Surgery","North West Deanery"]
[null,null,null,null,"Staveleigh","Medical","Centre",null,null,null,null,null,null,"Staveleigh Medical Centre       ","Staveleigh Medical Centre","North West Deanery"]
[null,null,null,null,"Stockbridge","Village","Health","Centre",null,null,null,null,null,"Stockbridge Village Health Centre      ","Stockbridge Village Health Centre","North West Deanery"]
[null,null,null,null,"Stockport","Medical","Group",null,null,null,null,null,null,"Stockport Medical Group       ","Stockport Medical Group","North West Deanery"]
[null,null,null,null,"Stepping","Hill","Hospital",null,null,null,null,null,null,"Stepping Hill Hospital       ","Stepping Hill Hospital","North West Deanery"]
[null,null,null,null,"Stockton","Heath","Medical","Centre",null,null,null,null,null,"Stockton Heath Medical Centre      ","Stockton Heath Medical Centre","North West Deanery"]
[null,null,null,null,"Stonebridge","Surgery",null,null,null,null,null,null,null,"Stonebridge Surgery        ","Stonebridge Surgery","North West Deanery"]
[null,null,null,null,"Stonefield","Street","Surgery",null,null,null,null,null,null,"Stonefield Street Surgery       ","Stonefield Street Surgery","North West Deanery"]
[null,null,null,null,"Stonehill","Medical","Centre",null,null,null,null,null,null,"Stonehill Medical Centre       ","Stonehill Medical Centre","North West Deanery"]
[null,null,null,null,"Sullivan","Way","Surgery",null,null,null,null,null,null,"Sullivan Way Surgery       ","Sullivan Way Surgery","North West Deanery"]
[null,null,null,null,"Sunlight","Group","Practice",null,null,null,null,null,null,"Sunlight Group Practice       ","Sunlight Group Practice","North West Deanery"]
[null,null,null,null,"Swanlow","Medical","Centre",null,null,null,null,null,null,"Swanlow Medical Centre       ","Swanlow Medical Centre","North West Deanery"]
[null,null,null,null,"Tameside","General","Hospital",null,null,null,null,null,null,"Tameside General Hospital       ","Tameside General Hospital","North West Deanery"]
[null,null,null,null,"Tarleton","Group","Practice",null,null,null,null,null,null,"Tarleton Group Practice       ","Tarleton Group Practice","North West Deanery"]
[null,null,null,null,"The","Arch","Medical","Practice",null,null,null,null,null,"The Arch Medical Practice      ","The Arch Medical Practice","North West Deanery"]
[null,null,null,null,"The","Ash","Surgery",null,null,null,null,null,null,"The Ash Surgery       ","The Ash Surgery","North West Deanery"]
[null,null,null,null,"The","Avenue","Medical","Centre",null,null,null,null,null,"The Avenue Medical Centre      ","The Avenue Medical Centre","North West Deanery"]
[null,null,null,null,"The","Beeches","Medical","Centre",null,null,null,null,null,"The Beeches Medical Centre      ","The Beeches Medical Centre","North West Deanery"]
[null,null,null,null,"The","Borchardt","Medical","Centre",null,null,null,null,null,"The Borchardt Medical Centre      ","The Borchardt Medical Centre","North West Deanery"]
[null,null,null,null,"Brooke","Surgery",null,null,null,null,null,null,null,"Brooke Surgery        ","Brooke Surgery","North West Deanery"]
[null,null,null,null,"The","Castle","Medical","Group",null,null,null,null,null,"The Castle Medical Group      ","The Castle Medical Group","North West Deanery"]
[null,null,null,null,"The","Cedars","Medical","Centre",null,null,null,null,null,"The Cedars Medical Centre      ","The Cedars Medical Centre","North West Deanery"]
[null,null,null,null,"The","Chandler","Surgery",null,null,null,null,null,null,"The Chandler Surgery       ","The Chandler Surgery","North West Deanery"]
[null,null,null,null,"The","Cornerstone","Practice",null,null,null,null,null,null,"The Cornerstone Practice       ","The Cornerstone Practice","North West Deanery"]
[null,null,null,null,"Dicconson","Group","Practice",null,null,null,null,null,null,"Dicconson Group Practice       ","Dicconson Group Practice","North West Deanery"]
[null,null,null,null,"The","Docs","Surgey",null,null,null,null,null,null,"The Docs Surgey       ","The Docs Surgey","North West Deanery"]
[null,null,null,null,"The","Dunstan","Partnership",null,null,null,null,null,null,"The Dunstan Partnership       ","The Dunstan Partnership","North West Deanery"]
[null,null,null,null,"The","Elms","Medical","Centre",null,null,null,null,null,"The Elms Medical Centre      ","The Elms Medical Centre","North West Deanery"]
[null,null,null,null,"The","Grange","Surgery",null,null,null,null,null,null,"The Grange Surgery       ","The Grange Surgery","North West Deanery"]
[null,null,null,null,"The","Grey","Road","Surgery",null,null,null,null,null,"The Grey Road Surgery      ","The Grey Road Surgery","North West Deanery"]
[null,null,null,null,"The","Health","Centre","Holmes","Chapel",null,null,null,null,"The Health Centre Holmes Chapel     ","The Health Centre Holmes Chapel","North West Deanery"]
[null,null,null,null,"The","Healthcare","Centre",null,null,null,null,null,null,"The Healthcare Centre       ","The Healthcare Centre","North West Deanery"]
[null,null,null,null,"The","Maples","Medical","Centre",null,null,null,null,null,{"$f":"E1156&\" \"&F1156&\" \"&G1156&\" \"&H1156&\" \"&I1156&\" \"&J1155&\" \"&K1156&\" \"&L1156&\" \"&M1156&\" \"","v":"The Maples Medical Centre      "},{"$f":"TRIM(N1156)","v":"The Maples Medical Centre"},"North West Deanery"]
[null,null,null,null,"The","Margaret","Thompson","Medical","Centre",null,null,null,null,"The Margaret Thompson Medical Centre     ","The Margaret Thompson Medical Centre","North West Deanery"]
[null,null,null,null,"New","Hall","Lane","Practice",null,null,null,null,null,"New Hall Lane Practice      ","New Hall Lane Practice","North West Deanery"]
[null,null,null,null,"Over","Wyre","Medical","Centre",null,null,null,null,null,"Over Wyre Medical Centre      ","Over Wyre Medical Centre","North West Deanery"]
[null,null,null,null,"The","Park","Medical","Practice",null,null,null,null,null,"The Park Medical Practice      ","The Park Medical Practice","North West Deanery"]
[null,null,null,null,"The","Pendle","Medical","Partnership",null,null,null,null,null,"The Pendle Medical Partnership      ","The Pendle Medical Partnership","North West Deanery"]
[null,null,null,null,"The","Range","Medical","Centre",null,null,null,null,null,"The Range Medical Centre      ","The Range Medical Centre","North West Deanery"]
[null,null,null,null,"The","Richmond","Hill","Practice",null,null,null,null,null,"The Richmond Hill Practice      ","The Richmond Hill Practice","North West Deanery"]
[null,null,null,null,"The","Royton","&","Crompton","Family","Practice","P85013",null,null,"The Royton & Crompton Family  P85013   ","The Royton & Crompton Family P85013","North West Deanery"]
[null,null,null,null,"The","Ryan","Medical","Centre",null,null,null,null,null,"The Ryan Medical Centre  Practice    ","The Ryan Medical Centre Practice","North West Deanery"]
[null,null,null,null,"The","Schoolhouse","Surgery",null,null,null,null,null,null,"The Schoolhouse Surgery       ","The Schoolhouse Surgery","North West Deanery"]
[null,null,null,null,"The","Sides","Medical","Practice",null,null,null,null,null,"The Sides Medical Practice      ","The Sides Medical Practice","North West Deanery"]
[null,null,null,null,"The","Spinney","Medical","Centre",null,null,null,null,null,"The Spinney Medical Centre      ","The Spinney Medical Centre","North West Deanery"]
[null,null,null,null,"The","Strand","Medical","Centre",null,null,null,null,null,"The Strand Medical Centre      ","The Strand Medical Centre","North West Deanery"]
[null,null,null,null,"The","Surgery","-","Dr","Khatri",null,"Partners",null,null,"The Surgery - Dr Khatri  Partners   ","The Surgery - Dr Khatri Partners","North West Deanery"]
[null,null,null,null,"The","Surgery",null,null,null,null,null,null,null,"The Surgery        ","The Surgery","North West Deanery"]
[null,null,null,null,"The","Surgery",null,null,null,null,null,null,null,"The Surgery        ","The Surgery","North West Deanery"]
[null,null,null,null,"The","Surgery",null,null,null,null,null,null,null,"The Surgery        ","The Surgery","North West Deanery"]
[null,null,null,null,"The","Thornton","Practice",null,null,null,null,null,null,"The Thornton Practice       ","The Thornton Practice","North West Deanery"]
[null,null,null,null,"Vallance","Centre",null,null,null,null,null,null,null,"Vallance Centre        ","Vallance Centre","North West Deanery"]
[null,null,null,null,"Valley","Medical","Centre",null,null,null,null,null,null,"Valley Medical Centre       ","Valley Medical Centre","North West Deanery"]
[null,null,null,null,"The","Village","Medical","Centre",null,null,null,null,null,"The Village Medical Centre      ","The Village Medical Centre","North West Deanery"]
[null,null,null,null,"Village","Practice",null,null,null,null,null,null,null,"Village Practice        ","Village Practice","North West Deanery"]
[null,null,null,null,"The","Village","Surgery",null,null,null,null,null,null,"The Village Surgery       ","The Village Surgery","North West Deanery"]
[null,null,null,null,"The","Village","Surgery","Formby",null,null,null,null,null,"The Village Surgery Formby      ","The Village Surgery Formby","North West Deanery"]
[null,null,null,null,"The","Weavers","Practice",null,null,null,null,null,null,"The Weavers Practice       ","The Weavers Practice","North West Deanery"]
[null,null,null,null,"The","Willows","Medical","Practice",null,null,null,null,null,"The Willows Medical Practice      ","The Willows Medical Practice","North West Deanery"]
[null,null,null,null,"Thornbrook","Surgery",null,null,null,null,null,null,null,"Thornbrook Surgery        ","Thornbrook Surgery","North West Deanery"]
[null,null,null,null,"Thursby","Surgery",null,null,null,null,null,null,null,"Thursby Surgery        ","Thursby Surgery","North West Deanery"]
[null,null,null,null,"Toft","Road","Surgery",null,null,null,null,null,null,"Toft Road Surgery       ","Toft Road Surgery","North West Deanery"]
[null,null,null,null,"Tower","Family","Healthcare",null,null,null,null,null,null,"Tower Family Healthcare       ","Tower Family Healthcare","North West Deanery"]
[null,null,null,null,"Tower","House","Practice",null,null,null,null,null,null,"Tower House Practice       ","Tower House Practice","North West Deanery"]
[null,null,null,null,"Treganna","Group","Practice",null,null,null,null,null,null,"Treganna Group Practice       ","Treganna Group Practice","North West Deanery"]
[null,null,null,null,"Ulverston","Health","Centre","Murray",null,null,null,null,null,"Ulverston Health Centre Murray      ","Ulverston Health Centre Murray","North West Deanery"]
[null,null,null,null,"Unsworth","Group","Practice",null,null,null,null,null,null,"Unsworth Group Practice       ","Unsworth Group Practice","North West Deanery"]
[null,null,null,null,"Upton","Group","Practice",null,null,null,null,null,null,"Upton Group Practice       ","Upton Group Practice","North West Deanery"]
[null,null,null,null,"Upton","Village","Surgery",null,null,null,null,null,null,"Upton Village Surgery       ","Upton Village Surgery","North West Deanery"]
[null,null,null,null,"Vauxhall","Health","Centre",null,null,null,null,null,null,"Vauxhall Health Centre       ","Vauxhall Health Centre","North West Deanery"]
[null,null,null,null,"Villa","Medical","Centre",null,null,null,null,null,null,"Villa Medical Centre       ","Villa Medical Centre","North West Deanery"]
[null,null,null,null,"Village","Surgery",null,null,null,null,null,null,null,"Village Surgery        ","Village Surgery","North West Deanery"]
[null,null,null,null,"Vista","Road","Surgery",null,null,null,null,null,null,"Vista Road Surgery       ","Vista Road Surgery","North West Deanery"]
[null,null,null,null,"Walton","Centre","for","Neurology",null,null,null,null,null,"Walton Centre for Neurology      ","Walton Centre for Neurology","North West Deanery"]
[null,null,null,null,"Walton","Medical","Centre",null,null,null,null,null,null,"Walton Medical Centre       ","Walton Medical Centre","North West Deanery"]
[null,null,null,null,"Warrington","General","Hospital",null,null,null,null,null,null,"Warrington General Hospital       ","Warrington General Hospital","North West Deanery"]
[null,null,null,null,"Washway","Road","Medical","Centre",null,null,null,null,null,"Washway Road Medical Centre      ","Washway Road Medical Centre","North West Deanery"]
[null,null,null,null,"Waterfoot","Health","Centre",null,null,null,null,null,null,"Waterfoot Health Centre       ","Waterfoot Health Centre","North West Deanery"]
[null,null,null,null,"Middlewood","Partnership",null,null,null,null,null,null,null,"Middlewood Partnership        ","Middlewood Partnership","North West Deanery"]
[null,null,null,null,"Waterloo","House","Surgery",null,null,null,null,null,null,"Waterloo House Surgery       ","Waterloo House Surgery","North West Deanery"]
[null,null,null,null,"Waterloo","Medical","Centre",null,null,null,null,null,null,"Waterloo Medical Centre       ","Waterloo Medical Centre","North West Deanery"]
[null,null,null,null,"Watling","Street","Medical","Centre",null,null,null,null,null,"Watling Street Medical Centre      ","Watling Street Medical Centre","North West Deanery"]
[null,null,null,null,"Weaver","Vale","Practice",null,null,null,null,null,null,"Weaver Vale Practice       ","Weaver Vale Practice","North West Deanery"]
[null,null,null,null,"Wellfield","Health","Centre",null,null,null,null,null,null,"Wellfield Health Centre       ","Wellfield Health Centre","North West Deanery"]
[null,null,null,null,"Wellfield","Health","Centre",null,null,null,null,null,null,"Wellfield Health Centre       ","Wellfield Health Centre","North West Deanery"]
[null,null,null,null,"West","Derby","Medical","Centre",null,null,null,null,null,"West Derby Medical Centre      ","West Derby Medical Centre","North West Deanery"]
[null,null,null,null,"West","Gorton","Medical","Centre",null,null,null,null,null,"West Gorton Medical Centre      ","West Gorton Medical Centre","North West Deanery"]
[null,null,null,null,"West","Point","Medical","Centre",null,null,null,null,null,"West Point Medical Centre      ","West Point Medical Centre","North West Deanery"]
[null,null,null,null,"West","Wirral","Group","Practice",null,null,null,null,null,"West Wirral Group Practice      ","West Wirral Group Practice","North West Deanery"]
[null,null,null,null,"Westminster","Medical","Centre",null,null,null,null,null,null,"Westminster Medical Centre       ","Westminster Medical Centre","North West Deanery"]
[null,null,null,null,"Westmoreland","GP","Centre",null,null,null,null,null,null,"Westmoreland GP Centre       ","Westmoreland GP Centre","North West Deanery"]
[null,null,null,null,"Westway","Medical","Centre",null,null,null,null,null,null,"Westway Medical Centre       ","Westway Medical Centre","North West Deanery"]
[null,null,null,null,"Whalley","Medical","Centre",null,null,null,null,null,null,"Whalley Medical Centre       ","Whalley Medical Centre","North West Deanery"]
[null,null,null,null,"Whittaker","Lane","Medical","Centre",null,null,null,null,null,"Whittaker Lane Medical Centre      ","Whittaker Lane Medical Centre","North West Deanery"]
[null,null,null,null,"Wilmslow","Health","Centre",null,null,null,null,null,null,"Wilmslow Health Centre       ","Wilmslow Health Centre","North West Deanery"]
[null,null,null,null,"Edge","Hill","University",null,null,null,null,null,null,"Edge Hill University       ","Edge Hill University","North West Deanery"]
[null,null,null,null,"Wirral","University","(Arrowe","Park)",null,null,null,null,null,{"$f":"E1220&\" \"&F1220&\" \"&G1220&\" \"&H1220&\" \"&I1220&\" \"&J1219&\" \"&K1220&\" \"&L1220&\" \"&M1220&\" \"","v":"Wirral University (Arrowe Park)      "},{"$f":"TRIM(N1220)","v":"Wirral University (Arrowe Park)"},"North West Deanery"]
[null,null,null,null,"Witton","Street","Surgery",null,null,null,null,null,null,"Witton Street Surgery       ","Witton Street Surgery","North West Deanery"]
[null,null,null,null,"Woodlands","Medical","Practice",null,null,null,null,null,null,"Woodlands Medical Practice       ","Woodlands Medical Practice","North West Deanery"]
[null,null,null,null,"Woolton","House","Medical","Centre",null,null,null,null,null,"Woolton House Medical Centre      ","Woolton House Medical Centre","North West Deanery"]
[null,null,null,null,"Royal","Albert","Edward","Infirmary",null,null,null,null,null,"Royal Albert Edward Infirmary      ","Royal Albert Edward Infirmary","North West Deanery"]
[null,null,null,null,"Wrightington,","Wigan","&","Leigh","NHS","FT",null,null,null,"Wrightington, Wigan & Leigh NHS     ","Wrightington, Wigan & Leigh NHS","North West Deanery"]
[null,null,null,null,"York","Road","Group","Practice",null,null,null,null,null,"York Road Group Practice  FT    ","York Road Group Practice FT","North West Deanery"]
[null,null,null,null,"Zaman","Chandler","House",null,null,null,null,null,null,"Zaman Chandler House       ","Zaman Chandler House","North West Deanery"]
[null,null,null,null,"Alchester","Medical","Group",null,null,null,null,null,null,"Alchester Medical Group       ","Alchester Medical Group","Thames Valley Deanery"]
[null,null,null,null,"Amersham","Health","Centre",null,null,null,null,null,null,"Amersham Health Centre       ","Amersham Health Centre","Thames Valley Deanery"]
[null,null,null,null,"Asplands","Medical","Centre",null,null,null,null,null,null,"Asplands Medical Centre       ","Asplands Medical Centre","Thames Valley Deanery"]
[null,null,null,null,"Balmore","Park","Surgery",null,null,null,null,null,null,"Balmore Park Surgery       ","Balmore Park Surgery","Thames Valley Deanery"]
[null,null,null,null,"Banbury","Cross","Health","Centre",null,null,null,null,null,"Banbury Cross Health Centre      ","Banbury Cross Health Centre","Thames Valley Deanery"]
[null,null,null,null,"Bartlemas","Surgery",null,null,null,null,null,null,null,"Bartlemas Surgery        ","Bartlemas Surgery","Thames Valley Deanery"]
[null,null,null,null,"Beaumont","Street","Surgery",null,null,null,null,null,null,"Beaumont Street Surgery       ","Beaumont Street Surgery","Thames Valley Deanery"]
[null,null,null,null,"Berinsfield","Health","Centre",null,null,null,null,null,null,"Berinsfield Health Centre       ","Berinsfield Health Centre","Thames Valley Deanery"]
[null,null,null,null,"Upton","Hospital",null,null,null,null,null,null,null,"Upton Hospital        ","Upton Hospital","Thames Valley Deanery"]
[null,null,null,null,"Churchill","House",null,null,null,null,null,null,null,"Churchill House        ","Churchill House","Thames Valley Deanery"]
[null,null,null,null,"Berryfields","Medical","Centre",null,null,null,null,null,null,"Berryfields Medical Centre       ","Berryfields Medical Centre","Thames Valley Deanery"]
[null,null,null,null,"Bicester","Health","Centre",null,null,null,null,null,null,"Bicester Health Centre       ","Bicester Health Centre","Thames Valley Deanery"]
[null,null,null,null,"Brackley","Medical","Centre",null,null,null,null,null,null,"Brackley Medical Centre       ","Brackley Medical Centre","Thames Valley Deanery"]
[null,null,null,null,"Brookside","Practice",null,null,null,null,null,null,null,"Brookside Practice        ","Brookside Practice","Thames Valley Deanery"]
[null,null,null,null,"Wycombe","General","Hospital",null,null,null,null,null,null,"Wycombe General Hospital       ","Wycombe General Hospital","Thames Valley Deanery"]
[null,null,null,null,"Amersham","Hospital",null,null,null,null,null,null,null,"Amersham Hospital        ","Amersham Hospital","Thames Valley Deanery"]
[null,null,null,null,"Haleacre","Unit",null,null,null,null,null,null,null,"Haleacre Unit        ","Haleacre Unit","Thames Valley Deanery"]
[null,null,null,null,"Burdwood","Surgery",null,null,null,null,null,null,null,"Burdwood Surgery        ","Burdwood Surgery","Thames Valley Deanery"]
[null,null,null,null,"Burford","Surgery",null,null,null,null,null,null,null,"Burford Surgery        ","Burford Surgery","Thames Valley Deanery"]
[null,null,null,null,"Burnham","Health","Centre",null,null,null,null,null,null,"Burnham Health Centre       ","Burnham Health Centre","Thames Valley Deanery"]
[null,null,null,null,"Central","&",null,"London","NHS","Foundtion","Trust","(LaSE)",null,"Central &  London NHS  Trust (LaSE)  ","Central & London NHS Trust (LaSE)","Thames Valley Deanery"]
[null,null,null,null,"Campbell","Centre",null,null,null,null,null,null,null,"Campbell Centre    Foundtion    ","Campbell Centre Foundtion","Thames Valley Deanery"]
[null,null,null,null,"Central","Milton","Keynes","Medical","Centre",null,null,null,null,"Central Milton Keynes Medical Centre     ","Central Milton Keynes Medical Centre","Thames Valley Deanery"]
[null,null,null,null,"Chipping","Norton","Health","Centre",null,null,null,null,null,"Chipping Norton Health Centre      ","Chipping Norton Health Centre","Thames Valley Deanery"]
[null,null,null,null,"Church","Street","Practice",null,null,null,null,null,null,"Church Street Practice       ","Church Street Practice","Thames Valley Deanery"]
[null,null,null,null,"Claremont","Holyport","Surgery",null,null,null,null,null,null,"Claremont Holyport Surgery       ","Claremont Holyport Surgery","Thames Valley Deanery"]
[null,null,null,null,"Clarence","Medical","Centre",null,null,null,null,null,null,"Clarence Medical Centre       ","Clarence Medical Centre","Thames Valley Deanery"]
[null,null,null,null,"Cookham","Medical","Centre",null,null,null,null,null,null,"Cookham Medical Centre       ","Cookham Medical Centre","Thames Valley Deanery"]
[null,null,null,null,"Cowley","Road","Medical","Practice",null,null,null,null,null,"Cowley Road Medical Practice      ","Cowley Road Medical Practice","Thames Valley Deanery"]
[null,null,null,null,"Crosby","House","Surgery",null,null,null,null,null,null,"Crosby House Surgery       ","Crosby House Surgery","Thames Valley Deanery"]
[null,null,null,null,"Datchet","Health","Centre",null,null,null,null,null,null,"Datchet Health Centre       ","Datchet Health Centre","Thames Valley Deanery"]
[null,null,null,null,"Deddington","Health","Centre",null,null,null,null,null,null,"Deddington Health Centre       ","Deddington Health Centre","Thames Valley Deanery"]
[null,null,null,null,"Dedworth","Medical","Centre",null,null,null,null,null,null,"Dedworth Medical Centre       ","Dedworth Medical Centre","Thames Valley Deanery"]
[null,null,null,null,"Donnington","Medical","Partnership",null,null,null,null,null,null,"Donnington Medical Partnership       ","Donnington Medical Partnership","Thames Valley Deanery"]
[null,null,null,null,"Dr","JL","Henderson","&","Partners",null,null,null,null,"Dr JL Henderson & Partners     ","Dr JL Henderson & Partners","Thames Valley Deanery"]
[null,null,null,null,"Eynsham","Medical","Centre",null,null,null,null,null,null,"Eynsham Medical Centre       ","Eynsham Medical Centre","Thames Valley Deanery"]
[null,null,null,null,"Falkland","Surgery",null,null,null,null,null,null,null,"Falkland Surgery        ","Falkland Surgery","Thames Valley Deanery"]
[null,null,null,null,"Farnham","Road","Practice",null,null,null,null,null,null,"Farnham Road Practice       ","Farnham Road Practice","Thames Valley Deanery"]
[null,null,null,null,"Finchampstead","Practice",null,null,null,null,null,null,null,"Finchampstead Practice        ","Finchampstead Practice","Thames Valley Deanery"]
[null,null,null,null,"Forest","Health","Group",null,null,null,null,null,null,"Forest Health Group       ","Forest Health Group","Thames Valley Deanery"]
[null,null,null,null,"Wexham","Park","Hospital",null,null,null,null,null,null,"Wexham Park Hospital       ","Wexham Park Hospital","Thames Valley Deanery"]
[null,null,null,null,"Thames","Hospice",null,null,null,null,null,null,null,"Thames Hospice        ","Thames Hospice","Thames Valley Deanery"]
[null,null,null,null,"Goring","&","Woodcote","Medical","Practice",null,null,null,null,"Goring & Woodcote Medical Practice     ","Goring & Woodcote Medical Practice","Thames Valley Deanery"]
[null,null,null,null,"Gosford","Hill","Medical","Centre",null,null,null,null,null,"Gosford Hill Medical Centre      ","Gosford Hill Medical Centre","Thames Valley Deanery"]
[null,null,null,null,"Haddenham","Medical","Centre",null,null,null,null,null,null,"Haddenham Medical Centre       ","Haddenham Medical Centre","Thames Valley Deanery"]
[null,null,null,null,"Hedena","Health",null,null,null,null,null,null,null,"Hedena Health        ","Hedena Health","Thames Valley Deanery"]
[null,null,null,null,"Herschel","Medical","Centre",null,null,null,null,null,null,"Herschel Medical Centre       ","Herschel Medical Centre","Thames Valley Deanery"]
[null,null,null,null,"Hightown","Surgery",null,null,null,null,null,null,null,"Hightown Surgery        ","Hightown Surgery","Thames Valley Deanery"]
[null,null,null,null,"Hilltops","Medical","Centre",null,null,null,null,null,null,"Hilltops Medical Centre       ","Hilltops Medical Centre","Thames Valley Deanery"]
[null,null,null,null,"Hollow","Way","Medical","Centre",null,null,null,null,null,"Hollow Way Medical Centre      ","Hollow Way Medical Centre","Thames Valley Deanery"]
[null,null,null,null,"Hughenden","Valley","Surgery",null,null,null,null,null,null,"Hughenden Valley Surgery       ","Hughenden Valley Surgery","Thames Valley Deanery"]
[null,null,null,null,"Islip","Surgery",null,null,null,null,null,null,null,"Islip Surgery        ","Islip Surgery","Thames Valley Deanery"]
[null,null,null,null,"Iver","Medical","Centre",null,null,null,null,null,null,"Iver Medical Centre       ","Iver Medical Centre","Thames Valley Deanery"]
[null,null,null,null,"Kings","Corner","Surgery",null,null,null,null,null,null,"Kings Corner Surgery       ","Kings Corner Surgery","Thames Valley Deanery"]
[null,null,null,null,"Kintbury","&","Woolton","Hill","Surgery",null,null,null,null,"Kintbury & Woolton Hill Surgery     ","Kintbury & Woolton Hill Surgery","Thames Valley Deanery"]
[null,null,null,null,"Langley","Health","Centre",null,null,null,null,null,null,"Langley Health Centre       ","Langley Health Centre","Thames Valley Deanery"]
[null,null,null,null,"Lee","House","Surgery",null,null,null,null,null,null,{"$f":"E1284&\" \"&F1284&\" \"&G1284&\" \"&H1284&\" \"&I1284&\" \"&J1283&\" \"&K1284&\" \"&L1284&\" \"&M1284&\" \"","v":"Lee House Surgery       "},{"$f":"TRIM(N1284)","v":"Lee House Surgery"},"Thames Valley Deanery"]
[null,null,null,null,"Leighton","Road","Surgery",null,null,null,null,null,null,"Leighton Road Surgery       ","Leighton Road Surgery","Thames Valley Deanery"]
[null,null,null,null,"Little","Chalfont","Surgery",null,null,null,null,null,null,"Little Chalfont Surgery       ","Little Chalfont Surgery","Thames Valley Deanery"]
[null,null,null,null,"Magnolia","House","Surgery",null,null,null,null,null,null,"Magnolia House Surgery       ","Magnolia House Surgery","Thames Valley Deanery"]
[null,null,null,null,"Manor","Surgery",null,null,null,null,null,null,null,"Manor Surgery        ","Manor Surgery","Thames Valley Deanery"]
[null,null,null,null,"Marcham","Road","Family","Health","Centre",null,null,null,null,"Marcham Road Family Health Centre     ","Marcham Road Family Health Centre","Thames Valley Deanery"]
[null,null,null,null,"Meadowcroft","Surgery",null,null,null,null,null,null,null,"Meadowcroft Surgery        ","Meadowcroft Surgery","Thames Valley Deanery"]
[null,null,null,null,"Mill","Stream","Surgery",null,null,null,null,null,null,"Mill Stream Surgery       ","Mill Stream Surgery","Thames Valley Deanery"]
[null,null,null,null,"Millbarn","Medical","Centre",null,null,null,null,null,null,"Millbarn Medical Centre       ","Millbarn Medical Centre","Thames Valley Deanery"]
[null,null,null,null,"Milton","Keynes","Hospital",null,null,null,null,null,null,"Milton Keynes Hospital       ","Milton Keynes Hospital","Thames Valley Deanery"]
[null,null,null,null,"Willen","Hospice",null,null,null,null,null,null,null,"Willen Hospice        ","Willen Hospice","Thames Valley Deanery"]
[null,null,null,null,"Milton","Keynes","Hospital",null,null,null,null,null,null,"Milton Keynes Hospital       ","Milton Keynes Hospital","Thames Valley Deanery"]
[null,null,null,null,"Milton","Keynes","Village","Surgery",null,null,null,null,null,"Milton Keynes Village Surgery      ","Milton Keynes Village Surgery","Thames Valley Deanery"]
[null,null,null,null,"Montgomery","House","Surgery",null,null,null,null,null,null,"Montgomery House Surgery       ","Montgomery House Surgery","Thames Valley Deanery"]
[null,null,null,null,"Mortimer","Surgery",null,null,null,null,null,null,null,"Mortimer Surgery        ","Mortimer Surgery","Thames Valley Deanery"]
[null,null,null,null,"Newport","Pagnell","Medical","Centre",null,null,null,null,null,"Newport Pagnell Medical Centre      ","Newport Pagnell Medical Centre","Thames Valley Deanery"]
[null,null,null,null,"Norden","House","Surgey",null,null,null,null,null,null,"Norden House Surgey       ","Norden House Surgey","Thames Valley Deanery"]
[null,null,null,null,"Nuffield","Health","Centre",null,null,null,null,null,null,"Nuffield Health Centre       ","Nuffield Health Centre","Thames Valley Deanery"]
[null,null,null,null,"Oakfield","Surgery",null,null,null,null,null,null,null,"Oakfield Surgery        ","Oakfield Surgery","Thames Valley Deanery"]
[null,null,null,null,"Observatory","Medical","Practice",null,null,null,null,null,null,"Observatory Medical Practice       ","Observatory Medical Practice","Thames Valley Deanery"]
[null,null,null,null,"Thames","Valley",null,null,null,null,null,null,null,"Thames Valley        ","Thames Valley","Thames Valley Deanery"]
[null,null,null,null,"Abingdon","Community","Hospital",null,null,null,null,null,null,"Abingdon Community Hospital       ","Abingdon Community Hospital","Thames Valley Deanery"]
[null,null,null,null,"Witney","Community","Hospital",null,null,null,null,null,null,"Witney Community Hospital       ","Witney Community Hospital","Thames Valley Deanery"]
[null,null,null,null,"Horton","General","Hospital",null,null,null,null,null,null,"Horton General Hospital       ","Horton General Hospital","Thames Valley Deanery"]
[null,null,null,null,"John","Radcliffe","Hospital",null,null,null,null,null,null,"John Radcliffe Hospital       ","John Radcliffe Hospital","Thames Valley Deanery"]
[null,null,null,null,"Churchill","Hospital",null,null,null,null,null,null,null,"Churchill Hospital        ","Churchill Hospital","Thames Valley Deanery"]
[null,null,null,null,"Nuffield","Orthopaedic","Centre",null,null,null,null,null,null,"Nuffield Orthopaedic Centre       ","Nuffield Orthopaedic Centre","Thames Valley Deanery"]
[null,null,null,null,"Katharine","House","Hospice",null,null,null,null,null,null,"Katharine House Hospice       ","Katharine House Hospice","Thames Valley Deanery"]
[null,null,null,null,"Sir","Michael","Sobell","House",null,"(TV)",null,null,null,"Sir Michael Sobell House      ","Sir Michael Sobell House","Thames Valley Deanery"]
[null,null,null,null,"Parkside","Medical","Centre",null,null,null,null,null,null,"Parkside Medical Centre   (TV)    ","Parkside Medical Centre (TV)","Thames Valley Deanery"]
[null,null,null,null,"Parkside","Practice",null,null,null,null,null,null,null,"Parkside Practice        ","Parkside Practice","Thames Valley Deanery"]
[null,null,null,null,"Poplar","Grove","Practice",null,null,null,null,null,null,"Poplar Grove Practice       ","Poplar Grove Practice","Thames Valley Deanery"]
[null,null,null,null,"Priory","Surgery",null,null,null,null,null,null,null,"Priory Surgery        ","Priory Surgery","Thames Valley Deanery"]
[null,null,null,null,"Riverside","Surgery",null,null,null,null,null,null,null,"Riverside Surgery        ","Riverside Surgery","Thames Valley Deanery"]
[null,null,null,null,"Rosemead","Surgery",null,null,null,null,null,null,null,"Rosemead Surgery        ","Rosemead Surgery","Thames Valley Deanery"]
[null,null,null,null,"Rothschild","House","Surgery",null,null,null,null,null,null,"Rothschild House Surgery       ","Rothschild House Surgery","Thames Valley Deanery"]
[null,null,null,null,"Royal","Berkshire","Hospital",null,null,null,null,null,null,"Royal Berkshire Hospital       ","Royal Berkshire Hospital","Thames Valley Deanery"]
[null,null,null,null,"Runnymede","Medical","Practice",null,null,null,null,null,null,"Runnymede Medical Practice       ","Runnymede Medical Practice","Thames Valley Deanery"]
[null,null,null,null,"Sheet","Street","Surgery",null,null,null,null,null,null,"Sheet Street Surgery       ","Sheet Street Surgery","Thames Valley Deanery"]
[null,null,null,null,"Shipston","Medical","Centre",null,null,null,null,null,null,"Shipston Medical Centre       ","Shipston Medical Centre","Thames Valley Deanery"]
[null,null,null,null,"Sonning","Common","Health","Centre",null,null,null,null,null,"Sonning Common Health Centre      ","Sonning Common Health Centre","Thames Valley Deanery"]
[null,null,null,null,"Southmead","Surgery",null,null,null,null,null,null,null,"Southmead Surgery        ","Southmead Surgery","Thames Valley Deanery"]
[null,null,null,null,"Springfield","Surgery",null,null,null,null,null,null,null,"Springfield Surgery        ","Springfield Surgery","Thames Valley Deanery"]
[null,null,null,null,"St.","Bartholemew's","Medical","Centre",null,null,null,null,null,"St. Bartholemew's Medical Centre      ","St. Bartholemew's Medical Centre","Thames Valley Deanery"]
[null,null,null,null,"Stony","Medical","Centre",null,null,null,null,null,null,"Stony Medical Centre       ","Stony Medical Centre","Thames Valley Deanery"]
[null,null,null,null,"Strawberry","Hill","Medical",null,null,null,null,null,null,"Strawberry Hill Medical       ","Strawberry Hill Medical","Thames Valley Deanery"]
[null,null,null,null,"Summertown","Health","Centre",null,null,null,null,null,null,"Summertown Health Centre       ","Summertown Health Centre","Thames Valley Deanery"]
[null,null,null,null,"Thatcham","Health","Centre",null,null,null,null,null,null,"Thatcham Health Centre       ","Thatcham Health Centre","Thames Valley Deanery"]
[null,null,null,null,"The","Abingdon","Surgery",null,null,null,null,null,null,"The Abingdon Surgery       ","The Abingdon Surgery","Thames Valley Deanery"]
[null,null,null,null,"The","Bell","Surgery",null,null,null,null,null,null,"The Bell Surgery       ","The Bell Surgery","Thames Valley Deanery"]
[null,null,null,null,"The","Cedars","Surgery",null,null,null,null,null,null,"The Cedars Surgery       ","The Cedars Surgery","Thames Valley Deanery"]
[null,null,null,null,"The","Cross","Keys","Practice",null,null,null,null,null,"The Cross Keys Practice      ","The Cross Keys Practice","Thames Valley Deanery"]
[null,null,null,null,"The","Doctors","House,","Marlow","Medical","Group","K82023",null,null,"The Doctors House, Marlow Medical  K82023   ","The Doctors House, Marlow Medical K82023","Thames Valley Deanery"]
[null,null,null,null,"The","Hall","Practice",null,null,null,null,null,null,"The Hall Practice   Group    ","The Hall Practice Group","Thames Valley Deanery"]
[null,null,null,null,"The","Hart","Surgery",null,null,null,null,null,null,"The Hart Surgery       ","The Hart Surgery","Thames Valley Deanery"]
[null,null,null,null,"The","Key","Medical","Practice",null,null,null,null,null,"The Key Medical Practice      ","The Key Medical Practice","Thames Valley Deanery"]
[null,null,null,null,"The","Leys","Health","Centre",null,null,null,null,null,"The Leys Health Centre      ","The Leys Health Centre","Thames Valley Deanery"]
[null,null,null,null,"The","Misbourne","Sugery",null,null,null,null,null,null,"The Misbourne Sugery       ","The Misbourne Sugery","Thames Valley Deanery"]
[null,null,null,null,"The","Orchard","Surgery",null,null,null,null,null,null,"The Orchard Surgery       ","The Orchard Surgery","Thames Valley Deanery"]
[null,null,null,null,"The","Parks","Medical","Practice",null,null,null,null,null,"The Parks Medical Practice      ","The Parks Medical Practice","Thames Valley Deanery"]
[null,null,null,null,"The","Red","House","Surgery",null,null,null,null,null,"The Red House Surgery      ","The Red House Surgery","Thames Valley Deanery"]
[null,null,null,null,"The","Rycote","Practice",null,null,null,null,null,null,"The Rycote Practice       ","The Rycote Practice","Thames Valley Deanery"]
[null,null,null,null,"The","Simpson","Centre",null,null,null,null,null,null,"The Simpson Centre       ","The Simpson Centre","Thames Valley Deanery"]
[null,null,null,null,"The","Stonedean","Practice",null,null,null,null,null,null,"The Stonedean Practice       ","The Stonedean Practice","Thames Valley Deanery"]
[null,null,null,null,"The","Swan","Practice",null,null,null,null,null,null,{"$f":"E1348&\" \"&F1348&\" \"&G1348&\" \"&H1348&\" \"&I1348&\" \"&J1347&\" \"&K1348&\" \"&L1348&\" \"&M1348&\" \"","v":"The Swan Practice       "},{"$f":"TRIM(N1348)","v":"The Swan Practice"},"Thames Valley Deanery"]
[null,null,null,null,"The","Waterfield","Practice",null,null,null,null,null,null,"The Waterfield Practice       ","The Waterfield Practice","Thames Valley Deanery"]
[null,null,null,null,"Theale","Medical","Centre",null,null,null,null,null,null,"Theale Medical Centre       ","Theale Medical Centre","Thames Valley Deanery"]
[null,null,null,null,"Threeways","Surgery",null,null,null,null,null,null,null,"Threeways Surgery        ","Threeways Surgery","Thames Valley Deanery"]
[null,null,null,null,"Tilehurst","Surgery","Partnership",null,null,null,null,null,null,"Tilehurst Surgery Partnership       ","Tilehurst Surgery Partnership","Thames Valley Deanery"]
[null,null,null,null,"Tower","House","Surgery",null,null,null,null,null,null,"Tower House Surgery       ","Tower House Surgery","Thames Valley Deanery"]
[null,null,null,null,"Unity","Health",null,null,null,null,null,null,null,"Unity Health        ","Unity Health","Thames Valley Deanery"]
[null,null,null,null,"University","Health","Group",null,null,null,null,null,null,"University Health Group       ","University Health Group","Thames Valley Deanery"]
[null,null,null,null,"Vale","of","Red","Horse",null,null,null,null,null,"Vale of Red Horse      ","Vale of Red Horse","Thames Valley Deanery"]
[null,null,null,null,"Wallingford","Medical","Practice",null,null,null,null,null,null,"Wallingford Medical Practice       ","Wallingford Medical Practice","Thames Valley Deanery"]
[null,null,null,null,"Walnut","Tree","Health","Centre",null,null,null,null,null,"Walnut Tree Health Centre      ","Walnut Tree Health Centre","Thames Valley Deanery"]
[null,null,null,null,"Wargrave","Surgery",null,null,null,null,null,null,null,"Wargrave Surgery        ","Wargrave Surgery","Thames Valley Deanery"]
[null,null,null,null,"Wellington","House","Surgery",null,null,null,null,null,null,"Wellington House Surgery       ","Wellington House Surgery","Thames Valley Deanery"]
[null,null,null,null,"Western","Elms","&","Circuit","Lane","Surgeries","K81062",null,null,"Western Elms & Circuit Lane  K81062   ","Western Elms & Circuit Lane K81062","Thames Valley Deanery"]
[null,null,null,null,"Westongrove","Partenership",null,null,null,null,null,null,null,"Westongrove Partenership    Surgeries    ","Westongrove Partenership Surgeries","Thames Valley Deanery"]
[null,null,null,null,"Whaddon","Medical","centre",null,null,null,null,null,null,"Whaddon Medical centre       ","Whaddon Medical centre","Thames Valley Deanery"]
[null,null,null,null,"White","Horse","Medical","Practice",null,null,null,null,null,"White Horse Medical Practice      ","White Horse Medical Practice","Thames Valley Deanery"]
[null,null,null,null,"Windrush","Medical","Practice",null,null,null,null,null,null,"Windrush Medical Practice       ","Windrush Medical Practice","Thames Valley Deanery"]
[null,null,null,null,"Wokingham","Medical","Centre",null,null,null,null,null,null,"Wokingham Medical Centre       ","Wokingham Medical Centre","Thames Valley Deanery"]
[null,null,null,null,"Woodley","Practice",null,null,null,null,null,null,null,"Woodley Practice        ","Woodley Practice","Thames Valley Deanery"]
[null,null,null,null,"Wychwood","Surgery",null,null,null,null,null,null,null,"Wychwood Surgery        ","Wychwood Surgery","Thames Valley Deanery"]
[null,null,null,null,"Public Health","England",null,null,null,null,null,null,null,"Public Health England        ","Public Health England","West Midlands Deanery"]
[null,null,null,null,"Public Health","Health","Protection",null,null,null,null,null,null,"Public Health Health Protection       ","Public Health Health Protection","West Midlands Deanery"]
[null,null,null,null,"Public Health","Local","Authourity",null,null,null,null,null,null,"Public Health Local Authourity       ","Public Health Local Authourity","West Midlands Deanery"]
[null,null,null,null,"Public Health","University",null,null,null,null,null,null,null,"Public Health University        ","Public Health University","West Midlands Deanery"]
[null,null,null,null,"Abbey","Medical","Centre",null,null,null,null,null,null,"Abbey Medical Centre       ","Abbey Medical Centre","West Midlands Deanery"]
[null,null,null,null,"Abbottswood","Medical","Centre",null,null,null,null,null,null,"Abbottswood Medical Centre       ","Abbottswood Medical Centre","West Midlands Deanery"]
[null,null,null,null,"Albany","House","Surgery",null,null,null,null,null,null,"Albany House Surgery       ","Albany House Surgery","West Midlands Deanery"]
[null,null,null,null,"Aldergate","Medical","Practice",null,null,null,null,null,null,"Aldergate Medical Practice       ","Aldergate Medical Practice","West Midlands Deanery"]
[null,null,null,null,"Allesley","Park","Medical","Centre",null,null,null,null,null,"Allesley Park Medical Centre      ","Allesley Park Medical Centre","West Midlands Deanery"]
[null,null,null,null,"Allesley","Village","Surgery",null,null,null,null,null,null,"Allesley Village Surgery       ","Allesley Village Surgery","West Midlands Deanery"]
[null,null,null,null,"Alrewas","The","Surgery",null,null,null,null,null,null,"Alrewas The Surgery       ","Alrewas The Surgery","West Midlands Deanery"]
[null,null,null,null,"Alton","Street","Surgery",null,null,null,null,null,null,"Alton Street Surgery       ","Alton Street Surgery","West Midlands Deanery"]
[null,null,null,null,"Apollo","Surgery",null,null,null,null,null,null,null,"Apollo Surgery        ","Apollo Surgery","West Midlands Deanery"]
[null,null,null,null,"Arden","Medical","Centre",null,null,null,null,null,null,"Arden Medical Centre       ","Arden Medical Centre","West Midlands Deanery"]
[null,null,null,null,"Arran","Medical","Centre",null,null,null,null,null,null,"Arran Medical Centre       ","Arran Medical Centre","West Midlands Deanery"]
[null,null,null,null,"Ashfield","Surgery",null,null,null,null,null,null,null,"Ashfield Surgery        ","Ashfield Surgery","West Midlands Deanery"]
[null,null,null,null,"Ashley","Surgery",null,null,null,null,null,null,null,"Ashley Surgery        ","Ashley Surgery","West Midlands Deanery"]
[null,null,null,null,"Audley","Health","Centre",null,null,null,null,null,null,"Audley Health Centre       ","Audley Health Centre","West Midlands Deanery"]
[null,null,null,null,"Avonside","Health","Centre",null,null,null,null,null,null,"Avonside Health Centre       ","Avonside Health Centre","West Midlands Deanery"]
[null,null,null,null,"AW","Surgeries",null,null,null,null,null,null,null,"AW Surgeries        ","AW Surgeries","West Midlands Deanery"]
[null,null,null,null,"Aylmer","Lodge","Surgery",null,null,null,null,null,null,"Aylmer Lodge Surgery       ","Aylmer Lodge Surgery","West Midlands Deanery"]
[null,null,null,null,"Baddeley","Green","Surgery",null,null,null,null,null,null,"Baddeley Green Surgery       ","Baddeley Green Surgery","West Midlands Deanery"]
[null,null,null,null,"Balsall","Common","and","Meridan","Group","Practice","M89016",null,null,"Balsall Common and Meridan Group  M89016   ","Balsall Common and Meridan Group M89016","West Midlands Deanery"]
[null,null,null,null,"Bartley","Green","Medical","Practice",null,null,null,null,null,"Bartley Green Medical Practice  Practice    ","Bartley Green Medical Practice Practice","West Midlands Deanery"]
[null,null,null,null,"Barton","Family","Practice",null,null,null,null,null,null,"Barton Family Practice       ","Barton Family Practice","West Midlands Deanery"]
[null,null,null,null,"Bedworth","Health","Centre",null,null,null,null,null,null,"Bedworth Health Centre       ","Bedworth Health Centre","West Midlands Deanery"]
[null,null,null,null,"Beeches","Medical","Practice",null,null,null,null,null,null,"Beeches Medical Practice       ","Beeches Medical Practice","West Midlands Deanery"]
[null,null,null,null,"Belgrave","Medical","Centre",null,null,null,null,null,null,"Belgrave Medical Centre       ","Belgrave Medical Centre","West Midlands Deanery"]
[null,null,null,null,"Bellevue","Medical","Centre",null,null,null,null,null,null,"Bellevue Medical Centre       ","Bellevue Medical Centre","West Midlands Deanery"]
[null,null,null,null,"Bennfield","Surgery",null,null,null,null,null,null,null,"Bennfield Surgery        ","Bennfield Surgery","West Midlands Deanery"]
[null,null,null,null,"BG","Health",null,null,null,null,null,null,null,"BG Health        ","BG Health","West Midlands Deanery"]
[null,null,null,null,"Biddulph","Doctors",null,null,null,null,null,null,null,"Biddulph Doctors        ","Biddulph Doctors","West Midlands Deanery"]
[null,null,null,null,"Biddulph","Valley","Surgery",null,null,null,null,null,null,"Biddulph Valley Surgery       ","Biddulph Valley Surgery","West Midlands Deanery"]
[null,null,null,null,"Bidford","Health","Centre",null,null,null,null,null,null,"Bidford Health Centre       ","Bidford Health Centre","West Midlands Deanery"]
[null,null,null,null,"Bilbrook","Medical","Centre",null,null,null,null,null,null,"Bilbrook Medical Centre       ","Bilbrook Medical Centre","West Midlands Deanery"]
[null,null,null,null,"Bilston","Health","Centre",null,null,null,null,null,null,"Bilston Health Centre       ","Bilston Health Centre","West Midlands Deanery"]
[null,null,null,null,"Bilston","Urban","Village","Medical","Practice",null,null,null,null,"Bilston Urban Village Medical Practice     ","Bilston Urban Village Medical Practice","West Midlands Deanery"]
[null,null,null,null,"Birches","Head","Medical","Centre",null,null,null,null,null,"Birches Head Medical Centre      ","Birches Head Medical Centre","West Midlands Deanery"]
[null,null,null,null,"Birchills","Health","Centre",null,null,null,null,null,null,"Birchills Health Centre       ","Birchills Health Centre","West Midlands Deanery"]
[null,null,null,null,"Birmingham","&","Solihull","Mental","Health","NHS","Found.","Trust",null,"Birmingham & Solihull Mental Health  Found. Trust  ","Birmingham & Solihull Mental Health Found. Trust","West Midlands Deanery"]
[null,null,null,null,"Birmingham","Children's","Hospital","NHS","Foundation","Trust",null,null,null,"Birmingham Children's Hospital NHS Foundation NHS    ","Birmingham Children's Hospital NHS Foundation NHS","West Midlands Deanery"]
[null,null,null,null,"Moseley","Hall","Hospital",null,null,null,null,null,null,"Moseley Hall Hospital   Trust    ","Moseley Hall Hospital Trust","West Midlands Deanery"]
[null,null,null,null,"Burton","Hospitals","NHS","Foundation","Trust",null,null,null,null,"Burton Hospitals NHS Foundation Trust     ","Burton Hospitals NHS Foundation Trust","West Midlands Deanery"]
[null,null,null,null,"Birmingham","Community","Healthcare","NHS","Trust",null,null,null,null,{"$f":"E1412&\" \"&F1412&\" \"&G1412&\" \"&H1412&\" \"&I1412&\" \"&J1411&\" \"&K1412&\" \"&L1412&\" \"&M1412&\" \"","v":"Birmingham Community Healthcare NHS Trust     "},{"$f":"TRIM(N1412)","v":"Birmingham Community Healthcare NHS Trust"},"West Midlands Deanery"]
[null,null,null,null,"Birmingham","Women's","NHS","Foundation","Trust",null,null,null,null,"Birmingham Women's NHS Foundation Trust     ","Birmingham Women's NHS Foundation Trust","West Midlands Deanery"]
[null,null,null,null,"Hallam","Street","Hospital",null,null,null,null,null,null,"Hallam Street Hospital       ","Hallam Street Hospital","West Midlands Deanery"]
[null,null,null,null,"Black","Country","Partnership","NHS","Foundation","Trust",null,null,null,"Black Country Partnership NHS Foundation     ","Black Country Partnership NHS Foundation","West Midlands Deanery"]
[null,null,null,null,"Bloxwich","Medical","Practice",null,null,null,null,null,null,"Bloxwich Medical Practice   Trust    ","Bloxwich Medical Practice Trust","West Midlands Deanery"]
[null,null,null,null,"Bosworth","Medical","Centre",null,null,null,null,null,null,"Bosworth Medical Centre       ","Bosworth Medical Centre","West Midlands Deanery"]
[null,null,null,null,"Bridge","House","Medical","Centre",null,null,null,null,null,"Bridge House Medical Centre      ","Bridge House Medical Centre","West Midlands Deanery"]
[null,null,null,null,"Bridge","Surgery",null,null,null,null,null,null,null,"Bridge Surgery        ","Bridge Surgery","West Midlands Deanery"]
[null,null,null,null,"Bridgewater","Family","Medical","Practice",null,null,null,null,null,"Bridgewater Family Medical Practice      ","Bridgewater Family Medical Practice","West Midlands Deanery"]
[null,null,null,null,"Bridgnorth","Medical","Practice",null,null,null,null,null,null,"Bridgnorth Medical Practice       ","Bridgnorth Medical Practice","West Midlands Deanery"]
[null,null,null,null,"Brookside","Surgery",null,null,null,null,null,null,null,"Brookside Surgery        ","Brookside Surgery","West Midlands Deanery"]
[null,null,null,null,"Broomfield","Park","Medical","Centre",null,null,null,null,null,"Broomfield Park Medical Centre      ","Broomfield Park Medical Centre","West Midlands Deanery"]
[null,null,null,null,"Buckland","End","Lane","Surgery",null,null,null,null,null,"Buckland End Lane Surgery      ","Buckland End Lane Surgery","West Midlands Deanery"]
[null,null,null,null,"Cantilupe","Surgery",null,null,null,null,null,null,null,"Cantilupe Surgery        ","Cantilupe Surgery","West Midlands Deanery"]
[null,null,null,null,"Cape","Hill","Medical","Centre",null,null,null,null,null,"Cape Hill Medical Centre      ","Cape Hill Medical Centre","West Midlands Deanery"]
[null,null,null,null,"Carters","Green","Medical","Centre",null,null,null,null,null,"Carters Green Medical Centre      ","Carters Green Medical Centre","West Midlands Deanery"]
[null,null,null,null,"Castle","Medical","Centre",null,null,null,null,null,null,"Castle Medical Centre       ","Castle Medical Centre","West Midlands Deanery"]
[null,null,null,null,"Castlecroft","Medical","Practice",null,null,null,null,null,null,"Castlecroft Medical Practice       ","Castlecroft Medical Practice","West Midlands Deanery"]
[null,null,null,null,"Central","Surgery",null,null,null,null,null,null,null,"Central Surgery        ","Central Surgery","West Midlands Deanery"]
[null,null,null,null,"Charles","Road","Surgery",null,null,null,null,null,null,"Charles Road Surgery       ","Charles Road Surgery","West Midlands Deanery"]
[null,null,null,null,"Church","Stretton","Medical","Centre",null,null,null,null,null,"Church Stretton Medical Centre      ","Church Stretton Medical Centre","West Midlands Deanery"]
[null,null,null,null,"Churchfields","Surgery",null,null,null,null,null,null,null,"Churchfields Surgery        ","Churchfields Surgery","West Midlands Deanery"]
[null,null,null,null,"Claremont","Bank","Surgery",null,null,null,null,null,null,"Claremont Bank Surgery       ","Claremont Bank Surgery","West Midlands Deanery"]
[null,null,null,null,"Clarendon","Lodge","Medical","Centre",null,null,null,null,null,"Clarendon Lodge Medical Centre      ","Clarendon Lodge Medical Centre","West Midlands Deanery"]
[null,null,null,null,"Cleobury","Mortimer","Surgery",null,null,null,null,null,null,"Cleobury Mortimer Surgery       ","Cleobury Mortimer Surgery","West Midlands Deanery"]
[null,null,null,null,"Clifton","Road","Surgery",null,null,null,null,null,null,"Clifton Road Surgery       ","Clifton Road Surgery","West Midlands Deanery"]
[null,null,null,null,"Coalway","Road","Medical","Practice",null,null,null,null,null,"Coalway Road Medical Practice      ","Coalway Road Medical Practice","West Midlands Deanery"]
[null,null,null,null,"Cobridge","Surgery",null,null,null,null,null,null,null,"Cobridge Surgery        ","Cobridge Surgery","West Midlands Deanery"]
[null,null,null,null,"Cofton","Medical","Centre",null,null,null,null,null,null,"Cofton Medical Centre       ","Cofton Medical Centre","West Midlands Deanery"]
[null,null,null,null,"Copsewood","Medical","Centre",null,null,null,null,null,null,"Copsewood Medical Centre       ","Copsewood Medical Centre","West Midlands Deanery"]
[null,null,null,null,"Corbett","Medical","Practice",null,null,null,null,null,null,"Corbett Medical Practice       ","Corbett Medical Practice","West Midlands Deanery"]
[null,null,null,null,"Cornhill","Surgery",null,null,null,null,null,null,null,"Cornhill Surgery        ","Cornhill Surgery","West Midlands Deanery"]
[null,null,null,null,"Coventry","And","Warwickshire","Partnership","NHS","Trust",null,null,null,"Coventry And Warwickshire Partnership NHS     ","Coventry And Warwickshire Partnership NHS","West Midlands Deanery"]
[null,null,null,null,"Coventry","Road","Medical","Centre",null,null,null,null,null,"Coventry Road Medical Centre  Trust    ","Coventry Road Medical Centre Trust","West Midlands Deanery"]
[null,null,null,null,"Crankhall","Lane","Medical","Centre",null,null,null,null,null,"Crankhall Lane Medical Centre      ","Crankhall Lane Medical Centre","West Midlands Deanery"]
[null,null,null,null,"Croft","Medical","Centre",null,null,null,null,null,null,"Croft Medical Centre       ","Croft Medical Centre","West Midlands Deanery"]
[null,null,null,null,"Cubbington","Road","Surgery",null,null,null,null,null,null,"Cubbington Road Surgery       ","Cubbington Road Surgery","West Midlands Deanery"]
[null,null,null,null,"Dale Medical","Practice",null,null,null,null,null,null,null,"Dale Medical Practice        ","Dale Medical Practice","West Midlands Deanery"]
[null,null,null,null,"Darlaston","Family","Practice",null,null,null,null,null,null,"Darlaston Family Practice       ","Darlaston Family Practice","West Midlands Deanery"]
[null,null,null,null,"Darwin","Medical","Centre",null,null,null,null,null,null,"Darwin Medical Centre       ","Darwin Medical Centre","West Midlands Deanery"]
[null,null,null,null,"Davenal","House","Surgery",null,null,null,null,null,null,"Davenal House Surgery       ","Davenal House Surgery","West Midlands Deanery"]
[null,null,null,null,"Burton","Hospital",null,null,null,null,null,null,null,"Burton Hospital        ","Burton Hospital","West Midlands Deanery"]
[null,null,null,null,"Burton","Hospitals","NHS","Foundation","Trust",null,null,null,null,"Burton Hospitals NHS Foundation Trust     ","Burton Hospitals NHS Foundation Trust","West Midlands Deanery"]
[null,null,null,null,"Donnington","Medical","Practice",null,null,null,null,null,null,"Donnington Medical Practice       ","Donnington Medical Practice","West Midlands Deanery"]
[null,null,null,null,"Dordon","&","Polesworth","Group","Practice",null,null,null,null,"Dordon & Polesworth Group Practice     ","Dordon & Polesworth Group Practice","West Midlands Deanery"]
[null,null,null,null,"Dorridge","Surgery",null,null,null,null,null,null,null,"Dorridge Surgery        ","Dorridge Surgery","West Midlands Deanery"]
[null,null,null,null,"Dove","River","Practice",null,null,null,null,null,null,"Dove River Practice       ","Dove River Practice","West Midlands Deanery"]
[null,null,null,null,"Dr","AS","Coutts","&","Partners",null,null,null,null,"Dr AS Coutts & Partners     ","Dr AS Coutts & Partners","West Midlands Deanery"]
[null,null,null,null,"Dr","P","Cravens","Practice",null,null,null,null,null,"Dr P Cravens Practice      ","Dr P Cravens Practice","West Midlands Deanery"]
[null,null,null,null,"Dr","ST","Pierre-Libberton",null,null,null,null,null,null,"Dr ST Pierre-Libberton       ","Dr ST Pierre-Libberton","West Midlands Deanery"]
[null,null,null,null,"Dr","Walji","&","Colleagues",null,null,null,null,null,"Dr Walji & Colleagues      ","Dr Walji & Colleagues","West Midlands Deanery"]
[null,null,null,null,"Drayton","Road","Surgery",null,null,null,null,null,null,"Drayton Road Surgery       ","Drayton Road Surgery","West Midlands Deanery"]
[null,null,null,null,"Bushey","Fields","Hospital",null,null,null,null,null,null,"Bushey Fields Hospital       ","Bushey Fields Hospital","West Midlands Deanery"]
[null,null,null,null,"Dudley","&","Walsall","Mental","Health","Partnership","NHS","Trust",null,"Dudley & Walsall Mental Health  NHS Trust  ","Dudley & Walsall Mental Health NHS Trust","West Midlands Deanery"]
[null,null,null,null,"Duncan","Street","Primary","Care","Partnership",null,null,null,null,"Duncan Street Primary Care Partnership Partnership    ","Duncan Street Primary Care Partnership Partnership","West Midlands Deanery"]
[null,null,null,null,"Dunchurch","Surgery",null,null,null,null,null,null,null,"Dunchurch Surgery        ","Dunchurch Surgery","West Midlands Deanery"]
[null,null,null,null,"East","Park","Medical","Practice",null,null,null,null,null,"East Park Medical Practice      ","East Park Medical Practice","West Midlands Deanery"]
[null,null,null,null,"Eaton","Wood","Medical","Centre",null,null,null,null,null,"Eaton Wood Medical Centre      ","Eaton Wood Medical Centre","West Midlands Deanery"]
[null,null,null,null,"Eden","Court","Medical","Practice",null,null,null,null,null,"Eden Court Medical Practice      ","Eden Court Medical Practice","West Midlands Deanery"]
[null,null,null,null,"Ejaz","Medical","Centre",null,null,null,null,null,null,"Ejaz Medical Centre       ","Ejaz Medical Centre","West Midlands Deanery"]
[null,null,null,null,"Elbury","Moor","Medical","Centre",null,null,null,null,null,"Elbury Moor Medical Centre      ","Elbury Moor Medical Centre","West Midlands Deanery"]
[null,null,null,null,"Elgar","House",null,null,null,null,null,null,null,"Elgar House        ","Elgar House","West Midlands Deanery"]
[null,null,null,null,"Engleton","House","Surgery",null,null,null,null,null,null,"Engleton House Surgery       ","Engleton House Surgery","West Midlands Deanery"]
[null,null,null,null,"Modality","Enki","Medical","Practice",null,null,null,null,null,"Modality Enki Medical Practice      ","Modality Enki Medical Practice","West Midlands Deanery"]
[null,null,null,null,"Erdington","Group","Health","&","Wellbeing",null,null,null,null,{"$f":"E1476&\" \"&F1476&\" \"&G1476&\" \"&H1476&\" \"&I1476&\" \"&J1475&\" \"&K1476&\" \"&L1476&\" \"&M1476&\" \"","v":"Erdington Group Health & Wellbeing     "},{"$f":"TRIM(N1476)","v":"Erdington Group Health & Wellbeing"},"West Midlands Deanery"]
[null,null,null,null,"Erdington","Medical","Centre",null,null,null,null,null,null,"Erdington Medical Centre       ","Erdington Medical Centre","West Midlands Deanery"]
[null,null,null,null,"Eve","Hill","Medical","Practice",null,null,null,null,null,"Eve Hill Medical Practice      ","Eve Hill Medical Practice","West Midlands Deanery"]
[null,null,null,null,"Featherstone","Family","Health","Centre",null,null,null,null,null,"Featherstone Family Health Centre      ","Featherstone Family Health Centre","West Midlands Deanery"]
[null,null,null,null,"Feldon","Lane","Surgery",null,null,null,null,null,null,"Feldon Lane Surgery       ","Feldon Lane Surgery","West Midlands Deanery"]
[null,null,null,null,"Fernley","Medical","Centre",null,null,null,null,null,null,"Fernley Medical Centre       ","Fernley Medical Centre","West Midlands Deanery"]
[null,null,null,null,"Field","Road","Surgery",null,null,null,null,null,null,"Field Road Surgery       ","Field Road Surgery","West Midlands Deanery"]
[null,null,null,null,"Five","Towns","GP","Surgery",null,null,null,null,null,"Five Towns GP Surgery      ","Five Towns GP Surgery","West Midlands Deanery"]
[null,null,null,null,"Forrest","Medical","Centre",null,null,null,null,null,null,"Forrest Medical Centre       ","Forrest Medical Centre","West Midlands Deanery"]
[null,null,null,null,"Forum","Health","Centre",null,null,null,null,null,null,"Forum Health Centre       ","Forum Health Centre","West Midlands Deanery"]
[null,null,null,null,"Fownhope","Medical","Centre",null,null,null,null,null,null,"Fownhope Medical Centre       ","Fownhope Medical Centre","West Midlands Deanery"]
[null,null,null,null,"Furlong","Medical","Centre",null,null,null,null,null,null,"Furlong Medical Centre       ","Furlong Medical Centre","West Midlands Deanery"]
[null,null,null,null,"George","Eliot","Hospital","NHS","Trust",null,null,null,null,"George Eliot Hospital NHS Trust     ","George Eliot Hospital NHS Trust","West Midlands Deanery"]
[null,null,null,null,"Glebedale","Medical","Practice",null,null,null,null,null,null,"Glebedale Medical Practice       ","Glebedale Medical Practice","West Midlands Deanery"]
[null,null,null,null,"Gnosall","Surgery",null,null,null,null,null,null,null,"Gnosall Surgery        ","Gnosall Surgery","West Midlands Deanery"]
[null,null,null,null,"Goldenhill","Medical","Centre",null,null,null,null,null,null,"Goldenhill Medical Centre       ","Goldenhill Medical Centre","West Midlands Deanery"]
[null,null,null,null,"Gordon","Street","Surgery",null,null,null,null,null,null,"Gordon Street Surgery       ","Gordon Street Surgery","West Midlands Deanery"]
[null,null,null,null,"GPS","Healthcare",null,null,null,null,null,null,null,"GPS Healthcare        ","GPS Healthcare","West Midlands Deanery"]
[null,null,null,null,"Granton","Medical","Centre",null,null,null,null,null,null,"Granton Medical Centre       ","Granton Medical Centre","West Midlands Deanery"]
[null,null,null,null,"Great","Witley","Surgery",null,null,null,null,null,null,"Great Witley Surgery       ","Great Witley Surgery","West Midlands Deanery"]
[null,null,null,null,"Greenridge","Surgery",null,null,null,null,null,null,null,"Greenridge Surgery        ","Greenridge Surgery","West Midlands Deanery"]
[null,null,null,null,"Grey","Gable","Surgery",null,null,null,null,null,null,"Grey Gable Surgery       ","Grey Gable Surgery","West Midlands Deanery"]
[null,null,null,null,"Grove","Surgery",null,null,null,null,null,null,null,"Grove Surgery        ","Grove Surgery","West Midlands Deanery"]
[null,null,null,null,"Halcyon","Medical",null,null,null,null,null,null,null,"Halcyon Medical        ","Halcyon Medical","West Midlands Deanery"]
[null,null,null,null,"Halesowen","Medical","Practice","St","Marys",null,null,null,null,"Halesowen Medical Practice St Marys     ","Halesowen Medical Practice St Marys","West Midlands Deanery"]
[null,null,null,null,"Hall","Green","Health",null,null,null,null,null,null,"Hall Green Health       ","Hall Green Health","West Midlands Deanery"]
[null,null,null,null,"Hampton","Surgery",null,null,null,null,null,null,null,"Hampton Surgery        ","Hampton Surgery","West Midlands Deanery"]
[null,null,null,null,"Handsworth","Wood","Medical","Centre",null,null,null,null,null,"Handsworth Wood Medical Centre      ","Handsworth Wood Medical Centre","West Midlands Deanery"]
[null,null,null,null,"Hanford","Health","Centre",null,null,null,null,null,null,"Hanford Health Centre       ","Hanford Health Centre","West Midlands Deanery"]
[null,null,null,null,"Harborne","Medical","Practice",null,null,null,null,null,null,"Harborne Medical Practice       ","Harborne Medical Practice","West Midlands Deanery"]
[null,null,null,null,"Haresfield","House","Surgery",null,null,null,null,null,null,"Haresfield House Surgery       ","Haresfield House Surgery","West Midlands Deanery"]
[null,null,null,null,"Harley","Street","Medical","Centre",null,null,null,null,null,"Harley Street Medical Centre      ","Harley Street Medical Centre","West Midlands Deanery"]
[null,null,null,null,"Hartshill","Medical","Centre",null,null,null,null,null,null,"Hartshill Medical Centre       ","Hartshill Medical Centre","West Midlands Deanery"]
[null,null,null,null,"Hastings","House","Surgery",null,null,null,null,null,null,"Hastings House Surgery       ","Hastings House Surgery","West Midlands Deanery"]
[null,null,null,null,"Southam","Surgery",null,null,null,null,null,null,null,"Southam Surgery        ","Southam Surgery","West Midlands Deanery"]
[null,null,null,null,"Hazelwood","Group","Practice",null,null,null,null,null,null,"Hazelwood Group Practice       ","Hazelwood Group Practice","West Midlands Deanery"]
[null,null,null,null,"Heartlands","Hospital",null,null,null,null,null,null,null,"Heartlands Hospital        ","Heartlands Hospital","West Midlands Deanery"]
[null,null,null,null,"Good","Hope","Hospital",null,null,null,null,null,null,"Good Hope Hospital       ","Good Hope Hospital","West Midlands Deanery"]
[null,null,null,null,"Heart","Of","England","NHS","Foundation","Trust",null,null,null,"Heart Of England NHS Foundation     ","Heart Of England NHS Foundation","West Midlands Deanery"]
[null,null,null,null,"Heath","Hayes","Medical","Centre",null,null,null,null,null,"Heath Hayes Medical Centre  Trust    ","Heath Hayes Medical Centre Trust","West Midlands Deanery"]
[null,null,null,null,"Heathcote","Street","Surgery",null,null,null,null,null,null,"Heathcote Street Surgery       ","Heathcote Street Surgery","West Midlands Deanery"]
[null,null,null,null,"Henley-in-Arden","Medical","Centre",null,null,null,null,null,null,"Henley-in-Arden Medical Centre       ","Henley-in-Arden Medical Centre","West Midlands Deanery"]
[null,null,null,null,"Henwick","Halt","Medical","Centre",null,null,null,null,null,"Henwick Halt Medical Centre      ","Henwick Halt Medical Centre","West Midlands Deanery"]
[null,null,null,null,"Higherland","Surgery",null,null,null,null,null,null,null,"Higherland Surgery        ","Higherland Surgery","West Midlands Deanery"]
[null,null,null,null,"Highgate","Medical","Centre",null,null,null,null,null,null,"Highgate Medical Centre       ","Highgate Medical Centre","West Midlands Deanery"]
[null,null,null,null,"Hockley","Medical","Practice",null,null,null,null,null,null,"Hockley Medical Practice       ","Hockley Medical Practice","West Midlands Deanery"]
[null,null,null,null,"Holbrook","Health","Team",null,null,null,null,null,null,"Holbrook Health Team       ","Holbrook Health Team","West Midlands Deanery"]
[null,null,null,null,"Holland","Park","Surgery",null,null,null,null,null,null,"Holland Park Surgery       ","Holland Park Surgery","West Midlands Deanery"]
[null,null,null,null,"Hollies","Practice",null,null,null,null,null,null,null,"Hollies Practice        ","Hollies Practice","West Midlands Deanery"]
[null,null,null,null,"Hollymoor","Medical","Centre",null,null,null,null,null,null,"Hollymoor Medical Centre       ","Hollymoor Medical Centre","West Midlands Deanery"]
[null,null,null,null,"Hollywood","Medical","Centre",null,null,null,null,null,null,"Hollywood Medical Centre       ","Hollywood Medical Centre","West Midlands Deanery"]
[null,null,null,null,"Holmcroft","Surgery",null,null,null,null,null,null,null,"Holmcroft Surgery        ","Holmcroft Surgery","West Midlands Deanery"]
[null,null,null,null,"Horsefair","Practice",null,null,null,null,null,null,null,"Horsefair Practice        ","Horsefair Practice","West Midlands Deanery"]
[null,null,null,null,"Horseley","Heath","Surgery",null,null,null,null,null,null,"Horseley Heath Surgery       ","Horseley Heath Surgery","West Midlands Deanery"]
[null,null,null,null,"Ironbridge","Medical","Practice",null,null,null,null,null,null,"Ironbridge Medical Practice       ","Ironbridge Medical Practice","West Midlands Deanery"]
[null,null,null,null,"Jacey","Health","Centre",null,null,null,null,null,null,"Jacey Health Centre       ","Jacey Health Centre","West Midlands Deanery"]
[null,null,null,null,"Jubilee","Healthcare",null,null,null,null,null,null,null,"Jubilee Healthcare        ","Jubilee Healthcare","West Midlands Deanery"]
[null,null,null,null,"Karis","Medical","Centre",null,null,null,null,null,null,"Karis Medical Centre       ","Karis Medical Centre","West Midlands Deanery"]
[null,null,null,null,"Keats","Grove","Surgery",null,null,null,null,null,null,"Keats Grove Surgery       ","Keats Grove Surgery","West Midlands Deanery"]
[null,null,null,null,"Keelinge","House","Surgery",null,null,null,null,null,null,"Keelinge House Surgery       ","Keelinge House Surgery","West Midlands Deanery"]
[null,null,null,null,"Kenyon","Medical","Practice",null,null,null,null,null,null,"Kenyon Medical Practice       ","Kenyon Medical Practice","West Midlands Deanery"]
[null,null,null,null,"Kidsgrove","Medical","Centre",null,null,null,null,null,null,"Kidsgrove Medical Centre       ","Kidsgrove Medical Centre","West Midlands Deanery"]
[null,null,null,null,"King","Street","Surgery",null,null,null,null,null,null,"King Street Surgery       ","King Street Surgery","West Midlands Deanery"]
[null,null,null,null,"Kingfisher","Practice",null,null,null,null,null,null,null,"Kingfisher Practice        ","Kingfisher Practice","West Midlands Deanery"]
[null,null,null,null,"Kingfisher","Practice",null,null,null,null,null,null,null,{"$f":"E1540&\" \"&F1540&\" \"&G1540&\" \"&H1540&\" \"&I1540&\" \"&J1539&\" \"&K1540&\" \"&L1540&\" \"&M1540&\" \"","v":"Kingfisher Practice        "},{"$f":"TRIM(N1540)","v":"Kingfisher Practice"},"West Midlands Deanery"]
[null,null,null,null,"Kingsbridge","Medical","Centre",null,null,null,null,null,null,"Kingsbridge Medical Centre       ","Kingsbridge Medical Centre","West Midlands Deanery"]
[null,null,null,null,"Kingsbury","Road","Medical","Centre",null,null,null,null,null,"Kingsbury Road Medical Centre      ","Kingsbury Road Medical Centre","West Midlands Deanery"]
[null,null,null,null,"Kingsfield","Medical","Centre",null,null,null,null,null,null,"Kingsfield Medical Centre       ","Kingsfield Medical Centre","West Midlands Deanery"]
[null,null,null,null,"Kingswinford","Health","Centre",null,null,null,null,null,null,"Kingswinford Health Centre       ","Kingswinford Health Centre","West Midlands Deanery"]
[null,null,null,null,"Knockin","Medical","Centre",null,null,null,null,null,null,"Knockin Medical Centre       ","Knockin Medical Centre","West Midlands Deanery"]
[null,null,null,null,"Lakeside",null,null,null,null,null,null,null,null,"Lakeside         ","Lakeside","West Midlands Deanery"]
[null,null,null,null,"Laurie","Pike","Health","Centre",null,null,null,null,null,"Laurie Pike Health Centre      ","Laurie Pike Health Centre","West Midlands Deanery"]
[null,null,null,null,"Lawley","Medical","Practice",null,null,null,null,null,null,"Lawley Medical Practice       ","Lawley Medical Practice","West Midlands Deanery"]
[null,null,null,null,"Lea","Road","Medical","Practice",null,null,null,null,null,"Lea Road Medical Practice      ","Lea Road Medical Practice","West Midlands Deanery"]
[null,null,null,null,"Leach","Heath","Medical","Centre",null,null,null,null,null,"Leach Heath Medical Centre      ","Leach Heath Medical Centre","West Midlands Deanery"]
[null,null,null,null,"Leek","Health","Centre",null,null,null,null,null,null,"Leek Health Centre       ","Leek Health Centre","West Midlands Deanery"]
[null,null,null,null,"Ley","Hill","Surgery",null,null,null,null,null,null,"Ley Hill Surgery       ","Ley Hill Surgery","West Midlands Deanery"]
[null,null,null,null,"Lichfield","Street","Surgery",null,null,null,null,null,null,"Lichfield Street Surgery       ","Lichfield Street Surgery","West Midlands Deanery"]
[null,null,null,null,"Linden","Hall","Surgery",null,null,null,null,null,null,"Linden Hall Surgery       ","Linden Hall Surgery","West Midlands Deanery"]
[null,null,null,null,"Links","Medical","Practice",null,null,null,null,null,null,"Links Medical Practice       ","Links Medical Practice","West Midlands Deanery"]
[null,null,null,null,"Lion","Health",null,null,null,null,null,null,null,"Lion Health        ","Lion Health","West Midlands Deanery"]
[null,null,null,null,"Little","London","Surgery",null,null,null,null,null,null,"Little London Surgery       ","Little London Surgery","West Midlands Deanery"]
[null,null,null,null,"Lockfield","Surgery",null,null,null,null,null,null,null,"Lockfield Surgery        ","Lockfield Surgery","West Midlands Deanery"]
[null,null,null,null,"Lockstown","Practice",null,null,null,null,null,null,null,"Lockstown Practice        ","Lockstown Practice","West Midlands Deanery"]
[null,null,null,null,"Loomer","Road","Surgery",null,null,null,null,null,null,"Loomer Road Surgery       ","Loomer Road Surgery","West Midlands Deanery"]
[null,null,null,null,"Lordswood","House","Medical","Practice",null,null,null,null,null,"Lordswood House Medical Practice      ","Lordswood House Medical Practice","West Midlands Deanery"]
[null,null,null,null,"Lower","Gornal","Medical","Practice",null,null,null,null,null,"Lower Gornal Medical Practice      ","Lower Gornal Medical Practice","West Midlands Deanery"]
[null,null,null,null,"Lucie","Wedgwood","Health","Centre",null,null,null,null,null,"Lucie Wedgwood Health Centre      ","Lucie Wedgwood Health Centre","West Midlands Deanery"]
[null,null,null,null,"Ludlow","Portcullis",null,null,null,null,null,null,null,"Ludlow Portcullis        ","Ludlow Portcullis","West Midlands Deanery"]
[null,null,null,null,"Lymebrook","Surgery",null,null,null,null,null,null,null,"Lymebrook Surgery        ","Lymebrook Surgery","West Midlands Deanery"]
[null,null,null,null,"Madeley","Practice",null,null,null,null,null,null,null,"Madeley Practice        ","Madeley Practice","West Midlands Deanery"]
[null,null,null,null,"Malvern","Health","Centre",null,null,null,null,null,null,"Malvern Health Centre       ","Malvern Health Centre","West Midlands Deanery"]
[null,null,null,null,"Mansion","House","Surgery",null,null,null,null,null,null,"Mansion House Surgery       ","Mansion House Surgery","West Midlands Deanery"]
[null,null,null,null,"Marden","Medical","Practice",null,null,null,null,null,null,"Marden Medical Practice       ","Marden Medical Practice","West Midlands Deanery"]
[null,null,null,null,"Marie","Curie","Centre","Solihul","Community","Team","Y03451",null,null,"Marie Curie Centre Solihul Community  Y03451   ","Marie Curie Centre Solihul Community Y03451","West Midlands Deanery"]
[null,null,null,null,"Market","Drayton","Medical","Practice",null,null,null,null,null,"Market Drayton Medical Practice  Team    ","Market Drayton Medical Practice Team","West Midlands Deanery"]
[null,null,null,null,"Market","Quarter","Medical","Practice",null,null,null,null,null,"Market Quarter Medical Practice      ","Market Quarter Medical Practice","West Midlands Deanery"]
[null,null,null,null,"Marysville","Medical","Practice",null,null,null,null,null,null,"Marysville Medical Practice       ","Marysville Medical Practice","West Midlands Deanery"]
[null,null,null,null,"Cobridge","Community","Centre",null,null,null,null,null,null,"Cobridge Community Centre       ","Cobridge Community Centre","West Midlands Deanery"]
[null,null,null,null,"Ptarmigan","House",null,null,null,null,null,null,null,"Ptarmigan House        ","Ptarmigan House","West Midlands Deanery"]
[null,null,null,null,"Sth","Staffordshire","&","Shropshire","NHS","Foundation","Trust",null,null,"Sth Staffordshire & Shropshire NHS  Trust   ","Sth Staffordshire & Shropshire NHS Trust","West Midlands Deanery"]
[null,null,null,null,"Millenium","Medical","Centre",null,null,null,null,null,null,"Millenium Medical Centre   Foundation    ","Millenium Medical Centre Foundation","West Midlands Deanery"]
[null,null,null,null,"Millrise","Medical","Practice",null,null,null,null,null,null,"Millrise Medical Practice       ","Millrise Medical Practice","West Midlands Deanery"]
[null,null,null,null,"Monkspath","Surgery",null,null,null,null,null,null,null,"Monkspath Surgery        ","Monkspath Surgery","West Midlands Deanery"]
[null,null,null,null,"Montgomery","Medical","Practice",null,null,null,null,null,null,"Montgomery Medical Practice       ","Montgomery Medical Practice","West Midlands Deanery"]
[null,null,null,null,"Moor","Green","Lane","Medical","Centre",null,null,null,null,"Moor Green Lane Medical Centre     ","Moor Green Lane Medical Centre","West Midlands Deanery"]
[null,null,null,null,"Moorfield","House","Surgery",null,null,null,null,null,null,"Moorfield House Surgery       ","Moorfield House Surgery","West Midlands Deanery"]
[null,null,null,null,"Moorlands","Medical","Centre",null,null,null,null,null,null,"Moorlands Medical Centre       ","Moorlands Medical Centre","West Midlands Deanery"]
[null,null,null,null,"Moseley","Avenue","Surgery",null,null,null,null,null,null,"Moseley Avenue Surgery       ","Moseley Avenue Surgery","West Midlands Deanery"]
[null,null,null,null,"Moss","Grove","Surgery",null,null,null,null,null,null,"Moss Grove Surgery       ","Moss Grove Surgery","West Midlands Deanery"]
[null,null,null,null,"Mytton","Oak","Surgery",null,null,null,null,null,null,"Mytton Oak Surgery       ","Mytton Oak Surgery","West Midlands Deanery"]
[null,null,null,null,"New","Dispensary","Surgery",null,null,null,null,null,null,"New Dispensary Surgery       ","New Dispensary Surgery","West Midlands Deanery"]
[null,null,null,null,"New","Road","Surgery",null,null,null,null,null,null,"New Road Surgery       ","New Road Surgery","West Midlands Deanery"]
[null,null,null,null,"Newbridge","Surgery",null,null,null,null,null,null,null,"Newbridge Surgery        ","Newbridge Surgery","West Midlands Deanery"]
[null,null,null,null,"Norfolk","Street","Surgery",null,null,null,null,null,null,"Norfolk Street Surgery       ","Norfolk Street Surgery","West Midlands Deanery"]
[null,null,null,null,"North","Staffordshire","Combined","Healthcare","NHS","Trust",null,null,null,"North Staffordshire Combined Healthcare NHS     ","North Staffordshire Combined Healthcare NHS","West Midlands Deanery"]
[null,null,null,null,"Northbrook","Group","Health","Centre",null,null,null,null,null,"Northbrook Group Health Centre  Trust    ","Northbrook Group Health Centre Trust","West Midlands Deanery"]
[null,null,null,null,"Northgate","Medical","Centre",null,null,null,null,null,null,"Northgate Medical Centre       ","Northgate Medical Centre","West Midlands Deanery"]
[null,null,null,null,"Northway","Medical","Centre",null,null,null,null,null,null,"Northway Medical Centre       ","Northway Medical Centre","West Midlands Deanery"]
[null,null,null,null,"Nunwell","Surgery",null,null,null,null,null,null,null,"Nunwell Surgery        ","Nunwell Surgery","West Midlands Deanery"]
[null,null,null,null,"Oakswell","Health","Centre",null,null,null,null,null,null,"Oakswell Health Centre       ","Oakswell Health Centre","West Midlands Deanery"]
[null,null,null,null,"Oakham","Surgery",null,null,null,null,null,null,null,"Oakham Surgery        ","Oakham Surgery","West Midlands Deanery"]
[null,null,null,null,"Old","Mill","Surgery",null,null,null,null,null,null,"Old Mill Surgery       ","Old Mill Surgery","West Midlands Deanery"]
[null,null,null,null,"Oldbury","Health","Centre",null,null,null,null,null,null,"Oldbury Health Centre       ","Oldbury Health Centre","West Midlands Deanery"]
[null,null,null,null,"Ombersley","Medical","Centre",null,null,null,null,null,null,"Ombersley Medical Centre       ","Ombersley Medical Centre","West Midlands Deanery"]
[null,null,null,null,"Omnia","Medical","Practice",null,null,null,null,null,null,"Omnia Medical Practice       ","Omnia Medical Practice","West Midlands Deanery"]
[null,null,null,null,"Orchard","Surgery",null,null,null,null,null,null,null,"Orchard Surgery        ","Orchard Surgery","West Midlands Deanery"]
[null,null,null,null,"Paradise","Medical","Centre",null,null,null,null,null,null,"Paradise Medical Centre       ","Paradise Medical Centre","West Midlands Deanery"]
[null,null,null,null,"Park","Leys","Medical","Practice",null,null,null,null,null,{"$f":"E1604&\" \"&F1604&\" \"&G1604&\" \"&H1604&\" \"&I1604&\" \"&J1603&\" \"&K1604&\" \"&L1604&\" \"&M1604&\" \"","v":"Park Leys Medical Practice      "},{"$f":"TRIM(N1604)","v":"Park Leys Medical Practice"},"West Midlands Deanery"]
[null,null,null,null,"Park","Surgery",null,null,null,null,null,null,null,"Park Surgery        ","Park Surgery","West Midlands Deanery"]
[null,null,null,null,"Parkfield","Medical","Centre",null,null,null,null,null,null,"Parkfield Medical Centre       ","Parkfield Medical Centre","West Midlands Deanery"]
[null,null,null,null,"Pear","Tree","Surgery",null,null,null,null,null,null,"Pear Tree Surgery       ","Pear Tree Surgery","West Midlands Deanery"]
[null,null,null,null,"Penkridge","Medical","Practice",null,null,null,null,null,null,"Penkridge Medical Practice       ","Penkridge Medical Practice","West Midlands Deanery"]
[null,null,null,null,"Penn","Manor","Medical","Centre",null,null,null,null,null,"Penn Manor Medical Centre      ","Penn Manor Medical Centre","West Midlands Deanery"]
[null,null,null,null,"Penn","Surgery",null,null,null,null,null,null,null,"Penn Surgery        ","Penn Surgery","West Midlands Deanery"]
[null,null,null,null,"Pershore","Medical","Practice",null,null,null,null,null,null,"Pershore Medical Practice       ","Pershore Medical Practice","West Midlands Deanery"]
[null,null,null,null,"Plas","Ffynnon","Medical","Centre",null,null,null,null,null,"Plas Ffynnon Medical Centre      ","Plas Ffynnon Medical Centre","West Midlands Deanery"]
[null,null,null,null,"Pleck","Health","Centre",null,null,null,null,null,null,"Pleck Health Centre       ","Pleck Health Centre","West Midlands Deanery"]
[null,null,null,null,"Pontesbury","Medical","Practice",null,null,null,null,null,null,"Pontesbury Medical Practice       ","Pontesbury Medical Practice","West Midlands Deanery"]
[null,null,null,null,"Pool","Medical","Centre",null,null,null,null,null,null,"Pool Medical Centre       ","Pool Medical Centre","West Midlands Deanery"]
[null,null,null,null,"Portland","Medical","Practice",null,null,null,null,null,null,"Portland Medical Practice       ","Portland Medical Practice","West Midlands Deanery"]
[null,null,null,null,"Prescott","Surgery",null,null,null,null,null,null,null,"Prescott Surgery        ","Prescott Surgery","West Midlands Deanery"]
[null,null,null,null,"Prestbury","Medical","Practice",null,null,null,null,null,null,"Prestbury Medical Practice       ","Prestbury Medical Practice","West Midlands Deanery"]
[null,null,null,null,"Priory","Gate","Practice",null,null,null,null,null,null,"Priory Gate Practice       ","Priory Gate Practice","West Midlands Deanery"]
[null,null,null,null,"Priory","Medical","Centre",null,null,null,null,null,null,"Priory Medical Centre       ","Priory Medical Centre","West Midlands Deanery"]
[null,null,null,null,"Radbrook","Green","Surgery",null,null,null,null,null,null,"Radbrook Green Surgery       ","Radbrook Green Surgery","West Midlands Deanery"]
[null,null,null,null,"Red","Roofs","Surgery",null,null,null,null,null,null,"Red Roofs Surgery       ","Red Roofs Surgery","West Midlands Deanery"]
[null,null,null,null,"Regis","medical","centre",null,null,null,null,null,null,"Regis medical centre       ","Regis medical centre","West Midlands Deanery"]
[null,null,null,null,"Revel","Surgery",null,null,null,null,null,null,null,"Revel Surgery        ","Revel Surgery","West Midlands Deanery"]
[null,null,null,null,"Ridgacre","House","Surgery",null,null,null,null,null,null,"Ridgacre House Surgery       ","Ridgacre House Surgery","West Midlands Deanery"]
[null,null,null,null,"Rising","Brook","Surgery",null,null,null,null,null,null,"Rising Brook Surgery       ","Rising Brook Surgery","West Midlands Deanery"]
[null,null,null,null,"River","Brook","Medical","Centre",null,null,null,null,null,"River Brook Medical Centre      ","River Brook Medical Centre","West Midlands Deanery"]
[null,null,null,null,"Riverside","Medical","Practice",null,null,null,null,null,null,"Riverside Medical Practice       ","Riverside Medical Practice","West Midlands Deanery"]
[null,null,null,null,"Riverside","surgery",null,null,null,null,null,null,null,"Riverside surgery        ","Riverside surgery","West Midlands Deanery"]
[null,null,null,null,"Riversley","Road","Surgery",null,null,null,null,null,null,"Riversley Road Surgery       ","Riversley Road Surgery","West Midlands Deanery"]
[null,null,null,null,"The","Robert","Jones","&","Agnes","Hunt","Orthopaedic","Hospital",null,"The Robert Jones & Agnes  Orthopaedic Hospital  ","The Robert Jones & Agnes Orthopaedic Hospital","West Midlands Deanery"]
[null,null,null,null,"Rother","House","Medical","Centre",null,null,null,null,null,"Rother House Medical Centre  Hunt    ","Rother House Medical Centre Hunt","West Midlands Deanery"]
[null,null,null,null,"Rotton","Park","Medical","Centre",null,null,null,null,null,"Rotton Park Medical Centre      ","Rotton Park Medical Centre","West Midlands Deanery"]
[null,null,null,null,"Rough","Hay","Surgery",null,null,null,null,null,null,"Rough Hay Surgery       ","Rough Hay Surgery","West Midlands Deanery"]
[null,null,null,null,"Rushall","Medical","Centre",null,null,null,null,null,null,"Rushall Medical Centre       ","Rushall Medical Centre","West Midlands Deanery"]
[null,null,null,null,"Salters","Meadow","Health","Centre",null,null,null,null,null,"Salters Meadow Health Centre      ","Salters Meadow Health Centre","West Midlands Deanery"]
[null,null,null,null,"Salters","Medical","Practice",null,null,null,null,null,null,"Salters Medical Practice       ","Salters Medical Practice","West Midlands Deanery"]
[null,null,null,null,"City","Hospital",null,null,null,null,null,null,null,"City Hospital        ","City Hospital","West Midlands Deanery"]
[null,null,null,null,"Sandwell","General","Hospital",null,null,null,null,null,null,"Sandwell General Hospital       ","Sandwell General Hospital","West Midlands Deanery"]
[null,null,null,null,"Tameside","General","Hospital",null,null,null,null,null,null,"Tameside General Hospital       ","Tameside General Hospital","West Midlands Deanery"]
[null,null,null,null,"Sandwell","And","West","Birmingham","Hospitals","NHS","Trust",null,null,"Sandwell And West Birmingham Hospitals  Trust   ","Sandwell And West Birmingham Hospitals Trust","West Midlands Deanery"]
[null,null,null,null,"Selly","Park","Surgery",null,null,null,null,null,null,"Selly Park Surgery   NHS    ","Selly Park Surgery NHS","West Midlands Deanery"]
[null,null,null,null,"Severn","Fields","Medical","Practice",null,null,null,null,null,"Severn Fields Medical Practice      ","Severn Fields Medical Practice","West Midlands Deanery"]
[null,null,null,null,"Shanklin","House","Surgery",null,null,null,null,null,null,"Shanklin House Surgery       ","Shanklin House Surgery","West Midlands Deanery"]
[null,null,null,null,"Shawbirch","Medical","Practice",null,null,null,null,null,null,"Shawbirch Medical Practice       ","Shawbirch Medical Practice","West Midlands Deanery"]
[null,null,null,null,"Shenley","Green","Surgery",null,null,null,null,null,null,"Shenley Green Surgery       ","Shenley Green Surgery","West Midlands Deanery"]
[null,null,null,null,"Sherbourne","Medical","Centre",null,null,null,null,null,null,"Sherbourne Medical Centre       ","Sherbourne Medical Centre","West Midlands Deanery"]
[null,null,null,null,"Sherwood","House","Medical","Practice",null,null,null,null,null,"Sherwood House Medical Practice      ","Sherwood House Medical Practice","West Midlands Deanery"]
[null,null,null,null,"Shipston","Medical","Centre",null,null,null,null,null,null,"Shipston Medical Centre       ","Shipston Medical Centre","West Midlands Deanery"]
[null,null,null,null,"Shirley","Medical","Centre",null,null,null,null,null,null,"Shirley Medical Centre       ","Shirley Medical Centre","West Midlands Deanery"]
[null,null,null,null,"Showell","Park","Health","and","Walk","in","Centre","Y02736",null,"Showell Park Health and Walk  Centre Y02736  ","Showell Park Health and Walk Centre Y02736","West Midlands Deanery"]
[null,null,null,null,"Royal","Shrewsbury","Hospital",null,null,null,null,null,null,"Royal Shrewsbury Hospital   in    ","Royal Shrewsbury Hospital in","West Midlands Deanery"]
[null,null,null,null,"The","Princess","Royal","Hospital",null,null,null,null,null,"The Princess Royal Hospital      ","The Princess Royal Hospital","West Midlands Deanery"]
[null,null,null,null,"Severn","Hospice",null,null,null,null,null,null,null,"Severn Hospice        ","Severn Hospice","West Midlands Deanery"]
[null,null,null,null,"Shrewsbury","And","Telford","Hospital","NHS","Trust",null,null,null,"Shrewsbury And Telford Hospital NHS     ","Shrewsbury And Telford Hospital NHS","West Midlands Deanery"]
[null,null,null,null,"Silverdale","Medical","Centre",null,null,null,null,null,null,"Silverdale Medical Centre   Trust    ","Silverdale Medical Centre Trust","West Midlands Deanery"]
[null,null,null,null,"Sky","Blue","Medical","Practice",null,null,null,null,null,"Sky Blue Medical Practice      ","Sky Blue Medical Practice","West Midlands Deanery"]
[null,null,null,null,"Small","Heath","Medical","Practice",null,null,null,null,null,"Small Heath Medical Practice      ","Small Heath Medical Practice","West Midlands Deanery"]
[null,null,null,null,"Soho","Road","Primary","Care","Centre",null,null,null,null,"Soho Road Primary Care Centre     ","Soho Road Primary Care Centre","West Midlands Deanery"]
[null,null,null,null,"South","Hermitage","Surgery",null,null,null,null,null,null,"South Hermitage Surgery       ","South Hermitage Surgery","West Midlands Deanery"]
[null,null,null,null,"Coventry","And","Warwickshire","Partnership","NHS","Trust",null,null,null,"Coventry And Warwickshire Partnership NHS     ","Coventry And Warwickshire Partnership NHS","West Midlands Deanery"]
[null,null,null,null,"South","Warwickshire","NHS","Foundation","Trust",null,null,null,null,"South Warwickshire NHS Foundation Trust Trust    ","South Warwickshire NHS Foundation Trust Trust","West Midlands Deanery"]
[null,null,null,null,"Southam","Surgery",null,null,null,null,null,null,null,"Southam Surgery        ","Southam Surgery","West Midlands Deanery"]
[null,null,null,null,"Southfield","Way","Surgery",null,null,null,null,null,null,"Southfield Way Surgery       ","Southfield Way Surgery","West Midlands Deanery"]
[null,null,null,null,"Spa","Medical","Practice",null,null,null,null,null,null,"Spa Medical Practice       ","Spa Medical Practice","West Midlands Deanery"]
[null,null,null,null,"Spring","Gardens","Group","Medical","Practice",null,null,null,null,"Spring Gardens Group Medical Practice     ","Spring Gardens Group Medical Practice","West Midlands Deanery"]
[null,null,null,null,"Spring","Hill","Medical","Centre",null,null,null,null,null,"Spring Hill Medical Centre      ","Spring Hill Medical Centre","West Midlands Deanery"]
[null,null,null,null,"Springfield","Medical","Practice",null,null,null,null,null,null,{"$f":"E1668&\" \"&F1668&\" \"&G1668&\" \"&H1668&\" \"&I1668&\" \"&J1667&\" \"&K1668&\" \"&L1668&\" \"&M1668&\" \"","v":"Springfield Medical Practice       "},{"$f":"TRIM(N1668)","v":"Springfield Medical Practice"},"West Midlands Deanery"]
[null,null,null,null,"St","Clements","Surgery",null,null,null,null,null,null,"St Clements Surgery       ","St Clements Surgery","West Midlands Deanery"]
[null,null,null,null,"St","Helier","Medical","Practice",null,null,null,null,null,"St Helier Medical Practice      ","St Helier Medical Practice","West Midlands Deanery"]
[null,null,null,null,"St","Johns","Surgery",null,null,null,null,null,null,"St Johns Surgery       ","St Johns Surgery","West Midlands Deanery"]
[null,null,null,null,"St","Lukes","Surgery",null,null,null,null,null,null,"St Lukes Surgery       ","St Lukes Surgery","West Midlands Deanery"]
[null,null,null,null,"St","Martins","Gate","Surgery",null,null,null,null,null,"St Martins Gate Surgery      ","St Martins Gate Surgery","West Midlands Deanery"]
[null,null,null,null,"St","Paul's","Medical","Centre",null,null,null,null,null,"St Paul's Medical Centre      ","St Paul's Medical Centre","West Midlands Deanery"]
[null,null,null,null,"St","Peter's","Surgery",null,null,null,null,null,null,"St Peter's Surgery       ","St Peter's Surgery","West Midlands Deanery"]
[null,null,null,null,"St","Saviours","Surgery",null,null,null,null,null,null,"St Saviours Surgery       ","St Saviours Surgery","West Midlands Deanery"]
[null,null,null,null,"St","Stephens","Surgery",null,null,null,null,null,null,"St Stephens Surgery       ","St Stephens Surgery","West Midlands Deanery"]
[null,null,null,null,"Stafford","Health","&","Wellbeing",null,null,null,null,null,"Stafford Health & Wellbeing      ","Stafford Health & Wellbeing","West Midlands Deanery"]
[null,null,null,null,"Stapenhill","Medical","Centre",null,null,null,null,null,null,"Stapenhill Medical Centre       ","Stapenhill Medical Centre","West Midlands Deanery"]
[null,null,null,null,"Station","Drive","Surgery",null,null,null,null,null,null,"Station Drive Surgery       ","Station Drive Surgery","West Midlands Deanery"]
[null,null,null,null,"Stirchley","Medical","Practice",null,null,null,null,null,null,"Stirchley Medical Practice       ","Stirchley Medical Practice","West Midlands Deanery"]
[null,null,null,null,"Stourport","Health","Centre",null,null,null,null,null,null,"Stourport Health Centre       ","Stourport Health Centre","West Midlands Deanery"]
[null,null,null,null,"Stroud","Practice",null,null,null,null,null,null,null,"Stroud Practice        ","Stroud Practice","West Midlands Deanery"]
[null,null,null,null,"Sutton","Coldfield","Group","Practice",null,null,null,null,null,"Sutton Coldfield Group Practice      ","Sutton Coldfield Group Practice","West Midlands Deanery"]
[null,null,null,null,"Sutton","Hill","Medical","Practice",null,null,null,null,null,"Sutton Hill Medical Practice      ","Sutton Hill Medical Practice","West Midlands Deanery"]
[null,null,null,null,"Sutton","Park","Surgery",null,null,null,null,null,null,"Sutton Park Surgery       ","Sutton Park Surgery","West Midlands Deanery"]
[null,null,null,null,"Munro","Medical","Centre",null,null,null,null,null,null,"Munro Medical Centre       ","Munro Medical Centre","West Midlands Deanery"]
[null,null,null,null,"Newbold","Surgery",null,null,null,null,null,null,null,"Newbold Surgery        ","Newbold Surgery","West Midlands Deanery"]
[null,null,null,null,"Goldenhill","Medical","Centre",null,null,null,null,null,null,"Goldenhill Medical Centre       ","Goldenhill Medical Centre","West Midlands Deanery"]
[null,null,null,null,"Church","Road","Medical","Practice",null,null,null,null,null,"Church Road Medical Practice      ","Church Road Medical Practice","West Midlands Deanery"]
[null,null,null,null,"Four","Acre","Health","Centre",null,null,null,null,null,"Four Acre Health Centre      ","Four Acre Health Centre","West Midlands Deanery"]
[null,null,null,null,"Hall","Green","Health",null,null,null,null,null,null,"Hall Green Health       ","Hall Green Health","West Midlands Deanery"]
[null,null,null,null,"Lakeside",null,null,null,null,null,null,null,null,"Lakeside         ","Lakeside","West Midlands Deanery"]
[null,null,null,null,"Highgate","Medical","Centre",null,null,null,null,null,null,"Highgate Medical Centre       ","Highgate Medical Centre","West Midlands Deanery"]
[null,null,null,null,"St","Catherine's","Surgery",null,null,null,null,null,null,"St Catherine's Surgery       ","St Catherine's Surgery","West Midlands Deanery"]
[null,null,null,null,"Goring","&","Woodcote","Medical","Practice",null,null,null,null,"Goring & Woodcote Medical Practice     ","Goring & Woodcote Medical Practice","West Midlands Deanery"]
[null,null,null,null,"The","Hart","Surgery",null,null,null,null,null,null,"The Hart Surgery       ","The Hart Surgery","West Midlands Deanery"]
[null,null,null,null,"Horsmans","Place","Surgery","(TGP)",null,null,null,null,null,"Horsmans Place Surgery (TGP)      ","Horsmans Place Surgery (TGP)","West Midlands Deanery"]
[null,null,null,null,"Penkridge","Medical","Practice",null,null,null,null,null,null,"Penkridge Medical Practice       ","Penkridge Medical Practice","West Midlands Deanery"]
[null,null,null,null,"Glenroyd","Medical","Centre",null,null,null,null,null,null,"Glenroyd Medical Centre       ","Glenroyd Medical Centre","West Midlands Deanery"]
[null,null,null,null,"Fairfax","Group","Practice",null,null,null,null,null,null,"Fairfax Group Practice       ","Fairfax Group Practice","West Midlands Deanery"]
[null,null,null,null,"Whittaker","Lane","Medical","Centre",null,null,null,null,null,"Whittaker Lane Medical Centre      ","Whittaker Lane Medical Centre","West Midlands Deanery"]
[null,null,null,null,"Florence","House","Medical","Practice",null,null,null,null,null,"Florence House Medical Practice      ","Florence House Medical Practice","West Midlands Deanery"]
[null,null,null,null,"Healey","Surgery",null,null,null,null,null,null,null,"Healey Surgery        ","Healey Surgery","West Midlands Deanery"]
[null,null,null,null,"Durnford","Medical","Centre",null,null,null,null,null,null,"Durnford Medical Centre       ","Durnford Medical Centre","West Midlands Deanery"]
[null,null,null,null,"Firsway","Health","Centre",null,null,null,null,null,null,"Firsway Health Centre       ","Firsway Health Centre","West Midlands Deanery"]
[null,null,null,null,"Flixton","Road","Medical","Centre",null,null,null,null,null,"Flixton Road Medical Centre      ","Flixton Road Medical Centre","West Midlands Deanery"]
[null,null,null,null,"Dalton","TM","Chandler","House",null,null,null,null,null,"Dalton TM Chandler House      ","Dalton TM Chandler House","West Midlands Deanery"]
[null,null,null,null,"Spring","Hill","Medical","Centre",null,null,null,null,null,"Spring Hill Medical Centre      ","Spring Hill Medical Centre","West Midlands Deanery"]
[null,null,null,null,"Springfield","Medical","Practice",null,null,null,null,null,null,"Springfield Medical Practice       ","Springfield Medical Practice","West Midlands Deanery"]
[null,null,null,null,"The","Royton","&","Crompton","Family","Practice","P85013",null,null,"The Royton & Crompton Family  P85013   ","The Royton & Crompton Family P85013","West Midlands Deanery"]
[null,null,null,null,"Caritas","General","Practice","Partnership",null,null,null,null,null,"Caritas General Practice Partnership  Practice    ","Caritas General Practice Partnership Practice","West Midlands Deanery"]
[null,null,null,null,"Peter","House","Surgery",null,null,null,null,null,null,"Peter House Surgery       ","Peter House Surgery","West Midlands Deanery"]
[null,null,null,null,"Littleborough","Group","Practice",null,null,null,null,null,null,"Littleborough Group Practice       ","Littleborough Group Practice","West Midlands Deanery"]
[null,null,null,null,"St","Stephens","Surgery",null,null,null,null,null,null,"St Stephens Surgery       ","St Stephens Surgery","West Midlands Deanery"]
[null,null,null,null,"The","Chandler","Surgery",null,null,null,null,null,null,"The Chandler Surgery       ","The Chandler Surgery","West Midlands Deanery"]
[null,null,null,null,"Grove","Surgery",null,null,null,null,null,null,null,"Grove Surgery        ","Grove Surgery","West Midlands Deanery"]
[null,null,null,null,"Park","Edge","Practice",null,null,null,null,null,null,"Park Edge Practice       ","Park Edge Practice","West Midlands Deanery"]
[null,null,null,null,"Chapel","Green","Practice",null,null,null,null,null,null,"Chapel Green Practice       ","Chapel Green Practice","West Midlands Deanery"]
[null,null,null,null,"Lightwater","Surgery",null,null,null,null,null,null,null,"Lightwater Surgery        ","Lightwater Surgery","West Midlands Deanery"]
[null,null,null,null,"The","Vine","Medical","Centre",null,null,null,null,null,"The Vine Medical Centre      ","The Vine Medical Centre","West Midlands Deanery"]
[null,null,null,null,"Labrunum","Health","Centre",null,null,null,null,null,null,"Labrunum Health Centre       ","Labrunum Health Centre","West Midlands Deanery"]
[null,null,null,null,"Statham","Grove","Surgery",null,null,null,null,null,null,"Statham Grove Surgery       ","Statham Grove Surgery","West Midlands Deanery"]
[null,null,null,null,"Well","Street","Surgery",null,null,null,null,null,null,"Well Street Surgery       ","Well Street Surgery","West Midlands Deanery"]
[null,null,null,null,"St","David's","Family","Practice",null,null,null,null,null,"St David's Family Practice      ","St David's Family Practice","West Midlands Deanery"]
[null,null,null,null,"Roundwood","Park","Medical","Centre",null,null,null,null,null,"Roundwood Park Medical Centre      ","Roundwood Park Medical Centre","West Midlands Deanery"]
[null,null,null,null,"Old","Coulsdon","Medical","Practice",null,null,null,null,null,"Old Coulsdon Medical Practice      ","Old Coulsdon Medical Practice","West Midlands Deanery"]
[null,null,null,null,"The","South","Lambeth","Road","Practice","TGP","G85086",null,null,"The South Lambeth Road Practice  G85086   ","The South Lambeth Road Practice G85086","West Midlands Deanery"]
[null,null,null,null,"South","West","Hub",1,null,null,null,null,null,"South West Hub 1  TGP    ","South West Hub 1 TGP","West Midlands Deanery"]
[null,null,null,null,"Ellesmere","Road","Medical","Centre",null,null,null,null,null,"Ellesmere Road Medical Centre      ","Ellesmere Road Medical Centre","West Midlands Deanery"]
[null,null,null,null,"Minster","Surgery",null,null,null,null,null,null,null,"Minster Surgery        ","Minster Surgery","West Midlands Deanery"]
[null,null,null,null,"Davenal","House","Surgery",null,null,null,null,null,null,{"$f":"E1732&\" \"&F1732&\" \"&G1732&\" \"&H1732&\" \"&I1732&\" \"&J1731&\" \"&K1732&\" \"&L1732&\" \"&M1732&\" \"","v":"Davenal House Surgery       "},{"$f":"TRIM(N1732)","v":"Davenal House Surgery"},"West Midlands Deanery"]
[null,null,null,null,"Broken","Cross","Surgery",null,null,null,null,null,null,"Broken Cross Surgery       ","Broken Cross Surgery","West Midlands Deanery"]
[null,null,null,null,"The","Wand","Medical","Centre",null,null,null,null,null,"The Wand Medical Centre      ","The Wand Medical Centre","West Midlands Deanery"]
[null,null,null,null,"Dorking","Medical","Practice","(TGP)",null,null,null,null,null,"Dorking Medical Practice (TGP)      ","Dorking Medical Practice (TGP)","West Midlands Deanery"]
[null,null,null,null,"Bridport","Medical","Centre","(TGP)",null,null,null,null,null,"Bridport Medical Centre (TGP)      ","Bridport Medical Centre (TGP)","West Midlands Deanery"]
[null,null,null,null,"Abbey","Medical","Centre","(TGP)",null,null,null,null,null,"Abbey Medical Centre (TGP)      ","Abbey Medical Centre (TGP)","West Midlands Deanery"]
[null,null,null,null,"Cowplain","Family","Practice","(TGP)",null,null,null,null,null,"Cowplain Family Practice (TGP)      ","Cowplain Family Practice (TGP)","West Midlands Deanery"]
[null,null,null,null,"Ilkley","&","Wharfedale","Medical","Practice","TGP","B83002",null,null,"Ilkley & Wharfedale Medical Practice  B83002   ","Ilkley & Wharfedale Medical Practice B83002","West Midlands Deanery"]
[null,null,null,null,"Newbridge","Surgery",null,null,null,null,null,null,null,"Newbridge Surgery    TGP    ","Newbridge Surgery TGP","West Midlands Deanery"]
[null,null,null,null,"Selly","Park","Surgery",null,null,null,null,null,null,"Selly Park Surgery       ","Selly Park Surgery","West Midlands Deanery"]
[null,null,null,null,"Copsewood","Medical","Centre",null,null,null,null,null,null,"Copsewood Medical Centre       ","Copsewood Medical Centre","West Midlands Deanery"]
[null,null,null,null,"Derry","Court","Medical","Practice",null,null,null,null,null,"Derry Court Medical Practice      ","Derry Court Medical Practice","West Midlands Deanery"]
[null,null,null,null,"Hall","Grove","Group","Practice",null,null,null,null,null,"Hall Grove Group Practice      ","Hall Grove Group Practice","West Midlands Deanery"]
[null,null,null,null,"Pemberley","Surgery",null,null,null,null,null,null,null,"Pemberley Surgery        ","Pemberley Surgery","West Midlands Deanery"]
[null,null,null,null,"Swanwood","Partnership",null,null,null,null,null,null,null,"Swanwood Partnership        ","Swanwood Partnership","West Midlands Deanery"]
[null,null,null,null,"Castle","Medical","Group",null,null,null,null,null,null,"Castle Medical Group       ","Castle Medical Group","West Midlands Deanery"]
[null,null,null,null,"Hugglescote","Surgery",null,null,null,null,null,null,null,"Hugglescote Surgery        ","Hugglescote Surgery","West Midlands Deanery"]
[null,null,null,null,"West","Midlands",null,null,null,null,null,null,null,"West Midlands        ","West Midlands","West Midlands Deanery"]
[null,null,null,null,"Meanwood Health Centre",null,null,null,null,null,null,null,null,"Meanwood Health Centre         ","Meanwood Health Centre","West Midlands Deanery"]
[null,null,null,null,"Tean","Surgery",null,null,null,null,null,null,null,"Tean Surgery        ","Tean Surgery","West Midlands Deanery"]
[null,null,null,null,"The","Atherstone","Surgery",null,null,null,null,null,null,"The Atherstone Surgery       ","The Atherstone Surgery","West Midlands Deanery"]
[null,null,null,null,"The","Black","Country","Family","Practice",null,null,null,null,"The Black Country Family Practice     ","The Black Country Family Practice","West Midlands Deanery"]
[null,null,null,null,"The","Blythe","Practice",null,null,null,null,null,null,"The Blythe Practice       ","The Blythe Practice","West Midlands Deanery"]
[null,null,null,null,"The","Bridge","Surgery",null,null,null,null,null,null,"The Bridge Surgery       ","The Bridge Surgery","West Midlands Deanery"]
[null,null,null,null,"The","Caxton","Surgery",null,null,null,null,null,null,"The Caxton Surgery       ","The Caxton Surgery","West Midlands Deanery"]
[null,null,null,null,"The","Cheylesmore","Surgery",null,null,null,null,null,null,"The Cheylesmore Surgery       ","The Cheylesmore Surgery","West Midlands Deanery"]
[null,null,null,null,"The","Church","Street","Practice",null,null,null,null,null,"The Church Street Practice      ","The Church Street Practice","West Midlands Deanery"]
[null,null,null,null,"The","Colliery","Practice",null,null,null,null,null,null,"The Colliery Practice       ","The Colliery Practice","West Midlands Deanery"]
[null,null,null,null,"The","Dove","Medical","Practice",null,null,null,null,null,"The Dove Medical Practice      ","The Dove Medical Practice","West Midlands Deanery"]
[null,null,null,null,"The","Dow","Surgery",null,null,null,null,null,null,"The Dow Surgery       ","The Dow Surgery","West Midlands Deanery"]
[null,null,null,null,"Russells","Hall","Hospital",null,null,null,null,null,null,"Russells Hall Hospital       ","Russells Hall Hospital","West Midlands Deanery"]
[null,null,null,null,"The","Dudley","Group","NHS","Foundation","Trust",null,null,null,"The Dudley Group NHS Foundation     ","The Dudley Group NHS Foundation","West Midlands Deanery"]
[null,null,null,null,"The","Grange","Medical","Centre",null,null,null,null,null,"The Grange Medical Centre  Trust    ","The Grange Medical Centre Trust","West Midlands Deanery"]
[null,null,null,null,"The","Greet","Medical","Practice",null,null,null,null,null,"The Greet Medical Practice      ","The Greet Medical Practice","West Midlands Deanery"]
[null,null,null,null,"The","Harlequin","Surgery",null,null,null,null,null,null,"The Harlequin Surgery       ","The Harlequin Surgery","West Midlands Deanery"]
[null,null,null,null,"The","Hawthorns","Surgery",null,null,null,null,null,null,"The Hawthorns Surgery       ","The Hawthorns Surgery","West Midlands Deanery"]
[null,null,null,null,"The","High","Street","Surgery",null,null,null,null,null,"The High Street Surgery      ","The High Street Surgery","West Midlands Deanery"]
[null,null,null,null,"The","Hill","GP","Practice",null,null,null,null,null,"The Hill GP Practice      ","The Hill GP Practice","West Midlands Deanery"]
[null,null,null,null,"The","Kings","Norton","Surgery",null,null,null,null,null,"The Kings Norton Surgery      ","The Kings Norton Surgery","West Midlands Deanery"]
[null,null,null,null,"The","Kingstanding","Community","Practice",null,null,null,null,null,"The Kingstanding Community Practice      ","The Kingstanding Community Practice","West Midlands Deanery"]
[null,null,null,null,"The","Langton","Medical","Group",null,null,null,null,null,"The Langton Medical Group      ","The Langton Medical Group","West Midlands Deanery"]
[null,null,null,null,"The","Linkway","Medical","Practice",null,null,null,null,null,"The Linkway Medical Practice      ","The Linkway Medical Practice","West Midlands Deanery"]
[null,null,null,null,"The","Manor","Practice",null,null,null,null,null,null,"The Manor Practice       ","The Manor Practice","West Midlands Deanery"]
[null,null,null,null,"The","Marches","Surgery",null,null,null,null,null,null,"The Marches Surgery       ","The Marches Surgery","West Midlands Deanery"]
[null,null,null,null,"The","Moorcroft","Medical","Centre",null,null,null,null,null,"The Moorcroft Medical Centre      ","The Moorcroft Medical Centre","West Midlands Deanery"]
[null,null,null,null,"The","Nile","Practice",null,null,null,null,null,null,"The Nile Practice       ","The Nile Practice","West Midlands Deanery"]
[null,null,null,null,"The","Peel","Medical","Centre",null,null,null,null,null,"The Peel Medical Centre      ","The Peel Medical Centre","West Midlands Deanery"]
[null,null,null,null,"The","Ridgeway","Surgery",null,null,null,null,null,null,"The Ridgeway Surgery       ","The Ridgeway Surgery","West Midlands Deanery"]
[null,null,null,null,"The","Royal","Orthopaedic","Hospital","NHS","Foundation","Trust",null,null,"The Royal Orthopaedic Hospital NHS  Trust   ","The Royal Orthopaedic Hospital NHS Trust","West Midlands Deanery"]
[null,null,null,null,"Cannock","Chase","Hospital",null,null,null,null,null,null,"Cannock Chase Hospital   Foundation    ","Cannock Chase Hospital Foundation","West Midlands Deanery"]
[null,null,null,null,"New","Cross","Hospital",null,null,null,null,null,null,"New Cross Hospital       ","New Cross Hospital","West Midlands Deanery"]
[null,null,null,null,"The","Royal","Wolverhampton","NHS","Trust",null,null,null,null,"The Royal Wolverhampton NHS Trust     ","The Royal Wolverhampton NHS Trust","West Midlands Deanery"]
[null,null,null,null,"The","Swan","Medical","Centre",null,null,null,null,null,"The Swan Medical Centre      ","The Swan Medical Centre","West Midlands Deanery"]
[null,null,null,null,"The","Village","Surgery",null,null,null,null,null,null,"The Village Surgery       ","The Village Surgery","West Midlands Deanery"]
[null,null,null,null,"The","Wand","Medical","Centre",null,null,null,null,null,"The Wand Medical Centre      ","The Wand Medical Centre","West Midlands Deanery"]
[null,null,null,null,"The","Westgate","Practice",null,null,null,null,null,null,"The Westgate Practice       ","The Westgate Practice","West Midlands Deanery"]
[null,null,null,null,"Thornley","Street","medical","Practice",null,null,null,null,null,"Thornley Street medical Practice      ","Thornley Street medical Practice","West Midlands Deanery"]
[null,null,null,null,"Three","villages","Medical","Practice",null,null,null,null,null,"Three villages Medical Practice      ","Three villages Medical Practice","West Midlands Deanery"]
[null,null,null,null,"Trent","Meadows",null,null,null,null,null,null,null,"Trent Meadows        ","Trent Meadows","West Midlands Deanery"]
[null,null,null,null,"Trent","Vale","Medical","Practice",null,null,null,null,null,"Trent Vale Medical Practice      ","Trent Vale Medical Practice","West Midlands Deanery"]
[null,null,null,null,"Tri","Links","Medical","Practice",null,null,null,null,null,"Tri Links Medical Practice      ","Tri Links Medical Practice","West Midlands Deanery"]
[null,null,null,null,"Tudor","Medical","Centre",null,null,null,null,null,null,"Tudor Medical Centre       ","Tudor Medical Centre","West Midlands Deanery"]
[null,null,null,null,"Tunstall","Primary","Care","Centre",null,null,null,null,null,"Tunstall Primary Care Centre      ","Tunstall Primary Care Centre","West Midlands Deanery"]
[null,null,null,null,"Tutbury","Health","Centre",null,null,null,null,null,null,"Tutbury Health Centre       ","Tutbury Health Centre","West Midlands Deanery"]
[null,null,null,null,"Queen","Elizabeth","Hospital","Birmingham",null,null,null,null,null,{"$f":"E1796&\" \"&F1796&\" \"&G1796&\" \"&H1796&\" \"&I1796&\" \"&J1795&\" \"&K1796&\" \"&L1796&\" \"&M1796&\" \"","v":"Queen Elizabeth Hospital Birmingham      "},{"$f":"TRIM(N1796)","v":"Queen Elizabeth Hospital Birmingham"},"West Midlands Deanery"]
[null,null,null,null,"Queen","Elizabeth","Hospital",null,null,null,null,null,null,"Queen Elizabeth Hospital       ","Queen Elizabeth Hospital","West Midlands Deanery"]
[null,null,null,null,"St","Mary's","Hospice","Birmingham",null,null,null,null,null,"St Mary's Hospice Birmingham      ","St Mary's Hospice Birmingham","West Midlands Deanery"]
[null,null,null,null,"University","Hospital","Birmingham","NHS","Foundation","Trust",null,null,null,"University Hospital Birmingham NHS Foundation     ","University Hospital Birmingham NHS Foundation","West Midlands Deanery"]
[null,null,null,null,"University","Hospital","(Coventry)",null,null,null,null,null,null,"University Hospital (Coventry)   Trust    ","University Hospital (Coventry) Trust","West Midlands Deanery"]
[null,null,null,null,"University","Hospital","(Coventry)",null,null,null,null,null,null,"University Hospital (Coventry)       ","University Hospital (Coventry)","West Midlands Deanery"]
[null,null,null,null,"The","Royal","Wolverhampton","NHS","Trust",null,null,null,null,"The Royal Wolverhampton NHS Trust     ","The Royal Wolverhampton NHS Trust","West Midlands Deanery"]
[null,null,null,null,"University","Hospitals","Coventry","&","Warwickshire","NHS",null,null,null,"University Hospitals Coventry & Warwickshire     ","University Hospitals Coventry & Warwickshire","West Midlands Deanery"]
[null,null,null,null,"County","Hospital",null,null,null,null,null,null,null,"County Hospital    NHS    ","County Hospital NHS","West Midlands Deanery"]
[null,null,null,null,"Royal","Stoke","University","Hospital",null,null,null,null,null,"Royal Stoke University Hospital      ","Royal Stoke University Hospital","West Midlands Deanery"]
[null,null,null,null,"University","Hospitals","of","North","Midlands","NHS","Trust",null,null,"University Hospitals of North Midlands  Trust   ","University Hospitals of North Midlands Trust","West Midlands Deanery"]
[null,null,null,null,"University","Medical","Practice",null,null,null,null,null,null,"University Medical Practice   NHS    ","University Medical Practice NHS","West Midlands Deanery"]
[null,null,null,null,"Upton","Surgery",null,null,null,null,null,null,null,"Upton Surgery        ","Upton Surgery","West Midlands Deanery"]
[null,null,null,null,"Vale","Of","Red","Horse",null,null,null,null,null,"Vale Of Red Horse      ","Vale Of Red Horse","West Midlands Deanery"]
[null,null,null,null,"Victoria","Road","Medical","Centre",null,null,null,null,null,"Victoria Road Medical Centre      ","Victoria Road Medical Centre","West Midlands Deanery"]
[null,null,null,null,"Wake","Green","Surgery",null,null,null,null,null,null,"Wake Green Surgery       ","Wake Green Surgery","West Midlands Deanery"]
[null,null,null,null,"Manor","Hospital",null,null,null,null,null,null,null,"Manor Hospital        ","Manor Hospital","West Midlands Deanery"]
[null,null,null,null,"Ward","End","Medical","Centre",null,null,null,null,null,"Ward End Medical Centre      ","Ward End Medical Centre","West Midlands Deanery"]
[null,null,null,null,"Warley","Medical","Centre",null,null,null,null,null,null,"Warley Medical Centre       ","Warley Medical Centre","West Midlands Deanery"]
[null,null,null,null,"Warwick","Myton","Hospice",null,null,null,null,null,null,"Warwick Myton Hospice       ","Warwick Myton Hospice","West Midlands Deanery"]
[null,null,null,null,"Waterhouses","Medical","Practice",null,null,null,null,null,null,"Waterhouses Medical Practice       ","Waterhouses Medical Practice","West Midlands Deanery"]
[null,null,null,null,"Weeping","Cross","Health","Centre",null,null,null,null,null,"Weeping Cross Health Centre      ","Weeping Cross Health Centre","West Midlands Deanery"]
[null,null,null,null,"Well","Street","Medical","Centre",null,null,null,null,null,"Well Street Medical Centre      ","Well Street Medical Centre","West Midlands Deanery"]
[null,null,null,null,"Wellington","Medical","Practice",null,null,null,null,null,null,"Wellington Medical Practice       ","Wellington Medical Practice","West Midlands Deanery"]
[null,null,null,null,"Wellington","Road","Surgery",null,null,null,null,null,null,"Wellington Road Surgery       ","Wellington Road Surgery","West Midlands Deanery"]
[null,null,null,null,"Wem","and","Prees","Medical","Practice",null,null,null,null,"Wem and Prees Medical Practice     ","Wem and Prees Medical Practice","West Midlands Deanery"]
[null,null,null,null,"Weobley","&","Staunton-on-Wye","Surgeries",null,null,null,null,null,"Weobley & Staunton-on-Wye Surgeries      ","Weobley & Staunton-on-Wye Surgeries","West Midlands Deanery"]
[null,null,null,null,"Weoley","Park","Surgery",null,null,null,null,null,null,"Weoley Park Surgery       ","Weoley Park Surgery","West Midlands Deanery"]
[null,null,null,null,"Werrington","Village","Surgery",null,null,null,null,null,null,"Werrington Village Surgery       ","Werrington Village Surgery","West Midlands Deanery"]
[null,null,null,null,"West","Heath","Surgery",null,null,null,null,null,null,"West Heath Surgery       ","West Heath Surgery","West Midlands Deanery"]
[null,null,null,null,"Westside","Medical","Centre",null,null,null,null,null,null,"Westside Medical Centre       ","Westside Medical Centre","West Midlands Deanery"]
[null,null,null,null,"Wetmore","Road","Surgery",null,null,null,null,null,null,"Wetmore Road Surgery       ","Wetmore Road Surgery","West Midlands Deanery"]
[null,null,null,null,"Whiteacres","Medical","Centre",null,null,null,null,null,null,"Whiteacres Medical Centre       ","Whiteacres Medical Centre","West Midlands Deanery"]
[null,null,null,null,"Whitehall","Medical","Practice",null,null,null,null,null,null,"Whitehall Medical Practice       ","Whitehall Medical Practice","West Midlands Deanery"]
[null,null,null,null,"Whitnash","Medical","Centre",null,null,null,null,null,null,"Whitnash Medical Centre       ","Whitnash Medical Centre","West Midlands Deanery"]
[null,null,null,null,"Willenhall","Oak","Medical","Centre",null,null,null,null,null,"Willenhall Oak Medical Centre      ","Willenhall Oak Medical Centre","West Midlands Deanery"]
[null,null,null,null,"Winyates","Health","Centre",null,null,null,null,null,null,"Winyates Health Centre       ","Winyates Health Centre","West Midlands Deanery"]
[null,null,null,null,"West","Midlands",null,null,null,null,null,null,null,"West Midlands        ","West Midlands","West Midlands Deanery"]
[null,null,null,null,"West","Midlands",null,null,null,null,null,null,null,"West Midlands        ","West Midlands","West Midlands Deanery"]
[null,null,null,null,"ST.","CHADS","COURT",null,null,null,null,null,null,"ST. CHADS COURT       ","ST. CHADS COURT","West Midlands Deanery"]
[null,null,null,null,"West","Midlands",null,null,null,null,null,null,null,"West Midlands        ","West Midlands","West Midlands Deanery"]
[null,null,null,null,"Woden","Road","Surgery",null,null,null,null,null,null,"Woden Road Surgery       ","Woden Road Surgery","West Midlands Deanery"]
[null,null,null,null,"Wolstanton","Medical","Centre",null,null,null,null,null,null,"Wolstanton Medical Centre       ","Wolstanton Medical Centre","West Midlands Deanery"]
[null,null,null,null,"Wolston","Surgery",null,null,null,null,null,null,null,"Wolston Surgery        ","Wolston Surgery","West Midlands Deanery"]
[null,null,null,null,"The","Wolverhampton","Road","Surgery",null,null,null,null,null,"The Wolverhampton Road Surgery      ","The Wolverhampton Road Surgery","West Midlands Deanery"]
[null,null,null,null,"Wood","End","Health","Centre",null,null,null,null,null,"Wood End Health Centre      ","Wood End Health Centre","West Midlands Deanery"]
[null,null,null,null,"Woodgate","Valley","Health","Centre",null,null,null,null,null,"Woodgate Valley Health Centre      ","Woodgate Valley Health Centre","West Midlands Deanery"]
[null,null,null,null,"Woodland","Road","Surgery",null,null,null,null,null,null,"Woodland Road Surgery       ","Woodland Road Surgery","West Midlands Deanery"]
[null,null,null,null,"Woodside","Medical","Centre",null,null,null,null,null,null,"Woodside Medical Centre       ","Woodside Medical Centre","West Midlands Deanery"]
[null,null,null,null,"Worcestershire","Royal","Hospital",null,null,null,null,null,null,"Worcestershire Royal Hospital       ","Worcestershire Royal Hospital","West Midlands Deanery"]
[null,null,null,null,"Worcestershire","Acute","Hospitals","NHS","Trust",null,null,null,null,"Worcestershire Acute Hospitals NHS Trust     ","Worcestershire Acute Hospitals NHS Trust","West Midlands Deanery"]
[null,null,null,null,"Alexandra Hospital",null,null,null,null,null,null,null,null,"Alexandra Hospital         ","Alexandra Hospital","West Midlands Deanery"]
[null,null,null,null,"Isaac","Maddox","House",null,null,null,null,null,null,"Isaac Maddox House       ","Isaac Maddox House","West Midlands Deanery"]
[null,null,null,null,"Worcestershire","Health","and","Care","NHS","Trust",null,null,null,"Worcestershire Health and Care NHS     ","Worcestershire Health and Care NHS","West Midlands Deanery"]
[null,null,null,null,"Wordsley","Green","Health","Centre",null,null,null,null,null,"Wordsley Green Health Centre  Trust    ","Wordsley Green Health Centre Trust","West Midlands Deanery"]
[null,null,null,null,"Wychall","Lane","Surgery",null,null,null,null,null,null,"Wychall Lane Surgery       ","Wychall Lane Surgery","West Midlands Deanery"]
[null,null,null,null,"Wychbury","Medical","Centre",null,null,null,null,null,null,"Wychbury Medical Centre       ","Wychbury Medical Centre","West Midlands Deanery"]
[null,null,null,null,"Hereford","County","Hospital",null,null,null,null,null,null,"Hereford County Hospital       ","Hereford County Hospital","West Midlands Deanery"]
[null,null,null,null,"Wye","Valley","NHS","Trust",null,null,null,null,null,"Wye Valley NHS Trust      ","Wye Valley NHS Trust","West Midlands Deanery"]
[null,null,null,null,"Yardley","Green","Medical","Centre",null,null,null,null,null,"Yardley Green Medical Centre      ","Yardley Green Medical Centre","West Midlands Deanery"]
[null,null,null,null,"Yardley","Wood","Health","Centre",null,null,null,null,null,"Yardley Wood Health Centre      ","Yardley Wood Health Centre","West Midlands Deanery"]
[null,null,null,null,"Yew","Tree","Medical","Centre",null,null,null,null,null,"Yew Tree Medical Centre      ","Yew Tree Medical Centre","West Midlands Deanery"]
[null,null,null,null,"York","House","Medical","Centre",null,null,null,null,null,"York House Medical Centre      ","York House Medical Centre","West Midlands Deanery"]